{"text_format":"1","workbook":"xlsx","n_sheets":15,"sheets":["Main page","Data","Index","Overall gaps","GPG by section","Allowance - benefits","GPG by level","GPG by Age cohort","PT by level","PT by section","PT by Age","GPG by Branch","Purchased leave","(Additional variable 1)","(Additional variable 2)"],"not_rendered":{"charts":10,"images":2,"macros":1,"external_links":0,"defined_names":40,"comments":1,"pivot_tables":12},"unopened":[],"bounds":{"document_bytes":16777216,"sheet_cells":100000,"rows_first":2000,"rows_last":500,"rows_between":2000,"halvings":0,"cell_chars":16384,"cell_head_chars":4096},"cells_cut":0,"cells_raw":0,"read":"whole","date_system":"1900"}

{"sheet":"Main page","index":0,"n_rows":65,"n_cols":13,"rows_kept":65,"cut":false,"hidden":false,"merged":[[3,12,11,14],[64,1,75,10],[7,1,10,10],[15,1,18,10],[48,2,48,4],[50,1,52,10],[54,3,54,4],[54,5,54,7],[56,1,58,10],[22,1,25,10],[41,1,46,10]]}
[]
[]
[]
[null,null,null,null,null,null,null,null,null,null,null,null,"Before you start!          Did you enable macros? This is critical for the Tool to work. Please refer to explanatory materials (\"before opening the Tool\" section) for advice on adjusting security settings appropriately "]
[]
["                   ","WA Pay Equity Audit Tool "]
[]
[null,"STEP 1: Collate Data\nEnsure your payroll data is formatted correctly. Copy your data. \nClick the button below and follow the instructions."]
[]
[]
[]
[]
[]
[]
[]
[null,"STEP 2: Specify Date\nEnter the year in which the payroll data was sampled in the cell below, then press enter.\n For example, if the payroll data was current as at 30/6/2012, write 2012."]
[]
[]
[]
[]
[null,null,null,null,"Year:",2012]
[]
[null,"STEP 3: Specify Age Range Brackets\nEnter or modify the age range, then press enter.\n ie, if the desired age range is from 20 years to 30 years enter \"20\" in start and \"30\" in finish column"]
[]
[]
[]
[]
[null,null,null,null,"Start","Finish","AGE RANGE"]
[null,null,null,null,15,19,{"$f":"IFERROR(E29&-F29,\" \")","v":"15-19"}]
[null,null,null,null,20,24,{"$f":"IFERROR(E30&-F30,\" \")","v":"20-24"}]
[null,null,null,null,25,29,"25-29"]
[null,null,null,null,30,34,"30-34"]
[null,null,null,null,35,39,"35-39"]
[null,null,null,null,40,44,"40-44"]
[null,null,null,null,45,49,"45-49"]
[null,null,null,null,50,54,"50-54"]
[null,null,null,null,55,59,"55-59"]
[null,null,null,null,60,64,"60-64"]
[null,null,null,null,65,69,"65-69"]
[null,null,null,null,70,110,{"$f":"IFERROR(IF(E40=\" \",\" \",E40&\" and over\"),\" \")","v":"70 and over"}]
[]
[null,"STEP 4: Designate 'core' and 'senior' staff\nWhat \"levels\" are 'non-senior' staff? (ie, those without budget and hiring control). The 'core level' you select will designate non-senior staff; all staff above that level will be 'senior' staff. During this analysis you can switch the the Gender Pay Gap to view 'Core', 'Senior' or 'All' staff.                                                                  You can reset the level if you change your mind during the analysis"]
[]
[]
[]
[]
[]
[]
[null,null,"Core level set to:",null,null,6]
[]
[null,"STEP 5:\nEnter the name of the organisation you are auditing in the box below."]
[]
[]
[]
[null,null,null,"Name:",null,"Example Organisation"]
[]
[null,"STEP 6:\nClick the button below "]
[]
[]
[]
[]
[]
[]
[]
[null,"Please note:  The WA Pay Equity Audit Tool and its Instructions for Use and associated documents are protected by copyright. The Western Australian Department of Commerce has no objection to this material being reproduced but asserts its right to be recognised as author of its original material and the right to have its material remain unaltered."]

{"sheet":"Data","index":1,"n_rows":20001,"n_cols":22,"rows_kept":4500,"cut":true,"hidden":false,"merged":[[11,0,18,0],[29,0,35,0],[17,20,32,20],[37,0,44,0],[20,0,26,0]],"bounds":{"rows_first":2000,"rows_last":500,"rows_between":2000,"halvings":0}}
["INSTRUCTIONS TO OVERWRITE DATA","Emp No","Gender","Year of Birth","Section","Branch/Unit","Fraction","F/T Hours in a Fortnight","Level","Raw salary","Allowance/ benefit?","Purchased leave? (Y/N)","FTE Salary","Hourly","Salary","Status","Level range","Age","Age Bracket"]
["1. Cell B2 should be selected",1,"M",1992,"Section 1","Branch B",1,75,2,49539.6,"Yes","N",{"$f":"IFERROR(J2/G2,\" \")","v":49539.6},{"$f":"IFERROR((M2/$U$4)/H2,\" \")","v":25.266098360655739},{"$f":"IFERROR((N2*75)*26.083,\" \")","v":49426.173265573772},{"$f":"IF(G2=0,\" \",IF(G2=1,\"Full time\",\"Part time\"))","v":"Full time"},{"$f":"IF(I2=\"\",\"\",IF(I2<='Main page'!$F$49,\"Core staff\",\"Senior staff\"))","v":"Core staff"},{"$f":"IF(D2=\"\",\" \",'Main page'!$F$21-(D2))","v":20},{"$f":"IF(D2=\"\",\" \",VLOOKUP(R2,'Main page'!$E$29:'Main page'!$G$41,3,TRUE))","v":"20-24"}]
["2. Click the arrow under the 'Paste' button and select 'Paste Values'",2,"F",1963,"Section 4","Branch G",0.54870003496125719,75,4,49128.3,"No","N",89535.806214171054,45.66489205822932,89330.80346660965,"Part time",{"$f":"IF(I3=\"\",\"\",IF(I3<='Main page'!$F$49,\"Core staff\",\"Senior staff\"))","v":"Core staff"},{"$f":"IF(D3=\"\",\" \",'Main page'!$F$21-(D3))","v":49},{"$f":"IF(D3=\"\",\" \",VLOOKUP(R3,'Main page'!$E$29:'Main page'!$G$41,3,TRUE))","v":"45-49"}]
["3. Click the button below",3,"F",1984,"Section 2","Branch D",1,75,6,66171.600000000006,"No","N",66171.600000000006,33.748721311475414,66020.09234754098,"Full time",{"$f":"IF(I4=\"\",\"\",IF(I4<='Main page'!$F$49,\"Core staff\",\"Senior staff\"))","v":"Core staff"},{"$f":"IF(D4=\"\",\" \",'Main page'!$F$21-(D4))","v":28},{"$f":"IF(D4=\"\",\" \",VLOOKUP(R4,'Main page'!$E$29:'Main page'!$G$41,3,TRUE))","v":"25-29"},null,{"$f":"IF('Main page'!F21=U10,U7,IF('Main page'!F21=U11,U7,IF('Main page'!F21=U12,U7,IF('Main page'!F21=U13,U7,IF('Main page'!F21=U14,U7,IF('Main page'!F21=U15,U7,IF('Main page'!F21=U16,U7,U6)))))))","v":26.142857142857142}]
["This will replace the current sample data with your own data",4,"M",1980,"Section 4","Branch G",1,75,5,67523.5,"No","N",67523.5,34.438214936247725,67368.897013661204,"Full time",{"$f":"IF(I5=\"\",\"\",IF(I5<='Main page'!$F$49,\"Core staff\",\"Senior staff\"))","v":"Core staff"},{"$f":"IF(D5=\"\",\" \",'Main page'!$F$21-(D5))","v":32},{"$f":"IF(D5=\"\",\" \",VLOOKUP(R5,'Main page'!$E$29:'Main page'!$G$41,3,TRUE))","v":"30-34"}]
["If you get 'nonsense' data, you probably did not 'paste values'",5,"F",1949,"Section 3","Branch F",0.49873459147240151,75,6,65706.3,"Yes","N",131746.02508724522,67.192872539942925,131444.37708444984,"Part time",{"$f":"IF(I6=\"\",\"\",IF(I6<='Main page'!$F$49,\"Core staff\",\"Senior staff\"))","v":"Core staff"},{"$f":"IF(D6=\"\",\" \",'Main page'!$F$21-(D6))","v":63},{"$f":"IF(D6=\"\",\" \",VLOOKUP(R6,'Main page'!$E$29:'Main page'!$G$41,3,TRUE))","v":"60-64"},null,{"$f":"365/14","v":26.071428571428573},"Non leap"]
[null,6,"M",1986,"Section 1","Branch A",1,75,2,47576.1,"No","Y",47576.1,24.264677595628417,47467.168929508196,"Full time",{"$f":"IF(I7=\"\",\"\",IF(I7<='Main page'!$F$49,\"Core staff\",\"Senior staff\"))","v":"Core staff"},{"$f":"IF(D7=\"\",\" \",'Main page'!$F$21-(D7))","v":26},{"$f":"IF(D7=\"\",\" \",VLOOKUP(R7,'Main page'!$E$29:'Main page'!$G$41,3,TRUE))","v":"25-29"},null,{"$f":"366/14","v":26.142857142857142},"Leap"]
[null,7,"M",1952,"Section 6","Branch L",1,75,4,61628.6,"No","N",61628.6,31.431708561020034,61487.494079781412,"Full time",{"$f":"IF(I8=\"\",\"\",IF(I8<='Main page'!$F$49,\"Core staff\",\"Senior staff\"))","v":"Core staff"},{"$f":"IF(D8=\"\",\" \",'Main page'!$F$21-(D8))","v":60},{"$f":"IF(D8=\"\",\" \",VLOOKUP(R8,'Main page'!$E$29:'Main page'!$G$41,3,TRUE))","v":"60-64"}]
[null,8,"M",1947,"Section 1","Branch A",0.56390917518183414,75,4,61947.6,"Yes","N",109853.8607392313,56.027469958077887,109602.33741874092,"Part time",{"$f":"IF(I9=\"\",\"\",IF(I9<='Main page'!$F$49,\"Core staff\",\"Senior staff\"))","v":"Core staff"},{"$f":"IF(D9=\"\",\" \",'Main page'!$F$21-(D9))","v":65},{"$f":"IF(D9=\"\",\" \",VLOOKUP(R9,'Main page'!$E$29:'Main page'!$G$41,3,TRUE))","v":"65-69"},null,"Leap years:"]
[null,9,"F",1970,"Section 1","Branch A",1,75,7,75952.800000000003,"No","N",75952.800000000003,38.73731147540984,75778.897140983609,"Full time",{"$f":"IF(I10=\"\",\"\",IF(I10<='Main page'!$F$49,\"Core staff\",\"Senior staff\"))","v":"Senior staff"},{"$f":"IF(D10=\"\",\" \",'Main page'!$F$21-(D10))","v":42},{"$f":"IF(D10=\"\",\" \",VLOOKUP(R10,'Main page'!$E$29:'Main page'!$G$41,3,TRUE))","v":"40-44"},null,1996]
[null,10,"M",1973,"Section 3","Branch F",1,75,5,69663,"No","N",69663,35.529398907103825,69503.498377049167,"Full time",{"$f":"IF(I11=\"\",\"\",IF(I11<='Main page'!$F$49,\"Core staff\",\"Senior staff\"))","v":"Core staff"},{"$f":"IF(D11=\"\",\" \",'Main page'!$F$21-(D11))","v":39},{"$f":"IF(D11=\"\",\" \",VLOOKUP(R11,'Main page'!$E$29:'Main page'!$G$41,3,TRUE))","v":"35-39"},null,2000]
["NOTE: Columns on the right hand side shaded in grey contain formulae that use the data in the other rows. DO NOT PASTE PAYROLL DATA INTO THE GREY CELLS. If you add your data in unshaded rows (left of the grey area), the grey columns will update themselves. For more information, see explanatory materials.",11,"F",1961,"Section 6","Branch K",1,75,7,75928.5,"No","N",75928.5,38.724918032786888,75754.652778688527,"Full time",{"$f":"IF(I12=\"\",\"\",IF(I12<='Main page'!$F$49,\"Core staff\",\"Senior staff\"))","v":"Senior staff"},{"$f":"IF(D12=\"\",\" \",'Main page'!$F$21-(D12))","v":51},{"$f":"IF(D12=\"\",\" \",VLOOKUP(R12,'Main page'!$E$29:'Main page'!$G$41,3,TRUE))","v":"50-54"},null,2004]
[null,12,"M",1979,"Section 5","Branch I",1,75,6,80025,"No","N",80025,40.814207650273225,79841.77336065573,"Full time",{"$f":"IF(I13=\"\",\"\",IF(I13<='Main page'!$F$49,\"Core staff\",\"Senior staff\"))","v":"Core staff"},{"$f":"IF(D13=\"\",\" \",'Main page'!$F$21-(D13))","v":33},{"$f":"IF(D13=\"\",\" \",VLOOKUP(R13,'Main page'!$E$29:'Main page'!$G$41,3,TRUE))","v":"30-34"},null,2008]
[null,13,"F",1952,"Section 1","Branch B",1,75,7,74376,"Yes","Y",74376,37.933114754098362,74205.707409836061,"Full time",{"$f":"IF(I14=\"\",\"\",IF(I14<='Main page'!$F$49,\"Core staff\",\"Senior staff\"))","v":"Senior staff"},{"$f":"IF(D14=\"\",\" \",'Main page'!$F$21-(D14))","v":60},{"$f":"IF(D14=\"\",\" \",VLOOKUP(R14,'Main page'!$E$29:'Main page'!$G$41,3,TRUE))","v":"60-64"},null,2012]
[null,14,"M",1977,"Section 6","Branch K",0.59277261838633422,75,3,57555.3,"No","N",97095.071895660425,49.520255247331363,96872.761321210797,"Part time",{"$f":"IF(I15=\"\",\"\",IF(I15<='Main page'!$F$49,\"Core staff\",\"Senior staff\"))","v":"Core staff"},{"$f":"IF(D15=\"\",\" \",'Main page'!$F$21-(D15))","v":35},{"$f":"IF(D15=\"\",\" \",VLOOKUP(R15,'Main page'!$E$29:'Main page'!$G$41,3,TRUE))","v":"35-39"},null,2016]
[null,15,"M",1936,"Section 4","Branch H",0.52647281828558334,75,5,69093.2,"No","N",131237.92454280256,66.933732007258143,130937.43989589854,"Part time",{"$f":"IF(I16=\"\",\"\",IF(I16<='Main page'!$F$49,\"Core staff\",\"Senior staff\"))","v":"Core staff"},{"$f":"IF(D16=\"\",\" \",'Main page'!$F$21-(D16))","v":76},{"$f":"IF(D16=\"\",\" \",VLOOKUP(R16,'Main page'!$E$29:'Main page'!$G$41,3,TRUE))","v":"70 and over"},null,2020]
[null,16,"F",1977,"Section 6","Branch K",1,75,6,66291.3,"Yes","N",66291.3,33.809770491803285,66139.518280327873,"Full time",{"$f":"IF(I17=\"\",\"\",IF(I17<='Main page'!$F$49,\"Core staff\",\"Senior staff\"))","v":"Core staff"},{"$f":"IF(D17=\"\",\" \",'Main page'!$F$21-(D17))","v":35},{"$f":"IF(D17=\"\",\" \",VLOOKUP(R17,'Main page'!$E$29:'Main page'!$G$41,3,TRUE))","v":"35-39"}]
[null,17,"F",1953,"Section 6","Branch L",0.68062299085977429,75,6,69486.3,"Yes","N",102092.20219291117,52.06888272133903,101858.45010155144,"Part time",{"$f":"IF(I18=\"\",\"\",IF(I18<='Main page'!$F$49,\"Core staff\",\"Senior staff\"))","v":"Core staff"},{"$f":"IF(D18=\"\",\" \",'Main page'!$F$21-(D18))","v":59},{"$f":"IF(D18=\"\",\" \",VLOOKUP(R18,'Main page'!$E$29:'Main page'!$G$41,3,TRUE))","v":"55-59"},null,"NOTE: Columns shaded in grey contain formulae that use the data to the left. DO NOT PASTE PAYROLL DATA INTO THE GREY CELLS. Add your data to the unshaded columns to the left of the shaded area, which will then 'fill' the formulae in the shaded columns. For more information, see explanatory materials."]
[null,18,"F",1976,"Section 6","Branch K",0.48720064046301559,75,5,56035.8,"Yes","N",115015.85865475437,58.660182920457601,114752.51633357217,"Part time",{"$f":"IF(I19=\"\",\"\",IF(I19<='Main page'!$F$49,\"Core staff\",\"Senior staff\"))","v":"Core staff"},{"$f":"IF(D19=\"\",\" \",'Main page'!$F$21-(D19))","v":36},{"$f":"IF(D19=\"\",\" \",VLOOKUP(R19,'Main page'!$E$29:'Main page'!$G$41,3,TRUE))","v":"35-39"}]
[null,19,"M",1955,"Section 2","Branch C",0.51636764184969763,75,5,73509.7,"No","N",142359.23021178955,72.605800472315252,142033.28202895488,"Part time",{"$f":"IF(I20=\"\",\"\",IF(I20<='Main page'!$F$49,\"Core staff\",\"Senior staff\"))","v":"Core staff"},{"$f":"IF(D20=\"\",\" \",'Main page'!$F$21-(D20))","v":57},{"$f":"IF(D20=\"\",\" \",VLOOKUP(R20,'Main page'!$E$29:'Main page'!$G$41,3,TRUE))","v":"55-59"}]
["QUICK CHECK TIP: Make sure there are logical values created in the grey cells. If you see error messages or extreme values, you need to check that your data is correct, and that you have supplied data in all compulsory fields. You will find it useful to sort your salary column by value (you will need to remove the security protection: Review Tab/ Unprotect sheet)",20,"M",1933,"Section 6","Branch L",1,75,3,53263.1,"Yes","N",53263.1,27.165151183970856,53141.147874863389,"Full time",{"$f":"IF(I21=\"\",\"\",IF(I21<='Main page'!$F$49,\"Core staff\",\"Senior staff\"))","v":"Core staff"},{"$f":"IF(D21=\"\",\" \",'Main page'!$F$21-(D21))","v":79},{"$f":"IF(D21=\"\",\" \",VLOOKUP(R21,'Main page'!$E$29:'Main page'!$G$41,3,TRUE))","v":"70 and over"}]
[null,21,"M",1975,"Section 3","Branch E",1,75,7,90493.7,"Yes","Y",90493.7,46.153435336976322,90286.5040420765,"Full time",{"$f":"IF(I22=\"\",\"\",IF(I22<='Main page'!$F$49,\"Core staff\",\"Senior staff\"))","v":"Senior staff"},{"$f":"IF(D22=\"\",\" \",'Main page'!$F$21-(D22))","v":37},{"$f":"IF(D22=\"\",\" \",VLOOKUP(R22,'Main page'!$E$29:'Main page'!$G$41,3,TRUE))","v":"35-39"}]
[null,22,"F",1980,"Section 5","Branch J",0.58868973429343896,75,7,75249,"No","N",127824.54936183973,65.192848490555789,127531.88003843751,"Part time",{"$f":"IF(I23=\"\",\"\",IF(I23<='Main page'!$F$49,\"Core staff\",\"Senior staff\"))","v":"Senior staff"},{"$f":"IF(D23=\"\",\" \",'Main page'!$F$21-(D23))","v":32},{"$f":"IF(D23=\"\",\" \",VLOOKUP(R23,'Main page'!$E$29:'Main page'!$G$41,3,TRUE))","v":"30-34"}]
[null,23,"F",1981,"Section 1","Branch B",0.56425517873140052,75,5,58833,"No","N",104266.65490651345,53.177893212793748,104027.92415019743,"Part time",{"$f":"IF(I24=\"\",\"\",IF(I24<='Main page'!$F$49,\"Core staff\",\"Senior staff\"))","v":"Core staff"},{"$f":"IF(D24=\"\",\" \",'Main page'!$F$21-(D24))","v":31},{"$f":"IF(D24=\"\",\" \",VLOOKUP(R24,'Main page'!$E$29:'Main page'!$G$41,3,TRUE))","v":"30-34"}]
[null,24,"M",1980,"Section 4","Branch H",1,75,4,60074.3,"No","N",60074.3,30.63898724954463,59936.75283224044,"Full time",{"$f":"IF(I25=\"\",\"\",IF(I25<='Main page'!$F$49,\"Core staff\",\"Senior staff\"))","v":"Core staff"},{"$f":"IF(D25=\"\",\" \",'Main page'!$F$21-(D25))","v":32},{"$f":"IF(D25=\"\",\" \",VLOOKUP(R25,'Main page'!$E$29:'Main page'!$G$41,3,TRUE))","v":"30-34"}]
[null,25,"F",1974,"Section 3","Branch E",0.60899986338608869,75,3,46447.199999999997,"No","N",76267.997404383306,38.898067892945946,76093.372863878176,"Part time",{"$f":"IF(I26=\"\",\"\",IF(I26<='Main page'!$F$49,\"Core staff\",\"Senior staff\"))","v":"Core staff"},{"$f":"IF(D26=\"\",\" \",'Main page'!$F$21-(D26))","v":38},{"$f":"IF(D26=\"\",\" \",VLOOKUP(R26,'Main page'!$E$29:'Main page'!$G$41,3,TRUE))","v":"35-39"}]
[null,26,"F",1971,"Section 2","Branch D",0.67874824672890099,75,3,46957.5,"No","N",69182.499146484435,35.284334719518469,69024.097686690016,"Part time",{"$f":"IF(I27=\"\",\"\",IF(I27<='Main page'!$F$49,\"Core staff\",\"Senior staff\"))","v":"Core staff"},{"$f":"IF(D27=\"\",\" \",'Main page'!$F$21-(D27))","v":41},{"$f":"IF(D27=\"\",\" \",VLOOKUP(R27,'Main page'!$E$29:'Main page'!$G$41,3,TRUE))","v":"40-44"}]
[null,27,"M",1963,"Section 3","Branch F",1,80,4,63032.2,"No","N",63032.2,30.138346994535517,58957.387849385246,"Full time",{"$f":"IF(I28=\"\",\"\",IF(I28<='Main page'!$F$49,\"Core staff\",\"Senior staff\"))","v":"Core staff"},{"$f":"IF(D28=\"\",\" \",'Main page'!$F$21-(D28))","v":49},{"$f":"IF(D28=\"\",\" \",VLOOKUP(R28,'Main page'!$E$29:'Main page'!$G$41,3,TRUE))","v":"45-49"}]
[null,28,"F",1979,"Section 6","Branch K",0.5785229345829066,75,6,66870,"No","N",115587.46594585877,58.951713050711213,115322.81486262754,"Part time",{"$f":"IF(I29=\"\",\"\",IF(I29<='Main page'!$F$49,\"Core staff\",\"Senior staff\"))","v":"Core staff"},{"$f":"IF(D29=\"\",\" \",'Main page'!$F$21-(D29))","v":33},{"$f":"IF(D29=\"\",\" \",VLOOKUP(R29,'Main page'!$E$29:'Main page'!$G$41,3,TRUE))","v":"30-34"}]
["NOTE: \nIf your data contains more than 20, 000 employees, \"handle drag\" (copy fill) the formulae in the grey columns. See explanatory materials (p.31) for help.",29,"F",1956,"Section 6","Branch L",0.77426897350505897,75,2,40512.6,"No","N",52323.677412259494,26.686028552700655,52203.876205506836,"Part time",{"$f":"IF(I30=\"\",\"\",IF(I30<='Main page'!$F$49,\"Core staff\",\"Senior staff\"))","v":"Core staff"},{"$f":"IF(D30=\"\",\" \",'Main page'!$F$21-(D30))","v":56},{"$f":"IF(D30=\"\",\" \",VLOOKUP(R30,'Main page'!$E$29:'Main page'!$G$41,3,TRUE))","v":"55-59"}]
[null,30,"F",1973,"Section 1","Branch B",1,75,3,44935.199999999997,"No","N",44935.199999999997,22.917770491803278,44832.315580327864,"Full time",{"$f":"IF(I31=\"\",\"\",IF(I31<='Main page'!$F$49,\"Core staff\",\"Senior staff\"))","v":"Core staff"},{"$f":"IF(D31=\"\",\" \",'Main page'!$F$21-(D31))","v":39},{"$f":"IF(D31=\"\",\" \",VLOOKUP(R31,'Main page'!$E$29:'Main page'!$G$41,3,TRUE))","v":"35-39"}]
[null,31,"M",1937,"Section 1","Branch B",1,75,3,54714,"No","N",54714,27.90513661202186,54588.725868852453,"Full time",{"$f":"IF(I32=\"\",\"\",IF(I32<='Main page'!$F$49,\"Core staff\",\"Senior staff\"))","v":"Core staff"},{"$f":"IF(D32=\"\",\" \",'Main page'!$F$21-(D32))","v":75},{"$f":"IF(D32=\"\",\" \",VLOOKUP(R32,'Main page'!$E$29:'Main page'!$G$41,3,TRUE))","v":"70 and over"}]
[null,32,"M",1939,"Section 5","Branch J",1,80,5,71465.899999999994,"No","N",71465.899999999994,34.170853825136611,66845.878524077867,"Full time",{"$f":"IF(I33=\"\",\"\",IF(I33<='Main page'!$F$49,\"Core staff\",\"Senior staff\"))","v":"Core staff"},{"$f":"IF(D33=\"\",\" \",'Main page'!$F$21-(D33))","v":73},{"$f":"IF(D33=\"\",\" \",VLOOKUP(R33,'Main page'!$E$29:'Main page'!$G$41,3,TRUE))","v":"70 and over"}]
[null,33,"F",1956,"Section 2","Branch C",1,80,5,57285,"Yes","N",57285,27.390368852459016,53581.72430840163,"Full time",{"$f":"IF(I34=\"\",\"\",IF(I34<='Main page'!$F$49,\"Core staff\",\"Senior staff\"))","v":"Core staff"},{"$f":"IF(D34=\"\",\" \",'Main page'!$F$21-(D34))","v":56},{"$f":"IF(D34=\"\",\" \",VLOOKUP(R34,'Main page'!$E$29:'Main page'!$G$41,3,TRUE))","v":"55-59"}]
[null,34,"F",1979,"Section 6","Branch K",0.48317619396584632,75,4,51762.6,"No","Y",107129.86410845166,54.638182058955302,106884.57769827984,"Part time",{"$f":"IF(I35=\"\",\"\",IF(I35<='Main page'!$F$49,\"Core staff\",\"Senior staff\"))","v":"Core staff"},{"$f":"IF(D35=\"\",\" \",'Main page'!$F$21-(D35))","v":33},{"$f":"IF(D35=\"\",\" \",VLOOKUP(R35,'Main page'!$E$29:'Main page'!$G$41,3,TRUE))","v":"30-34"}]
[null,35,"M",1945,"Section 3","Branch F",0.51744567643436312,80,3,56522.400000000001,"Yes","N",109233.49556128671,52.229130391325612,102171.93059977093,"Part time",{"$f":"IF(I36=\"\",\"\",IF(I36<='Main page'!$F$49,\"Core staff\",\"Senior staff\"))","v":"Core staff"},{"$f":"IF(D36=\"\",\" \",'Main page'!$F$21-(D36))","v":67},{"$f":"IF(D36=\"\",\" \",VLOOKUP(R36,'Main page'!$E$29:'Main page'!$G$41,3,TRUE))","v":"65-69"}]
[null,36,"F",1981,"Section 6","Branch K",1,75,8,95626,"No","N",95626,48.771001821493627,95407.053038251368,"Full time",{"$f":"IF(I37=\"\",\"\",IF(I37<='Main page'!$F$49,\"Core staff\",\"Senior staff\"))","v":"Senior staff"},{"$f":"IF(D37=\"\",\" \",'Main page'!$F$21-(D37))","v":31},{"$f":"IF(D37=\"\",\" \",VLOOKUP(R37,'Main page'!$E$29:'Main page'!$G$41,3,TRUE))","v":"30-34"}]
[null,37,"M",1966,"Section 5","Branch J",1,75,2,51043.3,"No","N",51043.3,26.033012750455377,50926.430367759567,"Full time",{"$f":"IF(I38=\"\",\"\",IF(I38<='Main page'!$F$49,\"Core staff\",\"Senior staff\"))","v":"Core staff"},{"$f":"IF(D38=\"\",\" \",'Main page'!$F$21-(D38))","v":46},{"$f":"IF(D38=\"\",\" \",VLOOKUP(R38,'Main page'!$E$29:'Main page'!$G$41,3,TRUE))","v":"45-49"}]
[null,38,"F",1950,"Section 6","Branch L",1,75,8,97056,"No","N",97056,49.500327868852459,96833.778885245905,"Full time",{"$f":"IF(I39=\"\",\"\",IF(I39<='Main page'!$F$49,\"Core staff\",\"Senior staff\"))","v":"Senior staff"},{"$f":"IF(D39=\"\",\" \",'Main page'!$F$21-(D39))","v":62},{"$f":"IF(D39=\"\",\" \",VLOOKUP(R39,'Main page'!$E$29:'Main page'!$G$41,3,TRUE))","v":"60-64"}]
[null,39,"F",1961,"Section 4","Branch G",1,75,4,51841.8,"No","N",51841.8,26.440262295081968,51723.102108196719,"Full time",{"$f":"IF(I40=\"\",\"\",IF(I40<='Main page'!$F$49,\"Core staff\",\"Senior staff\"))","v":"Core staff"},{"$f":"IF(D40=\"\",\" \",'Main page'!$F$21-(D40))","v":51},{"$f":"IF(D40=\"\",\" \",VLOOKUP(R40,'Main page'!$E$29:'Main page'!$G$41,3,TRUE))","v":"50-54"}]
[null,40,"M",1952,"Section 6","Branch L",1,75,2,49857.5,"No","N",49857.5,25.428233151183971,49743.34539617486,"Full time",{"$f":"IF(I41=\"\",\"\",IF(I41<='Main page'!$F$49,\"Core staff\",\"Senior staff\"))","v":"Core staff"},{"$f":"IF(D41=\"\",\" \",'Main page'!$F$21-(D41))","v":60},{"$f":"IF(D41=\"\",\" \",VLOOKUP(R41,'Main page'!$E$29:'Main page'!$G$41,3,TRUE))","v":"60-64"}]
[null,41,"F",1987,"Section 5","Branch I",1,75,1,31051.8,"No","N",31051.8,15.836983606557379,30980.703255737706,"Full time",{"$f":"IF(I42=\"\",\"\",IF(I42<='Main page'!$F$49,\"Core staff\",\"Senior staff\"))","v":"Core staff"},{"$f":"IF(D42=\"\",\" \",'Main page'!$F$21-(D42))","v":25},{"$f":"IF(D42=\"\",\" \",VLOOKUP(R42,'Main page'!$E$29:'Main page'!$G$41,3,TRUE))","v":"25-29"}]
[null,42,"M",1952,"Section 1","Branch A",1,75,7,91751,"Yes","N",91751,46.794681238615667,91540.925306010933,"Full time",{"$f":"IF(I43=\"\",\"\",IF(I43<='Main page'!$F$49,\"Core staff\",\"Senior staff\"))","v":"Senior staff"},{"$f":"IF(D43=\"\",\" \",'Main page'!$F$21-(D43))","v":60},{"$f":"IF(D43=\"\",\" \",VLOOKUP(R43,'Main page'!$E$29:'Main page'!$G$41,3,TRUE))","v":"60-64"}]
[null,43,"F",1988,"Section 6","Branch L",0.74161505970550934,75,3,46518.3,"No","N",62725.667974531323,31.991233211054229,62582.050188294554,"Part time",{"$f":"IF(I44=\"\",\"\",IF(I44<='Main page'!$F$49,\"Core staff\",\"Senior staff\"))","v":"Core staff"},{"$f":"IF(D44=\"\",\" \",'Main page'!$F$21-(D44))","v":24},{"$f":"IF(D44=\"\",\" \",VLOOKUP(R44,'Main page'!$E$29:'Main page'!$G$41,3,TRUE))","v":"20-24"}]
[null,44,"M",1949,"Section 4","Branch G",1,75,5,69517.8,"No","N",69517.8,35.455344262295078,69358.630829508198,"Full time",{"$f":"IF(I45=\"\",\"\",IF(I45<='Main page'!$F$49,\"Core staff\",\"Senior staff\"))","v":"Core staff"},{"$f":"IF(D45=\"\",\" \",'Main page'!$F$21-(D45))","v":63},{"$f":"IF(D45=\"\",\" \",VLOOKUP(R45,'Main page'!$E$29:'Main page'!$G$41,3,TRUE))","v":"60-64"}]
[null,45,"M",1973,"Section 5","Branch J",0.56514042619710381,80,5,72616.5,"No","N",128492.84290038308,61.437834720128521,120186.22822538341,"Part time",{"$f":"IF(I46=\"\",\"\",IF(I46<='Main page'!$F$49,\"Core staff\",\"Senior staff\"))","v":"Core staff"},{"$f":"IF(D46=\"\",\" \",'Main page'!$F$21-(D46))","v":39},{"$f":"IF(D46=\"\",\" \",VLOOKUP(R46,'Main page'!$E$29:'Main page'!$G$41,3,TRUE))","v":"35-39"}]
[null,46,"F",1985,"Section 5","Branch I",0.42221855940078967,75,7,75287.7,"No","N",178314.520581113,90.943653483992051,177906.24853672236,"Part time",{"$f":"IF(I47=\"\",\"\",IF(I47<='Main page'!$F$49,\"Core staff\",\"Senior staff\"))","v":"Senior staff"},{"$f":"IF(D47=\"\",\" \",'Main page'!$F$21-(D47))","v":27},{"$f":"IF(D47=\"\",\" \",VLOOKUP(R47,'Main page'!$E$29:'Main page'!$G$41,3,TRUE))","v":"25-29"}]
[null,47,"M",1933,"Section 5","Branch J",1,75,4,62014.7,"No","N",62014.7,31.628626593806917,61872.710058469936,"Full time",{"$f":"IF(I48=\"\",\"\",IF(I48<='Main page'!$F$49,\"Core staff\",\"Senior staff\"))","v":"Core staff"},{"$f":"IF(D48=\"\",\" \",'Main page'!$F$21-(D48))","v":79},{"$f":"IF(D48=\"\",\" \",VLOOKUP(R48,'Main page'!$E$29:'Main page'!$G$41,3,TRUE))","v":"70 and over"}]
[null,48,"M",1959,"Section 5","Branch J",1,75,2,47135,"No","N",47135,24.039708561020039,47027.078879781424,"Full time",{"$f":"IF(I49=\"\",\"\",IF(I49<='Main page'!$F$49,\"Core staff\",\"Senior staff\"))","v":"Core staff"},{"$f":"IF(D49=\"\",\" \",'Main page'!$F$21-(D49))","v":53},{"$f":"IF(D49=\"\",\" \",VLOOKUP(R49,'Main page'!$E$29:'Main page'!$G$41,3,TRUE))","v":"50-54"}]
[null,49,"M",1940,"Section 6","Branch L",1,80,3,57516.800000000003,"Yes","N",57516.800000000003,27.501202185792351,53798.539245901644,"Full time",{"$f":"IF(I50=\"\",\"\",IF(I50<='Main page'!$F$49,\"Core staff\",\"Senior staff\"))","v":"Core staff"},{"$f":"IF(D50=\"\",\" \",'Main page'!$F$21-(D50))","v":72},{"$f":"IF(D50=\"\",\" \",VLOOKUP(R50,'Main page'!$E$29:'Main page'!$G$41,3,TRUE))","v":"70 and over"}]
[null,50,"M",1935,"Section 1","Branch B",1,75,5,72472.399999999994,"No","N",72472.399999999994,36.962244080145723,72306.465925683064,"Full time",{"$f":"IF(I51=\"\",\"\",IF(I51<='Main page'!$F$49,\"Core staff\",\"Senior staff\"))","v":"Core staff"},{"$f":"IF(D51=\"\",\" \",'Main page'!$F$21-(D51))","v":77},{"$f":"IF(D51=\"\",\" \",VLOOKUP(R51,'Main page'!$E$29:'Main page'!$G$41,3,TRUE))","v":"70 and over"}]
[null,51,"F",1988,"Section 2","Branch D",1,80,3,46714.5,"No","N",46714.5,22.336168032786887,43694.570309938528,"Full time",{"$f":"IF(I52=\"\",\"\",IF(I52<='Main page'!$F$49,\"Core staff\",\"Senior staff\"))","v":"Core staff"},{"$f":"IF(D52=\"\",\" \",'Main page'!$F$21-(D52))","v":24},{"$f":"IF(D52=\"\",\" \",VLOOKUP(R52,'Main page'!$E$29:'Main page'!$G$41,3,TRUE))","v":"20-24"}]
[null,52,"F",1980,"Section 6","Branch K",1,75,2,39206.699999999997,"No","N",39206.699999999997,19.996131147540982,39116.931654098356,"Full time",{"$f":"IF(I53=\"\",\"\",IF(I53<='Main page'!$F$49,\"Core staff\",\"Senior staff\"))","v":"Core staff"},{"$f":"IF(D53=\"\",\" \",'Main page'!$F$21-(D53))","v":32},{"$f":"IF(D53=\"\",\" \",VLOOKUP(R53,'Main page'!$E$29:'Main page'!$G$41,3,TRUE))","v":"30-34"}]
[null,53,"M",1972,"Section 6","Branch L",1,75,7,91914.9,"No","N",91914.9,46.878273224043717,91704.450037704912,"Full time",{"$f":"IF(I54=\"\",\"\",IF(I54<='Main page'!$F$49,\"Core staff\",\"Senior staff\"))","v":"Senior staff"},{"$f":"IF(D54=\"\",\" \",'Main page'!$F$21-(D54))","v":40},{"$f":"IF(D54=\"\",\" \",VLOOKUP(R54,'Main page'!$E$29:'Main page'!$G$41,3,TRUE))","v":"40-44"}]
[null,54,"F",1977,"Section 6","Branch L",1,80,6,64939.5,"Yes","N",64939.5,31.050307377049183,60741.387548668034,"Full time",{"$f":"IF(I55=\"\",\"\",IF(I55<='Main page'!$F$49,\"Core staff\",\"Senior staff\"))","v":"Core staff"},{"$f":"IF(D55=\"\",\" \",'Main page'!$F$21-(D55))","v":35},{"$f":"IF(D55=\"\",\" \",VLOOKUP(R55,'Main page'!$E$29:'Main page'!$G$41,3,TRUE))","v":"35-39"}]
[null,55,"F",1955,"Section 1","Branch B",1,75,2,41673.599999999999,"No","N",41673.599999999999,21.254295081967211,41578.183396721302,"Full time",{"$f":"IF(I56=\"\",\"\",IF(I56<='Main page'!$F$49,\"Core staff\",\"Senior staff\"))","v":"Core staff"},{"$f":"IF(D56=\"\",\" \",'Main page'!$F$21-(D56))","v":57},{"$f":"IF(D56=\"\",\" \",VLOOKUP(R56,'Main page'!$E$29:'Main page'!$G$41,3,TRUE))","v":"55-59"}]
[null,56,"M",1983,"Section 2","Branch D",1,75,9,118022.3,"No","Y",118022.3,60.193522768670313,117752.07407814208,"Full time",{"$f":"IF(I57=\"\",\"\",IF(I57<='Main page'!$F$49,\"Core staff\",\"Senior staff\"))","v":"Senior staff"},{"$f":"IF(D57=\"\",\" \",'Main page'!$F$21-(D57))","v":29},{"$f":"IF(D57=\"\",\" \",VLOOKUP(R57,'Main page'!$E$29:'Main page'!$G$41,3,TRUE))","v":"25-29"}]
[null,57,"M",1938,"Section 2","Branch D",0.58801066286287096,75,4,61091.8,"Yes","N",103895.73498983831,52.988717299006794,103657.85349824956,"Part time",{"$f":"IF(I58=\"\",\"\",IF(I58<='Main page'!$F$49,\"Core staff\",\"Senior staff\"))","v":"Core staff"},{"$f":"IF(D58=\"\",\" \",'Main page'!$F$21-(D58))","v":74},{"$f":"IF(D58=\"\",\" \",VLOOKUP(R58,'Main page'!$E$29:'Main page'!$G$41,3,TRUE))","v":"70 and over"}]
[null,58,"M",1975,"Section 1","Branch B",1,75,5,70887.3,"No","Y",70887.3,36.153814207650271,70724.995198360644,"Full time",{"$f":"IF(I59=\"\",\"\",IF(I59<='Main page'!$F$49,\"Core staff\",\"Senior staff\"))","v":"Core staff"},{"$f":"IF(D59=\"\",\" \",'Main page'!$F$21-(D59))","v":37},{"$f":"IF(D59=\"\",\" \",VLOOKUP(R59,'Main page'!$E$29:'Main page'!$G$41,3,TRUE))","v":"35-39"}]
[null,59,"M",1966,"Section 6","Branch K",1,75,6,83141.3,"No","N",83141.3,42.403577413479056,82950.938225683058,"Full time",{"$f":"IF(I60=\"\",\"\",IF(I60<='Main page'!$F$49,\"Core staff\",\"Senior staff\"))","v":"Core staff"},{"$f":"IF(D60=\"\",\" \",'Main page'!$F$21-(D60))","v":46},{"$f":"IF(D60=\"\",\" \",VLOOKUP(R60,'Main page'!$E$29:'Main page'!$G$41,3,TRUE))","v":"45-49"}]
[null,60,"F",1947,"Section 2","Branch C",1,75,3,43956.9,"No","N",43956.9,22.41881967213115,43856.255513114753,"Full time",{"$f":"IF(I61=\"\",\"\",IF(I61<='Main page'!$F$49,\"Core staff\",\"Senior staff\"))","v":"Core staff"},{"$f":"IF(D61=\"\",\" \",'Main page'!$F$21-(D61))","v":65},{"$f":"IF(D61=\"\",\" \",VLOOKUP(R61,'Main page'!$E$29:'Main page'!$G$41,3,TRUE))","v":"65-69"}]
[null,61,"F",1945,"Section 2","Branch D",0.74460317453213065,75,5,59606.1,"No","N",80050.827123391369,40.827379953642229,79867.541349813764,"Part time",{"$f":"IF(I62=\"\",\"\",IF(I62<='Main page'!$F$49,\"Core staff\",\"Senior staff\"))","v":"Core staff"},{"$f":"IF(D62=\"\",\" \",'Main page'!$F$21-(D62))","v":67},{"$f":"IF(D62=\"\",\" \",VLOOKUP(R62,'Main page'!$E$29:'Main page'!$G$41,3,TRUE))","v":"65-69"}]
[null,62,"M",1952,"Section 5","Branch J",1,75,2,51223.7,"No","N",51223.7,26.125020036429873,51106.417320765031,"Full time",{"$f":"IF(I63=\"\",\"\",IF(I63<='Main page'!$F$49,\"Core staff\",\"Senior staff\"))","v":"Core staff"},{"$f":"IF(D63=\"\",\" \",'Main page'!$F$21-(D63))","v":60},{"$f":"IF(D63=\"\",\" \",VLOOKUP(R63,'Main page'!$E$29:'Main page'!$G$41,3,TRUE))","v":"60-64"}]
[null,63,"F",1955,"Section 4","Branch H",1,75,7,76494.600000000006,"No","N",76494.600000000006,39.013639344262302,76319.456626229512,"Full time",{"$f":"IF(I64=\"\",\"\",IF(I64<='Main page'!$F$49,\"Core staff\",\"Senior staff\"))","v":"Senior staff"},{"$f":"IF(D64=\"\",\" \",'Main page'!$F$21-(D64))","v":57},{"$f":"IF(D64=\"\",\" \",VLOOKUP(R64,'Main page'!$E$29:'Main page'!$G$41,3,TRUE))","v":"55-59"}]
[null,64,"F",1967,"Section 6","Branch L",1,75,3,46234.8,"No","N",46234.8,23.580590163934428,46128.939993442618,"Full time",{"$f":"IF(I65=\"\",\"\",IF(I65<='Main page'!$F$49,\"Core staff\",\"Senior staff\"))","v":"Core staff"},{"$f":"IF(D65=\"\",\" \",'Main page'!$F$21-(D65))","v":45},{"$f":"IF(D65=\"\",\" \",VLOOKUP(R65,'Main page'!$E$29:'Main page'!$G$41,3,TRUE))","v":"45-49"}]
[null,65,"F",1962,"Section 6","Branch L",1,75,7,75260.7,"No","N",{"$f":"IFERROR(J66/G66,\" \")","v":75260.7},{"$f":"IFERROR((M66/$U$4)/H66,\" \")","v":38.384327868852459},{"$f":"IFERROR((N66*75)*26.083,\" \")","v":75088.381785245889},{"$f":"IF(G66=0,\" \",IF(G66=1,\"Full time\",\"Part time\"))","v":"Full time"},{"$f":"IF(I66=\"\",\"\",IF(I66<='Main page'!$F$49,\"Core staff\",\"Senior staff\"))","v":"Senior staff"},{"$f":"IF(D66=\"\",\" \",'Main page'!$F$21-(D66))","v":50},{"$f":"IF(D66=\"\",\" \",VLOOKUP(R66,'Main page'!$E$29:'Main page'!$G$41,3,TRUE))","v":"50-54"}]
[null,66,"F",1965,"Section 3","Branch F",1,75,2,38599.199999999997,"No","N",38599.199999999997,19.686295081967213,38510.822596721307,"Full time",{"$f":"IF(I67=\"\",\"\",IF(I67<='Main page'!$F$49,\"Core staff\",\"Senior staff\"))","v":"Core staff"},{"$f":"IF(D67=\"\",\" \",'Main page'!$F$21-(D67))","v":47},{"$f":"IF(D67=\"\",\" \",VLOOKUP(R67,'Main page'!$E$29:'Main page'!$G$41,3,TRUE))","v":"45-49"}]
[null,67,"M",1939,"Section 1","Branch B",1,75,8,105969.60000000001,"No","Y",105969.60000000001,54.046426229508207,105726.97015081969,"Full time",{"$f":"IF(I68=\"\",\"\",IF(I68<='Main page'!$F$49,\"Core staff\",\"Senior staff\"))","v":"Senior staff"},{"$f":"IF(D68=\"\",\" \",'Main page'!$F$21-(D68))","v":73},{"$f":"IF(D68=\"\",\" \",VLOOKUP(R68,'Main page'!$E$29:'Main page'!$G$41,3,TRUE))","v":"70 and over"}]
[null,68,"M",1939,"Section 4","Branch H",1,75,2,50770.5,"No","N",50770.5,25.893879781420765,50654.254975409829,"Full time",{"$f":"IF(I69=\"\",\"\",IF(I69<='Main page'!$F$49,\"Core staff\",\"Senior staff\"))","v":"Core staff"},{"$f":"IF(D69=\"\",\" \",'Main page'!$F$21-(D69))","v":73},{"$f":"IF(D69=\"\",\" \",VLOOKUP(R69,'Main page'!$E$29:'Main page'!$G$41,3,TRUE))","v":"70 and over"}]
[null,69,"M",1970,"Section 3","Branch F",1,75,6,80869.8,"No","N",80869.8,41.245071038251368,80684.63909180327,"Full time",{"$f":"IF(I70=\"\",\"\",IF(I70<='Main page'!$F$49,\"Core staff\",\"Senior staff\"))","v":"Core staff"},{"$f":"IF(D70=\"\",\" \",'Main page'!$F$21-(D70))","v":42},{"$f":"IF(D70=\"\",\" \",VLOOKUP(R70,'Main page'!$E$29:'Main page'!$G$41,3,TRUE))","v":"40-44"}]
[null,70,"M",1954,"Section 1","Branch A",1,75,6,80392.399999999994,"No","N",80392.399999999994,41.001588342440797,80208.332155191238,"Full time",{"$f":"IF(I71=\"\",\"\",IF(I71<='Main page'!$F$49,\"Core staff\",\"Senior staff\"))","v":"Core staff"},{"$f":"IF(D71=\"\",\" \",'Main page'!$F$21-(D71))","v":58},{"$f":"IF(D71=\"\",\" \",VLOOKUP(R71,'Main page'!$E$29:'Main page'!$G$41,3,TRUE))","v":"55-59"}]
[null,71,"M",1947,"Section 6","Branch K",1,75,7,93502.2,"No","N",93502.2,47.68782513661202,93288.115727868848,"Full time",{"$f":"IF(I72=\"\",\"\",IF(I72<='Main page'!$F$49,\"Core staff\",\"Senior staff\"))","v":"Senior staff"},{"$f":"IF(D72=\"\",\" \",'Main page'!$F$21-(D72))","v":65},{"$f":"IF(D72=\"\",\" \",VLOOKUP(R72,'Main page'!$E$29:'Main page'!$G$41,3,TRUE))","v":"65-69"}]
[null,72,"M",1969,"Section 1","Branch A",1,75,3,54015.5,"No","N",54015.5,27.548888888888886,53891.825166666662,"Full time",{"$f":"IF(I73=\"\",\"\",IF(I73<='Main page'!$F$49,\"Core staff\",\"Senior staff\"))","v":"Core staff"},{"$f":"IF(D73=\"\",\" \",'Main page'!$F$21-(D73))","v":43},{"$f":"IF(D73=\"\",\" \",VLOOKUP(R73,'Main page'!$E$29:'Main page'!$G$41,3,TRUE))","v":"40-44"}]
[null,73,"M",1933,"Section 6","Branch L",0.54435695833308273,75,2,50952,"No","N",93600.346647582192,47.73788171461387,93386.037657170513,"Part time",{"$f":"IF(I74=\"\",\"\",IF(I74<='Main page'!$F$49,\"Core staff\",\"Senior staff\"))","v":"Core staff"},{"$f":"IF(D74=\"\",\" \",'Main page'!$F$21-(D74))","v":79},{"$f":"IF(D74=\"\",\" \",VLOOKUP(R74,'Main page'!$E$29:'Main page'!$G$41,3,TRUE))","v":"70 and over"}]
[null,74,"F",1975,"Section 6","Branch K",1,75,5,58484.7,"No","N",58484.7,29.828262295081966,58350.792408196721,"Full time",{"$f":"IF(I75=\"\",\"\",IF(I75<='Main page'!$F$49,\"Core staff\",\"Senior staff\"))","v":"Core staff"},{"$f":"IF(D75=\"\",\" \",'Main page'!$F$21-(D75))","v":37},{"$f":"IF(D75=\"\",\" \",VLOOKUP(R75,'Main page'!$E$29:'Main page'!$G$41,3,TRUE))","v":"35-39"}]
[null,75,"F",1964,"Section 2","Branch D",0.56151597860025504,75,2,38101.5,"No","N",67854.703075376907,34.607134537532851,67699.341760685202,"Part time",{"$f":"IF(I76=\"\",\"\",IF(I76<='Main page'!$F$49,\"Core staff\",\"Senior staff\"))","v":"Core staff"},{"$f":"IF(D76=\"\",\" \",'Main page'!$F$21-(D76))","v":48},{"$f":"IF(D76=\"\",\" \",VLOOKUP(R76,'Main page'!$E$29:'Main page'!$G$41,3,TRUE))","v":"45-49"}]
[null,76,"M",1979,"Section 1","Branch A",1,75,3,54464.3,"No","N",54464.3,27.777785063752276,54339.597586338794,"Full time",{"$f":"IF(I77=\"\",\"\",IF(I77<='Main page'!$F$49,\"Core staff\",\"Senior staff\"))","v":"Core staff"},{"$f":"IF(D77=\"\",\" \",'Main page'!$F$21-(D77))","v":33},{"$f":"IF(D77=\"\",\" \",VLOOKUP(R77,'Main page'!$E$29:'Main page'!$G$41,3,TRUE))","v":"30-34"}]
[null,77,"M",1982,"Section 6","Branch L",1,75,2,49431.8,"Yes","N",49431.8,25.21111839708561,49318.620086338793,"Full time",{"$f":"IF(I78=\"\",\"\",IF(I78<='Main page'!$F$49,\"Core staff\",\"Senior staff\"))","v":"Core staff"},{"$f":"IF(D78=\"\",\" \",'Main page'!$F$21-(D78))","v":30},{"$f":"IF(D78=\"\",\" \",VLOOKUP(R78,'Main page'!$E$29:'Main page'!$G$41,3,TRUE))","v":"30-34"}]
[null,78,"F",1946,"Section 5","Branch I",1,75,2,37953.9,"No","N",37953.9,19.357180327868853,37867.000086885251,"Full time",{"$f":"IF(I79=\"\",\"\",IF(I79<='Main page'!$F$49,\"Core staff\",\"Senior staff\"))","v":"Core staff"},{"$f":"IF(D79=\"\",\" \",'Main page'!$F$21-(D79))","v":66},{"$f":"IF(D79=\"\",\" \",VLOOKUP(R79,'Main page'!$E$29:'Main page'!$G$41,3,TRUE))","v":"65-69"}]
[null,79,"F",1954,"Section 5","Branch J",1,75,2,39457.800000000003,"No","N",39457.800000000003,20.124196721311478,39367.456731147548,"Full time",{"$f":"IF(I80=\"\",\"\",IF(I80<='Main page'!$F$49,\"Core staff\",\"Senior staff\"))","v":"Core staff"},{"$f":"IF(D80=\"\",\" \",'Main page'!$F$21-(D80))","v":58},{"$f":"IF(D80=\"\",\" \",VLOOKUP(R80,'Main page'!$E$29:'Main page'!$G$41,3,TRUE))","v":"55-59"}]
[null,80,"F",1983,"Section 3","Branch E",1,80,7,74151.899999999994,"No","N",74151.899999999994,35.455143442622948,69358.237981045066,"Full time",{"$f":"IF(I81=\"\",\"\",IF(I81<='Main page'!$F$49,\"Core staff\",\"Senior staff\"))","v":"Senior staff"},{"$f":"IF(D81=\"\",\" \",'Main page'!$F$21-(D81))","v":29},{"$f":"IF(D81=\"\",\" \",VLOOKUP(R81,'Main page'!$E$29:'Main page'!$G$41,3,TRUE))","v":"25-29"}]
[null,81,"M",1937,"Section 3","Branch E",1,75,4,62045.5,"No","N",62045.5,31.644335154826962,61903.439538251369,"Full time",{"$f":"IF(I82=\"\",\"\",IF(I82<='Main page'!$F$49,\"Core staff\",\"Senior staff\"))","v":"Core staff"},{"$f":"IF(D82=\"\",\" \",'Main page'!$F$21-(D82))","v":75},{"$f":"IF(D82=\"\",\" \",VLOOKUP(R82,'Main page'!$E$29:'Main page'!$G$41,3,TRUE))","v":"70 and over"}]
[null,82,"F",1945,"Section 5","Branch J",1,75,3,44753.4,"No","N",44753.4,22.82504918032787,44650.931832786882,"Full time",{"$f":"IF(I83=\"\",\"\",IF(I83<='Main page'!$F$49,\"Core staff\",\"Senior staff\"))","v":"Core staff"},{"$f":"IF(D83=\"\",\" \",'Main page'!$F$21-(D83))","v":67},{"$f":"IF(D83=\"\",\" \",VLOOKUP(R83,'Main page'!$E$29:'Main page'!$G$41,3,TRUE))","v":"65-69"}]
[null,83,"F",1955,"Section 3","Branch E",1,75,8,93757,"No","N",93757,47.817777777777778,93542.332333333325,"Full time",{"$f":"IF(I84=\"\",\"\",IF(I84<='Main page'!$F$49,\"Core staff\",\"Senior staff\"))","v":"Senior staff"},{"$f":"IF(D84=\"\",\" \",'Main page'!$F$21-(D84))","v":57},{"$f":"IF(D84=\"\",\" \",VLOOKUP(R84,'Main page'!$E$29:'Main page'!$G$41,3,TRUE))","v":"55-59"}]
[null,84,"F",1966,"Section 1","Branch B",1,75,1,33604.199999999997,"No","N",33604.199999999997,17.138754098360653,33527.259236065569,"Full time",{"$f":"IF(I85=\"\",\"\",IF(I85<='Main page'!$F$49,\"Core staff\",\"Senior staff\"))","v":"Core staff"},{"$f":"IF(D85=\"\",\" \",'Main page'!$F$21-(D85))","v":46},{"$f":"IF(D85=\"\",\" \",VLOOKUP(R85,'Main page'!$E$29:'Main page'!$G$41,3,TRUE))","v":"45-49"}]
[null,85,"M",1944,"Section 3","Branch F",1,75,5,71360.3,"No","N",71360.3,36.395052823315119,71196.912209289614,"Full time",{"$f":"IF(I86=\"\",\"\",IF(I86<='Main page'!$F$49,\"Core staff\",\"Senior staff\"))","v":"Core staff"},{"$f":"IF(D86=\"\",\" \",'Main page'!$F$21-(D86))","v":68},{"$f":"IF(D86=\"\",\" \",VLOOKUP(R86,'Main page'!$E$29:'Main page'!$G$41,3,TRUE))","v":"65-69"}]
[null,86,"F",1952,"Section 1","Branch B",0.53841189221748209,75,1,32469.3,"No","N",60305.688766036008,30.756999734954611,60167.611806511581,"Part time",{"$f":"IF(I87=\"\",\"\",IF(I87<='Main page'!$F$49,\"Core staff\",\"Senior staff\"))","v":"Core staff"},{"$f":"IF(D87=\"\",\" \",'Main page'!$F$21-(D87))","v":60},{"$f":"IF(D87=\"\",\" \",VLOOKUP(R87,'Main page'!$E$29:'Main page'!$G$41,3,TRUE))","v":"60-64"}]
[null,87,"F",1961,"Section 2","Branch C",0.77774520020921045,75,4,49087.8,"No","N",63115.529336337371,32.190069606875163,62971.018916709356,"Part time",{"$f":"IF(I88=\"\",\"\",IF(I88<='Main page'!$F$49,\"Core staff\",\"Senior staff\"))","v":"Core staff"},{"$f":"IF(D88=\"\",\" \",'Main page'!$F$21-(D88))","v":51},{"$f":"IF(D88=\"\",\" \",VLOOKUP(R88,'Main page'!$E$29:'Main page'!$G$41,3,TRUE))","v":"50-54"}]
[null,88,"F",1987,"Section 6","Branch L",1,75,5,57405.599999999999,"No","N",57405.599999999999,29.277901639344261,57274.16313442622,"Full time",{"$f":"IF(I89=\"\",\"\",IF(I89<='Main page'!$F$49,\"Core staff\",\"Senior staff\"))","v":"Core staff"},{"$f":"IF(D89=\"\",\" \",'Main page'!$F$21-(D89))","v":25},{"$f":"IF(D89=\"\",\" \",VLOOKUP(R89,'Main page'!$E$29:'Main page'!$G$41,3,TRUE))","v":"25-29"}]
[null,89,"M",1942,"Section 5","Branch I",0.56724104672321118,75,6,83553.8,"No","N",147298.57876588151,75.124958204821169,146961.32136422629,"Part time",{"$f":"IF(I90=\"\",\"\",IF(I90<='Main page'!$F$49,\"Core staff\",\"Senior staff\"))","v":"Core staff"},{"$f":"IF(D90=\"\",\" \",'Main page'!$F$21-(D90))","v":70},{"$f":"IF(D90=\"\",\" \",VLOOKUP(R90,'Main page'!$E$29:'Main page'!$G$41,3,TRUE))","v":"70 and over"}]
[null,90,"F",1969,"Section 1","Branch B",0.71634303339578764,75,1,34629.300000000003,"No","N",48341.783734311721,24.655190247007802,48231.099540952833,"Part time",{"$f":"IF(I91=\"\",\"\",IF(I91<='Main page'!$F$49,\"Core staff\",\"Senior staff\"))","v":"Core staff"},{"$f":"IF(D91=\"\",\" \",'Main page'!$F$21-(D91))","v":43},{"$f":"IF(D91=\"\",\" \",VLOOKUP(R91,'Main page'!$E$29:'Main page'!$G$41,3,TRUE))","v":"40-44"}]
[null,91,"M",1972,"Section 1","Branch A",1,75,2,47216.4,"Yes","Y",47216.4,24.081224043715846,47108.292504918027,"Full time",{"$f":"IF(I92=\"\",\"\",IF(I92<='Main page'!$F$49,\"Core staff\",\"Senior staff\"))","v":"Core staff"},{"$f":"IF(D92=\"\",\" \",'Main page'!$F$21-(D92))","v":40},{"$f":"IF(D92=\"\",\" \",VLOOKUP(R92,'Main page'!$E$29:'Main page'!$G$41,3,TRUE))","v":"40-44"}]
[null,92,"F",1966,"Section 5","Branch I",0.65960168353376503,75,1,30145.5,"No","Y",45702.58195597351,23.309149267163175,45597.940525156278,"Part time",{"$f":"IF(I93=\"\",\"\",IF(I93<='Main page'!$F$49,\"Core staff\",\"Senior staff\"))","v":"Core staff"},{"$f":"IF(D93=\"\",\" \",'Main page'!$F$21-(D93))","v":46},{"$f":"IF(D93=\"\",\" \",VLOOKUP(R93,'Main page'!$E$29:'Main page'!$G$41,3,TRUE))","v":"45-49"}]
[null,93,"F",1962,"Section 1","Branch B",1,75,7,75581.100000000006,"No","N",75581.100000000006,38.547737704918035,75408.048191803275,"Full time",{"$f":"IF(I94=\"\",\"\",IF(I94<='Main page'!$F$49,\"Core staff\",\"Senior staff\"))","v":"Senior staff"},{"$f":"IF(D94=\"\",\" \",'Main page'!$F$21-(D94))","v":50},{"$f":"IF(D94=\"\",\" \",VLOOKUP(R94,'Main page'!$E$29:'Main page'!$G$41,3,TRUE))","v":"50-54"}]
[null,94,"M",1986,"Section 2","Branch D",1,80,7,92159.1,"No","N",92159.1,44.065143442622954,86201.335231045086,"Full time",{"$f":"IF(I95=\"\",\"\",IF(I95<='Main page'!$F$49,\"Core staff\",\"Senior staff\"))","v":"Senior staff"},{"$f":"IF(D95=\"\",\" \",'Main page'!$F$21-(D95))","v":26},{"$f":"IF(D95=\"\",\" \",VLOOKUP(R95,'Main page'!$E$29:'Main page'!$G$41,3,TRUE))","v":"25-29"}]
[null,95,"F",1956,"Section 4","Branch G",0.59482207410928822,75,3,45211.5,"No","Y",76008.443479004403,38.765690663244506,75834.413217705485,"Part time",{"$f":"IF(I96=\"\",\"\",IF(I96<='Main page'!$F$49,\"Core staff\",\"Senior staff\"))","v":"Core staff"},{"$f":"IF(D96=\"\",\" \",'Main page'!$F$21-(D96))","v":56},{"$f":"IF(D96=\"\",\" \",VLOOKUP(R96,'Main page'!$E$29:'Main page'!$G$41,3,TRUE))","v":"55-59"}]
[null,96,"F",1958,"Section 3","Branch E",0.47782618876772176,75,1,30707.1,"No","N",64264.162831240639,32.775893611561706,64117.022480277301,"Part time",{"$f":"IF(I97=\"\",\"\",IF(I97<='Main page'!$F$49,\"Core staff\",\"Senior staff\"))","v":"Core staff"},{"$f":"IF(D97=\"\",\" \",'Main page'!$F$21-(D97))","v":54},{"$f":"IF(D97=\"\",\" \",VLOOKUP(R97,'Main page'!$E$29:'Main page'!$G$41,3,TRUE))","v":"50-54"}]
[null,97,"F",1973,"Section 1","Branch B",0.7020778944970516,75,3,47291.4,"No","N",67359.192435304067,34.354415085400987,67204.965650438535,"Part time",{"$f":"IF(I98=\"\",\"\",IF(I98<='Main page'!$F$49,\"Core staff\",\"Senior staff\"))","v":"Core staff"},{"$f":"IF(D98=\"\",\" \",'Main page'!$F$21-(D98))","v":39},{"$f":"IF(D98=\"\",\" \",VLOOKUP(R98,'Main page'!$E$29:'Main page'!$G$41,3,TRUE))","v":"35-39"}]
[null,98,"F",1948,"Section 4","Branch G",1,75,4,51439.5,"Yes","N",51439.5,26.235081967213116,51321.723221311477,"Full time",{"$f":"IF(I99=\"\",\"\",IF(I99<='Main page'!$F$49,\"Core staff\",\"Senior staff\"))","v":"Core staff"},{"$f":"IF(D99=\"\",\" \",'Main page'!$F$21-(D99))","v":64},{"$f":"IF(D99=\"\",\" \",VLOOKUP(R99,'Main page'!$E$29:'Main page'!$G$41,3,TRUE))","v":"60-64"}]
[null,99,"M",1977,"Section 1","Branch B",1,75,4,61564.800000000003,"No","N",61564.800000000003,31.399169398907105,61423.840157377053,"Full time",{"$f":"IF(I100=\"\",\"\",IF(I100<='Main page'!$F$49,\"Core staff\",\"Senior staff\"))","v":"Core staff"},{"$f":"IF(D100=\"\",\" \",'Main page'!$F$21-(D100))","v":35},{"$f":"IF(D100=\"\",\" \",VLOOKUP(R100,'Main page'!$E$29:'Main page'!$G$41,3,TRUE))","v":"35-39"}]
[null,100,"M",1936,"Section 6","Branch L",1,80,2,46255,"No","N",46255,22.116461748633881,43264.775384221306,"Full time",{"$f":"IF(I101=\"\",\"\",IF(I101<='Main page'!$F$49,\"Core staff\",\"Senior staff\"))","v":"Core staff"},{"$f":"IF(D101=\"\",\" \",'Main page'!$F$21-(D101))","v":76},{"$f":"IF(D101=\"\",\" \",VLOOKUP(R101,'Main page'!$E$29:'Main page'!$G$41,3,TRUE))","v":"70 and over"}]
[null,101,"F",1965,"Section 6","Branch L",1,75,3,44742.6,"Yes","N",44742.6,22.819540983606558,44640.156560655734,"Full time",{"$f":"IF(I102=\"\",\"\",IF(I102<='Main page'!$F$49,\"Core staff\",\"Senior staff\"))","v":"Core staff"},{"$f":"IF(D102=\"\",\" \",'Main page'!$F$21-(D102))","v":47},{"$f":"IF(D102=\"\",\" \",VLOOKUP(R102,'Main page'!$E$29:'Main page'!$G$41,3,TRUE))","v":"45-49"}]
[null,102,"F",1972,"Section 4","Branch G",1,75,5,60182.1,"No","N",60182.1,30.693967213114757,60044.306011475412,"Full time",{"$f":"IF(I103=\"\",\"\",IF(I103<='Main page'!$F$49,\"Core staff\",\"Senior staff\"))","v":"Core staff"},{"$f":"IF(D103=\"\",\" \",'Main page'!$F$21-(D103))","v":40},{"$f":"IF(D103=\"\",\" \",VLOOKUP(R103,'Main page'!$E$29:'Main page'!$G$41,3,TRUE))","v":"40-44"}]
[null,103,"M",1949,"Section 2","Branch C",1,75,2,49292.1,"No","Y",49292.1,25.139868852459017,49179.239945901638,"Full time",{"$f":"IF(I104=\"\",\"\",IF(I104<='Main page'!$F$49,\"Core staff\",\"Senior staff\"))","v":"Core staff"},{"$f":"IF(D104=\"\",\" \",'Main page'!$F$21-(D104))","v":63},{"$f":"IF(D104=\"\",\" \",VLOOKUP(R104,'Main page'!$E$29:'Main page'!$G$41,3,TRUE))","v":"60-64"}]
[null,104,"F",1974,"Section 1","Branch B",1,75,4,51352.2,"No","N",51352.2,26.190557377049178,51234.623104918028,"Full time",{"$f":"IF(I105=\"\",\"\",IF(I105<='Main page'!$F$49,\"Core staff\",\"Senior staff\"))","v":"Core staff"},{"$f":"IF(D105=\"\",\" \",'Main page'!$F$21-(D105))","v":38},{"$f":"IF(D105=\"\",\" \",VLOOKUP(R105,'Main page'!$E$29:'Main page'!$G$41,3,TRUE))","v":"35-39"}]
[null,105,"F",1974,"Section 6","Branch L",1,80,5,56067.3,"Yes","N",56067.3,26.808135245901639,52442.74437141393,"Full time",{"$f":"IF(I106=\"\",\"\",IF(I106<='Main page'!$F$49,\"Core staff\",\"Senior staff\"))","v":"Core staff"},{"$f":"IF(D106=\"\",\" \",'Main page'!$F$21-(D106))","v":38},{"$f":"IF(D106=\"\",\" \",VLOOKUP(R106,'Main page'!$E$29:'Main page'!$G$41,3,TRUE))","v":"35-39"}]
[null,106,"M",1966,"Section 4","Branch G",1,75,7,91718,"No","Y",91718,46.777850637522768,91508.000863387977,"Full time",{"$f":"IF(I107=\"\",\"\",IF(I107<='Main page'!$F$49,\"Core staff\",\"Senior staff\"))","v":"Senior staff"},{"$f":"IF(D107=\"\",\" \",'Main page'!$F$21-(D107))","v":46},{"$f":"IF(D107=\"\",\" \",VLOOKUP(R107,'Main page'!$E$29:'Main page'!$G$41,3,TRUE))","v":"45-49"}]
[null,107,"M",1968,"Section 3","Branch E",1,80,8,106616.4,"No","N",106616.4,50.977786885245898,99724.021149590146,"Full time",{"$f":"IF(I108=\"\",\"\",IF(I108<='Main page'!$F$49,\"Core staff\",\"Senior staff\"))","v":"Senior staff"},{"$f":"IF(D108=\"\",\" \",'Main page'!$F$21-(D108))","v":44},{"$f":"IF(D108=\"\",\" \",VLOOKUP(R108,'Main page'!$E$29:'Main page'!$G$41,3,TRUE))","v":"40-44"}]
[null,108,"M",1938,"Section 6","Branch L",1,80,4,62144.5,"No","N",62144.5,29.713900273224045,58127.074561987705,"Full time",{"$f":"IF(I109=\"\",\"\",IF(I109<='Main page'!$F$49,\"Core staff\",\"Senior staff\"))","v":"Core staff"},{"$f":"IF(D109=\"\",\" \",'Main page'!$F$21-(D109))","v":74},{"$f":"IF(D109=\"\",\" \",VLOOKUP(R109,'Main page'!$E$29:'Main page'!$G$41,3,TRUE))","v":"70 and over"}]
[null,109,"M",1937,"Section 3","Branch E",1,75,2,48688.2,"No","N",48688.2,24.831868852459017,48576.722645901638,"Full time",{"$f":"IF(I110=\"\",\"\",IF(I110<='Main page'!$F$49,\"Core staff\",\"Senior staff\"))","v":"Core staff"},{"$f":"IF(D110=\"\",\" \",'Main page'!$F$21-(D110))","v":75},{"$f":"IF(D110=\"\",\" \",VLOOKUP(R110,'Main page'!$E$29:'Main page'!$G$41,3,TRUE))","v":"70 and over"}]
[null,110,"F",1973,"Section 1","Branch B",1,75,7,75699,"Yes","N",75699,38.607868852459013,75525.678245901625,"Full time",{"$f":"IF(I111=\"\",\"\",IF(I111<='Main page'!$F$49,\"Core staff\",\"Senior staff\"))","v":"Senior staff"},{"$f":"IF(D111=\"\",\" \",'Main page'!$F$21-(D111))","v":39},{"$f":"IF(D111=\"\",\" \",VLOOKUP(R111,'Main page'!$E$29:'Main page'!$G$41,3,TRUE))","v":"35-39"}]
[null,111,"M",1933,"Section 1","Branch A",1,75,5,67827.100000000006,"No","N",67827.100000000006,34.593056466302372,67671.801885792345,"Full time",{"$f":"IF(I112=\"\",\"\",IF(I112<='Main page'!$F$49,\"Core staff\",\"Senior staff\"))","v":"Core staff"},{"$f":"IF(D112=\"\",\" \",'Main page'!$F$21-(D112))","v":79},{"$f":"IF(D112=\"\",\" \",VLOOKUP(R112,'Main page'!$E$29:'Main page'!$G$41,3,TRUE))","v":"70 and over"}]
[null,112,"F",1959,"Section 1","Branch B",1,80,4,50162.400000000001,"No","N",50162.400000000001,23.984754098360657,46919.575586065577,"Full time",{"$f":"IF(I113=\"\",\"\",IF(I113<='Main page'!$F$49,\"Core staff\",\"Senior staff\"))","v":"Core staff"},{"$f":"IF(D113=\"\",\" \",'Main page'!$F$21-(D113))","v":53},{"$f":"IF(D113=\"\",\" \",VLOOKUP(R113,'Main page'!$E$29:'Main page'!$G$41,3,TRUE))","v":"50-54"}]
[null,113,"M",1954,"Section 2","Branch C",1,75,5,72777.100000000006,"No","Y",72777.100000000006,37.117646630236798,72610.468279234978,"Full time",{"$f":"IF(I114=\"\",\"\",IF(I114<='Main page'!$F$49,\"Core staff\",\"Senior staff\"))","v":"Core staff"},{"$f":"IF(D114=\"\",\" \",'Main page'!$F$21-(D114))","v":58},{"$f":"IF(D114=\"\",\" \",VLOOKUP(R114,'Main page'!$E$29:'Main page'!$G$41,3,TRUE))","v":"55-59"}]
[null,114,"M",1933,"Section 6","Branch L",1,75,6,85811,"No","N",85811,43.76517304189435,85614.525633879777,"Full time",{"$f":"IF(I115=\"\",\"\",IF(I115<='Main page'!$F$49,\"Core staff\",\"Senior staff\"))","v":"Core staff"},{"$f":"IF(D115=\"\",\" \",'Main page'!$F$21-(D115))","v":79},{"$f":"IF(D115=\"\",\" \",VLOOKUP(R115,'Main page'!$E$29:'Main page'!$G$41,3,TRUE))","v":"70 and over"}]
[null,115,"F",1960,"Section 1","Branch A",1,75,9,111103,"No","N",111103,56.664553734061933,110848.6166284153,"Full time",{"$f":"IF(I116=\"\",\"\",IF(I116<='Main page'!$F$49,\"Core staff\",\"Senior staff\"))","v":"Senior staff"},{"$f":"IF(D116=\"\",\" \",'Main page'!$F$21-(D116))","v":52},{"$f":"IF(D116=\"\",\" \",VLOOKUP(R116,'Main page'!$E$29:'Main page'!$G$41,3,TRUE))","v":"50-54"}]
[null,116,"M",1973,"Section 6","Branch K",1,75,2,49687,"No","N",49687,25.341275045537341,49573.23577595628,"Full time",{"$f":"IF(I117=\"\",\"\",IF(I117<='Main page'!$F$49,\"Core staff\",\"Senior staff\"))","v":"Core staff"},{"$f":"IF(D117=\"\",\" \",'Main page'!$F$21-(D117))","v":39},{"$f":"IF(D117=\"\",\" \",VLOOKUP(R117,'Main page'!$E$29:'Main page'!$G$41,3,TRUE))","v":"35-39"}]
[null,117,"F",1965,"Section 1","Branch A",0.78304097093041491,75,6,69606,"No","N",88891.900403747262,45.336488366209899,88688.371954188959,"Part time",{"$f":"IF(I118=\"\",\"\",IF(I118<='Main page'!$F$49,\"Core staff\",\"Senior staff\"))","v":"Core staff"},{"$f":"IF(D118=\"\",\" \",'Main page'!$F$21-(D118))","v":47},{"$f":"IF(D118=\"\",\" \",VLOOKUP(R118,'Main page'!$E$29:'Main page'!$G$41,3,TRUE))","v":"45-49"}]
[null,118,"F",1952,"Section 4","Branch G",1,75,7,75561.3,"No","N",75561.3,38.537639344262296,75388.293526229507,"Full time",{"$f":"IF(I119=\"\",\"\",IF(I119<='Main page'!$F$49,\"Core staff\",\"Senior staff\"))","v":"Senior staff"},{"$f":"IF(D119=\"\",\" \",'Main page'!$F$21-(D119))","v":60},{"$f":"IF(D119=\"\",\" \",VLOOKUP(R119,'Main page'!$E$29:'Main page'!$G$41,3,TRUE))","v":"60-64"}]
[null,119,"M",1984,"Section 3","Branch E",1,75,6,85202.7,"No","N",85202.7,43.454928961748635,85007.618408196722,"Full time",{"$f":"IF(I120=\"\",\"\",IF(I120<='Main page'!$F$49,\"Core staff\",\"Senior staff\"))","v":"Core staff"},{"$f":"IF(D120=\"\",\" \",'Main page'!$F$21-(D120))","v":28},{"$f":"IF(D120=\"\",\" \",VLOOKUP(R120,'Main page'!$E$29:'Main page'!$G$41,3,TRUE))","v":"25-29"}]
[null,120,"M",1937,"Section 2","Branch D",1,75,7,93471.4,"Yes","Y",93471.4,47.672116575591986,93257.386248087423,"Full time",{"$f":"IF(I121=\"\",\"\",IF(I121<='Main page'!$F$49,\"Core staff\",\"Senior staff\"))","v":"Senior staff"},{"$f":"IF(D121=\"\",\" \",'Main page'!$F$21-(D121))","v":75},{"$f":"IF(D121=\"\",\" \",VLOOKUP(R121,'Main page'!$E$29:'Main page'!$G$41,3,TRUE))","v":"70 and over"}]
[null,121,"M",1971,"Section 4","Branch H",1,75,4,62566.9,"No","N",62566.9,31.910258652094718,62423.645731693992,"Full time",{"$f":"IF(I122=\"\",\"\",IF(I122<='Main page'!$F$49,\"Core staff\",\"Senior staff\"))","v":"Core staff"},{"$f":"IF(D122=\"\",\" \",'Main page'!$F$21-(D122))","v":41},{"$f":"IF(D122=\"\",\" \",VLOOKUP(R122,'Main page'!$E$29:'Main page'!$G$41,3,TRUE))","v":"40-44"}]
[null,122,"M",1957,"Section 3","Branch E",1,75,4,63027.8,"Yes","N",63027.8,32.145326047358836,62883.49044699454,"Full time",{"$f":"IF(I123=\"\",\"\",IF(I123<='Main page'!$F$49,\"Core staff\",\"Senior staff\"))","v":"Core staff"},{"$f":"IF(D123=\"\",\" \",'Main page'!$F$21-(D123))","v":55},{"$f":"IF(D123=\"\",\" \",VLOOKUP(R123,'Main page'!$E$29:'Main page'!$G$41,3,TRUE))","v":"55-59"}]
[null,123,"M",1948,"Section 5","Branch J",1,80,6,78265,"No","N",78265,37.42178961748634,73205.440394467209,"Full time",{"$f":"IF(I124=\"\",\"\",IF(I124<='Main page'!$F$49,\"Core staff\",\"Senior staff\"))","v":"Core staff"},{"$f":"IF(D124=\"\",\" \",'Main page'!$F$21-(D124))","v":64},{"$f":"IF(D124=\"\",\" \",VLOOKUP(R124,'Main page'!$E$29:'Main page'!$G$41,3,TRUE))","v":"60-64"}]
[null,124,"F",1975,"Section 3","Branch F",1,80,4,50534.1,"No","N",50534.1,24.162479508196721,47267.246475922126,"Full time",{"$f":"IF(I125=\"\",\"\",IF(I125<='Main page'!$F$49,\"Core staff\",\"Senior staff\"))","v":"Core staff"},{"$f":"IF(D125=\"\",\" \",'Main page'!$F$21-(D125))","v":37},{"$f":"IF(D125=\"\",\" \",VLOOKUP(R125,'Main page'!$E$29:'Main page'!$G$41,3,TRUE))","v":"35-39"}]
[null,125,"M",1954,"Section 6","Branch L",1,75,3,55370.7,"No","N",55370.7,28.240065573770494,55243.922277049176,"Full time",{"$f":"IF(I126=\"\",\"\",IF(I126<='Main page'!$F$49,\"Core staff\",\"Senior staff\"))","v":"Core staff"},{"$f":"IF(D126=\"\",\" \",'Main page'!$F$21-(D126))","v":58},{"$f":"IF(D126=\"\",\" \",VLOOKUP(R126,'Main page'!$E$29:'Main page'!$G$41,3,TRUE))","v":"55-59"}]
[null,126,"M",1962,"Section 2","Branch C",1,75,3,55773.3,"No","N",55773.3,28.445398907103826,55645.600477049178,"Full time",{"$f":"IF(I127=\"\",\"\",IF(I127<='Main page'!$F$49,\"Core staff\",\"Senior staff\"))","v":"Core staff"},{"$f":"IF(D127=\"\",\" \",'Main page'!$F$21-(D127))","v":50},{"$f":"IF(D127=\"\",\" \",VLOOKUP(R127,'Main page'!$E$29:'Main page'!$G$41,3,TRUE))","v":"50-54"}]
[null,127,"F",1976,"Section 2","Branch D",1,75,7,74767.5,"No","N",74767.5,38.132786885245899,74596.311024590163,"Full time",{"$f":"IF(I128=\"\",\"\",IF(I128<='Main page'!$F$49,\"Core staff\",\"Senior staff\"))","v":"Senior staff"},{"$f":"IF(D128=\"\",\" \",'Main page'!$F$21-(D128))","v":36},{"$f":"IF(D128=\"\",\" \",VLOOKUP(R128,'Main page'!$E$29:'Main page'!$G$41,3,TRUE))","v":"35-39"}]
[null,128,"M",1961,"Section 4","Branch G",1,75,6,81991.8,"No","N",81991.8,41.817311475409838,81804.070140983604,"Full time",{"$f":"IF(I129=\"\",\"\",IF(I129<='Main page'!$F$49,\"Core staff\",\"Senior staff\"))","v":"Core staff"},{"$f":"IF(D129=\"\",\" \",'Main page'!$F$21-(D129))","v":51},{"$f":"IF(D129=\"\",\" \",VLOOKUP(R129,'Main page'!$E$29:'Main page'!$G$41,3,TRUE))","v":"50-54"}]
[null,129,"F",1979,"Section 1","Branch B",1,75,3,46137.599999999999,"No","N",{"$f":"IFERROR(J130/G130,\" \")","v":46137.599999999999},{"$f":"IFERROR((M130/$U$4)/H130,\" \")","v":23.531016393442624},{"$f":"IFERROR((N130*75)*26.083,\" \")","v":46031.962544262293},{"$f":"IF(G130=0,\" \",IF(G130=1,\"Full time\",\"Part time\"))","v":"Full time"},{"$f":"IF(I130=\"\",\"\",IF(I130<='Main page'!$F$49,\"Core staff\",\"Senior staff\"))","v":"Core staff"},{"$f":"IF(D130=\"\",\" \",'Main page'!$F$21-(D130))","v":33},{"$f":"IF(D130=\"\",\" \",VLOOKUP(R130,'Main page'!$E$29:'Main page'!$G$41,3,TRUE))","v":"30-34"}]
[null,130,"M",1964,"Section 4","Branch G",1,80,7,90516.800000000003,"No","N",90516.800000000003,43.279890710382517,84665.204204918031,"Full time",{"$f":"IF(I131=\"\",\"\",IF(I131<='Main page'!$F$49,\"Core staff\",\"Senior staff\"))","v":"Senior staff"},{"$f":"IF(D131=\"\",\" \",'Main page'!$F$21-(D131))","v":48},{"$f":"IF(D131=\"\",\" \",VLOOKUP(R131,'Main page'!$E$29:'Main page'!$G$41,3,TRUE))","v":"45-49"}]
[null,131,"M",1970,"Section 1","Branch B",1,75,2,49083.1,"No","N",49083.1,25.033275045537337,48970.718475956273,"Full time",{"$f":"IF(I132=\"\",\"\",IF(I132<='Main page'!$F$49,\"Core staff\",\"Senior staff\"))","v":"Core staff"},{"$f":"IF(D132=\"\",\" \",'Main page'!$F$21-(D132))","v":42},{"$f":"IF(D132=\"\",\" \",VLOOKUP(R132,'Main page'!$E$29:'Main page'!$G$41,3,TRUE))","v":"40-44"}]
[null,132,"M",1966,"Section 1","Branch B",1,75,4,60163.4,"No","N",60163.4,30.684429872495446,60025.648827322395,"Full time",{"$f":"IF(I133=\"\",\"\",IF(I133<='Main page'!$F$49,\"Core staff\",\"Senior staff\"))","v":"Core staff"},{"$f":"IF(D133=\"\",\" \",'Main page'!$F$21-(D133))","v":46},{"$f":"IF(D133=\"\",\" \",VLOOKUP(R133,'Main page'!$E$29:'Main page'!$G$41,3,TRUE))","v":"45-49"}]
[null,133,"F",1952,"Section 5","Branch I",0.5153709574824461,80,3,46653.3,"No","N",90523.727273842451,43.283202931482052,84671.683654638473,"Part time",{"$f":"IF(I134=\"\",\"\",IF(I134<='Main page'!$F$49,\"Core staff\",\"Senior staff\"))","v":"Core staff"},{"$f":"IF(D134=\"\",\" \",'Main page'!$F$21-(D134))","v":60},{"$f":"IF(D134=\"\",\" \",VLOOKUP(R134,'Main page'!$E$29:'Main page'!$G$41,3,TRUE))","v":"60-64"}]
[null,134,"M",1959,"Section 3","Branch E",1,80,7,92548.5,"No","N",92548.5,44.251331967213119,86565.561877561471,"Full time",{"$f":"IF(I135=\"\",\"\",IF(I135<='Main page'!$F$49,\"Core staff\",\"Senior staff\"))","v":"Senior staff"},{"$f":"IF(D135=\"\",\" \",'Main page'!$F$21-(D135))","v":53},{"$f":"IF(D135=\"\",\" \",VLOOKUP(R135,'Main page'!$E$29:'Main page'!$G$41,3,TRUE))","v":"50-54"}]
[null,135,"M",1964,"Section 3","Branch E",1,75,4,61816.7,"No","N",61816.7,31.527642987249546,61675.163402732243,"Full time",{"$f":"IF(I136=\"\",\"\",IF(I136<='Main page'!$F$49,\"Core staff\",\"Senior staff\"))","v":"Core staff"},{"$f":"IF(D136=\"\",\" \",'Main page'!$F$21-(D136))","v":48},{"$f":"IF(D136=\"\",\" \",VLOOKUP(R136,'Main page'!$E$29:'Main page'!$G$41,3,TRUE))","v":"45-49"}]
[null,136,"F",1956,"Section 1","Branch B",1,75,4,51499.8,"No","N",51499.8,26.265836065573772,51381.885157377052,"Full time",{"$f":"IF(I137=\"\",\"\",IF(I137<='Main page'!$F$49,\"Core staff\",\"Senior staff\"))","v":"Core staff"},{"$f":"IF(D137=\"\",\" \",'Main page'!$F$21-(D137))","v":56},{"$f":"IF(D137=\"\",\" \",VLOOKUP(R137,'Main page'!$E$29:'Main page'!$G$41,3,TRUE))","v":"55-59"}]
[null,137,"M",1984,"Section 2","Branch D",0.58240611971180556,75,7,90928.2,"No","N",156125.07651017536,79.626632828504754,155767.60980494172,"Part time",{"$f":"IF(I138=\"\",\"\",IF(I138<='Main page'!$F$49,\"Core staff\",\"Senior staff\"))","v":"Senior staff"},{"$f":"IF(D138=\"\",\" \",'Main page'!$F$21-(D138))","v":28},{"$f":"IF(D138=\"\",\" \",VLOOKUP(R138,'Main page'!$E$29:'Main page'!$G$41,3,TRUE))","v":"25-29"}]
[null,138,"F",1986,"Section 3","Branch E",1,80,6,64537.2,"Yes","N",64537.2,30.85795081967213,60365.094842213111,"Full time",{"$f":"IF(I139=\"\",\"\",IF(I139<='Main page'!$F$49,\"Core staff\",\"Senior staff\"))","v":"Core staff"},{"$f":"IF(D139=\"\",\" \",'Main page'!$F$21-(D139))","v":26},{"$f":"IF(D139=\"\",\" \",VLOOKUP(R139,'Main page'!$E$29:'Main page'!$G$41,3,TRUE))","v":"25-29"}]
[null,139,"F",1980,"Section 2","Branch D",1,75,3,44362.8,"No","N",44362.8,22.625836065573772,44261.226157377052,"Full time",{"$f":"IF(I140=\"\",\"\",IF(I140<='Main page'!$F$49,\"Core staff\",\"Senior staff\"))","v":"Core staff"},{"$f":"IF(D140=\"\",\" \",'Main page'!$F$21-(D140))","v":32},{"$f":"IF(D140=\"\",\" \",VLOOKUP(R140,'Main page'!$E$29:'Main page'!$G$41,3,TRUE))","v":"30-34"}]
[null,140,"F",1955,"Section 1","Branch B",0.41715195589404175,75,6,67176.899999999994,"No","N",161037.00114752236,82.131803863945834,160668.28801374743,"Part time",{"$f":"IF(I141=\"\",\"\",IF(I141<='Main page'!$F$49,\"Core staff\",\"Senior staff\"))","v":"Core staff"},{"$f":"IF(D141=\"\",\" \",'Main page'!$F$21-(D141))","v":57},{"$f":"IF(D141=\"\",\" \",VLOOKUP(R141,'Main page'!$E$29:'Main page'!$G$41,3,TRUE))","v":"55-59"}]
[null,141,"M",1959,"Section 4","Branch G",1,75,3,55418,"No","N",55418,28.264189435336974,55291.113978142072,"Full time",{"$f":"IF(I142=\"\",\"\",IF(I142<='Main page'!$F$49,\"Core staff\",\"Senior staff\"))","v":"Core staff"},{"$f":"IF(D142=\"\",\" \",'Main page'!$F$21-(D142))","v":53},{"$f":"IF(D142=\"\",\" \",VLOOKUP(R142,'Main page'!$E$29:'Main page'!$G$41,3,TRUE))","v":"50-54"}]
[null,142,"F",1965,"Section 1","Branch A",1,75,3,46076.4,"No","N",46076.4,23.499803278688525,45970.902668852454,"Full time",{"$f":"IF(I143=\"\",\"\",IF(I143<='Main page'!$F$49,\"Core staff\",\"Senior staff\"))","v":"Core staff"},{"$f":"IF(D143=\"\",\" \",'Main page'!$F$21-(D143))","v":47},{"$f":"IF(D143=\"\",\" \",VLOOKUP(R143,'Main page'!$E$29:'Main page'!$G$41,3,TRUE))","v":"45-49"}]
[null,143,"F",1980,"Section 2","Branch C",0.6524234200387582,75,2,40235.4,"No","N",61670.686189667678,31.453173284347812,61529.483908173293,"Part time",{"$f":"IF(I144=\"\",\"\",IF(I144<='Main page'!$F$49,\"Core staff\",\"Senior staff\"))","v":"Core staff"},{"$f":"IF(D144=\"\",\" \",'Main page'!$F$21-(D144))","v":32},{"$f":"IF(D144=\"\",\" \",VLOOKUP(R144,'Main page'!$E$29:'Main page'!$G$41,3,TRUE))","v":"30-34"}]
[null,144,"F",1969,"Section 2","Branch D",0.7115363101429466,75,1,34880.400000000001,"No","N",49021.25092251804,25.001730889444538,48909.011009203634,"Part time",{"$f":"IF(I145=\"\",\"\",IF(I145<='Main page'!$F$49,\"Core staff\",\"Senior staff\"))","v":"Core staff"},{"$f":"IF(D145=\"\",\" \",'Main page'!$F$21-(D145))","v":43},{"$f":"IF(D145=\"\",\" \",VLOOKUP(R145,'Main page'!$E$29:'Main page'!$G$41,3,TRUE))","v":"40-44"}]
[null,145,"F",1946,"Section 3","Branch F",0.73409578077371407,75,1,35923.5,"No","N",48935.712397281117,24.958104683494923,48823.668334469854,"Part time",{"$f":"IF(I146=\"\",\"\",IF(I146<='Main page'!$F$49,\"Core staff\",\"Senior staff\"))","v":"Core staff"},{"$f":"IF(D146=\"\",\" \",'Main page'!$F$21-(D146))","v":66},{"$f":"IF(D146=\"\",\" \",VLOOKUP(R146,'Main page'!$E$29:'Main page'!$G$41,3,TRUE))","v":"65-69"}]
[null,146,"F",1951,"Section 4","Branch G",1,80,3,44789.4,"Yes","Y",44789.4,21.415696721311477,41893.921318647539,"Full time",{"$f":"IF(I147=\"\",\"\",IF(I147<='Main page'!$F$49,\"Core staff\",\"Senior staff\"))","v":"Core staff"},{"$f":"IF(D147=\"\",\" \",'Main page'!$F$21-(D147))","v":61},{"$f":"IF(D147=\"\",\" \",VLOOKUP(R147,'Main page'!$E$29:'Main page'!$G$41,3,TRUE))","v":"60-64"}]
[null,147,"F",1973,"Section 3","Branch F",1,75,8,94357,"No","N",94357,48.123788706739532,94140.958562841537,"Full time",{"$f":"IF(I148=\"\",\"\",IF(I148<='Main page'!$F$49,\"Core staff\",\"Senior staff\"))","v":"Senior staff"},{"$f":"IF(D148=\"\",\" \",'Main page'!$F$21-(D148))","v":39},{"$f":"IF(D148=\"\",\" \",VLOOKUP(R148,'Main page'!$E$29:'Main page'!$G$41,3,TRUE))","v":"35-39"}]
[null,148,"F",1988,"Section 3","Branch F",1,75,5,56215.8,"Yes","N",56215.8,28.671081967213116,56087.087321311476,"Full time",{"$f":"IF(I149=\"\",\"\",IF(I149<='Main page'!$F$49,\"Core staff\",\"Senior staff\"))","v":"Core staff"},{"$f":"IF(D149=\"\",\" \",'Main page'!$F$21-(D149))","v":24},{"$f":"IF(D149=\"\",\" \",VLOOKUP(R149,'Main page'!$E$29:'Main page'!$G$41,3,TRUE))","v":"20-24"}]
[null,149,"F",1987,"Section 3","Branch F",1,75,5,55530.9,"No","N",55530.9,28.321770491803278,55403.755480327862,"Full time",{"$f":"IF(I150=\"\",\"\",IF(I150<='Main page'!$F$49,\"Core staff\",\"Senior staff\"))","v":"Core staff"},{"$f":"IF(D150=\"\",\" \",'Main page'!$F$21-(D150))","v":25},{"$f":"IF(D150=\"\",\" \",VLOOKUP(R150,'Main page'!$E$29:'Main page'!$G$41,3,TRUE))","v":"25-29"}]
[null,150,"M",1940,"Section 1","Branch B",1,75,3,54452.2,"No","N",54452.2,27.771613843351545,54327.525290710371,"Full time",{"$f":"IF(I151=\"\",\"\",IF(I151<='Main page'!$F$49,\"Core staff\",\"Senior staff\"))","v":"Core staff"},{"$f":"IF(D151=\"\",\" \",'Main page'!$F$21-(D151))","v":72},{"$f":"IF(D151=\"\",\" \",VLOOKUP(R151,'Main page'!$E$29:'Main page'!$G$41,3,TRUE))","v":"70 and over"}]
[null,151,"F",1968,"Section 1","Branch B",0.5465191048788256,75,6,66748.5,"No","N",122133.88224515866,62.290504605909703,121854.24237269569,"Part time",{"$f":"IF(I152=\"\",\"\",IF(I152<='Main page'!$F$49,\"Core staff\",\"Senior staff\"))","v":"Core staff"},{"$f":"IF(D152=\"\",\" \",'Main page'!$F$21-(D152))","v":44},{"$f":"IF(D152=\"\",\" \",VLOOKUP(R152,'Main page'!$E$29:'Main page'!$G$41,3,TRUE))","v":"40-44"}]
[null,152,"F",1969,"Section 3","Branch E",0.53086794020327943,75,7,76125.600000000006,"No","N",143398.37506640554,73.135783276126688,143070.04763934092,"Part time",{"$f":"IF(I153=\"\",\"\",IF(I153<='Main page'!$F$49,\"Core staff\",\"Senior staff\"))","v":"Senior staff"},{"$f":"IF(D153=\"\",\" \",'Main page'!$F$21-(D153))","v":43},{"$f":"IF(D153=\"\",\" \",VLOOKUP(R153,'Main page'!$E$29:'Main page'!$G$41,3,TRUE))","v":"40-44"}]
[null,153,"F",1990,"Section 1","Branch A",1,75,4,51444,"No","N",51444,26.237377049180328,51326.212918032783,"Full time",{"$f":"IF(I154=\"\",\"\",IF(I154<='Main page'!$F$49,\"Core staff\",\"Senior staff\"))","v":"Core staff"},{"$f":"IF(D154=\"\",\" \",'Main page'!$F$21-(D154))","v":22},{"$f":"IF(D154=\"\",\" \",VLOOKUP(R154,'Main page'!$E$29:'Main page'!$G$41,3,TRUE))","v":"20-24"}]
[null,154,"F",1969,"Section 1","Branch A",1,80,4,50285.7,"No","N",50285.7,24.043709016393443,47034.90467059426,"Full time",{"$f":"IF(I155=\"\",\"\",IF(I155<='Main page'!$F$49,\"Core staff\",\"Senior staff\"))","v":"Core staff"},{"$f":"IF(D155=\"\",\" \",'Main page'!$F$21-(D155))","v":43},{"$f":"IF(D155=\"\",\" \",VLOOKUP(R155,'Main page'!$E$29:'Main page'!$G$41,3,TRUE))","v":"40-44"}]
[null,155,"F",1981,"Section 6","Branch L",0.78843365199554682,75,6,64343.7,"No","N",81609.53028469086,41.62234695758368,81422.675677099134,"Part time",{"$f":"IF(I156=\"\",\"\",IF(I156<='Main page'!$F$49,\"Core staff\",\"Senior staff\"))","v":"Core staff"},{"$f":"IF(D156=\"\",\" \",'Main page'!$F$21-(D156))","v":31},{"$f":"IF(D156=\"\",\" \",VLOOKUP(R156,'Main page'!$E$29:'Main page'!$G$41,3,TRUE))","v":"30-34"}]
[null,156,"M",1967,"Section 6","Branch K",1,75,6,81198.7,"No","N",81198.7,41.412816029143897,81012.786036612015,"Full time",{"$f":"IF(I157=\"\",\"\",IF(I157<='Main page'!$F$49,\"Core staff\",\"Senior staff\"))","v":"Core staff"},{"$f":"IF(D157=\"\",\" \",'Main page'!$F$21-(D157))","v":45},{"$f":"IF(D157=\"\",\" \",VLOOKUP(R157,'Main page'!$E$29:'Main page'!$G$41,3,TRUE))","v":"45-49"}]
[null,157,"M",1938,"Section 6","Branch L",1,80,8,110816.2,"Yes","Y",110816.2,52.985887978142081,103652.31871004099,"Full time",{"$f":"IF(I158=\"\",\"\",IF(I158<='Main page'!$F$49,\"Core staff\",\"Senior staff\"))","v":"Senior staff"},{"$f":"IF(D158=\"\",\" \",'Main page'!$F$21-(D158))","v":74},{"$f":"IF(D158=\"\",\" \",VLOOKUP(R158,'Main page'!$E$29:'Main page'!$G$41,3,TRUE))","v":"70 and over"}]
[null,158,"F",1972,"Section 6","Branch L",0.72006749167394446,75,5,57800.7,"No","N",80271.225500863016,40.939787140695167,80087.4350993064,"Part time",{"$f":"IF(I159=\"\",\"\",IF(I159<='Main page'!$F$49,\"Core staff\",\"Senior staff\"))","v":"Core staff"},{"$f":"IF(D159=\"\",\" \",'Main page'!$F$21-(D159))","v":40},{"$f":"IF(D159=\"\",\" \",VLOOKUP(R159,'Main page'!$E$29:'Main page'!$G$41,3,TRUE))","v":"40-44"}]
[null,159,"F",1946,"Section 2","Branch D",1,75,4,51715.8,"No","N",51715.8,26.376000000000001,51597.390599999999,"Full time",{"$f":"IF(I160=\"\",\"\",IF(I160<='Main page'!$F$49,\"Core staff\",\"Senior staff\"))","v":"Core staff"},{"$f":"IF(D160=\"\",\" \",'Main page'!$F$21-(D160))","v":66},{"$f":"IF(D160=\"\",\" \",VLOOKUP(R160,'Main page'!$E$29:'Main page'!$G$41,3,TRUE))","v":"65-69"}]
[null,160,"M",1935,"Section 3","Branch E",1,75,2,50417.4,"Yes","N",50417.4,25.713792349726777,50301.963439344261,"Full time",{"$f":"IF(I161=\"\",\"\",IF(I161<='Main page'!$F$49,\"Core staff\",\"Senior staff\"))","v":"Core staff"},{"$f":"IF(D161=\"\",\" \",'Main page'!$F$21-(D161))","v":77},{"$f":"IF(D161=\"\",\" \",VLOOKUP(R161,'Main page'!$E$29:'Main page'!$G$41,3,TRUE))","v":"70 and over"}]
[null,161,"F",1972,"Section 1","Branch A",0.75207906155355886,75,4,50815.8,"No","N",67567.098457747968,34.460450943842318,67412.39564761793,"Part time",{"$f":"IF(I162=\"\",\"\",IF(I162<='Main page'!$F$49,\"Core staff\",\"Senior staff\"))","v":"Core staff"},{"$f":"IF(D162=\"\",\" \",'Main page'!$F$21-(D162))","v":40},{"$f":"IF(D162=\"\",\" \",VLOOKUP(R162,'Main page'!$E$29:'Main page'!$G$41,3,TRUE))","v":"40-44"}]
[null,162,"F",1964,"Section 3","Branch F",0.44980077876425639,75,3,45060.3,"No","N",100178.35034388948,51.092783417648555,99948.980241189536,"Part time",{"$f":"IF(I163=\"\",\"\",IF(I163<='Main page'!$F$49,\"Core staff\",\"Senior staff\"))","v":"Core staff"},{"$f":"IF(D163=\"\",\" \",'Main page'!$F$21-(D163))","v":48},{"$f":"IF(D163=\"\",\" \",VLOOKUP(R163,'Main page'!$E$29:'Main page'!$G$41,3,TRUE))","v":"45-49"}]
[null,163,"F",1974,"Section 1","Branch B",1,80,2,39169.800000000003,"No","N",39169.800000000003,18.728729508196725,36637.608882172142,"Full time",{"$f":"IF(I164=\"\",\"\",IF(I164<='Main page'!$F$49,\"Core staff\",\"Senior staff\"))","v":"Core staff"},{"$f":"IF(D164=\"\",\" \",'Main page'!$F$21-(D164))","v":38},{"$f":"IF(D164=\"\",\" \",VLOOKUP(R164,'Main page'!$E$29:'Main page'!$G$41,3,TRUE))","v":"35-39"}]
[null,164,"M",1934,"Section 2","Branch D",1,80,8,111262.8,"Yes","N",111262.8,53.199426229508198,104070.04757581967,"Full time",{"$f":"IF(I165=\"\",\"\",IF(I165<='Main page'!$F$49,\"Core staff\",\"Senior staff\"))","v":"Senior staff"},{"$f":"IF(D165=\"\",\" \",'Main page'!$F$21-(D165))","v":78},{"$f":"IF(D165=\"\",\" \",VLOOKUP(R165,'Main page'!$E$29:'Main page'!$G$41,3,TRUE))","v":"70 and over"}]
[null,165,"M",1976,"Section 5","Branch J",1,75,3,56909.599999999999,"No","N",56909.599999999999,29.024932604735884,56779.298784699451,"Full time",{"$f":"IF(I166=\"\",\"\",IF(I166<='Main page'!$F$49,\"Core staff\",\"Senior staff\"))","v":"Core staff"},{"$f":"IF(D166=\"\",\" \",'Main page'!$F$21-(D166))","v":36},{"$f":"IF(D166=\"\",\" \",VLOOKUP(R166,'Main page'!$E$29:'Main page'!$G$41,3,TRUE))","v":"35-39"}]
[null,166,"M",1945,"Section 1","Branch A",1,75,4,63270.9,"No","N",63270.9,32.269311475409836,63126.033840983604,"Full time",{"$f":"IF(I167=\"\",\"\",IF(I167<='Main page'!$F$49,\"Core staff\",\"Senior staff\"))","v":"Core staff"},{"$f":"IF(D167=\"\",\" \",'Main page'!$F$21-(D167))","v":67},{"$f":"IF(D167=\"\",\" \",VLOOKUP(R167,'Main page'!$E$29:'Main page'!$G$41,3,TRUE))","v":"65-69"}]
[null,167,"F",1980,"Section 3","Branch E",1,75,3,45364.5,"No","N",45364.5,23.136721311475409,45260.632647540981,"Full time",{"$f":"IF(I168=\"\",\"\",IF(I168<='Main page'!$F$49,\"Core staff\",\"Senior staff\"))","v":"Core staff"},{"$f":"IF(D168=\"\",\" \",'Main page'!$F$21-(D168))","v":32},{"$f":"IF(D168=\"\",\" \",VLOOKUP(R168,'Main page'!$E$29:'Main page'!$G$41,3,TRUE))","v":"30-34"}]
[null,168,"F",1964,"Section 2","Branch D",0.7753093895062193,80,6,67328.100000000006,"No","Y",86840.300028973041,41.522001379973446,81226.377149538544,"Part time",{"$f":"IF(I169=\"\",\"\",IF(I169<='Main page'!$F$49,\"Core staff\",\"Senior staff\"))","v":"Core staff"},{"$f":"IF(D169=\"\",\" \",'Main page'!$F$21-(D169))","v":48},{"$f":"IF(D169=\"\",\" \",VLOOKUP(R169,'Main page'!$E$29:'Main page'!$G$41,3,TRUE))","v":"45-49"}]
[null,169,"F",1979,"Section 2","Branch C",1,75,4,51046.2,"No","N",51046.2,26.034491803278687,50929.323727868847,"Full time",{"$f":"IF(I170=\"\",\"\",IF(I170<='Main page'!$F$49,\"Core staff\",\"Senior staff\"))","v":"Core staff"},{"$f":"IF(D170=\"\",\" \",'Main page'!$F$21-(D170))","v":33},{"$f":"IF(D170=\"\",\" \",VLOOKUP(R170,'Main page'!$E$29:'Main page'!$G$41,3,TRUE))","v":"30-34"}]
[null,170,"M",1977,"Section 5","Branch J",1,75,2,46329.8,"No","N",46329.8,23.629041894353371,46223.72247978142,"Full time",{"$f":"IF(I171=\"\",\"\",IF(I171<='Main page'!$F$49,\"Core staff\",\"Senior staff\"))","v":"Core staff"},{"$f":"IF(D171=\"\",\" \",'Main page'!$F$21-(D171))","v":35},{"$f":"IF(D171=\"\",\" \",VLOOKUP(R171,'Main page'!$E$29:'Main page'!$G$41,3,TRUE))","v":"35-39"}]
[null,171,"M",1961,"Section 5","Branch J",1,75,7,91406.7,"No","N",91406.7,46.619081967213113,91197.413621311469,"Full time",{"$f":"IF(I172=\"\",\"\",IF(I172<='Main page'!$F$49,\"Core staff\",\"Senior staff\"))","v":"Senior staff"},{"$f":"IF(D172=\"\",\" \",'Main page'!$F$21-(D172))","v":51},{"$f":"IF(D172=\"\",\" \",VLOOKUP(R172,'Main page'!$E$29:'Main page'!$G$41,3,TRUE))","v":"50-54"}]
[null,172,"M",1950,"Section 1","Branch B",1,75,2,46869.9,"No","N",46869.9,23.904502732240438,46762.585857377046,"Full time",{"$f":"IF(I173=\"\",\"\",IF(I173<='Main page'!$F$49,\"Core staff\",\"Senior staff\"))","v":"Core staff"},{"$f":"IF(D173=\"\",\" \",'Main page'!$F$21-(D173))","v":62},{"$f":"IF(D173=\"\",\" \",VLOOKUP(R173,'Main page'!$E$29:'Main page'!$G$41,3,TRUE))","v":"60-64"}]
[null,173,"F",1968,"Section 5","Branch J",0.71489668285448715,75,7,75222,"No","N",105220.79875884803,53.664523957153826,104979.88337808324,"Part time",{"$f":"IF(I174=\"\",\"\",IF(I174<='Main page'!$F$49,\"Core staff\",\"Senior staff\"))","v":"Senior staff"},{"$f":"IF(D174=\"\",\" \",'Main page'!$F$21-(D174))","v":44},{"$f":"IF(D174=\"\",\" \",VLOOKUP(R174,'Main page'!$E$29:'Main page'!$G$41,3,TRUE))","v":"40-44"}]
[null,174,"M",1962,"Section 3","Branch F",1,75,2,50546.1,"No","N",50546.1,25.779431693989071,50430.368765573767,"Full time",{"$f":"IF(I175=\"\",\"\",IF(I175<='Main page'!$F$49,\"Core staff\",\"Senior staff\"))","v":"Core staff"},{"$f":"IF(D175=\"\",\" \",'Main page'!$F$21-(D175))","v":50},{"$f":"IF(D175=\"\",\" \",VLOOKUP(R175,'Main page'!$E$29:'Main page'!$G$41,3,TRUE))","v":"50-54"}]
[null,175,"F",1974,"Section 2","Branch D",1,75,1,33860.699999999997,"No","N",33860.699999999997,17.269573770491803,33783.171949180323,"Full time",{"$f":"IF(I176=\"\",\"\",IF(I176<='Main page'!$F$49,\"Core staff\",\"Senior staff\"))","v":"Core staff"},{"$f":"IF(D176=\"\",\" \",'Main page'!$F$21-(D176))","v":38},{"$f":"IF(D176=\"\",\" \",VLOOKUP(R176,'Main page'!$E$29:'Main page'!$G$41,3,TRUE))","v":"35-39"}]
[null,176,"F",1979,"Section 6","Branch L",1,75,4,49466.7,"No","N",49466.7,25.228918032786883,49353.440178688521,"Full time",{"$f":"IF(I177=\"\",\"\",IF(I177<='Main page'!$F$49,\"Core staff\",\"Senior staff\"))","v":"Core staff"},{"$f":"IF(D177=\"\",\" \",'Main page'!$F$21-(D177))","v":33},{"$f":"IF(D177=\"\",\" \",VLOOKUP(R177,'Main page'!$E$29:'Main page'!$G$41,3,TRUE))","v":"30-34"}]
[null,177,"F",1958,"Section 2","Branch D",0.75766987587485346,75,2,40139.1,"No","N",52977.0303374578,27.019250445333672,52855.733202422853,"Part time",{"$f":"IF(I178=\"\",\"\",IF(I178<='Main page'!$F$49,\"Core staff\",\"Senior staff\"))","v":"Core staff"},{"$f":"IF(D178=\"\",\" \",'Main page'!$F$21-(D178))","v":54},{"$f":"IF(D178=\"\",\" \",VLOOKUP(R178,'Main page'!$E$29:'Main page'!$G$41,3,TRUE))","v":"50-54"}]
[null,178,"M",1957,"Section 1","Branch A",1,75,8,108704.2,"No","N",108704.2,55.441122040072855,108455.30896284152,"Full time",{"$f":"IF(I179=\"\",\"\",IF(I179<='Main page'!$F$49,\"Core staff\",\"Senior staff\"))","v":"Senior staff"},{"$f":"IF(D179=\"\",\" \",'Main page'!$F$21-(D179))","v":55},{"$f":"IF(D179=\"\",\" \",VLOOKUP(R179,'Main page'!$E$29:'Main page'!$G$41,3,TRUE))","v":"55-59"}]
[null,179,"F",1959,"Section 3","Branch E",0.67427192066679709,75,3,45727.199999999997,"Yes","N",67817.150022767848,34.58798179667577,67661.87469020205,"Part time",{"$f":"IF(I180=\"\",\"\",IF(I180<='Main page'!$F$49,\"Core staff\",\"Senior staff\"))","v":"Core staff"},{"$f":"IF(D180=\"\",\" \",'Main page'!$F$21-(D180))","v":53},{"$f":"IF(D180=\"\",\" \",VLOOKUP(R180,'Main page'!$E$29:'Main page'!$G$41,3,TRUE))","v":"50-54"}]
[null,180,"M",1935,"Section 5","Branch J",1,75,8,110391.6,"No","N",110391.6,56.30172677595629,110138.8454622951,"Full time",{"$f":"IF(I181=\"\",\"\",IF(I181<='Main page'!$F$49,\"Core staff\",\"Senior staff\"))","v":"Senior staff"},{"$f":"IF(D181=\"\",\" \",'Main page'!$F$21-(D181))","v":77},{"$f":"IF(D181=\"\",\" \",VLOOKUP(R181,'Main page'!$E$29:'Main page'!$G$41,3,TRUE))","v":"70 and over"}]
[null,181,"M",1935,"Section 3","Branch F",1,75,6,85845.1,"No","N",85845.1,43.782564663023685,85648.547557923506,"Full time",{"$f":"IF(I182=\"\",\"\",IF(I182<='Main page'!$F$49,\"Core staff\",\"Senior staff\"))","v":"Core staff"},{"$f":"IF(D182=\"\",\" \",'Main page'!$F$21-(D182))","v":77},{"$f":"IF(D182=\"\",\" \",VLOOKUP(R182,'Main page'!$E$29:'Main page'!$G$41,3,TRUE))","v":"70 and over"}]
[null,182,"F",1953,"Section 1","Branch A",1,75,4,49900.5,"No","N",49900.5,25.450163934426232,49786.246942622958,"Full time",{"$f":"IF(I183=\"\",\"\",IF(I183<='Main page'!$F$49,\"Core staff\",\"Senior staff\"))","v":"Core staff"},{"$f":"IF(D183=\"\",\" \",'Main page'!$F$21-(D183))","v":59},{"$f":"IF(D183=\"\",\" \",VLOOKUP(R183,'Main page'!$E$29:'Main page'!$G$41,3,TRUE))","v":"55-59"}]
[null,183,"M",1955,"Section 1","Branch B",1,75,3,56482.8,"No","N",56482.8,28.807256830601098,56353.475993442626,"Full time",{"$f":"IF(I184=\"\",\"\",IF(I184<='Main page'!$F$49,\"Core staff\",\"Senior staff\"))","v":"Core staff"},{"$f":"IF(D184=\"\",\" \",'Main page'!$F$21-(D184))","v":57},{"$f":"IF(D184=\"\",\" \",VLOOKUP(R184,'Main page'!$E$29:'Main page'!$G$41,3,TRUE))","v":"55-59"}]
[null,184,"F",1945,"Section 6","Branch L",0.57904272247833433,75,6,63580.5,"No","N",109802.77884828947,56.001417263244171,109551.37248578982,"Part time",{"$f":"IF(I185=\"\",\"\",IF(I185<='Main page'!$F$49,\"Core staff\",\"Senior staff\"))","v":"Core staff"},{"$f":"IF(D185=\"\",\" \",'Main page'!$F$21-(D185))","v":67},{"$f":"IF(D185=\"\",\" \",VLOOKUP(R185,'Main page'!$E$29:'Main page'!$G$41,3,TRUE))","v":"65-69"}]
[null,185,"F",1948,"Section 1","Branch B",1,75,9,112493,"No","N",112493,57.373479052823313,112235.43406010928,"Full time",{"$f":"IF(I186=\"\",\"\",IF(I186<='Main page'!$F$49,\"Core staff\",\"Senior staff\"))","v":"Senior staff"},{"$f":"IF(D186=\"\",\" \",'Main page'!$F$21-(D186))","v":64},{"$f":"IF(D186=\"\",\" \",VLOOKUP(R186,'Main page'!$E$29:'Main page'!$G$41,3,TRUE))","v":"60-64"}]
[null,186,"F",1990,"Section 1","Branch B",1,75,4,51124.5,"No","N",51124.5,26.074426229508195,51007.444450819668,"Full time",{"$f":"IF(I187=\"\",\"\",IF(I187<='Main page'!$F$49,\"Core staff\",\"Senior staff\"))","v":"Core staff"},{"$f":"IF(D187=\"\",\" \",'Main page'!$F$21-(D187))","v":22},{"$f":"IF(D187=\"\",\" \",VLOOKUP(R187,'Main page'!$E$29:'Main page'!$G$41,3,TRUE))","v":"20-24"}]
[null,187,"M",1957,"Section 1","Branch A",1,75,2,48205.3,"No","N",48205.3,24.585581056466307,48094.928302185799,"Full time",{"$f":"IF(I188=\"\",\"\",IF(I188<='Main page'!$F$49,\"Core staff\",\"Senior staff\"))","v":"Core staff"},{"$f":"IF(D188=\"\",\" \",'Main page'!$F$21-(D188))","v":55},{"$f":"IF(D188=\"\",\" \",VLOOKUP(R188,'Main page'!$E$29:'Main page'!$G$41,3,TRUE))","v":"55-59"}]
[null,188,"F",1983,"Section 2","Branch C",0.78530052196856559,75,3,45558.9,"No","Y",58014.605524257699,29.588505549712487,57881.774268986308,"Part time",{"$f":"IF(I189=\"\",\"\",IF(I189<='Main page'!$F$49,\"Core staff\",\"Senior staff\"))","v":"Core staff"},{"$f":"IF(D189=\"\",\" \",'Main page'!$F$21-(D189))","v":29},{"$f":"IF(D189=\"\",\" \",VLOOKUP(R189,'Main page'!$E$29:'Main page'!$G$41,3,TRUE))","v":"25-29"}]
[null,189,"F",1953,"Section 1","Branch B",1,75,7,75808.800000000003,"No","N",75808.800000000003,38.663868852459018,75635.226845901634,"Full time",{"$f":"IF(I190=\"\",\"\",IF(I190<='Main page'!$F$49,\"Core staff\",\"Senior staff\"))","v":"Senior staff"},{"$f":"IF(D190=\"\",\" \",'Main page'!$F$21-(D190))","v":59},{"$f":"IF(D190=\"\",\" \",VLOOKUP(R190,'Main page'!$E$29:'Main page'!$G$41,3,TRUE))","v":"55-59"}]
[null,190,"F",1963,"Section 3","Branch F",1,80,3,45247.5,"Yes","N",45247.5,21.634733606557379,42322.406749487709,"Full time",{"$f":"IF(I191=\"\",\"\",IF(I191<='Main page'!$F$49,\"Core staff\",\"Senior staff\"))","v":"Core staff"},{"$f":"IF(D191=\"\",\" \",'Main page'!$F$21-(D191))","v":49},{"$f":"IF(D191=\"\",\" \",VLOOKUP(R191,'Main page'!$E$29:'Main page'!$G$41,3,TRUE))","v":"45-49"}]
[null,191,"M",1949,"Section 1","Branch A",1,75,2,47243.9,"No","N",47243.9,24.095249544626594,47135.729540437154,"Full time",{"$f":"IF(I192=\"\",\"\",IF(I192<='Main page'!$F$49,\"Core staff\",\"Senior staff\"))","v":"Core staff"},{"$f":"IF(D192=\"\",\" \",'Main page'!$F$21-(D192))","v":63},{"$f":"IF(D192=\"\",\" \",VLOOKUP(R192,'Main page'!$E$29:'Main page'!$G$41,3,TRUE))","v":"60-64"}]
[null,192,"M",1960,"Section 6","Branch L",1,75,5,69856.600000000006,"No","N",69856.600000000006,35.628138433515488,69696.655107103827,"Full time",{"$f":"IF(I193=\"\",\"\",IF(I193<='Main page'!$F$49,\"Core staff\",\"Senior staff\"))","v":"Core staff"},{"$f":"IF(D193=\"\",\" \",'Main page'!$F$21-(D193))","v":52},{"$f":"IF(D193=\"\",\" \",VLOOKUP(R193,'Main page'!$E$29:'Main page'!$G$41,3,TRUE))","v":"50-54"}]
[null,193,"F",1949,"Section 1","Branch B",0.79261210784261493,75,7,75883.5,"No","N",{"$f":"IFERROR(J194/G194,\" \")","v":95738.507208204057},{"$f":"IFERROR((M194/$U$4)/H194,\" \")","v":48.828382546989317},{"$f":"IFERROR((N194*75)*26.083,\" \")","v":95519.302647984165},{"$f":"IF(G194=0,\" \",IF(G194=1,\"Full time\",\"Part time\"))","v":"Part time"},{"$f":"IF(I194=\"\",\"\",IF(I194<='Main page'!$F$49,\"Core staff\",\"Senior staff\"))","v":"Senior staff"},{"$f":"IF(D194=\"\",\" \",'Main page'!$F$21-(D194))","v":63},{"$f":"IF(D194=\"\",\" \",VLOOKUP(R194,'Main page'!$E$29:'Main page'!$G$41,3,TRUE))","v":"60-64"}]
[null,194,"M",1961,"Section 3","Branch F",1,75,2,50975.1,"No","N",50975.1,25.998229508196722,50858.386519672131,"Full time",{"$f":"IF(I195=\"\",\"\",IF(I195<='Main page'!$F$49,\"Core staff\",\"Senior staff\"))","v":"Core staff"},{"$f":"IF(D195=\"\",\" \",'Main page'!$F$21-(D195))","v":51},{"$f":"IF(D195=\"\",\" \",VLOOKUP(R195,'Main page'!$E$29:'Main page'!$G$41,3,TRUE))","v":"50-54"}]
[null,195,"M",1947,"Section 6","Branch L",1,75,1,38577,"Yes","N",38577,19.67497267759563,38488.673426229507,"Full time",{"$f":"IF(I196=\"\",\"\",IF(I196<='Main page'!$F$49,\"Core staff\",\"Senior staff\"))","v":"Core staff"},{"$f":"IF(D196=\"\",\" \",'Main page'!$F$21-(D196))","v":65},{"$f":"IF(D196=\"\",\" \",VLOOKUP(R196,'Main page'!$E$29:'Main page'!$G$41,3,TRUE))","v":"65-69"}]
[null,196,"M",1962,"Section 6","Branch K",1,75,2,50243.6,"No","Y",50243.6,25.625151183970857,50128.561374863384,"Full time",{"$f":"IF(I197=\"\",\"\",IF(I197<='Main page'!$F$49,\"Core staff\",\"Senior staff\"))","v":"Core staff"},{"$f":"IF(D197=\"\",\" \",'Main page'!$F$21-(D197))","v":50},{"$f":"IF(D197=\"\",\" \",VLOOKUP(R197,'Main page'!$E$29:'Main page'!$G$41,3,TRUE))","v":"50-54"}]
[null,197,"M",1952,"Section 5","Branch I",0.56075068686914165,75,5,69633.3,"No","N",124178.71548011109,63.33340680224245,123894.39372171673,"Part time",{"$f":"IF(I198=\"\",\"\",IF(I198<='Main page'!$F$49,\"Core staff\",\"Senior staff\"))","v":"Core staff"},{"$f":"IF(D198=\"\",\" \",'Main page'!$F$21-(D198))","v":60},{"$f":"IF(D198=\"\",\" \",VLOOKUP(R198,'Main page'!$E$29:'Main page'!$G$41,3,TRUE))","v":"60-64"}]
[null,198,"M",1964,"Section 3","Branch E",1,75,6,84575.7,"No","N",84575.7,43.135147540983603,84382.053998360643,"Full time",{"$f":"IF(I199=\"\",\"\",IF(I199<='Main page'!$F$49,\"Core staff\",\"Senior staff\"))","v":"Core staff"},{"$f":"IF(D199=\"\",\" \",'Main page'!$F$21-(D199))","v":48},{"$f":"IF(D199=\"\",\" \",VLOOKUP(R199,'Main page'!$E$29:'Main page'!$G$41,3,TRUE))","v":"45-49"}]
[null,199,"F",1977,"Section 3","Branch E",1,75,4,49114.8,"Yes","N",49114.8,25.049442622950821,49002.34589508197,"Full time",{"$f":"IF(I200=\"\",\"\",IF(I200<='Main page'!$F$49,\"Core staff\",\"Senior staff\"))","v":"Core staff"},{"$f":"IF(D200=\"\",\" \",'Main page'!$F$21-(D200))","v":35},{"$f":"IF(D200=\"\",\" \",VLOOKUP(R200,'Main page'!$E$29:'Main page'!$G$41,3,TRUE))","v":"35-39"}]
[null,200,"F",1981,"Section 6","Branch K",0.4303624208923793,75,4,50090.400000000001,"No","N",116391.20324710253,59.361633714369233,116124.71191289196,"Part time",{"$f":"IF(I201=\"\",\"\",IF(I201<='Main page'!$F$49,\"Core staff\",\"Senior staff\"))","v":"Core staff"},{"$f":"IF(D201=\"\",\" \",'Main page'!$F$21-(D201))","v":31},{"$f":"IF(D201=\"\",\" \",VLOOKUP(R201,'Main page'!$E$29:'Main page'!$G$41,3,TRUE))","v":"30-34"}]
[null,null,null,null,null,null,null,null,null,null,null,null,{"$f":"IFERROR(J202/G202,\" \")","v":" "},{"$f":"IFERROR((M202/$U$4)/H202,\" \")","v":" "},{"$f":"IFERROR((N202*75)*26.083,\" \")","v":" "},{"$f":"IF(G202=0,\" \",IF(G202=1,\"Full time\",\"Part time\"))","v":" "},{"$f":"IF(I202=\"\",\"\",IF(I202<='Main page'!$F$49,\"Core staff\",\"Senior staff\"))","v":""},{"$f":"IF(D202=\"\",\" \",'Main page'!$F$21-(D202))","v":" "},{"$f":"IF(D202=\"\",\" \",VLOOKUP(R202,'Main page'!$E$29:'Main page'!$G$41,3,TRUE))","v":" "}]
[null,null,null,null,null,null,null,null,null,null,null,null," "," "," "," ",{"$f":"IF(I203=\"\",\"\",IF(I203<='Main page'!$F$49,\"Core staff\",\"Senior staff\"))","v":""},{"$f":"IF(D203=\"\",\" \",'Main page'!$F$21-(D203))","v":" "},{"$f":"IF(D203=\"\",\" \",VLOOKUP(R203,'Main page'!$E$29:'Main page'!$G$41,3,TRUE))","v":" "}]
[null,null,null,null,null,null,null,null,null,null,null,null," "," "," "," ",{"$f":"IF(I204=\"\",\"\",IF(I204<='Main page'!$F$49,\"Core staff\",\"Senior staff\"))","v":""},{"$f":"IF(D204=\"\",\" \",'Main page'!$F$21-(D204))","v":" "},{"$f":"IF(D204=\"\",\" \",VLOOKUP(R204,'Main page'!$E$29:'Main page'!$G$41,3,TRUE))","v":" "}]
[null,null,null,null,null,null,null,null,null,null,null,null," "," "," "," ",{"$f":"IF(I205=\"\",\"\",IF(I205<='Main page'!$F$49,\"Core staff\",\"Senior staff\"))","v":""},{"$f":"IF(D205=\"\",\" \",'Main page'!$F$21-(D205))","v":" "},{"$f":"IF(D205=\"\",\" \",VLOOKUP(R205,'Main page'!$E$29:'Main page'!$G$41,3,TRUE))","v":" "}]
[null,null,null,null,null,null,null,null,null,null,null,null,{"$f":"IFERROR(J206/G206,\" \")","v":" "},{"$f":"IFERROR((M206/$U$4)/H206,\" \")","v":" "},{"$f":"IFERROR((N206*75)*26.083,\" \")","v":" "},{"$f":"IF(G206=0,\" \",IF(G206=1,\"Full time\",\"Part time\"))","v":" "},{"$f":"IF(I206=\"\",\"\",IF(I206<='Main page'!$F$49,\"Core staff\",\"Senior staff\"))","v":""},{"$f":"IF(D206=\"\",\" \",'Main page'!$F$21-(D206))","v":" "},{"$f":"IF(D206=\"\",\" \",VLOOKUP(R206,'Main page'!$E$29:'Main page'!$G$41,3,TRUE))","v":" "}]
[null,null,null,null,null,null,null,null,null,null,null,null," "," "," "," ",{"$f":"IF(I207=\"\",\"\",IF(I207<='Main page'!$F$49,\"Core staff\",\"Senior staff\"))","v":""},{"$f":"IF(D207=\"\",\" \",'Main page'!$F$21-(D207))","v":" "},{"$f":"IF(D207=\"\",\" \",VLOOKUP(R207,'Main page'!$E$29:'Main page'!$G$41,3,TRUE))","v":" "}]
[null,null,null,null,null,null,null,null,null,null,null,null," "," "," "," ",{"$f":"IF(I208=\"\",\"\",IF(I208<='Main page'!$F$49,\"Core staff\",\"Senior staff\"))","v":""},{"$f":"IF(D208=\"\",\" \",'Main page'!$F$21-(D208))","v":" "},{"$f":"IF(D208=\"\",\" \",VLOOKUP(R208,'Main page'!$E$29:'Main page'!$G$41,3,TRUE))","v":" "}]
[null,null,null,null,null,null,null,null,null,null,null,null," "," "," "," ",{"$f":"IF(I209=\"\",\"\",IF(I209<='Main page'!$F$49,\"Core staff\",\"Senior staff\"))","v":""},{"$f":"IF(D209=\"\",\" \",'Main page'!$F$21-(D209))","v":" "},{"$f":"IF(D209=\"\",\" \",VLOOKUP(R209,'Main page'!$E$29:'Main page'!$G$41,3,TRUE))","v":" "}]
[null,null,null,null,null,null,null,null,null,null,null,null," "," "," "," ",{"$f":"IF(I210=\"\",\"\",IF(I210<='Main page'!$F$49,\"Core staff\",\"Senior staff\"))","v":""},{"$f":"IF(D210=\"\",\" \",'Main page'!$F$21-(D210))","v":" "},{"$f":"IF(D210=\"\",\" \",VLOOKUP(R210,'Main page'!$E$29:'Main page'!$G$41,3,TRUE))","v":" "}]
[null,null,null,null,null,null,null,null,null,null,null,null," "," "," "," ",{"$f":"IF(I211=\"\",\"\",IF(I211<='Main page'!$F$49,\"Core staff\",\"Senior staff\"))","v":""},{"$f":"IF(D211=\"\",\" \",'Main page'!$F$21-(D211))","v":" "},{"$f":"IF(D211=\"\",\" \",VLOOKUP(R211,'Main page'!$E$29:'Main page'!$G$41,3,TRUE))","v":" "}]
[null,null,null,null,null,null,null,null,null,null,null,null," "," "," "," ",{"$f":"IF(I212=\"\",\"\",IF(I212<='Main page'!$F$49,\"Core staff\",\"Senior staff\"))","v":""},{"$f":"IF(D212=\"\",\" \",'Main page'!$F$21-(D212))","v":" "},{"$f":"IF(D212=\"\",\" \",VLOOKUP(R212,'Main page'!$E$29:'Main page'!$G$41,3,TRUE))","v":" "}]
[null,null,null,null,null,null,null,null,null,null,null,null," "," "," "," ",{"$f":"IF(I213=\"\",\"\",IF(I213<='Main page'!$F$49,\"Core staff\",\"Senior staff\"))","v":""},{"$f":"IF(D213=\"\",\" \",'Main page'!$F$21-(D213))","v":" "},{"$f":"IF(D213=\"\",\" \",VLOOKUP(R213,'Main page'!$E$29:'Main page'!$G$41,3,TRUE))","v":" "}]
[null,null,null,null,null,null,null,null,null,null,null,null," "," "," "," ",{"$f":"IF(I214=\"\",\"\",IF(I214<='Main page'!$F$49,\"Core staff\",\"Senior staff\"))","v":""},{"$f":"IF(D214=\"\",\" \",'Main page'!$F$21-(D214))","v":" "},{"$f":"IF(D214=\"\",\" \",VLOOKUP(R214,'Main page'!$E$29:'Main page'!$G$41,3,TRUE))","v":" "}]
[null,null,null,null,null,null,null,null,null,null,null,null," "," "," "," ",{"$f":"IF(I215=\"\",\"\",IF(I215<='Main page'!$F$49,\"Core staff\",\"Senior staff\"))","v":""},{"$f":"IF(D215=\"\",\" \",'Main page'!$F$21-(D215))","v":" "},{"$f":"IF(D215=\"\",\" \",VLOOKUP(R215,'Main page'!$E$29:'Main page'!$G$41,3,TRUE))","v":" "}]
[null,null,null,null,null,null,null,null,null,null,null,null," "," "," "," ",{"$f":"IF(I216=\"\",\"\",IF(I216<='Main page'!$F$49,\"Core staff\",\"Senior staff\"))","v":""},{"$f":"IF(D216=\"\",\" \",'Main page'!$F$21-(D216))","v":" "},{"$f":"IF(D216=\"\",\" \",VLOOKUP(R216,'Main page'!$E$29:'Main page'!$G$41,3,TRUE))","v":" "}]
[null,null,null,null,null,null,null,null,null,null,null,null," "," "," "," ",{"$f":"IF(I217=\"\",\"\",IF(I217<='Main page'!$F$49,\"Core staff\",\"Senior staff\"))","v":""},{"$f":"IF(D217=\"\",\" \",'Main page'!$F$21-(D217))","v":" "},{"$f":"IF(D217=\"\",\" \",VLOOKUP(R217,'Main page'!$E$29:'Main page'!$G$41,3,TRUE))","v":" "}]
[null,null,null,null,null,null,null,null,null,null,null,null," "," "," "," ",{"$f":"IF(I218=\"\",\"\",IF(I218<='Main page'!$F$49,\"Core staff\",\"Senior staff\"))","v":""},{"$f":"IF(D218=\"\",\" \",'Main page'!$F$21-(D218))","v":" "},{"$f":"IF(D218=\"\",\" \",VLOOKUP(R218,'Main page'!$E$29:'Main page'!$G$41,3,TRUE))","v":" "}]
[null,null,null,null,null,null,null,null,null,null,null,null," "," "," "," ",{"$f":"IF(I219=\"\",\"\",IF(I219<='Main page'!$F$49,\"Core staff\",\"Senior staff\"))","v":""},{"$f":"IF(D219=\"\",\" \",'Main page'!$F$21-(D219))","v":" "},{"$f":"IF(D219=\"\",\" \",VLOOKUP(R219,'Main page'!$E$29:'Main page'!$G$41,3,TRUE))","v":" "}]
[null,null,null,null,null,null,null,null,null,null,null,null," "," "," "," ",{"$f":"IF(I220=\"\",\"\",IF(I220<='Main page'!$F$49,\"Core staff\",\"Senior staff\"))","v":""},{"$f":"IF(D220=\"\",\" \",'Main page'!$F$21-(D220))","v":" "},{"$f":"IF(D220=\"\",\" \",VLOOKUP(R220,'Main page'!$E$29:'Main page'!$G$41,3,TRUE))","v":" "}]
[null,null,null,null,null,null,null,null,null,null,null,null," "," "," "," ",{"$f":"IF(I221=\"\",\"\",IF(I221<='Main page'!$F$49,\"Core staff\",\"Senior staff\"))","v":""},{"$f":"IF(D221=\"\",\" \",'Main page'!$F$21-(D221))","v":" "},{"$f":"IF(D221=\"\",\" \",VLOOKUP(R221,'Main page'!$E$29:'Main page'!$G$41,3,TRUE))","v":" "}]
[null,null,null,null,null,null,null,null,null,null,null,null," "," "," "," ",{"$f":"IF(I222=\"\",\"\",IF(I222<='Main page'!$F$49,\"Core staff\",\"Senior staff\"))","v":""},{"$f":"IF(D222=\"\",\" \",'Main page'!$F$21-(D222))","v":" "},{"$f":"IF(D222=\"\",\" \",VLOOKUP(R222,'Main page'!$E$29:'Main page'!$G$41,3,TRUE))","v":" "}]
[null,null,null,null,null,null,null,null,null,null,null,null," "," "," "," ",{"$f":"IF(I223=\"\",\"\",IF(I223<='Main page'!$F$49,\"Core staff\",\"Senior staff\"))","v":""},{"$f":"IF(D223=\"\",\" \",'Main page'!$F$21-(D223))","v":" "},{"$f":"IF(D223=\"\",\" \",VLOOKUP(R223,'Main page'!$E$29:'Main page'!$G$41,3,TRUE))","v":" "}]
[null,null,null,null,null,null,null,null,null,null,null,null," "," "," "," ",{"$f":"IF(I224=\"\",\"\",IF(I224<='Main page'!$F$49,\"Core staff\",\"Senior staff\"))","v":""},{"$f":"IF(D224=\"\",\" \",'Main page'!$F$21-(D224))","v":" "},{"$f":"IF(D224=\"\",\" \",VLOOKUP(R224,'Main page'!$E$29:'Main page'!$G$41,3,TRUE))","v":" "}]
[null,null,null,null,null,null,null,null,null,null,null,null," "," "," "," ",{"$f":"IF(I225=\"\",\"\",IF(I225<='Main page'!$F$49,\"Core staff\",\"Senior staff\"))","v":""},{"$f":"IF(D225=\"\",\" \",'Main page'!$F$21-(D225))","v":" "},{"$f":"IF(D225=\"\",\" \",VLOOKUP(R225,'Main page'!$E$29:'Main page'!$G$41,3,TRUE))","v":" "}]
[null,null,null,null,null,null,null,null,null,null,null,null," "," "," "," ",{"$f":"IF(I226=\"\",\"\",IF(I226<='Main page'!$F$49,\"Core staff\",\"Senior staff\"))","v":""},{"$f":"IF(D226=\"\",\" \",'Main page'!$F$21-(D226))","v":" "},{"$f":"IF(D226=\"\",\" \",VLOOKUP(R226,'Main page'!$E$29:'Main page'!$G$41,3,TRUE))","v":" "}]
[null,null,null,null,null,null,null,null,null,null,null,null," "," "," "," ",{"$f":"IF(I227=\"\",\"\",IF(I227<='Main page'!$F$49,\"Core staff\",\"Senior staff\"))","v":""},{"$f":"IF(D227=\"\",\" \",'Main page'!$F$21-(D227))","v":" "},{"$f":"IF(D227=\"\",\" \",VLOOKUP(R227,'Main page'!$E$29:'Main page'!$G$41,3,TRUE))","v":" "}]
[null,null,null,null,null,null,null,null,null,null,null,null," "," "," "," ",{"$f":"IF(I228=\"\",\"\",IF(I228<='Main page'!$F$49,\"Core staff\",\"Senior staff\"))","v":""},{"$f":"IF(D228=\"\",\" \",'Main page'!$F$21-(D228))","v":" "},{"$f":"IF(D228=\"\",\" \",VLOOKUP(R228,'Main page'!$E$29:'Main page'!$G$41,3,TRUE))","v":" "}]
[null,null,null,null,null,null,null,null,null,null,null,null," "," "," "," ",{"$f":"IF(I229=\"\",\"\",IF(I229<='Main page'!$F$49,\"Core staff\",\"Senior staff\"))","v":""},{"$f":"IF(D229=\"\",\" \",'Main page'!$F$21-(D229))","v":" "},{"$f":"IF(D229=\"\",\" \",VLOOKUP(R229,'Main page'!$E$29:'Main page'!$G$41,3,TRUE))","v":" "}]
[null,null,null,null,null,null,null,null,null,null,null,null," "," "," "," ",{"$f":"IF(I230=\"\",\"\",IF(I230<='Main page'!$F$49,\"Core staff\",\"Senior staff\"))","v":""},{"$f":"IF(D230=\"\",\" \",'Main page'!$F$21-(D230))","v":" "},{"$f":"IF(D230=\"\",\" \",VLOOKUP(R230,'Main page'!$E$29:'Main page'!$G$41,3,TRUE))","v":" "}]
[null,null,null,null,null,null,null,null,null,null,null,null," "," "," "," ",{"$f":"IF(I231=\"\",\"\",IF(I231<='Main page'!$F$49,\"Core staff\",\"Senior staff\"))","v":""},{"$f":"IF(D231=\"\",\" \",'Main page'!$F$21-(D231))","v":" "},{"$f":"IF(D231=\"\",\" \",VLOOKUP(R231,'Main page'!$E$29:'Main page'!$G$41,3,TRUE))","v":" "}]
[null,null,null,null,null,null,null,null,null,null,null,null," "," "," "," ",{"$f":"IF(I232=\"\",\"\",IF(I232<='Main page'!$F$49,\"Core staff\",\"Senior staff\"))","v":""},{"$f":"IF(D232=\"\",\" \",'Main page'!$F$21-(D232))","v":" "},{"$f":"IF(D232=\"\",\" \",VLOOKUP(R232,'Main page'!$E$29:'Main page'!$G$41,3,TRUE))","v":" "}]
[null,null,null,null,null,null,null,null,null,null,null,null," "," "," "," ",{"$f":"IF(I233=\"\",\"\",IF(I233<='Main page'!$F$49,\"Core staff\",\"Senior staff\"))","v":""},{"$f":"IF(D233=\"\",\" \",'Main page'!$F$21-(D233))","v":" "},{"$f":"IF(D233=\"\",\" \",VLOOKUP(R233,'Main page'!$E$29:'Main page'!$G$41,3,TRUE))","v":" "}]
[null,null,null,null,null,null,null,null,null,null,null,null," "," "," "," ",{"$f":"IF(I234=\"\",\"\",IF(I234<='Main page'!$F$49,\"Core staff\",\"Senior staff\"))","v":""},{"$f":"IF(D234=\"\",\" \",'Main page'!$F$21-(D234))","v":" "},{"$f":"IF(D234=\"\",\" \",VLOOKUP(R234,'Main page'!$E$29:'Main page'!$G$41,3,TRUE))","v":" "}]
[null,null,null,null,null,null,null,null,null,null,null,null," "," "," "," ",{"$f":"IF(I235=\"\",\"\",IF(I235<='Main page'!$F$49,\"Core staff\",\"Senior staff\"))","v":""},{"$f":"IF(D235=\"\",\" \",'Main page'!$F$21-(D235))","v":" "},{"$f":"IF(D235=\"\",\" \",VLOOKUP(R235,'Main page'!$E$29:'Main page'!$G$41,3,TRUE))","v":" "}]
[null,null,null,null,null,null,null,null,null,null,null,null," "," "," "," ",{"$f":"IF(I236=\"\",\"\",IF(I236<='Main page'!$F$49,\"Core staff\",\"Senior staff\"))","v":""},{"$f":"IF(D236=\"\",\" \",'Main page'!$F$21-(D236))","v":" "},{"$f":"IF(D236=\"\",\" \",VLOOKUP(R236,'Main page'!$E$29:'Main page'!$G$41,3,TRUE))","v":" "}]
[null,null,null,null,null,null,null,null,null,null,null,null," "," "," "," ",{"$f":"IF(I237=\"\",\"\",IF(I237<='Main page'!$F$49,\"Core staff\",\"Senior staff\"))","v":""},{"$f":"IF(D237=\"\",\" \",'Main page'!$F$21-(D237))","v":" "},{"$f":"IF(D237=\"\",\" \",VLOOKUP(R237,'Main page'!$E$29:'Main page'!$G$41,3,TRUE))","v":" "}]
[null,null,null,null,null,null,null,null,null,null,null,null," "," "," "," ",{"$f":"IF(I238=\"\",\"\",IF(I238<='Main page'!$F$49,\"Core staff\",\"Senior staff\"))","v":""},{"$f":"IF(D238=\"\",\" \",'Main page'!$F$21-(D238))","v":" "},{"$f":"IF(D238=\"\",\" \",VLOOKUP(R238,'Main page'!$E$29:'Main page'!$G$41,3,TRUE))","v":" "}]
[null,null,null,null,null,null,null,null,null,null,null,null," "," "," "," ",{"$f":"IF(I239=\"\",\"\",IF(I239<='Main page'!$F$49,\"Core staff\",\"Senior staff\"))","v":""},{"$f":"IF(D239=\"\",\" \",'Main page'!$F$21-(D239))","v":" "},{"$f":"IF(D239=\"\",\" \",VLOOKUP(R239,'Main page'!$E$29:'Main page'!$G$41,3,TRUE))","v":" "}]
[null,null,null,null,null,null,null,null,null,null,null,null," "," "," "," ",{"$f":"IF(I240=\"\",\"\",IF(I240<='Main page'!$F$49,\"Core staff\",\"Senior staff\"))","v":""},{"$f":"IF(D240=\"\",\" \",'Main page'!$F$21-(D240))","v":" "},{"$f":"IF(D240=\"\",\" \",VLOOKUP(R240,'Main page'!$E$29:'Main page'!$G$41,3,TRUE))","v":" "}]
[null,null,null,null,null,null,null,null,null,null,null,null," "," "," "," ",{"$f":"IF(I241=\"\",\"\",IF(I241<='Main page'!$F$49,\"Core staff\",\"Senior staff\"))","v":""},{"$f":"IF(D241=\"\",\" \",'Main page'!$F$21-(D241))","v":" "},{"$f":"IF(D241=\"\",\" \",VLOOKUP(R241,'Main page'!$E$29:'Main page'!$G$41,3,TRUE))","v":" "}]
[null,null,null,null,null,null,null,null,null,null,null,null," "," "," "," ",{"$f":"IF(I242=\"\",\"\",IF(I242<='Main page'!$F$49,\"Core staff\",\"Senior staff\"))","v":""},{"$f":"IF(D242=\"\",\" \",'Main page'!$F$21-(D242))","v":" "},{"$f":"IF(D242=\"\",\" \",VLOOKUP(R242,'Main page'!$E$29:'Main page'!$G$41,3,TRUE))","v":" "}]
[null,null,null,null,null,null,null,null,null,null,null,null," "," "," "," ",{"$f":"IF(I243=\"\",\"\",IF(I243<='Main page'!$F$49,\"Core staff\",\"Senior staff\"))","v":""},{"$f":"IF(D243=\"\",\" \",'Main page'!$F$21-(D243))","v":" "},{"$f":"IF(D243=\"\",\" \",VLOOKUP(R243,'Main page'!$E$29:'Main page'!$G$41,3,TRUE))","v":" "}]
[null,null,null,null,null,null,null,null,null,null,null,null," "," "," "," ",{"$f":"IF(I244=\"\",\"\",IF(I244<='Main page'!$F$49,\"Core staff\",\"Senior staff\"))","v":""},{"$f":"IF(D244=\"\",\" \",'Main page'!$F$21-(D244))","v":" "},{"$f":"IF(D244=\"\",\" \",VLOOKUP(R244,'Main page'!$E$29:'Main page'!$G$41,3,TRUE))","v":" "}]
[null,null,null,null,null,null,null,null,null,null,null,null," "," "," "," ",{"$f":"IF(I245=\"\",\"\",IF(I245<='Main page'!$F$49,\"Core staff\",\"Senior staff\"))","v":""},{"$f":"IF(D245=\"\",\" \",'Main page'!$F$21-(D245))","v":" "},{"$f":"IF(D245=\"\",\" \",VLOOKUP(R245,'Main page'!$E$29:'Main page'!$G$41,3,TRUE))","v":" "}]
[null,null,null,null,null,null,null,null,null,null,null,null," "," "," "," ",{"$f":"IF(I246=\"\",\"\",IF(I246<='Main page'!$F$49,\"Core staff\",\"Senior staff\"))","v":""},{"$f":"IF(D246=\"\",\" \",'Main page'!$F$21-(D246))","v":" "},{"$f":"IF(D246=\"\",\" \",VLOOKUP(R246,'Main page'!$E$29:'Main page'!$G$41,3,TRUE))","v":" "}]
[null,null,null,null,null,null,null,null,null,null,null,null," "," "," "," ",{"$f":"IF(I247=\"\",\"\",IF(I247<='Main page'!$F$49,\"Core staff\",\"Senior staff\"))","v":""},{"$f":"IF(D247=\"\",\" \",'Main page'!$F$21-(D247))","v":" "},{"$f":"IF(D247=\"\",\" \",VLOOKUP(R247,'Main page'!$E$29:'Main page'!$G$41,3,TRUE))","v":" "}]
[null,null,null,null,null,null,null,null,null,null,null,null," "," "," "," ",{"$f":"IF(I248=\"\",\"\",IF(I248<='Main page'!$F$49,\"Core staff\",\"Senior staff\"))","v":""},{"$f":"IF(D248=\"\",\" \",'Main page'!$F$21-(D248))","v":" "},{"$f":"IF(D248=\"\",\" \",VLOOKUP(R248,'Main page'!$E$29:'Main page'!$G$41,3,TRUE))","v":" "}]
[null,null,null,null,null,null,null,null,null,null,null,null," "," "," "," ",{"$f":"IF(I249=\"\",\"\",IF(I249<='Main page'!$F$49,\"Core staff\",\"Senior staff\"))","v":""},{"$f":"IF(D249=\"\",\" \",'Main page'!$F$21-(D249))","v":" "},{"$f":"IF(D249=\"\",\" \",VLOOKUP(R249,'Main page'!$E$29:'Main page'!$G$41,3,TRUE))","v":" "}]
[null,null,null,null,null,null,null,null,null,null,null,null," "," "," "," ",{"$f":"IF(I250=\"\",\"\",IF(I250<='Main page'!$F$49,\"Core staff\",\"Senior staff\"))","v":""},{"$f":"IF(D250=\"\",\" \",'Main page'!$F$21-(D250))","v":" "},{"$f":"IF(D250=\"\",\" \",VLOOKUP(R250,'Main page'!$E$29:'Main page'!$G$41,3,TRUE))","v":" "}]
[null,null,null,null,null,null,null,null,null,null,null,null," "," "," "," ",{"$f":"IF(I251=\"\",\"\",IF(I251<='Main page'!$F$49,\"Core staff\",\"Senior staff\"))","v":""},{"$f":"IF(D251=\"\",\" \",'Main page'!$F$21-(D251))","v":" "},{"$f":"IF(D251=\"\",\" \",VLOOKUP(R251,'Main page'!$E$29:'Main page'!$G$41,3,TRUE))","v":" "}]
[null,null,null,null,null,null,null,null,null,null,null,null," "," "," "," ",{"$f":"IF(I252=\"\",\"\",IF(I252<='Main page'!$F$49,\"Core staff\",\"Senior staff\"))","v":""},{"$f":"IF(D252=\"\",\" \",'Main page'!$F$21-(D252))","v":" "},{"$f":"IF(D252=\"\",\" \",VLOOKUP(R252,'Main page'!$E$29:'Main page'!$G$41,3,TRUE))","v":" "}]
[null,null,null,null,null,null,null,null,null,null,null,null," "," "," "," ",{"$f":"IF(I253=\"\",\"\",IF(I253<='Main page'!$F$49,\"Core staff\",\"Senior staff\"))","v":""},{"$f":"IF(D253=\"\",\" \",'Main page'!$F$21-(D253))","v":" "},{"$f":"IF(D253=\"\",\" \",VLOOKUP(R253,'Main page'!$E$29:'Main page'!$G$41,3,TRUE))","v":" "}]
[null,null,null,null,null,null,null,null,null,null,null,null," "," "," "," ",{"$f":"IF(I254=\"\",\"\",IF(I254<='Main page'!$F$49,\"Core staff\",\"Senior staff\"))","v":""},{"$f":"IF(D254=\"\",\" \",'Main page'!$F$21-(D254))","v":" "},{"$f":"IF(D254=\"\",\" \",VLOOKUP(R254,'Main page'!$E$29:'Main page'!$G$41,3,TRUE))","v":" "}]
[null,null,null,null,null,null,null,null,null,null,null,null," "," "," "," ",{"$f":"IF(I255=\"\",\"\",IF(I255<='Main page'!$F$49,\"Core staff\",\"Senior staff\"))","v":""},{"$f":"IF(D255=\"\",\" \",'Main page'!$F$21-(D255))","v":" "},{"$f":"IF(D255=\"\",\" \",VLOOKUP(R255,'Main page'!$E$29:'Main page'!$G$41,3,TRUE))","v":" "}]
[null,null,null,null,null,null,null,null,null,null,null,null," "," "," "," ",{"$f":"IF(I256=\"\",\"\",IF(I256<='Main page'!$F$49,\"Core staff\",\"Senior staff\"))","v":""},{"$f":"IF(D256=\"\",\" \",'Main page'!$F$21-(D256))","v":" "},{"$f":"IF(D256=\"\",\" \",VLOOKUP(R256,'Main page'!$E$29:'Main page'!$G$41,3,TRUE))","v":" "}]
[null,null,null,null,null,null,null,null,null,null,null,null," "," "," "," ",{"$f":"IF(I257=\"\",\"\",IF(I257<='Main page'!$F$49,\"Core staff\",\"Senior staff\"))","v":""},{"$f":"IF(D257=\"\",\" \",'Main page'!$F$21-(D257))","v":" "},{"$f":"IF(D257=\"\",\" \",VLOOKUP(R257,'Main page'!$E$29:'Main page'!$G$41,3,TRUE))","v":" "}]
[null,null,null,null,null,null,null,null,null,null,null,null," "," "," "," ",{"$f":"IF(I258=\"\",\"\",IF(I258<='Main page'!$F$49,\"Core staff\",\"Senior staff\"))","v":""},{"$f":"IF(D258=\"\",\" \",'Main page'!$F$21-(D258))","v":" "},{"$f":"IF(D258=\"\",\" \",VLOOKUP(R258,'Main page'!$E$29:'Main page'!$G$41,3,TRUE))","v":" "}]
[null,null,null,null,null,null,null,null,null,null,null,null," "," "," "," ",{"$f":"IF(I259=\"\",\"\",IF(I259<='Main page'!$F$49,\"Core staff\",\"Senior staff\"))","v":""},{"$f":"IF(D259=\"\",\" \",'Main page'!$F$21-(D259))","v":" "},{"$f":"IF(D259=\"\",\" \",VLOOKUP(R259,'Main page'!$E$29:'Main page'!$G$41,3,TRUE))","v":" "}]
[null,null,null,null,null,null,null,null,null,null,null,null," "," "," "," ",{"$f":"IF(I260=\"\",\"\",IF(I260<='Main page'!$F$49,\"Core staff\",\"Senior staff\"))","v":""},{"$f":"IF(D260=\"\",\" \",'Main page'!$F$21-(D260))","v":" "},{"$f":"IF(D260=\"\",\" \",VLOOKUP(R260,'Main page'!$E$29:'Main page'!$G$41,3,TRUE))","v":" "}]
[null,null,null,null,null,null,null,null,null,null,null,null," "," "," "," ",{"$f":"IF(I261=\"\",\"\",IF(I261<='Main page'!$F$49,\"Core staff\",\"Senior staff\"))","v":""},{"$f":"IF(D261=\"\",\" \",'Main page'!$F$21-(D261))","v":" "},{"$f":"IF(D261=\"\",\" \",VLOOKUP(R261,'Main page'!$E$29:'Main page'!$G$41,3,TRUE))","v":" "}]
[null,null,null,null,null,null,null,null,null,null,null,null," "," "," "," ",{"$f":"IF(I262=\"\",\"\",IF(I262<='Main page'!$F$49,\"Core staff\",\"Senior staff\"))","v":""},{"$f":"IF(D262=\"\",\" \",'Main page'!$F$21-(D262))","v":" "},{"$f":"IF(D262=\"\",\" \",VLOOKUP(R262,'Main page'!$E$29:'Main page'!$G$41,3,TRUE))","v":" "}]
[null,null,null,null,null,null,null,null,null,null,null,null," "," "," "," ",{"$f":"IF(I263=\"\",\"\",IF(I263<='Main page'!$F$49,\"Core staff\",\"Senior staff\"))","v":""},{"$f":"IF(D263=\"\",\" \",'Main page'!$F$21-(D263))","v":" "},{"$f":"IF(D263=\"\",\" \",VLOOKUP(R263,'Main page'!$E$29:'Main page'!$G$41,3,TRUE))","v":" "}]
[null,null,null,null,null,null,null,null,null,null,null,null," "," "," "," ",{"$f":"IF(I264=\"\",\"\",IF(I264<='Main page'!$F$49,\"Core staff\",\"Senior staff\"))","v":""},{"$f":"IF(D264=\"\",\" \",'Main page'!$F$21-(D264))","v":" "},{"$f":"IF(D264=\"\",\" \",VLOOKUP(R264,'Main page'!$E$29:'Main page'!$G$41,3,TRUE))","v":" "}]
[null,null,null,null,null,null,null,null,null,null,null,null," "," "," "," ",{"$f":"IF(I265=\"\",\"\",IF(I265<='Main page'!$F$49,\"Core staff\",\"Senior staff\"))","v":""},{"$f":"IF(D265=\"\",\" \",'Main page'!$F$21-(D265))","v":" "},{"$f":"IF(D265=\"\",\" \",VLOOKUP(R265,'Main page'!$E$29:'Main page'!$G$41,3,TRUE))","v":" "}]
[null,null,null,null,null,null,null,null,null,null,null,null," "," "," "," ",{"$f":"IF(I266=\"\",\"\",IF(I266<='Main page'!$F$49,\"Core staff\",\"Senior staff\"))","v":""},{"$f":"IF(D266=\"\",\" \",'Main page'!$F$21-(D266))","v":" "},{"$f":"IF(D266=\"\",\" \",VLOOKUP(R266,'Main page'!$E$29:'Main page'!$G$41,3,TRUE))","v":" "}]
[null,null,null,null,null,null,null,null,null,null,null,null," "," "," "," ",{"$f":"IF(I267=\"\",\"\",IF(I267<='Main page'!$F$49,\"Core staff\",\"Senior staff\"))","v":""},{"$f":"IF(D267=\"\",\" \",'Main page'!$F$21-(D267))","v":" "},{"$f":"IF(D267=\"\",\" \",VLOOKUP(R267,'Main page'!$E$29:'Main page'!$G$41,3,TRUE))","v":" "}]
[null,null,null,null,null,null,null,null,null,null,null,null," "," "," "," ",{"$f":"IF(I268=\"\",\"\",IF(I268<='Main page'!$F$49,\"Core staff\",\"Senior staff\"))","v":""},{"$f":"IF(D268=\"\",\" \",'Main page'!$F$21-(D268))","v":" "},{"$f":"IF(D268=\"\",\" \",VLOOKUP(R268,'Main page'!$E$29:'Main page'!$G$41,3,TRUE))","v":" "}]
[null,null,null,null,null,null,null,null,null,null,null,null," "," "," "," ",{"$f":"IF(I269=\"\",\"\",IF(I269<='Main page'!$F$49,\"Core staff\",\"Senior staff\"))","v":""},{"$f":"IF(D269=\"\",\" \",'Main page'!$F$21-(D269))","v":" "},{"$f":"IF(D269=\"\",\" \",VLOOKUP(R269,'Main page'!$E$29:'Main page'!$G$41,3,TRUE))","v":" "}]
[null,null,null,null,null,null,null,null,null,null,null,null,{"$f":"IFERROR(J270/G270,\" \")","v":" "},{"$f":"IFERROR((M270/$U$4)/H270,\" \")","v":" "},{"$f":"IFERROR((N270*75)*26.083,\" \")","v":" "},{"$f":"IF(G270=0,\" \",IF(G270=1,\"Full time\",\"Part time\"))","v":" "},{"$f":"IF(I270=\"\",\"\",IF(I270<='Main page'!$F$49,\"Core staff\",\"Senior staff\"))","v":""},{"$f":"IF(D270=\"\",\" \",'Main page'!$F$21-(D270))","v":" "},{"$f":"IF(D270=\"\",\" \",VLOOKUP(R270,'Main page'!$E$29:'Main page'!$G$41,3,TRUE))","v":" "}]
[null,null,null,null,null,null,null,null,null,null,null,null," "," "," "," ",{"$f":"IF(I271=\"\",\"\",IF(I271<='Main page'!$F$49,\"Core staff\",\"Senior staff\"))","v":""},{"$f":"IF(D271=\"\",\" \",'Main page'!$F$21-(D271))","v":" "},{"$f":"IF(D271=\"\",\" \",VLOOKUP(R271,'Main page'!$E$29:'Main page'!$G$41,3,TRUE))","v":" "}]
[null,null,null,null,null,null,null,null,null,null,null,null," "," "," "," ",{"$f":"IF(I272=\"\",\"\",IF(I272<='Main page'!$F$49,\"Core staff\",\"Senior staff\"))","v":""},{"$f":"IF(D272=\"\",\" \",'Main page'!$F$21-(D272))","v":" "},{"$f":"IF(D272=\"\",\" \",VLOOKUP(R272,'Main page'!$E$29:'Main page'!$G$41,3,TRUE))","v":" "}]
[null,null,null,null,null,null,null,null,null,null,null,null," "," "," "," ",{"$f":"IF(I273=\"\",\"\",IF(I273<='Main page'!$F$49,\"Core staff\",\"Senior staff\"))","v":""},{"$f":"IF(D273=\"\",\" \",'Main page'!$F$21-(D273))","v":" "},{"$f":"IF(D273=\"\",\" \",VLOOKUP(R273,'Main page'!$E$29:'Main page'!$G$41,3,TRUE))","v":" "}]
[null,null,null,null,null,null,null,null,null,null,null,null," "," "," "," ",{"$f":"IF(I274=\"\",\"\",IF(I274<='Main page'!$F$49,\"Core staff\",\"Senior staff\"))","v":""},{"$f":"IF(D274=\"\",\" \",'Main page'!$F$21-(D274))","v":" "},{"$f":"IF(D274=\"\",\" \",VLOOKUP(R274,'Main page'!$E$29:'Main page'!$G$41,3,TRUE))","v":" "}]
[null,null,null,null,null,null,null,null,null,null,null,null," "," "," "," ",{"$f":"IF(I275=\"\",\"\",IF(I275<='Main page'!$F$49,\"Core staff\",\"Senior staff\"))","v":""},{"$f":"IF(D275=\"\",\" \",'Main page'!$F$21-(D275))","v":" "},{"$f":"IF(D275=\"\",\" \",VLOOKUP(R275,'Main page'!$E$29:'Main page'!$G$41,3,TRUE))","v":" "}]
[null,null,null,null,null,null,null,null,null,null,null,null," "," "," "," ",{"$f":"IF(I276=\"\",\"\",IF(I276<='Main page'!$F$49,\"Core staff\",\"Senior staff\"))","v":""},{"$f":"IF(D276=\"\",\" \",'Main page'!$F$21-(D276))","v":" "},{"$f":"IF(D276=\"\",\" \",VLOOKUP(R276,'Main page'!$E$29:'Main page'!$G$41,3,TRUE))","v":" "}]
[null,null,null,null,null,null,null,null,null,null,null,null," "," "," "," ",{"$f":"IF(I277=\"\",\"\",IF(I277<='Main page'!$F$49,\"Core staff\",\"Senior staff\"))","v":""},{"$f":"IF(D277=\"\",\" \",'Main page'!$F$21-(D277))","v":" "},{"$f":"IF(D277=\"\",\" \",VLOOKUP(R277,'Main page'!$E$29:'Main page'!$G$41,3,TRUE))","v":" "}]
[null,null,null,null,null,null,null,null,null,null,null,null," "," "," "," ",{"$f":"IF(I278=\"\",\"\",IF(I278<='Main page'!$F$49,\"Core staff\",\"Senior staff\"))","v":""},{"$f":"IF(D278=\"\",\" \",'Main page'!$F$21-(D278))","v":" "},{"$f":"IF(D278=\"\",\" \",VLOOKUP(R278,'Main page'!$E$29:'Main page'!$G$41,3,TRUE))","v":" "}]
[null,null,null,null,null,null,null,null,null,null,null,null," "," "," "," ",{"$f":"IF(I279=\"\",\"\",IF(I279<='Main page'!$F$49,\"Core staff\",\"Senior staff\"))","v":""},{"$f":"IF(D279=\"\",\" \",'Main page'!$F$21-(D279))","v":" "},{"$f":"IF(D279=\"\",\" \",VLOOKUP(R279,'Main page'!$E$29:'Main page'!$G$41,3,TRUE))","v":" "}]
[null,null,null,null,null,null,null,null,null,null,null,null," "," "," "," ",{"$f":"IF(I280=\"\",\"\",IF(I280<='Main page'!$F$49,\"Core staff\",\"Senior staff\"))","v":""},{"$f":"IF(D280=\"\",\" \",'Main page'!$F$21-(D280))","v":" "},{"$f":"IF(D280=\"\",\" \",VLOOKUP(R280,'Main page'!$E$29:'Main page'!$G$41,3,TRUE))","v":" "}]
[null,null,null,null,null,null,null,null,null,null,null,null," "," "," "," ",{"$f":"IF(I281=\"\",\"\",IF(I281<='Main page'!$F$49,\"Core staff\",\"Senior staff\"))","v":""},{"$f":"IF(D281=\"\",\" \",'Main page'!$F$21-(D281))","v":" "},{"$f":"IF(D281=\"\",\" \",VLOOKUP(R281,'Main page'!$E$29:'Main page'!$G$41,3,TRUE))","v":" "}]
[null,null,null,null,null,null,null,null,null,null,null,null," "," "," "," ",{"$f":"IF(I282=\"\",\"\",IF(I282<='Main page'!$F$49,\"Core staff\",\"Senior staff\"))","v":""},{"$f":"IF(D282=\"\",\" \",'Main page'!$F$21-(D282))","v":" "},{"$f":"IF(D282=\"\",\" \",VLOOKUP(R282,'Main page'!$E$29:'Main page'!$G$41,3,TRUE))","v":" "}]
[null,null,null,null,null,null,null,null,null,null,null,null," "," "," "," ",{"$f":"IF(I283=\"\",\"\",IF(I283<='Main page'!$F$49,\"Core staff\",\"Senior staff\"))","v":""},{"$f":"IF(D283=\"\",\" \",'Main page'!$F$21-(D283))","v":" "},{"$f":"IF(D283=\"\",\" \",VLOOKUP(R283,'Main page'!$E$29:'Main page'!$G$41,3,TRUE))","v":" "}]
[null,null,null,null,null,null,null,null,null,null,null,null," "," "," "," ",{"$f":"IF(I284=\"\",\"\",IF(I284<='Main page'!$F$49,\"Core staff\",\"Senior staff\"))","v":""},{"$f":"IF(D284=\"\",\" \",'Main page'!$F$21-(D284))","v":" "},{"$f":"IF(D284=\"\",\" \",VLOOKUP(R284,'Main page'!$E$29:'Main page'!$G$41,3,TRUE))","v":" "}]
[null,null,null,null,null,null,null,null,null,null,null,null," "," "," "," ",{"$f":"IF(I285=\"\",\"\",IF(I285<='Main page'!$F$49,\"Core staff\",\"Senior staff\"))","v":""},{"$f":"IF(D285=\"\",\" \",'Main page'!$F$21-(D285))","v":" "},{"$f":"IF(D285=\"\",\" \",VLOOKUP(R285,'Main page'!$E$29:'Main page'!$G$41,3,TRUE))","v":" "}]
[null,null,null,null,null,null,null,null,null,null,null,null," "," "," "," ",{"$f":"IF(I286=\"\",\"\",IF(I286<='Main page'!$F$49,\"Core staff\",\"Senior staff\"))","v":""},{"$f":"IF(D286=\"\",\" \",'Main page'!$F$21-(D286))","v":" "},{"$f":"IF(D286=\"\",\" \",VLOOKUP(R286,'Main page'!$E$29:'Main page'!$G$41,3,TRUE))","v":" "}]
[null,null,null,null,null,null,null,null,null,null,null,null," "," "," "," ",{"$f":"IF(I287=\"\",\"\",IF(I287<='Main page'!$F$49,\"Core staff\",\"Senior staff\"))","v":""},{"$f":"IF(D287=\"\",\" \",'Main page'!$F$21-(D287))","v":" "},{"$f":"IF(D287=\"\",\" \",VLOOKUP(R287,'Main page'!$E$29:'Main page'!$G$41,3,TRUE))","v":" "}]
[null,null,null,null,null,null,null,null,null,null,null,null," "," "," "," ",{"$f":"IF(I288=\"\",\"\",IF(I288<='Main page'!$F$49,\"Core staff\",\"Senior staff\"))","v":""},{"$f":"IF(D288=\"\",\" \",'Main page'!$F$21-(D288))","v":" "},{"$f":"IF(D288=\"\",\" \",VLOOKUP(R288,'Main page'!$E$29:'Main page'!$G$41,3,TRUE))","v":" "}]
[null,null,null,null,null,null,null,null,null,null,null,null," "," "," "," ",{"$f":"IF(I289=\"\",\"\",IF(I289<='Main page'!$F$49,\"Core staff\",\"Senior staff\"))","v":""},{"$f":"IF(D289=\"\",\" \",'Main page'!$F$21-(D289))","v":" "},{"$f":"IF(D289=\"\",\" \",VLOOKUP(R289,'Main page'!$E$29:'Main page'!$G$41,3,TRUE))","v":" "}]
[null,null,null,null,null,null,null,null,null,null,null,null," "," "," "," ",{"$f":"IF(I290=\"\",\"\",IF(I290<='Main page'!$F$49,\"Core staff\",\"Senior staff\"))","v":""},{"$f":"IF(D290=\"\",\" \",'Main page'!$F$21-(D290))","v":" "},{"$f":"IF(D290=\"\",\" \",VLOOKUP(R290,'Main page'!$E$29:'Main page'!$G$41,3,TRUE))","v":" "}]
[null,null,null,null,null,null,null,null,null,null,null,null," "," "," "," ",{"$f":"IF(I291=\"\",\"\",IF(I291<='Main page'!$F$49,\"Core staff\",\"Senior staff\"))","v":""},{"$f":"IF(D291=\"\",\" \",'Main page'!$F$21-(D291))","v":" "},{"$f":"IF(D291=\"\",\" \",VLOOKUP(R291,'Main page'!$E$29:'Main page'!$G$41,3,TRUE))","v":" "}]
[null,null,null,null,null,null,null,null,null,null,null,null," "," "," "," ",{"$f":"IF(I292=\"\",\"\",IF(I292<='Main page'!$F$49,\"Core staff\",\"Senior staff\"))","v":""},{"$f":"IF(D292=\"\",\" \",'Main page'!$F$21-(D292))","v":" "},{"$f":"IF(D292=\"\",\" \",VLOOKUP(R292,'Main page'!$E$29:'Main page'!$G$41,3,TRUE))","v":" "}]
[null,null,null,null,null,null,null,null,null,null,null,null," "," "," "," ",{"$f":"IF(I293=\"\",\"\",IF(I293<='Main page'!$F$49,\"Core staff\",\"Senior staff\"))","v":""},{"$f":"IF(D293=\"\",\" \",'Main page'!$F$21-(D293))","v":" "},{"$f":"IF(D293=\"\",\" \",VLOOKUP(R293,'Main page'!$E$29:'Main page'!$G$41,3,TRUE))","v":" "}]
[null,null,null,null,null,null,null,null,null,null,null,null," "," "," "," ",{"$f":"IF(I294=\"\",\"\",IF(I294<='Main page'!$F$49,\"Core staff\",\"Senior staff\"))","v":""},{"$f":"IF(D294=\"\",\" \",'Main page'!$F$21-(D294))","v":" "},{"$f":"IF(D294=\"\",\" \",VLOOKUP(R294,'Main page'!$E$29:'Main page'!$G$41,3,TRUE))","v":" "}]
[null,null,null,null,null,null,null,null,null,null,null,null," "," "," "," ",{"$f":"IF(I295=\"\",\"\",IF(I295<='Main page'!$F$49,\"Core staff\",\"Senior staff\"))","v":""},{"$f":"IF(D295=\"\",\" \",'Main page'!$F$21-(D295))","v":" "},{"$f":"IF(D295=\"\",\" \",VLOOKUP(R295,'Main page'!$E$29:'Main page'!$G$41,3,TRUE))","v":" "}]
[null,null,null,null,null,null,null,null,null,null,null,null," "," "," "," ",{"$f":"IF(I296=\"\",\"\",IF(I296<='Main page'!$F$49,\"Core staff\",\"Senior staff\"))","v":""},{"$f":"IF(D296=\"\",\" \",'Main page'!$F$21-(D296))","v":" "},{"$f":"IF(D296=\"\",\" \",VLOOKUP(R296,'Main page'!$E$29:'Main page'!$G$41,3,TRUE))","v":" "}]
[null,null,null,null,null,null,null,null,null,null,null,null," "," "," "," ",{"$f":"IF(I297=\"\",\"\",IF(I297<='Main page'!$F$49,\"Core staff\",\"Senior staff\"))","v":""},{"$f":"IF(D297=\"\",\" \",'Main page'!$F$21-(D297))","v":" "},{"$f":"IF(D297=\"\",\" \",VLOOKUP(R297,'Main page'!$E$29:'Main page'!$G$41,3,TRUE))","v":" "}]
[null,null,null,null,null,null,null,null,null,null,null,null," "," "," "," ",{"$f":"IF(I298=\"\",\"\",IF(I298<='Main page'!$F$49,\"Core staff\",\"Senior staff\"))","v":""},{"$f":"IF(D298=\"\",\" \",'Main page'!$F$21-(D298))","v":" "},{"$f":"IF(D298=\"\",\" \",VLOOKUP(R298,'Main page'!$E$29:'Main page'!$G$41,3,TRUE))","v":" "}]
[null,null,null,null,null,null,null,null,null,null,null,null," "," "," "," ",{"$f":"IF(I299=\"\",\"\",IF(I299<='Main page'!$F$49,\"Core staff\",\"Senior staff\"))","v":""},{"$f":"IF(D299=\"\",\" \",'Main page'!$F$21-(D299))","v":" "},{"$f":"IF(D299=\"\",\" \",VLOOKUP(R299,'Main page'!$E$29:'Main page'!$G$41,3,TRUE))","v":" "}]
[null,null,null,null,null,null,null,null,null,null,null,null," "," "," "," ",{"$f":"IF(I300=\"\",\"\",IF(I300<='Main page'!$F$49,\"Core staff\",\"Senior staff\"))","v":""},{"$f":"IF(D300=\"\",\" \",'Main page'!$F$21-(D300))","v":" "},{"$f":"IF(D300=\"\",\" \",VLOOKUP(R300,'Main page'!$E$29:'Main page'!$G$41,3,TRUE))","v":" "}]
[null,null,null,null,null,null,null,null,null,null,null,null," "," "," "," ",{"$f":"IF(I301=\"\",\"\",IF(I301<='Main page'!$F$49,\"Core staff\",\"Senior staff\"))","v":""},{"$f":"IF(D301=\"\",\" \",'Main page'!$F$21-(D301))","v":" "},{"$f":"IF(D301=\"\",\" \",VLOOKUP(R301,'Main page'!$E$29:'Main page'!$G$41,3,TRUE))","v":" "}]
[null,null,null,null,null,null,null,null,null,null,null,null," "," "," "," ",{"$f":"IF(I302=\"\",\"\",IF(I302<='Main page'!$F$49,\"Core staff\",\"Senior staff\"))","v":""},{"$f":"IF(D302=\"\",\" \",'Main page'!$F$21-(D302))","v":" "},{"$f":"IF(D302=\"\",\" \",VLOOKUP(R302,'Main page'!$E$29:'Main page'!$G$41,3,TRUE))","v":" "}]
[null,null,null,null,null,null,null,null,null,null,null,null," "," "," "," ",{"$f":"IF(I303=\"\",\"\",IF(I303<='Main page'!$F$49,\"Core staff\",\"Senior staff\"))","v":""},{"$f":"IF(D303=\"\",\" \",'Main page'!$F$21-(D303))","v":" "},{"$f":"IF(D303=\"\",\" \",VLOOKUP(R303,'Main page'!$E$29:'Main page'!$G$41,3,TRUE))","v":" "}]
[null,null,null,null,null,null,null,null,null,null,null,null," "," "," "," ",{"$f":"IF(I304=\"\",\"\",IF(I304<='Main page'!$F$49,\"Core staff\",\"Senior staff\"))","v":""},{"$f":"IF(D304=\"\",\" \",'Main page'!$F$21-(D304))","v":" "},{"$f":"IF(D304=\"\",\" \",VLOOKUP(R304,'Main page'!$E$29:'Main page'!$G$41,3,TRUE))","v":" "}]
[null,null,null,null,null,null,null,null,null,null,null,null," "," "," "," ",{"$f":"IF(I305=\"\",\"\",IF(I305<='Main page'!$F$49,\"Core staff\",\"Senior staff\"))","v":""},{"$f":"IF(D305=\"\",\" \",'Main page'!$F$21-(D305))","v":" "},{"$f":"IF(D305=\"\",\" \",VLOOKUP(R305,'Main page'!$E$29:'Main page'!$G$41,3,TRUE))","v":" "}]
[null,null,null,null,null,null,null,null,null,null,null,null," "," "," "," ",{"$f":"IF(I306=\"\",\"\",IF(I306<='Main page'!$F$49,\"Core staff\",\"Senior staff\"))","v":""},{"$f":"IF(D306=\"\",\" \",'Main page'!$F$21-(D306))","v":" "},{"$f":"IF(D306=\"\",\" \",VLOOKUP(R306,'Main page'!$E$29:'Main page'!$G$41,3,TRUE))","v":" "}]
[null,null,null,null,null,null,null,null,null,null,null,null," "," "," "," ",{"$f":"IF(I307=\"\",\"\",IF(I307<='Main page'!$F$49,\"Core staff\",\"Senior staff\"))","v":""},{"$f":"IF(D307=\"\",\" \",'Main page'!$F$21-(D307))","v":" "},{"$f":"IF(D307=\"\",\" \",VLOOKUP(R307,'Main page'!$E$29:'Main page'!$G$41,3,TRUE))","v":" "}]
[null,null,null,null,null,null,null,null,null,null,null,null," "," "," "," ",{"$f":"IF(I308=\"\",\"\",IF(I308<='Main page'!$F$49,\"Core staff\",\"Senior staff\"))","v":""},{"$f":"IF(D308=\"\",\" \",'Main page'!$F$21-(D308))","v":" "},{"$f":"IF(D308=\"\",\" \",VLOOKUP(R308,'Main page'!$E$29:'Main page'!$G$41,3,TRUE))","v":" "}]
[null,null,null,null,null,null,null,null,null,null,null,null," "," "," "," ",{"$f":"IF(I309=\"\",\"\",IF(I309<='Main page'!$F$49,\"Core staff\",\"Senior staff\"))","v":""},{"$f":"IF(D309=\"\",\" \",'Main page'!$F$21-(D309))","v":" "},{"$f":"IF(D309=\"\",\" \",VLOOKUP(R309,'Main page'!$E$29:'Main page'!$G$41,3,TRUE))","v":" "}]
[null,null,null,null,null,null,null,null,null,null,null,null," "," "," "," ",{"$f":"IF(I310=\"\",\"\",IF(I310<='Main page'!$F$49,\"Core staff\",\"Senior staff\"))","v":""},{"$f":"IF(D310=\"\",\" \",'Main page'!$F$21-(D310))","v":" "},{"$f":"IF(D310=\"\",\" \",VLOOKUP(R310,'Main page'!$E$29:'Main page'!$G$41,3,TRUE))","v":" "}]
[null,null,null,null,null,null,null,null,null,null,null,null," "," "," "," ",{"$f":"IF(I311=\"\",\"\",IF(I311<='Main page'!$F$49,\"Core staff\",\"Senior staff\"))","v":""},{"$f":"IF(D311=\"\",\" \",'Main page'!$F$21-(D311))","v":" "},{"$f":"IF(D311=\"\",\" \",VLOOKUP(R311,'Main page'!$E$29:'Main page'!$G$41,3,TRUE))","v":" "}]
[null,null,null,null,null,null,null,null,null,null,null,null," "," "," "," ",{"$f":"IF(I312=\"\",\"\",IF(I312<='Main page'!$F$49,\"Core staff\",\"Senior staff\"))","v":""},{"$f":"IF(D312=\"\",\" \",'Main page'!$F$21-(D312))","v":" "},{"$f":"IF(D312=\"\",\" \",VLOOKUP(R312,'Main page'!$E$29:'Main page'!$G$41,3,TRUE))","v":" "}]
[null,null,null,null,null,null,null,null,null,null,null,null," "," "," "," ",{"$f":"IF(I313=\"\",\"\",IF(I313<='Main page'!$F$49,\"Core staff\",\"Senior staff\"))","v":""},{"$f":"IF(D313=\"\",\" \",'Main page'!$F$21-(D313))","v":" "},{"$f":"IF(D313=\"\",\" \",VLOOKUP(R313,'Main page'!$E$29:'Main page'!$G$41,3,TRUE))","v":" "}]
[null,null,null,null,null,null,null,null,null,null,null,null," "," "," "," ",{"$f":"IF(I314=\"\",\"\",IF(I314<='Main page'!$F$49,\"Core staff\",\"Senior staff\"))","v":""},{"$f":"IF(D314=\"\",\" \",'Main page'!$F$21-(D314))","v":" "},{"$f":"IF(D314=\"\",\" \",VLOOKUP(R314,'Main page'!$E$29:'Main page'!$G$41,3,TRUE))","v":" "}]
[null,null,null,null,null,null,null,null,null,null,null,null," "," "," "," ",{"$f":"IF(I315=\"\",\"\",IF(I315<='Main page'!$F$49,\"Core staff\",\"Senior staff\"))","v":""},{"$f":"IF(D315=\"\",\" \",'Main page'!$F$21-(D315))","v":" "},{"$f":"IF(D315=\"\",\" \",VLOOKUP(R315,'Main page'!$E$29:'Main page'!$G$41,3,TRUE))","v":" "}]
[null,null,null,null,null,null,null,null,null,null,null,null," "," "," "," ",{"$f":"IF(I316=\"\",\"\",IF(I316<='Main page'!$F$49,\"Core staff\",\"Senior staff\"))","v":""},{"$f":"IF(D316=\"\",\" \",'Main page'!$F$21-(D316))","v":" "},{"$f":"IF(D316=\"\",\" \",VLOOKUP(R316,'Main page'!$E$29:'Main page'!$G$41,3,TRUE))","v":" "}]
[null,null,null,null,null,null,null,null,null,null,null,null," "," "," "," ",{"$f":"IF(I317=\"\",\"\",IF(I317<='Main page'!$F$49,\"Core staff\",\"Senior staff\"))","v":""},{"$f":"IF(D317=\"\",\" \",'Main page'!$F$21-(D317))","v":" "},{"$f":"IF(D317=\"\",\" \",VLOOKUP(R317,'Main page'!$E$29:'Main page'!$G$41,3,TRUE))","v":" "}]
[null,null,null,null,null,null,null,null,null,null,null,null," "," "," "," ",{"$f":"IF(I318=\"\",\"\",IF(I318<='Main page'!$F$49,\"Core staff\",\"Senior staff\"))","v":""},{"$f":"IF(D318=\"\",\" \",'Main page'!$F$21-(D318))","v":" "},{"$f":"IF(D318=\"\",\" \",VLOOKUP(R318,'Main page'!$E$29:'Main page'!$G$41,3,TRUE))","v":" "}]
[null,null,null,null,null,null,null,null,null,null,null,null," "," "," "," ",{"$f":"IF(I319=\"\",\"\",IF(I319<='Main page'!$F$49,\"Core staff\",\"Senior staff\"))","v":""},{"$f":"IF(D319=\"\",\" \",'Main page'!$F$21-(D319))","v":" "},{"$f":"IF(D319=\"\",\" \",VLOOKUP(R319,'Main page'!$E$29:'Main page'!$G$41,3,TRUE))","v":" "}]
[null,null,null,null,null,null,null,null,null,null,null,null," "," "," "," ",{"$f":"IF(I320=\"\",\"\",IF(I320<='Main page'!$F$49,\"Core staff\",\"Senior staff\"))","v":""},{"$f":"IF(D320=\"\",\" \",'Main page'!$F$21-(D320))","v":" "},{"$f":"IF(D320=\"\",\" \",VLOOKUP(R320,'Main page'!$E$29:'Main page'!$G$41,3,TRUE))","v":" "}]
[null,null,null,null,null,null,null,null,null,null,null,null," "," "," "," ",{"$f":"IF(I321=\"\",\"\",IF(I321<='Main page'!$F$49,\"Core staff\",\"Senior staff\"))","v":""},{"$f":"IF(D321=\"\",\" \",'Main page'!$F$21-(D321))","v":" "},{"$f":"IF(D321=\"\",\" \",VLOOKUP(R321,'Main page'!$E$29:'Main page'!$G$41,3,TRUE))","v":" "}]
[null,null,null,null,null,null,null,null,null,null,null,null," "," "," "," ",{"$f":"IF(I322=\"\",\"\",IF(I322<='Main page'!$F$49,\"Core staff\",\"Senior staff\"))","v":""},{"$f":"IF(D322=\"\",\" \",'Main page'!$F$21-(D322))","v":" "},{"$f":"IF(D322=\"\",\" \",VLOOKUP(R322,'Main page'!$E$29:'Main page'!$G$41,3,TRUE))","v":" "}]
[null,null,null,null,null,null,null,null,null,null,null,null," "," "," "," ",{"$f":"IF(I323=\"\",\"\",IF(I323<='Main page'!$F$49,\"Core staff\",\"Senior staff\"))","v":""},{"$f":"IF(D323=\"\",\" \",'Main page'!$F$21-(D323))","v":" "},{"$f":"IF(D323=\"\",\" \",VLOOKUP(R323,'Main page'!$E$29:'Main page'!$G$41,3,TRUE))","v":" "}]
[null,null,null,null,null,null,null,null,null,null,null,null," "," "," "," ",{"$f":"IF(I324=\"\",\"\",IF(I324<='Main page'!$F$49,\"Core staff\",\"Senior staff\"))","v":""},{"$f":"IF(D324=\"\",\" \",'Main page'!$F$21-(D324))","v":" "},{"$f":"IF(D324=\"\",\" \",VLOOKUP(R324,'Main page'!$E$29:'Main page'!$G$41,3,TRUE))","v":" "}]
[null,null,null,null,null,null,null,null,null,null,null,null," "," "," "," ",{"$f":"IF(I325=\"\",\"\",IF(I325<='Main page'!$F$49,\"Core staff\",\"Senior staff\"))","v":""},{"$f":"IF(D325=\"\",\" \",'Main page'!$F$21-(D325))","v":" "},{"$f":"IF(D325=\"\",\" \",VLOOKUP(R325,'Main page'!$E$29:'Main page'!$G$41,3,TRUE))","v":" "}]
[null,null,null,null,null,null,null,null,null,null,null,null," "," "," "," ",{"$f":"IF(I326=\"\",\"\",IF(I326<='Main page'!$F$49,\"Core staff\",\"Senior staff\"))","v":""},{"$f":"IF(D326=\"\",\" \",'Main page'!$F$21-(D326))","v":" "},{"$f":"IF(D326=\"\",\" \",VLOOKUP(R326,'Main page'!$E$29:'Main page'!$G$41,3,TRUE))","v":" "}]
[null,null,null,null,null,null,null,null,null,null,null,null," "," "," "," ",{"$f":"IF(I327=\"\",\"\",IF(I327<='Main page'!$F$49,\"Core staff\",\"Senior staff\"))","v":""},{"$f":"IF(D327=\"\",\" \",'Main page'!$F$21-(D327))","v":" "},{"$f":"IF(D327=\"\",\" \",VLOOKUP(R327,'Main page'!$E$29:'Main page'!$G$41,3,TRUE))","v":" "}]
[null,null,null,null,null,null,null,null,null,null,null,null," "," "," "," ",{"$f":"IF(I328=\"\",\"\",IF(I328<='Main page'!$F$49,\"Core staff\",\"Senior staff\"))","v":""},{"$f":"IF(D328=\"\",\" \",'Main page'!$F$21-(D328))","v":" "},{"$f":"IF(D328=\"\",\" \",VLOOKUP(R328,'Main page'!$E$29:'Main page'!$G$41,3,TRUE))","v":" "}]
[null,null,null,null,null,null,null,null,null,null,null,null," "," "," "," ",{"$f":"IF(I329=\"\",\"\",IF(I329<='Main page'!$F$49,\"Core staff\",\"Senior staff\"))","v":""},{"$f":"IF(D329=\"\",\" \",'Main page'!$F$21-(D329))","v":" "},{"$f":"IF(D329=\"\",\" \",VLOOKUP(R329,'Main page'!$E$29:'Main page'!$G$41,3,TRUE))","v":" "}]
[null,null,null,null,null,null,null,null,null,null,null,null," "," "," "," ",{"$f":"IF(I330=\"\",\"\",IF(I330<='Main page'!$F$49,\"Core staff\",\"Senior staff\"))","v":""},{"$f":"IF(D330=\"\",\" \",'Main page'!$F$21-(D330))","v":" "},{"$f":"IF(D330=\"\",\" \",VLOOKUP(R330,'Main page'!$E$29:'Main page'!$G$41,3,TRUE))","v":" "}]
[null,null,null,null,null,null,null,null,null,null,null,null," "," "," "," ",{"$f":"IF(I331=\"\",\"\",IF(I331<='Main page'!$F$49,\"Core staff\",\"Senior staff\"))","v":""},{"$f":"IF(D331=\"\",\" \",'Main page'!$F$21-(D331))","v":" "},{"$f":"IF(D331=\"\",\" \",VLOOKUP(R331,'Main page'!$E$29:'Main page'!$G$41,3,TRUE))","v":" "}]
[null,null,null,null,null,null,null,null,null,null,null,null," "," "," "," ",{"$f":"IF(I332=\"\",\"\",IF(I332<='Main page'!$F$49,\"Core staff\",\"Senior staff\"))","v":""},{"$f":"IF(D332=\"\",\" \",'Main page'!$F$21-(D332))","v":" "},{"$f":"IF(D332=\"\",\" \",VLOOKUP(R332,'Main page'!$E$29:'Main page'!$G$41,3,TRUE))","v":" "}]
[null,null,null,null,null,null,null,null,null,null,null,null," "," "," "," ",{"$f":"IF(I333=\"\",\"\",IF(I333<='Main page'!$F$49,\"Core staff\",\"Senior staff\"))","v":""},{"$f":"IF(D333=\"\",\" \",'Main page'!$F$21-(D333))","v":" "},{"$f":"IF(D333=\"\",\" \",VLOOKUP(R333,'Main page'!$E$29:'Main page'!$G$41,3,TRUE))","v":" "}]
[null,null,null,null,null,null,null,null,null,null,null,null,{"$f":"IFERROR(J334/G334,\" \")","v":" "},{"$f":"IFERROR((M334/$U$4)/H334,\" \")","v":" "},{"$f":"IFERROR((N334*75)*26.083,\" \")","v":" "},{"$f":"IF(G334=0,\" \",IF(G334=1,\"Full time\",\"Part time\"))","v":" "},{"$f":"IF(I334=\"\",\"\",IF(I334<='Main page'!$F$49,\"Core staff\",\"Senior staff\"))","v":""},{"$f":"IF(D334=\"\",\" \",'Main page'!$F$21-(D334))","v":" "},{"$f":"IF(D334=\"\",\" \",VLOOKUP(R334,'Main page'!$E$29:'Main page'!$G$41,3,TRUE))","v":" "}]
[null,null,null,null,null,null,null,null,null,null,null,null," "," "," "," ",{"$f":"IF(I335=\"\",\"\",IF(I335<='Main page'!$F$49,\"Core staff\",\"Senior staff\"))","v":""},{"$f":"IF(D335=\"\",\" \",'Main page'!$F$21-(D335))","v":" "},{"$f":"IF(D335=\"\",\" \",VLOOKUP(R335,'Main page'!$E$29:'Main page'!$G$41,3,TRUE))","v":" "}]
[null,null,null,null,null,null,null,null,null,null,null,null," "," "," "," ",{"$f":"IF(I336=\"\",\"\",IF(I336<='Main page'!$F$49,\"Core staff\",\"Senior staff\"))","v":""},{"$f":"IF(D336=\"\",\" \",'Main page'!$F$21-(D336))","v":" "},{"$f":"IF(D336=\"\",\" \",VLOOKUP(R336,'Main page'!$E$29:'Main page'!$G$41,3,TRUE))","v":" "}]
[null,null,null,null,null,null,null,null,null,null,null,null," "," "," "," ",{"$f":"IF(I337=\"\",\"\",IF(I337<='Main page'!$F$49,\"Core staff\",\"Senior staff\"))","v":""},{"$f":"IF(D337=\"\",\" \",'Main page'!$F$21-(D337))","v":" "},{"$f":"IF(D337=\"\",\" \",VLOOKUP(R337,'Main page'!$E$29:'Main page'!$G$41,3,TRUE))","v":" "}]
[null,null,null,null,null,null,null,null,null,null,null,null," "," "," "," ",{"$f":"IF(I338=\"\",\"\",IF(I338<='Main page'!$F$49,\"Core staff\",\"Senior staff\"))","v":""},{"$f":"IF(D338=\"\",\" \",'Main page'!$F$21-(D338))","v":" "},{"$f":"IF(D338=\"\",\" \",VLOOKUP(R338,'Main page'!$E$29:'Main page'!$G$41,3,TRUE))","v":" "}]
[null,null,null,null,null,null,null,null,null,null,null,null," "," "," "," ",{"$f":"IF(I339=\"\",\"\",IF(I339<='Main page'!$F$49,\"Core staff\",\"Senior staff\"))","v":""},{"$f":"IF(D339=\"\",\" \",'Main page'!$F$21-(D339))","v":" "},{"$f":"IF(D339=\"\",\" \",VLOOKUP(R339,'Main page'!$E$29:'Main page'!$G$41,3,TRUE))","v":" "}]
[null,null,null,null,null,null,null,null,null,null,null,null," "," "," "," ",{"$f":"IF(I340=\"\",\"\",IF(I340<='Main page'!$F$49,\"Core staff\",\"Senior staff\"))","v":""},{"$f":"IF(D340=\"\",\" \",'Main page'!$F$21-(D340))","v":" "},{"$f":"IF(D340=\"\",\" \",VLOOKUP(R340,'Main page'!$E$29:'Main page'!$G$41,3,TRUE))","v":" "}]
[null,null,null,null,null,null,null,null,null,null,null,null," "," "," "," ",{"$f":"IF(I341=\"\",\"\",IF(I341<='Main page'!$F$49,\"Core staff\",\"Senior staff\"))","v":""},{"$f":"IF(D341=\"\",\" \",'Main page'!$F$21-(D341))","v":" "},{"$f":"IF(D341=\"\",\" \",VLOOKUP(R341,'Main page'!$E$29:'Main page'!$G$41,3,TRUE))","v":" "}]
[null,null,null,null,null,null,null,null,null,null,null,null," "," "," "," ",{"$f":"IF(I342=\"\",\"\",IF(I342<='Main page'!$F$49,\"Core staff\",\"Senior staff\"))","v":""},{"$f":"IF(D342=\"\",\" \",'Main page'!$F$21-(D342))","v":" "},{"$f":"IF(D342=\"\",\" \",VLOOKUP(R342,'Main page'!$E$29:'Main page'!$G$41,3,TRUE))","v":" "}]
[null,null,null,null,null,null,null,null,null,null,null,null," "," "," "," ",{"$f":"IF(I343=\"\",\"\",IF(I343<='Main page'!$F$49,\"Core staff\",\"Senior staff\"))","v":""},{"$f":"IF(D343=\"\",\" \",'Main page'!$F$21-(D343))","v":" "},{"$f":"IF(D343=\"\",\" \",VLOOKUP(R343,'Main page'!$E$29:'Main page'!$G$41,3,TRUE))","v":" "}]
[null,null,null,null,null,null,null,null,null,null,null,null," "," "," "," ",{"$f":"IF(I344=\"\",\"\",IF(I344<='Main page'!$F$49,\"Core staff\",\"Senior staff\"))","v":""},{"$f":"IF(D344=\"\",\" \",'Main page'!$F$21-(D344))","v":" "},{"$f":"IF(D344=\"\",\" \",VLOOKUP(R344,'Main page'!$E$29:'Main page'!$G$41,3,TRUE))","v":" "}]
[null,null,null,null,null,null,null,null,null,null,null,null," "," "," "," ",{"$f":"IF(I345=\"\",\"\",IF(I345<='Main page'!$F$49,\"Core staff\",\"Senior staff\"))","v":""},{"$f":"IF(D345=\"\",\" \",'Main page'!$F$21-(D345))","v":" "},{"$f":"IF(D345=\"\",\" \",VLOOKUP(R345,'Main page'!$E$29:'Main page'!$G$41,3,TRUE))","v":" "}]
[null,null,null,null,null,null,null,null,null,null,null,null," "," "," "," ",{"$f":"IF(I346=\"\",\"\",IF(I346<='Main page'!$F$49,\"Core staff\",\"Senior staff\"))","v":""},{"$f":"IF(D346=\"\",\" \",'Main page'!$F$21-(D346))","v":" "},{"$f":"IF(D346=\"\",\" \",VLOOKUP(R346,'Main page'!$E$29:'Main page'!$G$41,3,TRUE))","v":" "}]
[null,null,null,null,null,null,null,null,null,null,null,null," "," "," "," ",{"$f":"IF(I347=\"\",\"\",IF(I347<='Main page'!$F$49,\"Core staff\",\"Senior staff\"))","v":""},{"$f":"IF(D347=\"\",\" \",'Main page'!$F$21-(D347))","v":" "},{"$f":"IF(D347=\"\",\" \",VLOOKUP(R347,'Main page'!$E$29:'Main page'!$G$41,3,TRUE))","v":" "}]
[null,null,null,null,null,null,null,null,null,null,null,null," "," "," "," ",{"$f":"IF(I348=\"\",\"\",IF(I348<='Main page'!$F$49,\"Core staff\",\"Senior staff\"))","v":""},{"$f":"IF(D348=\"\",\" \",'Main page'!$F$21-(D348))","v":" "},{"$f":"IF(D348=\"\",\" \",VLOOKUP(R348,'Main page'!$E$29:'Main page'!$G$41,3,TRUE))","v":" "}]
[null,null,null,null,null,null,null,null,null,null,null,null," "," "," "," ",{"$f":"IF(I349=\"\",\"\",IF(I349<='Main page'!$F$49,\"Core staff\",\"Senior staff\"))","v":""},{"$f":"IF(D349=\"\",\" \",'Main page'!$F$21-(D349))","v":" "},{"$f":"IF(D349=\"\",\" \",VLOOKUP(R349,'Main page'!$E$29:'Main page'!$G$41,3,TRUE))","v":" "}]
[null,null,null,null,null,null,null,null,null,null,null,null," "," "," "," ",{"$f":"IF(I350=\"\",\"\",IF(I350<='Main page'!$F$49,\"Core staff\",\"Senior staff\"))","v":""},{"$f":"IF(D350=\"\",\" \",'Main page'!$F$21-(D350))","v":" "},{"$f":"IF(D350=\"\",\" \",VLOOKUP(R350,'Main page'!$E$29:'Main page'!$G$41,3,TRUE))","v":" "}]
[null,null,null,null,null,null,null,null,null,null,null,null," "," "," "," ",{"$f":"IF(I351=\"\",\"\",IF(I351<='Main page'!$F$49,\"Core staff\",\"Senior staff\"))","v":""},{"$f":"IF(D351=\"\",\" \",'Main page'!$F$21-(D351))","v":" "},{"$f":"IF(D351=\"\",\" \",VLOOKUP(R351,'Main page'!$E$29:'Main page'!$G$41,3,TRUE))","v":" "}]
[null,null,null,null,null,null,null,null,null,null,null,null," "," "," "," ",{"$f":"IF(I352=\"\",\"\",IF(I352<='Main page'!$F$49,\"Core staff\",\"Senior staff\"))","v":""},{"$f":"IF(D352=\"\",\" \",'Main page'!$F$21-(D352))","v":" "},{"$f":"IF(D352=\"\",\" \",VLOOKUP(R352,'Main page'!$E$29:'Main page'!$G$41,3,TRUE))","v":" "}]
[null,null,null,null,null,null,null,null,null,null,null,null," "," "," "," ",{"$f":"IF(I353=\"\",\"\",IF(I353<='Main page'!$F$49,\"Core staff\",\"Senior staff\"))","v":""},{"$f":"IF(D353=\"\",\" \",'Main page'!$F$21-(D353))","v":" "},{"$f":"IF(D353=\"\",\" \",VLOOKUP(R353,'Main page'!$E$29:'Main page'!$G$41,3,TRUE))","v":" "}]
[null,null,null,null,null,null,null,null,null,null,null,null," "," "," "," ",{"$f":"IF(I354=\"\",\"\",IF(I354<='Main page'!$F$49,\"Core staff\",\"Senior staff\"))","v":""},{"$f":"IF(D354=\"\",\" \",'Main page'!$F$21-(D354))","v":" "},{"$f":"IF(D354=\"\",\" \",VLOOKUP(R354,'Main page'!$E$29:'Main page'!$G$41,3,TRUE))","v":" "}]
[null,null,null,null,null,null,null,null,null,null,null,null," "," "," "," ",{"$f":"IF(I355=\"\",\"\",IF(I355<='Main page'!$F$49,\"Core staff\",\"Senior staff\"))","v":""},{"$f":"IF(D355=\"\",\" \",'Main page'!$F$21-(D355))","v":" "},{"$f":"IF(D355=\"\",\" \",VLOOKUP(R355,'Main page'!$E$29:'Main page'!$G$41,3,TRUE))","v":" "}]
[null,null,null,null,null,null,null,null,null,null,null,null," "," "," "," ",{"$f":"IF(I356=\"\",\"\",IF(I356<='Main page'!$F$49,\"Core staff\",\"Senior staff\"))","v":""},{"$f":"IF(D356=\"\",\" \",'Main page'!$F$21-(D356))","v":" "},{"$f":"IF(D356=\"\",\" \",VLOOKUP(R356,'Main page'!$E$29:'Main page'!$G$41,3,TRUE))","v":" "}]
[null,null,null,null,null,null,null,null,null,null,null,null," "," "," "," ",{"$f":"IF(I357=\"\",\"\",IF(I357<='Main page'!$F$49,\"Core staff\",\"Senior staff\"))","v":""},{"$f":"IF(D357=\"\",\" \",'Main page'!$F$21-(D357))","v":" "},{"$f":"IF(D357=\"\",\" \",VLOOKUP(R357,'Main page'!$E$29:'Main page'!$G$41,3,TRUE))","v":" "}]
[null,null,null,null,null,null,null,null,null,null,null,null," "," "," "," ",{"$f":"IF(I358=\"\",\"\",IF(I358<='Main page'!$F$49,\"Core staff\",\"Senior staff\"))","v":""},{"$f":"IF(D358=\"\",\" \",'Main page'!$F$21-(D358))","v":" "},{"$f":"IF(D358=\"\",\" \",VLOOKUP(R358,'Main page'!$E$29:'Main page'!$G$41,3,TRUE))","v":" "}]
[null,null,null,null,null,null,null,null,null,null,null,null," "," "," "," ",{"$f":"IF(I359=\"\",\"\",IF(I359<='Main page'!$F$49,\"Core staff\",\"Senior staff\"))","v":""},{"$f":"IF(D359=\"\",\" \",'Main page'!$F$21-(D359))","v":" "},{"$f":"IF(D359=\"\",\" \",VLOOKUP(R359,'Main page'!$E$29:'Main page'!$G$41,3,TRUE))","v":" "}]
[null,null,null,null,null,null,null,null,null,null,null,null," "," "," "," ",{"$f":"IF(I360=\"\",\"\",IF(I360<='Main page'!$F$49,\"Core staff\",\"Senior staff\"))","v":""},{"$f":"IF(D360=\"\",\" \",'Main page'!$F$21-(D360))","v":" "},{"$f":"IF(D360=\"\",\" \",VLOOKUP(R360,'Main page'!$E$29:'Main page'!$G$41,3,TRUE))","v":" "}]
[null,null,null,null,null,null,null,null,null,null,null,null," "," "," "," ",{"$f":"IF(I361=\"\",\"\",IF(I361<='Main page'!$F$49,\"Core staff\",\"Senior staff\"))","v":""},{"$f":"IF(D361=\"\",\" \",'Main page'!$F$21-(D361))","v":" "},{"$f":"IF(D361=\"\",\" \",VLOOKUP(R361,'Main page'!$E$29:'Main page'!$G$41,3,TRUE))","v":" "}]
[null,null,null,null,null,null,null,null,null,null,null,null," "," "," "," ",{"$f":"IF(I362=\"\",\"\",IF(I362<='Main page'!$F$49,\"Core staff\",\"Senior staff\"))","v":""},{"$f":"IF(D362=\"\",\" \",'Main page'!$F$21-(D362))","v":" "},{"$f":"IF(D362=\"\",\" \",VLOOKUP(R362,'Main page'!$E$29:'Main page'!$G$41,3,TRUE))","v":" "}]
[null,null,null,null,null,null,null,null,null,null,null,null," "," "," "," ",{"$f":"IF(I363=\"\",\"\",IF(I363<='Main page'!$F$49,\"Core staff\",\"Senior staff\"))","v":""},{"$f":"IF(D363=\"\",\" \",'Main page'!$F$21-(D363))","v":" "},{"$f":"IF(D363=\"\",\" \",VLOOKUP(R363,'Main page'!$E$29:'Main page'!$G$41,3,TRUE))","v":" "}]
[null,null,null,null,null,null,null,null,null,null,null,null," "," "," "," ",{"$f":"IF(I364=\"\",\"\",IF(I364<='Main page'!$F$49,\"Core staff\",\"Senior staff\"))","v":""},{"$f":"IF(D364=\"\",\" \",'Main page'!$F$21-(D364))","v":" "},{"$f":"IF(D364=\"\",\" \",VLOOKUP(R364,'Main page'!$E$29:'Main page'!$G$41,3,TRUE))","v":" "}]
[null,null,null,null,null,null,null,null,null,null,null,null," "," "," "," ",{"$f":"IF(I365=\"\",\"\",IF(I365<='Main page'!$F$49,\"Core staff\",\"Senior staff\"))","v":""},{"$f":"IF(D365=\"\",\" \",'Main page'!$F$21-(D365))","v":" "},{"$f":"IF(D365=\"\",\" \",VLOOKUP(R365,'Main page'!$E$29:'Main page'!$G$41,3,TRUE))","v":" "}]
[null,null,null,null,null,null,null,null,null,null,null,null," "," "," "," ",{"$f":"IF(I366=\"\",\"\",IF(I366<='Main page'!$F$49,\"Core staff\",\"Senior staff\"))","v":""},{"$f":"IF(D366=\"\",\" \",'Main page'!$F$21-(D366))","v":" "},{"$f":"IF(D366=\"\",\" \",VLOOKUP(R366,'Main page'!$E$29:'Main page'!$G$41,3,TRUE))","v":" "}]
[null,null,null,null,null,null,null,null,null,null,null,null," "," "," "," ",{"$f":"IF(I367=\"\",\"\",IF(I367<='Main page'!$F$49,\"Core staff\",\"Senior staff\"))","v":""},{"$f":"IF(D367=\"\",\" \",'Main page'!$F$21-(D367))","v":" "},{"$f":"IF(D367=\"\",\" \",VLOOKUP(R367,'Main page'!$E$29:'Main page'!$G$41,3,TRUE))","v":" "}]
[null,null,null,null,null,null,null,null,null,null,null,null," "," "," "," ",{"$f":"IF(I368=\"\",\"\",IF(I368<='Main page'!$F$49,\"Core staff\",\"Senior staff\"))","v":""},{"$f":"IF(D368=\"\",\" \",'Main page'!$F$21-(D368))","v":" "},{"$f":"IF(D368=\"\",\" \",VLOOKUP(R368,'Main page'!$E$29:'Main page'!$G$41,3,TRUE))","v":" "}]
[null,null,null,null,null,null,null,null,null,null,null,null," "," "," "," ",{"$f":"IF(I369=\"\",\"\",IF(I369<='Main page'!$F$49,\"Core staff\",\"Senior staff\"))","v":""},{"$f":"IF(D369=\"\",\" \",'Main page'!$F$21-(D369))","v":" "},{"$f":"IF(D369=\"\",\" \",VLOOKUP(R369,'Main page'!$E$29:'Main page'!$G$41,3,TRUE))","v":" "}]
[null,null,null,null,null,null,null,null,null,null,null,null," "," "," "," ",{"$f":"IF(I370=\"\",\"\",IF(I370<='Main page'!$F$49,\"Core staff\",\"Senior staff\"))","v":""},{"$f":"IF(D370=\"\",\" \",'Main page'!$F$21-(D370))","v":" "},{"$f":"IF(D370=\"\",\" \",VLOOKUP(R370,'Main page'!$E$29:'Main page'!$G$41,3,TRUE))","v":" "}]
[null,null,null,null,null,null,null,null,null,null,null,null," "," "," "," ",{"$f":"IF(I371=\"\",\"\",IF(I371<='Main page'!$F$49,\"Core staff\",\"Senior staff\"))","v":""},{"$f":"IF(D371=\"\",\" \",'Main page'!$F$21-(D371))","v":" "},{"$f":"IF(D371=\"\",\" \",VLOOKUP(R371,'Main page'!$E$29:'Main page'!$G$41,3,TRUE))","v":" "}]
[null,null,null,null,null,null,null,null,null,null,null,null," "," "," "," ",{"$f":"IF(I372=\"\",\"\",IF(I372<='Main page'!$F$49,\"Core staff\",\"Senior staff\"))","v":""},{"$f":"IF(D372=\"\",\" \",'Main page'!$F$21-(D372))","v":" "},{"$f":"IF(D372=\"\",\" \",VLOOKUP(R372,'Main page'!$E$29:'Main page'!$G$41,3,TRUE))","v":" "}]
[null,null,null,null,null,null,null,null,null,null,null,null," "," "," "," ",{"$f":"IF(I373=\"\",\"\",IF(I373<='Main page'!$F$49,\"Core staff\",\"Senior staff\"))","v":""},{"$f":"IF(D373=\"\",\" \",'Main page'!$F$21-(D373))","v":" "},{"$f":"IF(D373=\"\",\" \",VLOOKUP(R373,'Main page'!$E$29:'Main page'!$G$41,3,TRUE))","v":" "}]
[null,null,null,null,null,null,null,null,null,null,null,null," "," "," "," ",{"$f":"IF(I374=\"\",\"\",IF(I374<='Main page'!$F$49,\"Core staff\",\"Senior staff\"))","v":""},{"$f":"IF(D374=\"\",\" \",'Main page'!$F$21-(D374))","v":" "},{"$f":"IF(D374=\"\",\" \",VLOOKUP(R374,'Main page'!$E$29:'Main page'!$G$41,3,TRUE))","v":" "}]
[null,null,null,null,null,null,null,null,null,null,null,null," "," "," "," ",{"$f":"IF(I375=\"\",\"\",IF(I375<='Main page'!$F$49,\"Core staff\",\"Senior staff\"))","v":""},{"$f":"IF(D375=\"\",\" \",'Main page'!$F$21-(D375))","v":" "},{"$f":"IF(D375=\"\",\" \",VLOOKUP(R375,'Main page'!$E$29:'Main page'!$G$41,3,TRUE))","v":" "}]
[null,null,null,null,null,null,null,null,null,null,null,null," "," "," "," ",{"$f":"IF(I376=\"\",\"\",IF(I376<='Main page'!$F$49,\"Core staff\",\"Senior staff\"))","v":""},{"$f":"IF(D376=\"\",\" \",'Main page'!$F$21-(D376))","v":" "},{"$f":"IF(D376=\"\",\" \",VLOOKUP(R376,'Main page'!$E$29:'Main page'!$G$41,3,TRUE))","v":" "}]
[null,null,null,null,null,null,null,null,null,null,null,null," "," "," "," ",{"$f":"IF(I377=\"\",\"\",IF(I377<='Main page'!$F$49,\"Core staff\",\"Senior staff\"))","v":""},{"$f":"IF(D377=\"\",\" \",'Main page'!$F$21-(D377))","v":" "},{"$f":"IF(D377=\"\",\" \",VLOOKUP(R377,'Main page'!$E$29:'Main page'!$G$41,3,TRUE))","v":" "}]
[null,null,null,null,null,null,null,null,null,null,null,null," "," "," "," ",{"$f":"IF(I378=\"\",\"\",IF(I378<='Main page'!$F$49,\"Core staff\",\"Senior staff\"))","v":""},{"$f":"IF(D378=\"\",\" \",'Main page'!$F$21-(D378))","v":" "},{"$f":"IF(D378=\"\",\" \",VLOOKUP(R378,'Main page'!$E$29:'Main page'!$G$41,3,TRUE))","v":" "}]
[null,null,null,null,null,null,null,null,null,null,null,null," "," "," "," ",{"$f":"IF(I379=\"\",\"\",IF(I379<='Main page'!$F$49,\"Core staff\",\"Senior staff\"))","v":""},{"$f":"IF(D379=\"\",\" \",'Main page'!$F$21-(D379))","v":" "},{"$f":"IF(D379=\"\",\" \",VLOOKUP(R379,'Main page'!$E$29:'Main page'!$G$41,3,TRUE))","v":" "}]
[null,null,null,null,null,null,null,null,null,null,null,null," "," "," "," ",{"$f":"IF(I380=\"\",\"\",IF(I380<='Main page'!$F$49,\"Core staff\",\"Senior staff\"))","v":""},{"$f":"IF(D380=\"\",\" \",'Main page'!$F$21-(D380))","v":" "},{"$f":"IF(D380=\"\",\" \",VLOOKUP(R380,'Main page'!$E$29:'Main page'!$G$41,3,TRUE))","v":" "}]
[null,null,null,null,null,null,null,null,null,null,null,null," "," "," "," ",{"$f":"IF(I381=\"\",\"\",IF(I381<='Main page'!$F$49,\"Core staff\",\"Senior staff\"))","v":""},{"$f":"IF(D381=\"\",\" \",'Main page'!$F$21-(D381))","v":" "},{"$f":"IF(D381=\"\",\" \",VLOOKUP(R381,'Main page'!$E$29:'Main page'!$G$41,3,TRUE))","v":" "}]
[null,null,null,null,null,null,null,null,null,null,null,null," "," "," "," ",{"$f":"IF(I382=\"\",\"\",IF(I382<='Main page'!$F$49,\"Core staff\",\"Senior staff\"))","v":""},{"$f":"IF(D382=\"\",\" \",'Main page'!$F$21-(D382))","v":" "},{"$f":"IF(D382=\"\",\" \",VLOOKUP(R382,'Main page'!$E$29:'Main page'!$G$41,3,TRUE))","v":" "}]
[null,null,null,null,null,null,null,null,null,null,null,null," "," "," "," ",{"$f":"IF(I383=\"\",\"\",IF(I383<='Main page'!$F$49,\"Core staff\",\"Senior staff\"))","v":""},{"$f":"IF(D383=\"\",\" \",'Main page'!$F$21-(D383))","v":" "},{"$f":"IF(D383=\"\",\" \",VLOOKUP(R383,'Main page'!$E$29:'Main page'!$G$41,3,TRUE))","v":" "}]
[null,null,null,null,null,null,null,null,null,null,null,null," "," "," "," ",{"$f":"IF(I384=\"\",\"\",IF(I384<='Main page'!$F$49,\"Core staff\",\"Senior staff\"))","v":""},{"$f":"IF(D384=\"\",\" \",'Main page'!$F$21-(D384))","v":" "},{"$f":"IF(D384=\"\",\" \",VLOOKUP(R384,'Main page'!$E$29:'Main page'!$G$41,3,TRUE))","v":" "}]
[null,null,null,null,null,null,null,null,null,null,null,null," "," "," "," ",{"$f":"IF(I385=\"\",\"\",IF(I385<='Main page'!$F$49,\"Core staff\",\"Senior staff\"))","v":""},{"$f":"IF(D385=\"\",\" \",'Main page'!$F$21-(D385))","v":" "},{"$f":"IF(D385=\"\",\" \",VLOOKUP(R385,'Main page'!$E$29:'Main page'!$G$41,3,TRUE))","v":" "}]
[null,null,null,null,null,null,null,null,null,null,null,null," "," "," "," ",{"$f":"IF(I386=\"\",\"\",IF(I386<='Main page'!$F$49,\"Core staff\",\"Senior staff\"))","v":""},{"$f":"IF(D386=\"\",\" \",'Main page'!$F$21-(D386))","v":" "},{"$f":"IF(D386=\"\",\" \",VLOOKUP(R386,'Main page'!$E$29:'Main page'!$G$41,3,TRUE))","v":" "}]
[null,null,null,null,null,null,null,null,null,null,null,null," "," "," "," ",{"$f":"IF(I387=\"\",\"\",IF(I387<='Main page'!$F$49,\"Core staff\",\"Senior staff\"))","v":""},{"$f":"IF(D387=\"\",\" \",'Main page'!$F$21-(D387))","v":" "},{"$f":"IF(D387=\"\",\" \",VLOOKUP(R387,'Main page'!$E$29:'Main page'!$G$41,3,TRUE))","v":" "}]
[null,null,null,null,null,null,null,null,null,null,null,null," "," "," "," ",{"$f":"IF(I388=\"\",\"\",IF(I388<='Main page'!$F$49,\"Core staff\",\"Senior staff\"))","v":""},{"$f":"IF(D388=\"\",\" \",'Main page'!$F$21-(D388))","v":" "},{"$f":"IF(D388=\"\",\" \",VLOOKUP(R388,'Main page'!$E$29:'Main page'!$G$41,3,TRUE))","v":" "}]
[null,null,null,null,null,null,null,null,null,null,null,null," "," "," "," ",{"$f":"IF(I389=\"\",\"\",IF(I389<='Main page'!$F$49,\"Core staff\",\"Senior staff\"))","v":""},{"$f":"IF(D389=\"\",\" \",'Main page'!$F$21-(D389))","v":" "},{"$f":"IF(D389=\"\",\" \",VLOOKUP(R389,'Main page'!$E$29:'Main page'!$G$41,3,TRUE))","v":" "}]
[null,null,null,null,null,null,null,null,null,null,null,null," "," "," "," ",{"$f":"IF(I390=\"\",\"\",IF(I390<='Main page'!$F$49,\"Core staff\",\"Senior staff\"))","v":""},{"$f":"IF(D390=\"\",\" \",'Main page'!$F$21-(D390))","v":" "},{"$f":"IF(D390=\"\",\" \",VLOOKUP(R390,'Main page'!$E$29:'Main page'!$G$41,3,TRUE))","v":" "}]
[null,null,null,null,null,null,null,null,null,null,null,null," "," "," "," ",{"$f":"IF(I391=\"\",\"\",IF(I391<='Main page'!$F$49,\"Core staff\",\"Senior staff\"))","v":""},{"$f":"IF(D391=\"\",\" \",'Main page'!$F$21-(D391))","v":" "},{"$f":"IF(D391=\"\",\" \",VLOOKUP(R391,'Main page'!$E$29:'Main page'!$G$41,3,TRUE))","v":" "}]
[null,null,null,null,null,null,null,null,null,null,null,null," "," "," "," ",{"$f":"IF(I392=\"\",\"\",IF(I392<='Main page'!$F$49,\"Core staff\",\"Senior staff\"))","v":""},{"$f":"IF(D392=\"\",\" \",'Main page'!$F$21-(D392))","v":" "},{"$f":"IF(D392=\"\",\" \",VLOOKUP(R392,'Main page'!$E$29:'Main page'!$G$41,3,TRUE))","v":" "}]
[null,null,null,null,null,null,null,null,null,null,null,null," "," "," "," ",{"$f":"IF(I393=\"\",\"\",IF(I393<='Main page'!$F$49,\"Core staff\",\"Senior staff\"))","v":""},{"$f":"IF(D393=\"\",\" \",'Main page'!$F$21-(D393))","v":" "},{"$f":"IF(D393=\"\",\" \",VLOOKUP(R393,'Main page'!$E$29:'Main page'!$G$41,3,TRUE))","v":" "}]
[null,null,null,null,null,null,null,null,null,null,null,null," "," "," "," ",{"$f":"IF(I394=\"\",\"\",IF(I394<='Main page'!$F$49,\"Core staff\",\"Senior staff\"))","v":""},{"$f":"IF(D394=\"\",\" \",'Main page'!$F$21-(D394))","v":" "},{"$f":"IF(D394=\"\",\" \",VLOOKUP(R394,'Main page'!$E$29:'Main page'!$G$41,3,TRUE))","v":" "}]
[null,null,null,null,null,null,null,null,null,null,null,null," "," "," "," ",{"$f":"IF(I395=\"\",\"\",IF(I395<='Main page'!$F$49,\"Core staff\",\"Senior staff\"))","v":""},{"$f":"IF(D395=\"\",\" \",'Main page'!$F$21-(D395))","v":" "},{"$f":"IF(D395=\"\",\" \",VLOOKUP(R395,'Main page'!$E$29:'Main page'!$G$41,3,TRUE))","v":" "}]
[null,null,null,null,null,null,null,null,null,null,null,null," "," "," "," ",{"$f":"IF(I396=\"\",\"\",IF(I396<='Main page'!$F$49,\"Core staff\",\"Senior staff\"))","v":""},{"$f":"IF(D396=\"\",\" \",'Main page'!$F$21-(D396))","v":" "},{"$f":"IF(D396=\"\",\" \",VLOOKUP(R396,'Main page'!$E$29:'Main page'!$G$41,3,TRUE))","v":" "}]
[null,null,null,null,null,null,null,null,null,null,null,null," "," "," "," ",{"$f":"IF(I397=\"\",\"\",IF(I397<='Main page'!$F$49,\"Core staff\",\"Senior staff\"))","v":""},{"$f":"IF(D397=\"\",\" \",'Main page'!$F$21-(D397))","v":" "},{"$f":"IF(D397=\"\",\" \",VLOOKUP(R397,'Main page'!$E$29:'Main page'!$G$41,3,TRUE))","v":" "}]
[null,null,null,null,null,null,null,null,null,null,null,null,{"$f":"IFERROR(J398/G398,\" \")","v":" "},{"$f":"IFERROR((M398/$U$4)/H398,\" \")","v":" "},{"$f":"IFERROR((N398*75)*26.083,\" \")","v":" "},{"$f":"IF(G398=0,\" \",IF(G398=1,\"Full time\",\"Part time\"))","v":" "},{"$f":"IF(I398=\"\",\"\",IF(I398<='Main page'!$F$49,\"Core staff\",\"Senior staff\"))","v":""},{"$f":"IF(D398=\"\",\" \",'Main page'!$F$21-(D398))","v":" "},{"$f":"IF(D398=\"\",\" \",VLOOKUP(R398,'Main page'!$E$29:'Main page'!$G$41,3,TRUE))","v":" "}]
[null,null,null,null,null,null,null,null,null,null,null,null," "," "," "," ",{"$f":"IF(I399=\"\",\"\",IF(I399<='Main page'!$F$49,\"Core staff\",\"Senior staff\"))","v":""},{"$f":"IF(D399=\"\",\" \",'Main page'!$F$21-(D399))","v":" "},{"$f":"IF(D399=\"\",\" \",VLOOKUP(R399,'Main page'!$E$29:'Main page'!$G$41,3,TRUE))","v":" "}]
[null,null,null,null,null,null,null,null,null,null,null,null," "," "," "," ",{"$f":"IF(I400=\"\",\"\",IF(I400<='Main page'!$F$49,\"Core staff\",\"Senior staff\"))","v":""},{"$f":"IF(D400=\"\",\" \",'Main page'!$F$21-(D400))","v":" "},{"$f":"IF(D400=\"\",\" \",VLOOKUP(R400,'Main page'!$E$29:'Main page'!$G$41,3,TRUE))","v":" "}]
[null,null,null,null,null,null,null,null,null,null,null,null," "," "," "," ",{"$f":"IF(I401=\"\",\"\",IF(I401<='Main page'!$F$49,\"Core staff\",\"Senior staff\"))","v":""},{"$f":"IF(D401=\"\",\" \",'Main page'!$F$21-(D401))","v":" "},{"$f":"IF(D401=\"\",\" \",VLOOKUP(R401,'Main page'!$E$29:'Main page'!$G$41,3,TRUE))","v":" "}]
[null,null,null,null,null,null,null,null,null,null,null,null," "," "," "," ",{"$f":"IF(I402=\"\",\"\",IF(I402<='Main page'!$F$49,\"Core staff\",\"Senior staff\"))","v":""},{"$f":"IF(D402=\"\",\" \",'Main page'!$F$21-(D402))","v":" "},{"$f":"IF(D402=\"\",\" \",VLOOKUP(R402,'Main page'!$E$29:'Main page'!$G$41,3,TRUE))","v":" "}]
[null,null,null,null,null,null,null,null,null,null,null,null," "," "," "," ",{"$f":"IF(I403=\"\",\"\",IF(I403<='Main page'!$F$49,\"Core staff\",\"Senior staff\"))","v":""},{"$f":"IF(D403=\"\",\" \",'Main page'!$F$21-(D403))","v":" "},{"$f":"IF(D403=\"\",\" \",VLOOKUP(R403,'Main page'!$E$29:'Main page'!$G$41,3,TRUE))","v":" "}]
[null,null,null,null,null,null,null,null,null,null,null,null," "," "," "," ",{"$f":"IF(I404=\"\",\"\",IF(I404<='Main page'!$F$49,\"Core staff\",\"Senior staff\"))","v":""},{"$f":"IF(D404=\"\",\" \",'Main page'!$F$21-(D404))","v":" "},{"$f":"IF(D404=\"\",\" \",VLOOKUP(R404,'Main page'!$E$29:'Main page'!$G$41,3,TRUE))","v":" "}]
[null,null,null,null,null,null,null,null,null,null,null,null," "," "," "," ",{"$f":"IF(I405=\"\",\"\",IF(I405<='Main page'!$F$49,\"Core staff\",\"Senior staff\"))","v":""},{"$f":"IF(D405=\"\",\" \",'Main page'!$F$21-(D405))","v":" "},{"$f":"IF(D405=\"\",\" \",VLOOKUP(R405,'Main page'!$E$29:'Main page'!$G$41,3,TRUE))","v":" "}]
[null,null,null,null,null,null,null,null,null,null,null,null," "," "," "," ",{"$f":"IF(I406=\"\",\"\",IF(I406<='Main page'!$F$49,\"Core staff\",\"Senior staff\"))","v":""},{"$f":"IF(D406=\"\",\" \",'Main page'!$F$21-(D406))","v":" "},{"$f":"IF(D406=\"\",\" \",VLOOKUP(R406,'Main page'!$E$29:'Main page'!$G$41,3,TRUE))","v":" "}]
[null,null,null,null,null,null,null,null,null,null,null,null," "," "," "," ",{"$f":"IF(I407=\"\",\"\",IF(I407<='Main page'!$F$49,\"Core staff\",\"Senior staff\"))","v":""},{"$f":"IF(D407=\"\",\" \",'Main page'!$F$21-(D407))","v":" "},{"$f":"IF(D407=\"\",\" \",VLOOKUP(R407,'Main page'!$E$29:'Main page'!$G$41,3,TRUE))","v":" "}]
[null,null,null,null,null,null,null,null,null,null,null,null," "," "," "," ",{"$f":"IF(I408=\"\",\"\",IF(I408<='Main page'!$F$49,\"Core staff\",\"Senior staff\"))","v":""},{"$f":"IF(D408=\"\",\" \",'Main page'!$F$21-(D408))","v":" "},{"$f":"IF(D408=\"\",\" \",VLOOKUP(R408,'Main page'!$E$29:'Main page'!$G$41,3,TRUE))","v":" "}]
[null,null,null,null,null,null,null,null,null,null,null,null," "," "," "," ",{"$f":"IF(I409=\"\",\"\",IF(I409<='Main page'!$F$49,\"Core staff\",\"Senior staff\"))","v":""},{"$f":"IF(D409=\"\",\" \",'Main page'!$F$21-(D409))","v":" "},{"$f":"IF(D409=\"\",\" \",VLOOKUP(R409,'Main page'!$E$29:'Main page'!$G$41,3,TRUE))","v":" "}]
[null,null,null,null,null,null,null,null,null,null,null,null," "," "," "," ",{"$f":"IF(I410=\"\",\"\",IF(I410<='Main page'!$F$49,\"Core staff\",\"Senior staff\"))","v":""},{"$f":"IF(D410=\"\",\" \",'Main page'!$F$21-(D410))","v":" "},{"$f":"IF(D410=\"\",\" \",VLOOKUP(R410,'Main page'!$E$29:'Main page'!$G$41,3,TRUE))","v":" "}]
[null,null,null,null,null,null,null,null,null,null,null,null," "," "," "," ",{"$f":"IF(I411=\"\",\"\",IF(I411<='Main page'!$F$49,\"Core staff\",\"Senior staff\"))","v":""},{"$f":"IF(D411=\"\",\" \",'Main page'!$F$21-(D411))","v":" "},{"$f":"IF(D411=\"\",\" \",VLOOKUP(R411,'Main page'!$E$29:'Main page'!$G$41,3,TRUE))","v":" "}]
[null,null,null,null,null,null,null,null,null,null,null,null," "," "," "," ",{"$f":"IF(I412=\"\",\"\",IF(I412<='Main page'!$F$49,\"Core staff\",\"Senior staff\"))","v":""},{"$f":"IF(D412=\"\",\" \",'Main page'!$F$21-(D412))","v":" "},{"$f":"IF(D412=\"\",\" \",VLOOKUP(R412,'Main page'!$E$29:'Main page'!$G$41,3,TRUE))","v":" "}]
[null,null,null,null,null,null,null,null,null,null,null,null," "," "," "," ",{"$f":"IF(I413=\"\",\"\",IF(I413<='Main page'!$F$49,\"Core staff\",\"Senior staff\"))","v":""},{"$f":"IF(D413=\"\",\" \",'Main page'!$F$21-(D413))","v":" "},{"$f":"IF(D413=\"\",\" \",VLOOKUP(R413,'Main page'!$E$29:'Main page'!$G$41,3,TRUE))","v":" "}]
[null,null,null,null,null,null,null,null,null,null,null,null," "," "," "," ",{"$f":"IF(I414=\"\",\"\",IF(I414<='Main page'!$F$49,\"Core staff\",\"Senior staff\"))","v":""},{"$f":"IF(D414=\"\",\" \",'Main page'!$F$21-(D414))","v":" "},{"$f":"IF(D414=\"\",\" \",VLOOKUP(R414,'Main page'!$E$29:'Main page'!$G$41,3,TRUE))","v":" "}]
[null,null,null,null,null,null,null,null,null,null,null,null," "," "," "," ",{"$f":"IF(I415=\"\",\"\",IF(I415<='Main page'!$F$49,\"Core staff\",\"Senior staff\"))","v":""},{"$f":"IF(D415=\"\",\" \",'Main page'!$F$21-(D415))","v":" "},{"$f":"IF(D415=\"\",\" \",VLOOKUP(R415,'Main page'!$E$29:'Main page'!$G$41,3,TRUE))","v":" "}]
[null,null,null,null,null,null,null,null,null,null,null,null," "," "," "," ",{"$f":"IF(I416=\"\",\"\",IF(I416<='Main page'!$F$49,\"Core staff\",\"Senior staff\"))","v":""},{"$f":"IF(D416=\"\",\" \",'Main page'!$F$21-(D416))","v":" "},{"$f":"IF(D416=\"\",\" \",VLOOKUP(R416,'Main page'!$E$29:'Main page'!$G$41,3,TRUE))","v":" "}]
[null,null,null,null,null,null,null,null,null,null,null,null," "," "," "," ",{"$f":"IF(I417=\"\",\"\",IF(I417<='Main page'!$F$49,\"Core staff\",\"Senior staff\"))","v":""},{"$f":"IF(D417=\"\",\" \",'Main page'!$F$21-(D417))","v":" "},{"$f":"IF(D417=\"\",\" \",VLOOKUP(R417,'Main page'!$E$29:'Main page'!$G$41,3,TRUE))","v":" "}]
[null,null,null,null,null,null,null,null,null,null,null,null," "," "," "," ",{"$f":"IF(I418=\"\",\"\",IF(I418<='Main page'!$F$49,\"Core staff\",\"Senior staff\"))","v":""},{"$f":"IF(D418=\"\",\" \",'Main page'!$F$21-(D418))","v":" "},{"$f":"IF(D418=\"\",\" \",VLOOKUP(R418,'Main page'!$E$29:'Main page'!$G$41,3,TRUE))","v":" "}]
[null,null,null,null,null,null,null,null,null,null,null,null," "," "," "," ",{"$f":"IF(I419=\"\",\"\",IF(I419<='Main page'!$F$49,\"Core staff\",\"Senior staff\"))","v":""},{"$f":"IF(D419=\"\",\" \",'Main page'!$F$21-(D419))","v":" "},{"$f":"IF(D419=\"\",\" \",VLOOKUP(R419,'Main page'!$E$29:'Main page'!$G$41,3,TRUE))","v":" "}]
[null,null,null,null,null,null,null,null,null,null,null,null," "," "," "," ",{"$f":"IF(I420=\"\",\"\",IF(I420<='Main page'!$F$49,\"Core staff\",\"Senior staff\"))","v":""},{"$f":"IF(D420=\"\",\" \",'Main page'!$F$21-(D420))","v":" "},{"$f":"IF(D420=\"\",\" \",VLOOKUP(R420,'Main page'!$E$29:'Main page'!$G$41,3,TRUE))","v":" "}]
[null,null,null,null,null,null,null,null,null,null,null,null," "," "," "," ",{"$f":"IF(I421=\"\",\"\",IF(I421<='Main page'!$F$49,\"Core staff\",\"Senior staff\"))","v":""},{"$f":"IF(D421=\"\",\" \",'Main page'!$F$21-(D421))","v":" "},{"$f":"IF(D421=\"\",\" \",VLOOKUP(R421,'Main page'!$E$29:'Main page'!$G$41,3,TRUE))","v":" "}]
[null,null,null,null,null,null,null,null,null,null,null,null," "," "," "," ",{"$f":"IF(I422=\"\",\"\",IF(I422<='Main page'!$F$49,\"Core staff\",\"Senior staff\"))","v":""},{"$f":"IF(D422=\"\",\" \",'Main page'!$F$21-(D422))","v":" "},{"$f":"IF(D422=\"\",\" \",VLOOKUP(R422,'Main page'!$E$29:'Main page'!$G$41,3,TRUE))","v":" "}]
[null,null,null,null,null,null,null,null,null,null,null,null," "," "," "," ",{"$f":"IF(I423=\"\",\"\",IF(I423<='Main page'!$F$49,\"Core staff\",\"Senior staff\"))","v":""},{"$f":"IF(D423=\"\",\" \",'Main page'!$F$21-(D423))","v":" "},{"$f":"IF(D423=\"\",\" \",VLOOKUP(R423,'Main page'!$E$29:'Main page'!$G$41,3,TRUE))","v":" "}]
[null,null,null,null,null,null,null,null,null,null,null,null," "," "," "," ",{"$f":"IF(I424=\"\",\"\",IF(I424<='Main page'!$F$49,\"Core staff\",\"Senior staff\"))","v":""},{"$f":"IF(D424=\"\",\" \",'Main page'!$F$21-(D424))","v":" "},{"$f":"IF(D424=\"\",\" \",VLOOKUP(R424,'Main page'!$E$29:'Main page'!$G$41,3,TRUE))","v":" "}]
[null,null,null,null,null,null,null,null,null,null,null,null," "," "," "," ",{"$f":"IF(I425=\"\",\"\",IF(I425<='Main page'!$F$49,\"Core staff\",\"Senior staff\"))","v":""},{"$f":"IF(D425=\"\",\" \",'Main page'!$F$21-(D425))","v":" "},{"$f":"IF(D425=\"\",\" \",VLOOKUP(R425,'Main page'!$E$29:'Main page'!$G$41,3,TRUE))","v":" "}]
[null,null,null,null,null,null,null,null,null,null,null,null," "," "," "," ",{"$f":"IF(I426=\"\",\"\",IF(I426<='Main page'!$F$49,\"Core staff\",\"Senior staff\"))","v":""},{"$f":"IF(D426=\"\",\" \",'Main page'!$F$21-(D426))","v":" "},{"$f":"IF(D426=\"\",\" \",VLOOKUP(R426,'Main page'!$E$29:'Main page'!$G$41,3,TRUE))","v":" "}]
[null,null,null,null,null,null,null,null,null,null,null,null," "," "," "," ",{"$f":"IF(I427=\"\",\"\",IF(I427<='Main page'!$F$49,\"Core staff\",\"Senior staff\"))","v":""},{"$f":"IF(D427=\"\",\" \",'Main page'!$F$21-(D427))","v":" "},{"$f":"IF(D427=\"\",\" \",VLOOKUP(R427,'Main page'!$E$29:'Main page'!$G$41,3,TRUE))","v":" "}]
[null,null,null,null,null,null,null,null,null,null,null,null," "," "," "," ",{"$f":"IF(I428=\"\",\"\",IF(I428<='Main page'!$F$49,\"Core staff\",\"Senior staff\"))","v":""},{"$f":"IF(D428=\"\",\" \",'Main page'!$F$21-(D428))","v":" "},{"$f":"IF(D428=\"\",\" \",VLOOKUP(R428,'Main page'!$E$29:'Main page'!$G$41,3,TRUE))","v":" "}]
[null,null,null,null,null,null,null,null,null,null,null,null," "," "," "," ",{"$f":"IF(I429=\"\",\"\",IF(I429<='Main page'!$F$49,\"Core staff\",\"Senior staff\"))","v":""},{"$f":"IF(D429=\"\",\" \",'Main page'!$F$21-(D429))","v":" "},{"$f":"IF(D429=\"\",\" \",VLOOKUP(R429,'Main page'!$E$29:'Main page'!$G$41,3,TRUE))","v":" "}]
[null,null,null,null,null,null,null,null,null,null,null,null," "," "," "," ",{"$f":"IF(I430=\"\",\"\",IF(I430<='Main page'!$F$49,\"Core staff\",\"Senior staff\"))","v":""},{"$f":"IF(D430=\"\",\" \",'Main page'!$F$21-(D430))","v":" "},{"$f":"IF(D430=\"\",\" \",VLOOKUP(R430,'Main page'!$E$29:'Main page'!$G$41,3,TRUE))","v":" "}]
[null,null,null,null,null,null,null,null,null,null,null,null," "," "," "," ",{"$f":"IF(I431=\"\",\"\",IF(I431<='Main page'!$F$49,\"Core staff\",\"Senior staff\"))","v":""},{"$f":"IF(D431=\"\",\" \",'Main page'!$F$21-(D431))","v":" "},{"$f":"IF(D431=\"\",\" \",VLOOKUP(R431,'Main page'!$E$29:'Main page'!$G$41,3,TRUE))","v":" "}]
[null,null,null,null,null,null,null,null,null,null,null,null," "," "," "," ",{"$f":"IF(I432=\"\",\"\",IF(I432<='Main page'!$F$49,\"Core staff\",\"Senior staff\"))","v":""},{"$f":"IF(D432=\"\",\" \",'Main page'!$F$21-(D432))","v":" "},{"$f":"IF(D432=\"\",\" \",VLOOKUP(R432,'Main page'!$E$29:'Main page'!$G$41,3,TRUE))","v":" "}]
[null,null,null,null,null,null,null,null,null,null,null,null," "," "," "," ",{"$f":"IF(I433=\"\",\"\",IF(I433<='Main page'!$F$49,\"Core staff\",\"Senior staff\"))","v":""},{"$f":"IF(D433=\"\",\" \",'Main page'!$F$21-(D433))","v":" "},{"$f":"IF(D433=\"\",\" \",VLOOKUP(R433,'Main page'!$E$29:'Main page'!$G$41,3,TRUE))","v":" "}]
[null,null,null,null,null,null,null,null,null,null,null,null," "," "," "," ",{"$f":"IF(I434=\"\",\"\",IF(I434<='Main page'!$F$49,\"Core staff\",\"Senior staff\"))","v":""},{"$f":"IF(D434=\"\",\" \",'Main page'!$F$21-(D434))","v":" "},{"$f":"IF(D434=\"\",\" \",VLOOKUP(R434,'Main page'!$E$29:'Main page'!$G$41,3,TRUE))","v":" "}]
[null,null,null,null,null,null,null,null,null,null,null,null," "," "," "," ",{"$f":"IF(I435=\"\",\"\",IF(I435<='Main page'!$F$49,\"Core staff\",\"Senior staff\"))","v":""},{"$f":"IF(D435=\"\",\" \",'Main page'!$F$21-(D435))","v":" "},{"$f":"IF(D435=\"\",\" \",VLOOKUP(R435,'Main page'!$E$29:'Main page'!$G$41,3,TRUE))","v":" "}]
[null,null,null,null,null,null,null,null,null,null,null,null," "," "," "," ",{"$f":"IF(I436=\"\",\"\",IF(I436<='Main page'!$F$49,\"Core staff\",\"Senior staff\"))","v":""},{"$f":"IF(D436=\"\",\" \",'Main page'!$F$21-(D436))","v":" "},{"$f":"IF(D436=\"\",\" \",VLOOKUP(R436,'Main page'!$E$29:'Main page'!$G$41,3,TRUE))","v":" "}]
[null,null,null,null,null,null,null,null,null,null,null,null," "," "," "," ",{"$f":"IF(I437=\"\",\"\",IF(I437<='Main page'!$F$49,\"Core staff\",\"Senior staff\"))","v":""},{"$f":"IF(D437=\"\",\" \",'Main page'!$F$21-(D437))","v":" "},{"$f":"IF(D437=\"\",\" \",VLOOKUP(R437,'Main page'!$E$29:'Main page'!$G$41,3,TRUE))","v":" "}]
[null,null,null,null,null,null,null,null,null,null,null,null," "," "," "," ",{"$f":"IF(I438=\"\",\"\",IF(I438<='Main page'!$F$49,\"Core staff\",\"Senior staff\"))","v":""},{"$f":"IF(D438=\"\",\" \",'Main page'!$F$21-(D438))","v":" "},{"$f":"IF(D438=\"\",\" \",VLOOKUP(R438,'Main page'!$E$29:'Main page'!$G$41,3,TRUE))","v":" "}]
[null,null,null,null,null,null,null,null,null,null,null,null," "," "," "," ",{"$f":"IF(I439=\"\",\"\",IF(I439<='Main page'!$F$49,\"Core staff\",\"Senior staff\"))","v":""},{"$f":"IF(D439=\"\",\" \",'Main page'!$F$21-(D439))","v":" "},{"$f":"IF(D439=\"\",\" \",VLOOKUP(R439,'Main page'!$E$29:'Main page'!$G$41,3,TRUE))","v":" "}]
[null,null,null,null,null,null,null,null,null,null,null,null," "," "," "," ",{"$f":"IF(I440=\"\",\"\",IF(I440<='Main page'!$F$49,\"Core staff\",\"Senior staff\"))","v":""},{"$f":"IF(D440=\"\",\" \",'Main page'!$F$21-(D440))","v":" "},{"$f":"IF(D440=\"\",\" \",VLOOKUP(R440,'Main page'!$E$29:'Main page'!$G$41,3,TRUE))","v":" "}]
[null,null,null,null,null,null,null,null,null,null,null,null," "," "," "," ",{"$f":"IF(I441=\"\",\"\",IF(I441<='Main page'!$F$49,\"Core staff\",\"Senior staff\"))","v":""},{"$f":"IF(D441=\"\",\" \",'Main page'!$F$21-(D441))","v":" "},{"$f":"IF(D441=\"\",\" \",VLOOKUP(R441,'Main page'!$E$29:'Main page'!$G$41,3,TRUE))","v":" "}]
[null,null,null,null,null,null,null,null,null,null,null,null," "," "," "," ",{"$f":"IF(I442=\"\",\"\",IF(I442<='Main page'!$F$49,\"Core staff\",\"Senior staff\"))","v":""},{"$f":"IF(D442=\"\",\" \",'Main page'!$F$21-(D442))","v":" "},{"$f":"IF(D442=\"\",\" \",VLOOKUP(R442,'Main page'!$E$29:'Main page'!$G$41,3,TRUE))","v":" "}]
[null,null,null,null,null,null,null,null,null,null,null,null," "," "," "," ",{"$f":"IF(I443=\"\",\"\",IF(I443<='Main page'!$F$49,\"Core staff\",\"Senior staff\"))","v":""},{"$f":"IF(D443=\"\",\" \",'Main page'!$F$21-(D443))","v":" "},{"$f":"IF(D443=\"\",\" \",VLOOKUP(R443,'Main page'!$E$29:'Main page'!$G$41,3,TRUE))","v":" "}]
[null,null,null,null,null,null,null,null,null,null,null,null," "," "," "," ",{"$f":"IF(I444=\"\",\"\",IF(I444<='Main page'!$F$49,\"Core staff\",\"Senior staff\"))","v":""},{"$f":"IF(D444=\"\",\" \",'Main page'!$F$21-(D444))","v":" "},{"$f":"IF(D444=\"\",\" \",VLOOKUP(R444,'Main page'!$E$29:'Main page'!$G$41,3,TRUE))","v":" "}]
[null,null,null,null,null,null,null,null,null,null,null,null," "," "," "," ",{"$f":"IF(I445=\"\",\"\",IF(I445<='Main page'!$F$49,\"Core staff\",\"Senior staff\"))","v":""},{"$f":"IF(D445=\"\",\" \",'Main page'!$F$21-(D445))","v":" "},{"$f":"IF(D445=\"\",\" \",VLOOKUP(R445,'Main page'!$E$29:'Main page'!$G$41,3,TRUE))","v":" "}]
[null,null,null,null,null,null,null,null,null,null,null,null," "," "," "," ",{"$f":"IF(I446=\"\",\"\",IF(I446<='Main page'!$F$49,\"Core staff\",\"Senior staff\"))","v":""},{"$f":"IF(D446=\"\",\" \",'Main page'!$F$21-(D446))","v":" "},{"$f":"IF(D446=\"\",\" \",VLOOKUP(R446,'Main page'!$E$29:'Main page'!$G$41,3,TRUE))","v":" "}]
[null,null,null,null,null,null,null,null,null,null,null,null," "," "," "," ",{"$f":"IF(I447=\"\",\"\",IF(I447<='Main page'!$F$49,\"Core staff\",\"Senior staff\"))","v":""},{"$f":"IF(D447=\"\",\" \",'Main page'!$F$21-(D447))","v":" "},{"$f":"IF(D447=\"\",\" \",VLOOKUP(R447,'Main page'!$E$29:'Main page'!$G$41,3,TRUE))","v":" "}]
[null,null,null,null,null,null,null,null,null,null,null,null," "," "," "," ",{"$f":"IF(I448=\"\",\"\",IF(I448<='Main page'!$F$49,\"Core staff\",\"Senior staff\"))","v":""},{"$f":"IF(D448=\"\",\" \",'Main page'!$F$21-(D448))","v":" "},{"$f":"IF(D448=\"\",\" \",VLOOKUP(R448,'Main page'!$E$29:'Main page'!$G$41,3,TRUE))","v":" "}]
[null,null,null,null,null,null,null,null,null,null,null,null," "," "," "," ",{"$f":"IF(I449=\"\",\"\",IF(I449<='Main page'!$F$49,\"Core staff\",\"Senior staff\"))","v":""},{"$f":"IF(D449=\"\",\" \",'Main page'!$F$21-(D449))","v":" "},{"$f":"IF(D449=\"\",\" \",VLOOKUP(R449,'Main page'!$E$29:'Main page'!$G$41,3,TRUE))","v":" "}]
[null,null,null,null,null,null,null,null,null,null,null,null," "," "," "," ",{"$f":"IF(I450=\"\",\"\",IF(I450<='Main page'!$F$49,\"Core staff\",\"Senior staff\"))","v":""},{"$f":"IF(D450=\"\",\" \",'Main page'!$F$21-(D450))","v":" "},{"$f":"IF(D450=\"\",\" \",VLOOKUP(R450,'Main page'!$E$29:'Main page'!$G$41,3,TRUE))","v":" "}]
[null,null,null,null,null,null,null,null,null,null,null,null," "," "," "," ",{"$f":"IF(I451=\"\",\"\",IF(I451<='Main page'!$F$49,\"Core staff\",\"Senior staff\"))","v":""},{"$f":"IF(D451=\"\",\" \",'Main page'!$F$21-(D451))","v":" "},{"$f":"IF(D451=\"\",\" \",VLOOKUP(R451,'Main page'!$E$29:'Main page'!$G$41,3,TRUE))","v":" "}]
[null,null,null,null,null,null,null,null,null,null,null,null," "," "," "," ",{"$f":"IF(I452=\"\",\"\",IF(I452<='Main page'!$F$49,\"Core staff\",\"Senior staff\"))","v":""},{"$f":"IF(D452=\"\",\" \",'Main page'!$F$21-(D452))","v":" "},{"$f":"IF(D452=\"\",\" \",VLOOKUP(R452,'Main page'!$E$29:'Main page'!$G$41,3,TRUE))","v":" "}]
[null,null,null,null,null,null,null,null,null,null,null,null," "," "," "," ",{"$f":"IF(I453=\"\",\"\",IF(I453<='Main page'!$F$49,\"Core staff\",\"Senior staff\"))","v":""},{"$f":"IF(D453=\"\",\" \",'Main page'!$F$21-(D453))","v":" "},{"$f":"IF(D453=\"\",\" \",VLOOKUP(R453,'Main page'!$E$29:'Main page'!$G$41,3,TRUE))","v":" "}]
[null,null,null,null,null,null,null,null,null,null,null,null," "," "," "," ",{"$f":"IF(I454=\"\",\"\",IF(I454<='Main page'!$F$49,\"Core staff\",\"Senior staff\"))","v":""},{"$f":"IF(D454=\"\",\" \",'Main page'!$F$21-(D454))","v":" "},{"$f":"IF(D454=\"\",\" \",VLOOKUP(R454,'Main page'!$E$29:'Main page'!$G$41,3,TRUE))","v":" "}]
[null,null,null,null,null,null,null,null,null,null,null,null," "," "," "," ",{"$f":"IF(I455=\"\",\"\",IF(I455<='Main page'!$F$49,\"Core staff\",\"Senior staff\"))","v":""},{"$f":"IF(D455=\"\",\" \",'Main page'!$F$21-(D455))","v":" "},{"$f":"IF(D455=\"\",\" \",VLOOKUP(R455,'Main page'!$E$29:'Main page'!$G$41,3,TRUE))","v":" "}]
[null,null,null,null,null,null,null,null,null,null,null,null," "," "," "," ",{"$f":"IF(I456=\"\",\"\",IF(I456<='Main page'!$F$49,\"Core staff\",\"Senior staff\"))","v":""},{"$f":"IF(D456=\"\",\" \",'Main page'!$F$21-(D456))","v":" "},{"$f":"IF(D456=\"\",\" \",VLOOKUP(R456,'Main page'!$E$29:'Main page'!$G$41,3,TRUE))","v":" "}]
[null,null,null,null,null,null,null,null,null,null,null,null," "," "," "," ",{"$f":"IF(I457=\"\",\"\",IF(I457<='Main page'!$F$49,\"Core staff\",\"Senior staff\"))","v":""},{"$f":"IF(D457=\"\",\" \",'Main page'!$F$21-(D457))","v":" "},{"$f":"IF(D457=\"\",\" \",VLOOKUP(R457,'Main page'!$E$29:'Main page'!$G$41,3,TRUE))","v":" "}]
[null,null,null,null,null,null,null,null,null,null,null,null," "," "," "," ",{"$f":"IF(I458=\"\",\"\",IF(I458<='Main page'!$F$49,\"Core staff\",\"Senior staff\"))","v":""},{"$f":"IF(D458=\"\",\" \",'Main page'!$F$21-(D458))","v":" "},{"$f":"IF(D458=\"\",\" \",VLOOKUP(R458,'Main page'!$E$29:'Main page'!$G$41,3,TRUE))","v":" "}]
[null,null,null,null,null,null,null,null,null,null,null,null," "," "," "," ",{"$f":"IF(I459=\"\",\"\",IF(I459<='Main page'!$F$49,\"Core staff\",\"Senior staff\"))","v":""},{"$f":"IF(D459=\"\",\" \",'Main page'!$F$21-(D459))","v":" "},{"$f":"IF(D459=\"\",\" \",VLOOKUP(R459,'Main page'!$E$29:'Main page'!$G$41,3,TRUE))","v":" "}]
[null,null,null,null,null,null,null,null,null,null,null,null," "," "," "," ",{"$f":"IF(I460=\"\",\"\",IF(I460<='Main page'!$F$49,\"Core staff\",\"Senior staff\"))","v":""},{"$f":"IF(D460=\"\",\" \",'Main page'!$F$21-(D460))","v":" "},{"$f":"IF(D460=\"\",\" \",VLOOKUP(R460,'Main page'!$E$29:'Main page'!$G$41,3,TRUE))","v":" "}]
[null,null,null,null,null,null,null,null,null,null,null,null," "," "," "," ",{"$f":"IF(I461=\"\",\"\",IF(I461<='Main page'!$F$49,\"Core staff\",\"Senior staff\"))","v":""},{"$f":"IF(D461=\"\",\" \",'Main page'!$F$21-(D461))","v":" "},{"$f":"IF(D461=\"\",\" \",VLOOKUP(R461,'Main page'!$E$29:'Main page'!$G$41,3,TRUE))","v":" "}]
[null,null,null,null,null,null,null,null,null,null,null,null,{"$f":"IFERROR(J462/G462,\" \")","v":" "},{"$f":"IFERROR((M462/$U$4)/H462,\" \")","v":" "},{"$f":"IFERROR((N462*75)*26.083,\" \")","v":" "},{"$f":"IF(G462=0,\" \",IF(G462=1,\"Full time\",\"Part time\"))","v":" "},{"$f":"IF(I462=\"\",\"\",IF(I462<='Main page'!$F$49,\"Core staff\",\"Senior staff\"))","v":""},{"$f":"IF(D462=\"\",\" \",'Main page'!$F$21-(D462))","v":" "},{"$f":"IF(D462=\"\",\" \",VLOOKUP(R462,'Main page'!$E$29:'Main page'!$G$41,3,TRUE))","v":" "}]
[null,null,null,null,null,null,null,null,null,null,null,null," "," "," "," ",{"$f":"IF(I463=\"\",\"\",IF(I463<='Main page'!$F$49,\"Core staff\",\"Senior staff\"))","v":""},{"$f":"IF(D463=\"\",\" \",'Main page'!$F$21-(D463))","v":" "},{"$f":"IF(D463=\"\",\" \",VLOOKUP(R463,'Main page'!$E$29:'Main page'!$G$41,3,TRUE))","v":" "}]
[null,null,null,null,null,null,null,null,null,null,null,null," "," "," "," ",{"$f":"IF(I464=\"\",\"\",IF(I464<='Main page'!$F$49,\"Core staff\",\"Senior staff\"))","v":""},{"$f":"IF(D464=\"\",\" \",'Main page'!$F$21-(D464))","v":" "},{"$f":"IF(D464=\"\",\" \",VLOOKUP(R464,'Main page'!$E$29:'Main page'!$G$41,3,TRUE))","v":" "}]
[null,null,null,null,null,null,null,null,null,null,null,null," "," "," "," ",{"$f":"IF(I465=\"\",\"\",IF(I465<='Main page'!$F$49,\"Core staff\",\"Senior staff\"))","v":""},{"$f":"IF(D465=\"\",\" \",'Main page'!$F$21-(D465))","v":" "},{"$f":"IF(D465=\"\",\" \",VLOOKUP(R465,'Main page'!$E$29:'Main page'!$G$41,3,TRUE))","v":" "}]
[null,null,null,null,null,null,null,null,null,null,null,null," "," "," "," ",{"$f":"IF(I466=\"\",\"\",IF(I466<='Main page'!$F$49,\"Core staff\",\"Senior staff\"))","v":""},{"$f":"IF(D466=\"\",\" \",'Main page'!$F$21-(D466))","v":" "},{"$f":"IF(D466=\"\",\" \",VLOOKUP(R466,'Main page'!$E$29:'Main page'!$G$41,3,TRUE))","v":" "}]
[null,null,null,null,null,null,null,null,null,null,null,null," "," "," "," ",{"$f":"IF(I467=\"\",\"\",IF(I467<='Main page'!$F$49,\"Core staff\",\"Senior staff\"))","v":""},{"$f":"IF(D467=\"\",\" \",'Main page'!$F$21-(D467))","v":" "},{"$f":"IF(D467=\"\",\" \",VLOOKUP(R467,'Main page'!$E$29:'Main page'!$G$41,3,TRUE))","v":" "}]
[null,null,null,null,null,null,null,null,null,null,null,null," "," "," "," ",{"$f":"IF(I468=\"\",\"\",IF(I468<='Main page'!$F$49,\"Core staff\",\"Senior staff\"))","v":""},{"$f":"IF(D468=\"\",\" \",'Main page'!$F$21-(D468))","v":" "},{"$f":"IF(D468=\"\",\" \",VLOOKUP(R468,'Main page'!$E$29:'Main page'!$G$41,3,TRUE))","v":" "}]
[null,null,null,null,null,null,null,null,null,null,null,null," "," "," "," ",{"$f":"IF(I469=\"\",\"\",IF(I469<='Main page'!$F$49,\"Core staff\",\"Senior staff\"))","v":""},{"$f":"IF(D469=\"\",\" \",'Main page'!$F$21-(D469))","v":" "},{"$f":"IF(D469=\"\",\" \",VLOOKUP(R469,'Main page'!$E$29:'Main page'!$G$41,3,TRUE))","v":" "}]
[null,null,null,null,null,null,null,null,null,null,null,null," "," "," "," ",{"$f":"IF(I470=\"\",\"\",IF(I470<='Main page'!$F$49,\"Core staff\",\"Senior staff\"))","v":""},{"$f":"IF(D470=\"\",\" \",'Main page'!$F$21-(D470))","v":" "},{"$f":"IF(D470=\"\",\" \",VLOOKUP(R470,'Main page'!$E$29:'Main page'!$G$41,3,TRUE))","v":" "}]
[null,null,null,null,null,null,null,null,null,null,null,null," "," "," "," ",{"$f":"IF(I471=\"\",\"\",IF(I471<='Main page'!$F$49,\"Core staff\",\"Senior staff\"))","v":""},{"$f":"IF(D471=\"\",\" \",'Main page'!$F$21-(D471))","v":" "},{"$f":"IF(D471=\"\",\" \",VLOOKUP(R471,'Main page'!$E$29:'Main page'!$G$41,3,TRUE))","v":" "}]
[null,null,null,null,null,null,null,null,null,null,null,null," "," "," "," ",{"$f":"IF(I472=\"\",\"\",IF(I472<='Main page'!$F$49,\"Core staff\",\"Senior staff\"))","v":""},{"$f":"IF(D472=\"\",\" \",'Main page'!$F$21-(D472))","v":" "},{"$f":"IF(D472=\"\",\" \",VLOOKUP(R472,'Main page'!$E$29:'Main page'!$G$41,3,TRUE))","v":" "}]
[null,null,null,null,null,null,null,null,null,null,null,null," "," "," "," ",{"$f":"IF(I473=\"\",\"\",IF(I473<='Main page'!$F$49,\"Core staff\",\"Senior staff\"))","v":""},{"$f":"IF(D473=\"\",\" \",'Main page'!$F$21-(D473))","v":" "},{"$f":"IF(D473=\"\",\" \",VLOOKUP(R473,'Main page'!$E$29:'Main page'!$G$41,3,TRUE))","v":" "}]
[null,null,null,null,null,null,null,null,null,null,null,null," "," "," "," ",{"$f":"IF(I474=\"\",\"\",IF(I474<='Main page'!$F$49,\"Core staff\",\"Senior staff\"))","v":""},{"$f":"IF(D474=\"\",\" \",'Main page'!$F$21-(D474))","v":" "},{"$f":"IF(D474=\"\",\" \",VLOOKUP(R474,'Main page'!$E$29:'Main page'!$G$41,3,TRUE))","v":" "}]
[null,null,null,null,null,null,null,null,null,null,null,null," "," "," "," ",{"$f":"IF(I475=\"\",\"\",IF(I475<='Main page'!$F$49,\"Core staff\",\"Senior staff\"))","v":""},{"$f":"IF(D475=\"\",\" \",'Main page'!$F$21-(D475))","v":" "},{"$f":"IF(D475=\"\",\" \",VLOOKUP(R475,'Main page'!$E$29:'Main page'!$G$41,3,TRUE))","v":" "}]
[null,null,null,null,null,null,null,null,null,null,null,null," "," "," "," ",{"$f":"IF(I476=\"\",\"\",IF(I476<='Main page'!$F$49,\"Core staff\",\"Senior staff\"))","v":""},{"$f":"IF(D476=\"\",\" \",'Main page'!$F$21-(D476))","v":" "},{"$f":"IF(D476=\"\",\" \",VLOOKUP(R476,'Main page'!$E$29:'Main page'!$G$41,3,TRUE))","v":" "}]
[null,null,null,null,null,null,null,null,null,null,null,null," "," "," "," ",{"$f":"IF(I477=\"\",\"\",IF(I477<='Main page'!$F$49,\"Core staff\",\"Senior staff\"))","v":""},{"$f":"IF(D477=\"\",\" \",'Main page'!$F$21-(D477))","v":" "},{"$f":"IF(D477=\"\",\" \",VLOOKUP(R477,'Main page'!$E$29:'Main page'!$G$41,3,TRUE))","v":" "}]
[null,null,null,null,null,null,null,null,null,null,null,null," "," "," "," ",{"$f":"IF(I478=\"\",\"\",IF(I478<='Main page'!$F$49,\"Core staff\",\"Senior staff\"))","v":""},{"$f":"IF(D478=\"\",\" \",'Main page'!$F$21-(D478))","v":" "},{"$f":"IF(D478=\"\",\" \",VLOOKUP(R478,'Main page'!$E$29:'Main page'!$G$41,3,TRUE))","v":" "}]
[null,null,null,null,null,null,null,null,null,null,null,null," "," "," "," ",{"$f":"IF(I479=\"\",\"\",IF(I479<='Main page'!$F$49,\"Core staff\",\"Senior staff\"))","v":""},{"$f":"IF(D479=\"\",\" \",'Main page'!$F$21-(D479))","v":" "},{"$f":"IF(D479=\"\",\" \",VLOOKUP(R479,'Main page'!$E$29:'Main page'!$G$41,3,TRUE))","v":" "}]
[null,null,null,null,null,null,null,null,null,null,null,null," "," "," "," ",{"$f":"IF(I480=\"\",\"\",IF(I480<='Main page'!$F$49,\"Core staff\",\"Senior staff\"))","v":""},{"$f":"IF(D480=\"\",\" \",'Main page'!$F$21-(D480))","v":" "},{"$f":"IF(D480=\"\",\" \",VLOOKUP(R480,'Main page'!$E$29:'Main page'!$G$41,3,TRUE))","v":" "}]
[null,null,null,null,null,null,null,null,null,null,null,null," "," "," "," ",{"$f":"IF(I481=\"\",\"\",IF(I481<='Main page'!$F$49,\"Core staff\",\"Senior staff\"))","v":""},{"$f":"IF(D481=\"\",\" \",'Main page'!$F$21-(D481))","v":" "},{"$f":"IF(D481=\"\",\" \",VLOOKUP(R481,'Main page'!$E$29:'Main page'!$G$41,3,TRUE))","v":" "}]
[null,null,null,null,null,null,null,null,null,null,null,null," "," "," "," ",{"$f":"IF(I482=\"\",\"\",IF(I482<='Main page'!$F$49,\"Core staff\",\"Senior staff\"))","v":""},{"$f":"IF(D482=\"\",\" \",'Main page'!$F$21-(D482))","v":" "},{"$f":"IF(D482=\"\",\" \",VLOOKUP(R482,'Main page'!$E$29:'Main page'!$G$41,3,TRUE))","v":" "}]
[null,null,null,null,null,null,null,null,null,null,null,null," "," "," "," ",{"$f":"IF(I483=\"\",\"\",IF(I483<='Main page'!$F$49,\"Core staff\",\"Senior staff\"))","v":""},{"$f":"IF(D483=\"\",\" \",'Main page'!$F$21-(D483))","v":" "},{"$f":"IF(D483=\"\",\" \",VLOOKUP(R483,'Main page'!$E$29:'Main page'!$G$41,3,TRUE))","v":" "}]
[null,null,null,null,null,null,null,null,null,null,null,null," "," "," "," ",{"$f":"IF(I484=\"\",\"\",IF(I484<='Main page'!$F$49,\"Core staff\",\"Senior staff\"))","v":""},{"$f":"IF(D484=\"\",\" \",'Main page'!$F$21-(D484))","v":" "},{"$f":"IF(D484=\"\",\" \",VLOOKUP(R484,'Main page'!$E$29:'Main page'!$G$41,3,TRUE))","v":" "}]
[null,null,null,null,null,null,null,null,null,null,null,null," "," "," "," ",{"$f":"IF(I485=\"\",\"\",IF(I485<='Main page'!$F$49,\"Core staff\",\"Senior staff\"))","v":""},{"$f":"IF(D485=\"\",\" \",'Main page'!$F$21-(D485))","v":" "},{"$f":"IF(D485=\"\",\" \",VLOOKUP(R485,'Main page'!$E$29:'Main page'!$G$41,3,TRUE))","v":" "}]
[null,null,null,null,null,null,null,null,null,null,null,null," "," "," "," ",{"$f":"IF(I486=\"\",\"\",IF(I486<='Main page'!$F$49,\"Core staff\",\"Senior staff\"))","v":""},{"$f":"IF(D486=\"\",\" \",'Main page'!$F$21-(D486))","v":" "},{"$f":"IF(D486=\"\",\" \",VLOOKUP(R486,'Main page'!$E$29:'Main page'!$G$41,3,TRUE))","v":" "}]
[null,null,null,null,null,null,null,null,null,null,null,null," "," "," "," ",{"$f":"IF(I487=\"\",\"\",IF(I487<='Main page'!$F$49,\"Core staff\",\"Senior staff\"))","v":""},{"$f":"IF(D487=\"\",\" \",'Main page'!$F$21-(D487))","v":" "},{"$f":"IF(D487=\"\",\" \",VLOOKUP(R487,'Main page'!$E$29:'Main page'!$G$41,3,TRUE))","v":" "}]
[null,null,null,null,null,null,null,null,null,null,null,null," "," "," "," ",{"$f":"IF(I488=\"\",\"\",IF(I488<='Main page'!$F$49,\"Core staff\",\"Senior staff\"))","v":""},{"$f":"IF(D488=\"\",\" \",'Main page'!$F$21-(D488))","v":" "},{"$f":"IF(D488=\"\",\" \",VLOOKUP(R488,'Main page'!$E$29:'Main page'!$G$41,3,TRUE))","v":" "}]
[null,null,null,null,null,null,null,null,null,null,null,null," "," "," "," ",{"$f":"IF(I489=\"\",\"\",IF(I489<='Main page'!$F$49,\"Core staff\",\"Senior staff\"))","v":""},{"$f":"IF(D489=\"\",\" \",'Main page'!$F$21-(D489))","v":" "},{"$f":"IF(D489=\"\",\" \",VLOOKUP(R489,'Main page'!$E$29:'Main page'!$G$41,3,TRUE))","v":" "}]
[null,null,null,null,null,null,null,null,null,null,null,null," "," "," "," ",{"$f":"IF(I490=\"\",\"\",IF(I490<='Main page'!$F$49,\"Core staff\",\"Senior staff\"))","v":""},{"$f":"IF(D490=\"\",\" \",'Main page'!$F$21-(D490))","v":" "},{"$f":"IF(D490=\"\",\" \",VLOOKUP(R490,'Main page'!$E$29:'Main page'!$G$41,3,TRUE))","v":" "}]
[null,null,null,null,null,null,null,null,null,null,null,null," "," "," "," ",{"$f":"IF(I491=\"\",\"\",IF(I491<='Main page'!$F$49,\"Core staff\",\"Senior staff\"))","v":""},{"$f":"IF(D491=\"\",\" \",'Main page'!$F$21-(D491))","v":" "},{"$f":"IF(D491=\"\",\" \",VLOOKUP(R491,'Main page'!$E$29:'Main page'!$G$41,3,TRUE))","v":" "}]
[null,null,null,null,null,null,null,null,null,null,null,null," "," "," "," ",{"$f":"IF(I492=\"\",\"\",IF(I492<='Main page'!$F$49,\"Core staff\",\"Senior staff\"))","v":""},{"$f":"IF(D492=\"\",\" \",'Main page'!$F$21-(D492))","v":" "},{"$f":"IF(D492=\"\",\" \",VLOOKUP(R492,'Main page'!$E$29:'Main page'!$G$41,3,TRUE))","v":" "}]
[null,null,null,null,null,null,null,null,null,null,null,null," "," "," "," ",{"$f":"IF(I493=\"\",\"\",IF(I493<='Main page'!$F$49,\"Core staff\",\"Senior staff\"))","v":""},{"$f":"IF(D493=\"\",\" \",'Main page'!$F$21-(D493))","v":" "},{"$f":"IF(D493=\"\",\" \",VLOOKUP(R493,'Main page'!$E$29:'Main page'!$G$41,3,TRUE))","v":" "}]
[null,null,null,null,null,null,null,null,null,null,null,null," "," "," "," ",{"$f":"IF(I494=\"\",\"\",IF(I494<='Main page'!$F$49,\"Core staff\",\"Senior staff\"))","v":""},{"$f":"IF(D494=\"\",\" \",'Main page'!$F$21-(D494))","v":" "},{"$f":"IF(D494=\"\",\" \",VLOOKUP(R494,'Main page'!$E$29:'Main page'!$G$41,3,TRUE))","v":" "}]
[null,null,null,null,null,null,null,null,null,null,null,null," "," "," "," ",{"$f":"IF(I495=\"\",\"\",IF(I495<='Main page'!$F$49,\"Core staff\",\"Senior staff\"))","v":""},{"$f":"IF(D495=\"\",\" \",'Main page'!$F$21-(D495))","v":" "},{"$f":"IF(D495=\"\",\" \",VLOOKUP(R495,'Main page'!$E$29:'Main page'!$G$41,3,TRUE))","v":" "}]
[null,null,null,null,null,null,null,null,null,null,null,null," "," "," "," ",{"$f":"IF(I496=\"\",\"\",IF(I496<='Main page'!$F$49,\"Core staff\",\"Senior staff\"))","v":""},{"$f":"IF(D496=\"\",\" \",'Main page'!$F$21-(D496))","v":" "},{"$f":"IF(D496=\"\",\" \",VLOOKUP(R496,'Main page'!$E$29:'Main page'!$G$41,3,TRUE))","v":" "}]
[null,null,null,null,null,null,null,null,null,null,null,null," "," "," "," ",{"$f":"IF(I497=\"\",\"\",IF(I497<='Main page'!$F$49,\"Core staff\",\"Senior staff\"))","v":""},{"$f":"IF(D497=\"\",\" \",'Main page'!$F$21-(D497))","v":" "},{"$f":"IF(D497=\"\",\" \",VLOOKUP(R497,'Main page'!$E$29:'Main page'!$G$41,3,TRUE))","v":" "}]
[null,null,null,null,null,null,null,null,null,null,null,null," "," "," "," ",{"$f":"IF(I498=\"\",\"\",IF(I498<='Main page'!$F$49,\"Core staff\",\"Senior staff\"))","v":""},{"$f":"IF(D498=\"\",\" \",'Main page'!$F$21-(D498))","v":" "},{"$f":"IF(D498=\"\",\" \",VLOOKUP(R498,'Main page'!$E$29:'Main page'!$G$41,3,TRUE))","v":" "}]
[null,null,null,null,null,null,null,null,null,null,null,null," "," "," "," ",{"$f":"IF(I499=\"\",\"\",IF(I499<='Main page'!$F$49,\"Core staff\",\"Senior staff\"))","v":""},{"$f":"IF(D499=\"\",\" \",'Main page'!$F$21-(D499))","v":" "},{"$f":"IF(D499=\"\",\" \",VLOOKUP(R499,'Main page'!$E$29:'Main page'!$G$41,3,TRUE))","v":" "}]
[null,null,null,null,null,null,null,null,null,null,null,null," "," "," "," ",{"$f":"IF(I500=\"\",\"\",IF(I500<='Main page'!$F$49,\"Core staff\",\"Senior staff\"))","v":""},{"$f":"IF(D500=\"\",\" \",'Main page'!$F$21-(D500))","v":" "},{"$f":"IF(D500=\"\",\" \",VLOOKUP(R500,'Main page'!$E$29:'Main page'!$G$41,3,TRUE))","v":" "}]
[null,null,null,null,null,null,null,null,null,null,null,null," "," "," "," ",{"$f":"IF(I501=\"\",\"\",IF(I501<='Main page'!$F$49,\"Core staff\",\"Senior staff\"))","v":""},{"$f":"IF(D501=\"\",\" \",'Main page'!$F$21-(D501))","v":" "},{"$f":"IF(D501=\"\",\" \",VLOOKUP(R501,'Main page'!$E$29:'Main page'!$G$41,3,TRUE))","v":" "}]
[null,null,null,null,null,null,null,null,null,null,null,null," "," "," "," ",{"$f":"IF(I502=\"\",\"\",IF(I502<='Main page'!$F$49,\"Core staff\",\"Senior staff\"))","v":""},{"$f":"IF(D502=\"\",\" \",'Main page'!$F$21-(D502))","v":" "},{"$f":"IF(D502=\"\",\" \",VLOOKUP(R502,'Main page'!$E$29:'Main page'!$G$41,3,TRUE))","v":" "}]
[null,null,null,null,null,null,null,null,null,null,null,null," "," "," "," ",{"$f":"IF(I503=\"\",\"\",IF(I503<='Main page'!$F$49,\"Core staff\",\"Senior staff\"))","v":""},{"$f":"IF(D503=\"\",\" \",'Main page'!$F$21-(D503))","v":" "},{"$f":"IF(D503=\"\",\" \",VLOOKUP(R503,'Main page'!$E$29:'Main page'!$G$41,3,TRUE))","v":" "}]
[null,null,null,null,null,null,null,null,null,null,null,null," "," "," "," ",{"$f":"IF(I504=\"\",\"\",IF(I504<='Main page'!$F$49,\"Core staff\",\"Senior staff\"))","v":""},{"$f":"IF(D504=\"\",\" \",'Main page'!$F$21-(D504))","v":" "},{"$f":"IF(D504=\"\",\" \",VLOOKUP(R504,'Main page'!$E$29:'Main page'!$G$41,3,TRUE))","v":" "}]
[null,null,null,null,null,null,null,null,null,null,null,null," "," "," "," ",{"$f":"IF(I505=\"\",\"\",IF(I505<='Main page'!$F$49,\"Core staff\",\"Senior staff\"))","v":""},{"$f":"IF(D505=\"\",\" \",'Main page'!$F$21-(D505))","v":" "},{"$f":"IF(D505=\"\",\" \",VLOOKUP(R505,'Main page'!$E$29:'Main page'!$G$41,3,TRUE))","v":" "}]
[null,null,null,null,null,null,null,null,null,null,null,null," "," "," "," ",{"$f":"IF(I506=\"\",\"\",IF(I506<='Main page'!$F$49,\"Core staff\",\"Senior staff\"))","v":""},{"$f":"IF(D506=\"\",\" \",'Main page'!$F$21-(D506))","v":" "},{"$f":"IF(D506=\"\",\" \",VLOOKUP(R506,'Main page'!$E$29:'Main page'!$G$41,3,TRUE))","v":" "}]
[null,null,null,null,null,null,null,null,null,null,null,null," "," "," "," ",{"$f":"IF(I507=\"\",\"\",IF(I507<='Main page'!$F$49,\"Core staff\",\"Senior staff\"))","v":""},{"$f":"IF(D507=\"\",\" \",'Main page'!$F$21-(D507))","v":" "},{"$f":"IF(D507=\"\",\" \",VLOOKUP(R507,'Main page'!$E$29:'Main page'!$G$41,3,TRUE))","v":" "}]
[null,null,null,null,null,null,null,null,null,null,null,null," "," "," "," ",{"$f":"IF(I508=\"\",\"\",IF(I508<='Main page'!$F$49,\"Core staff\",\"Senior staff\"))","v":""},{"$f":"IF(D508=\"\",\" \",'Main page'!$F$21-(D508))","v":" "},{"$f":"IF(D508=\"\",\" \",VLOOKUP(R508,'Main page'!$E$29:'Main page'!$G$41,3,TRUE))","v":" "}]
[null,null,null,null,null,null,null,null,null,null,null,null," "," "," "," ",{"$f":"IF(I509=\"\",\"\",IF(I509<='Main page'!$F$49,\"Core staff\",\"Senior staff\"))","v":""},{"$f":"IF(D509=\"\",\" \",'Main page'!$F$21-(D509))","v":" "},{"$f":"IF(D509=\"\",\" \",VLOOKUP(R509,'Main page'!$E$29:'Main page'!$G$41,3,TRUE))","v":" "}]
[null,null,null,null,null,null,null,null,null,null,null,null," "," "," "," ",{"$f":"IF(I510=\"\",\"\",IF(I510<='Main page'!$F$49,\"Core staff\",\"Senior staff\"))","v":""},{"$f":"IF(D510=\"\",\" \",'Main page'!$F$21-(D510))","v":" "},{"$f":"IF(D510=\"\",\" \",VLOOKUP(R510,'Main page'!$E$29:'Main page'!$G$41,3,TRUE))","v":" "}]
[null,null,null,null,null,null,null,null,null,null,null,null," "," "," "," ",{"$f":"IF(I511=\"\",\"\",IF(I511<='Main page'!$F$49,\"Core staff\",\"Senior staff\"))","v":""},{"$f":"IF(D511=\"\",\" \",'Main page'!$F$21-(D511))","v":" "},{"$f":"IF(D511=\"\",\" \",VLOOKUP(R511,'Main page'!$E$29:'Main page'!$G$41,3,TRUE))","v":" "}]
[null,null,null,null,null,null,null,null,null,null,null,null," "," "," "," ",{"$f":"IF(I512=\"\",\"\",IF(I512<='Main page'!$F$49,\"Core staff\",\"Senior staff\"))","v":""},{"$f":"IF(D512=\"\",\" \",'Main page'!$F$21-(D512))","v":" "},{"$f":"IF(D512=\"\",\" \",VLOOKUP(R512,'Main page'!$E$29:'Main page'!$G$41,3,TRUE))","v":" "}]
[null,null,null,null,null,null,null,null,null,null,null,null," "," "," "," ",{"$f":"IF(I513=\"\",\"\",IF(I513<='Main page'!$F$49,\"Core staff\",\"Senior staff\"))","v":""},{"$f":"IF(D513=\"\",\" \",'Main page'!$F$21-(D513))","v":" "},{"$f":"IF(D513=\"\",\" \",VLOOKUP(R513,'Main page'!$E$29:'Main page'!$G$41,3,TRUE))","v":" "}]
[null,null,null,null,null,null,null,null,null,null,null,null," "," "," "," ",{"$f":"IF(I514=\"\",\"\",IF(I514<='Main page'!$F$49,\"Core staff\",\"Senior staff\"))","v":""},{"$f":"IF(D514=\"\",\" \",'Main page'!$F$21-(D514))","v":" "},{"$f":"IF(D514=\"\",\" \",VLOOKUP(R514,'Main page'!$E$29:'Main page'!$G$41,3,TRUE))","v":" "}]
[null,null,null,null,null,null,null,null,null,null,null,null," "," "," "," ",{"$f":"IF(I515=\"\",\"\",IF(I515<='Main page'!$F$49,\"Core staff\",\"Senior staff\"))","v":""},{"$f":"IF(D515=\"\",\" \",'Main page'!$F$21-(D515))","v":" "},{"$f":"IF(D515=\"\",\" \",VLOOKUP(R515,'Main page'!$E$29:'Main page'!$G$41,3,TRUE))","v":" "}]
[null,null,null,null,null,null,null,null,null,null,null,null," "," "," "," ",{"$f":"IF(I516=\"\",\"\",IF(I516<='Main page'!$F$49,\"Core staff\",\"Senior staff\"))","v":""},{"$f":"IF(D516=\"\",\" \",'Main page'!$F$21-(D516))","v":" "},{"$f":"IF(D516=\"\",\" \",VLOOKUP(R516,'Main page'!$E$29:'Main page'!$G$41,3,TRUE))","v":" "}]
[null,null,null,null,null,null,null,null,null,null,null,null," "," "," "," ",{"$f":"IF(I517=\"\",\"\",IF(I517<='Main page'!$F$49,\"Core staff\",\"Senior staff\"))","v":""},{"$f":"IF(D517=\"\",\" \",'Main page'!$F$21-(D517))","v":" "},{"$f":"IF(D517=\"\",\" \",VLOOKUP(R517,'Main page'!$E$29:'Main page'!$G$41,3,TRUE))","v":" "}]
[null,null,null,null,null,null,null,null,null,null,null,null," "," "," "," ",{"$f":"IF(I518=\"\",\"\",IF(I518<='Main page'!$F$49,\"Core staff\",\"Senior staff\"))","v":""},{"$f":"IF(D518=\"\",\" \",'Main page'!$F$21-(D518))","v":" "},{"$f":"IF(D518=\"\",\" \",VLOOKUP(R518,'Main page'!$E$29:'Main page'!$G$41,3,TRUE))","v":" "}]
[null,null,null,null,null,null,null,null,null,null,null,null," "," "," "," ",{"$f":"IF(I519=\"\",\"\",IF(I519<='Main page'!$F$49,\"Core staff\",\"Senior staff\"))","v":""},{"$f":"IF(D519=\"\",\" \",'Main page'!$F$21-(D519))","v":" "},{"$f":"IF(D519=\"\",\" \",VLOOKUP(R519,'Main page'!$E$29:'Main page'!$G$41,3,TRUE))","v":" "}]
[null,null,null,null,null,null,null,null,null,null,null,null," "," "," "," ",{"$f":"IF(I520=\"\",\"\",IF(I520<='Main page'!$F$49,\"Core staff\",\"Senior staff\"))","v":""},{"$f":"IF(D520=\"\",\" \",'Main page'!$F$21-(D520))","v":" "},{"$f":"IF(D520=\"\",\" \",VLOOKUP(R520,'Main page'!$E$29:'Main page'!$G$41,3,TRUE))","v":" "}]
[null,null,null,null,null,null,null,null,null,null,null,null," "," "," "," ",{"$f":"IF(I521=\"\",\"\",IF(I521<='Main page'!$F$49,\"Core staff\",\"Senior staff\"))","v":""},{"$f":"IF(D521=\"\",\" \",'Main page'!$F$21-(D521))","v":" "},{"$f":"IF(D521=\"\",\" \",VLOOKUP(R521,'Main page'!$E$29:'Main page'!$G$41,3,TRUE))","v":" "}]
[null,null,null,null,null,null,null,null,null,null,null,null," "," "," "," ",{"$f":"IF(I522=\"\",\"\",IF(I522<='Main page'!$F$49,\"Core staff\",\"Senior staff\"))","v":""},{"$f":"IF(D522=\"\",\" \",'Main page'!$F$21-(D522))","v":" "},{"$f":"IF(D522=\"\",\" \",VLOOKUP(R522,'Main page'!$E$29:'Main page'!$G$41,3,TRUE))","v":" "}]
[null,null,null,null,null,null,null,null,null,null,null,null," "," "," "," ",{"$f":"IF(I523=\"\",\"\",IF(I523<='Main page'!$F$49,\"Core staff\",\"Senior staff\"))","v":""},{"$f":"IF(D523=\"\",\" \",'Main page'!$F$21-(D523))","v":" "},{"$f":"IF(D523=\"\",\" \",VLOOKUP(R523,'Main page'!$E$29:'Main page'!$G$41,3,TRUE))","v":" "}]
[null,null,null,null,null,null,null,null,null,null,null,null," "," "," "," ",{"$f":"IF(I524=\"\",\"\",IF(I524<='Main page'!$F$49,\"Core staff\",\"Senior staff\"))","v":""},{"$f":"IF(D524=\"\",\" \",'Main page'!$F$21-(D524))","v":" "},{"$f":"IF(D524=\"\",\" \",VLOOKUP(R524,'Main page'!$E$29:'Main page'!$G$41,3,TRUE))","v":" "}]
[null,null,null,null,null,null,null,null,null,null,null,null," "," "," "," ",{"$f":"IF(I525=\"\",\"\",IF(I525<='Main page'!$F$49,\"Core staff\",\"Senior staff\"))","v":""},{"$f":"IF(D525=\"\",\" \",'Main page'!$F$21-(D525))","v":" "},{"$f":"IF(D525=\"\",\" \",VLOOKUP(R525,'Main page'!$E$29:'Main page'!$G$41,3,TRUE))","v":" "}]
[null,null,null,null,null,null,null,null,null,null,null,null,{"$f":"IFERROR(J526/G526,\" \")","v":" "},{"$f":"IFERROR((M526/$U$4)/H526,\" \")","v":" "},{"$f":"IFERROR((N526*75)*26.083,\" \")","v":" "},{"$f":"IF(G526=0,\" \",IF(G526=1,\"Full time\",\"Part time\"))","v":" "},{"$f":"IF(I526=\"\",\"\",IF(I526<='Main page'!$F$49,\"Core staff\",\"Senior staff\"))","v":""},{"$f":"IF(D526=\"\",\" \",'Main page'!$F$21-(D526))","v":" "},{"$f":"IF(D526=\"\",\" \",VLOOKUP(R526,'Main page'!$E$29:'Main page'!$G$41,3,TRUE))","v":" "}]
[null,null,null,null,null,null,null,null,null,null,null,null," "," "," "," ",{"$f":"IF(I527=\"\",\"\",IF(I527<='Main page'!$F$49,\"Core staff\",\"Senior staff\"))","v":""},{"$f":"IF(D527=\"\",\" \",'Main page'!$F$21-(D527))","v":" "},{"$f":"IF(D527=\"\",\" \",VLOOKUP(R527,'Main page'!$E$29:'Main page'!$G$41,3,TRUE))","v":" "}]
[null,null,null,null,null,null,null,null,null,null,null,null," "," "," "," ",{"$f":"IF(I528=\"\",\"\",IF(I528<='Main page'!$F$49,\"Core staff\",\"Senior staff\"))","v":""},{"$f":"IF(D528=\"\",\" \",'Main page'!$F$21-(D528))","v":" "},{"$f":"IF(D528=\"\",\" \",VLOOKUP(R528,'Main page'!$E$29:'Main page'!$G$41,3,TRUE))","v":" "}]
[null,null,null,null,null,null,null,null,null,null,null,null," "," "," "," ",{"$f":"IF(I529=\"\",\"\",IF(I529<='Main page'!$F$49,\"Core staff\",\"Senior staff\"))","v":""},{"$f":"IF(D529=\"\",\" \",'Main page'!$F$21-(D529))","v":" "},{"$f":"IF(D529=\"\",\" \",VLOOKUP(R529,'Main page'!$E$29:'Main page'!$G$41,3,TRUE))","v":" "}]
[null,null,null,null,null,null,null,null,null,null,null,null," "," "," "," ",{"$f":"IF(I530=\"\",\"\",IF(I530<='Main page'!$F$49,\"Core staff\",\"Senior staff\"))","v":""},{"$f":"IF(D530=\"\",\" \",'Main page'!$F$21-(D530))","v":" "},{"$f":"IF(D530=\"\",\" \",VLOOKUP(R530,'Main page'!$E$29:'Main page'!$G$41,3,TRUE))","v":" "}]
[null,null,null,null,null,null,null,null,null,null,null,null," "," "," "," ",{"$f":"IF(I531=\"\",\"\",IF(I531<='Main page'!$F$49,\"Core staff\",\"Senior staff\"))","v":""},{"$f":"IF(D531=\"\",\" \",'Main page'!$F$21-(D531))","v":" "},{"$f":"IF(D531=\"\",\" \",VLOOKUP(R531,'Main page'!$E$29:'Main page'!$G$41,3,TRUE))","v":" "}]
[null,null,null,null,null,null,null,null,null,null,null,null," "," "," "," ",{"$f":"IF(I532=\"\",\"\",IF(I532<='Main page'!$F$49,\"Core staff\",\"Senior staff\"))","v":""},{"$f":"IF(D532=\"\",\" \",'Main page'!$F$21-(D532))","v":" "},{"$f":"IF(D532=\"\",\" \",VLOOKUP(R532,'Main page'!$E$29:'Main page'!$G$41,3,TRUE))","v":" "}]
[null,null,null,null,null,null,null,null,null,null,null,null," "," "," "," ",{"$f":"IF(I533=\"\",\"\",IF(I533<='Main page'!$F$49,\"Core staff\",\"Senior staff\"))","v":""},{"$f":"IF(D533=\"\",\" \",'Main page'!$F$21-(D533))","v":" "},{"$f":"IF(D533=\"\",\" \",VLOOKUP(R533,'Main page'!$E$29:'Main page'!$G$41,3,TRUE))","v":" "}]
[null,null,null,null,null,null,null,null,null,null,null,null," "," "," "," ",{"$f":"IF(I534=\"\",\"\",IF(I534<='Main page'!$F$49,\"Core staff\",\"Senior staff\"))","v":""},{"$f":"IF(D534=\"\",\" \",'Main page'!$F$21-(D534))","v":" "},{"$f":"IF(D534=\"\",\" \",VLOOKUP(R534,'Main page'!$E$29:'Main page'!$G$41,3,TRUE))","v":" "}]
[null,null,null,null,null,null,null,null,null,null,null,null," "," "," "," ",{"$f":"IF(I535=\"\",\"\",IF(I535<='Main page'!$F$49,\"Core staff\",\"Senior staff\"))","v":""},{"$f":"IF(D535=\"\",\" \",'Main page'!$F$21-(D535))","v":" "},{"$f":"IF(D535=\"\",\" \",VLOOKUP(R535,'Main page'!$E$29:'Main page'!$G$41,3,TRUE))","v":" "}]
[null,null,null,null,null,null,null,null,null,null,null,null," "," "," "," ",{"$f":"IF(I536=\"\",\"\",IF(I536<='Main page'!$F$49,\"Core staff\",\"Senior staff\"))","v":""},{"$f":"IF(D536=\"\",\" \",'Main page'!$F$21-(D536))","v":" "},{"$f":"IF(D536=\"\",\" \",VLOOKUP(R536,'Main page'!$E$29:'Main page'!$G$41,3,TRUE))","v":" "}]
[null,null,null,null,null,null,null,null,null,null,null,null," "," "," "," ",{"$f":"IF(I537=\"\",\"\",IF(I537<='Main page'!$F$49,\"Core staff\",\"Senior staff\"))","v":""},{"$f":"IF(D537=\"\",\" \",'Main page'!$F$21-(D537))","v":" "},{"$f":"IF(D537=\"\",\" \",VLOOKUP(R537,'Main page'!$E$29:'Main page'!$G$41,3,TRUE))","v":" "}]
[null,null,null,null,null,null,null,null,null,null,null,null," "," "," "," ",{"$f":"IF(I538=\"\",\"\",IF(I538<='Main page'!$F$49,\"Core staff\",\"Senior staff\"))","v":""},{"$f":"IF(D538=\"\",\" \",'Main page'!$F$21-(D538))","v":" "},{"$f":"IF(D538=\"\",\" \",VLOOKUP(R538,'Main page'!$E$29:'Main page'!$G$41,3,TRUE))","v":" "}]
[null,null,null,null,null,null,null,null,null,null,null,null," "," "," "," ",{"$f":"IF(I539=\"\",\"\",IF(I539<='Main page'!$F$49,\"Core staff\",\"Senior staff\"))","v":""},{"$f":"IF(D539=\"\",\" \",'Main page'!$F$21-(D539))","v":" "},{"$f":"IF(D539=\"\",\" \",VLOOKUP(R539,'Main page'!$E$29:'Main page'!$G$41,3,TRUE))","v":" "}]
[null,null,null,null,null,null,null,null,null,null,null,null," "," "," "," ",{"$f":"IF(I540=\"\",\"\",IF(I540<='Main page'!$F$49,\"Core staff\",\"Senior staff\"))","v":""},{"$f":"IF(D540=\"\",\" \",'Main page'!$F$21-(D540))","v":" "},{"$f":"IF(D540=\"\",\" \",VLOOKUP(R540,'Main page'!$E$29:'Main page'!$G$41,3,TRUE))","v":" "}]
[null,null,null,null,null,null,null,null,null,null,null,null," "," "," "," ",{"$f":"IF(I541=\"\",\"\",IF(I541<='Main page'!$F$49,\"Core staff\",\"Senior staff\"))","v":""},{"$f":"IF(D541=\"\",\" \",'Main page'!$F$21-(D541))","v":" "},{"$f":"IF(D541=\"\",\" \",VLOOKUP(R541,'Main page'!$E$29:'Main page'!$G$41,3,TRUE))","v":" "}]
[null,null,null,null,null,null,null,null,null,null,null,null," "," "," "," ",{"$f":"IF(I542=\"\",\"\",IF(I542<='Main page'!$F$49,\"Core staff\",\"Senior staff\"))","v":""},{"$f":"IF(D542=\"\",\" \",'Main page'!$F$21-(D542))","v":" "},{"$f":"IF(D542=\"\",\" \",VLOOKUP(R542,'Main page'!$E$29:'Main page'!$G$41,3,TRUE))","v":" "}]
[null,null,null,null,null,null,null,null,null,null,null,null," "," "," "," ",{"$f":"IF(I543=\"\",\"\",IF(I543<='Main page'!$F$49,\"Core staff\",\"Senior staff\"))","v":""},{"$f":"IF(D543=\"\",\" \",'Main page'!$F$21-(D543))","v":" "},{"$f":"IF(D543=\"\",\" \",VLOOKUP(R543,'Main page'!$E$29:'Main page'!$G$41,3,TRUE))","v":" "}]
[null,null,null,null,null,null,null,null,null,null,null,null," "," "," "," ",{"$f":"IF(I544=\"\",\"\",IF(I544<='Main page'!$F$49,\"Core staff\",\"Senior staff\"))","v":""},{"$f":"IF(D544=\"\",\" \",'Main page'!$F$21-(D544))","v":" "},{"$f":"IF(D544=\"\",\" \",VLOOKUP(R544,'Main page'!$E$29:'Main page'!$G$41,3,TRUE))","v":" "}]
[null,null,null,null,null,null,null,null,null,null,null,null," "," "," "," ",{"$f":"IF(I545=\"\",\"\",IF(I545<='Main page'!$F$49,\"Core staff\",\"Senior staff\"))","v":""},{"$f":"IF(D545=\"\",\" \",'Main page'!$F$21-(D545))","v":" "},{"$f":"IF(D545=\"\",\" \",VLOOKUP(R545,'Main page'!$E$29:'Main page'!$G$41,3,TRUE))","v":" "}]
[null,null,null,null,null,null,null,null,null,null,null,null," "," "," "," ",{"$f":"IF(I546=\"\",\"\",IF(I546<='Main page'!$F$49,\"Core staff\",\"Senior staff\"))","v":""},{"$f":"IF(D546=\"\",\" \",'Main page'!$F$21-(D546))","v":" "},{"$f":"IF(D546=\"\",\" \",VLOOKUP(R546,'Main page'!$E$29:'Main page'!$G$41,3,TRUE))","v":" "}]
[null,null,null,null,null,null,null,null,null,null,null,null," "," "," "," ",{"$f":"IF(I547=\"\",\"\",IF(I547<='Main page'!$F$49,\"Core staff\",\"Senior staff\"))","v":""},{"$f":"IF(D547=\"\",\" \",'Main page'!$F$21-(D547))","v":" "},{"$f":"IF(D547=\"\",\" \",VLOOKUP(R547,'Main page'!$E$29:'Main page'!$G$41,3,TRUE))","v":" "}]
[null,null,null,null,null,null,null,null,null,null,null,null," "," "," "," ",{"$f":"IF(I548=\"\",\"\",IF(I548<='Main page'!$F$49,\"Core staff\",\"Senior staff\"))","v":""},{"$f":"IF(D548=\"\",\" \",'Main page'!$F$21-(D548))","v":" "},{"$f":"IF(D548=\"\",\" \",VLOOKUP(R548,'Main page'!$E$29:'Main page'!$G$41,3,TRUE))","v":" "}]
[null,null,null,null,null,null,null,null,null,null,null,null," "," "," "," ",{"$f":"IF(I549=\"\",\"\",IF(I549<='Main page'!$F$49,\"Core staff\",\"Senior staff\"))","v":""},{"$f":"IF(D549=\"\",\" \",'Main page'!$F$21-(D549))","v":" "},{"$f":"IF(D549=\"\",\" \",VLOOKUP(R549,'Main page'!$E$29:'Main page'!$G$41,3,TRUE))","v":" "}]
[null,null,null,null,null,null,null,null,null,null,null,null," "," "," "," ",{"$f":"IF(I550=\"\",\"\",IF(I550<='Main page'!$F$49,\"Core staff\",\"Senior staff\"))","v":""},{"$f":"IF(D550=\"\",\" \",'Main page'!$F$21-(D550))","v":" "},{"$f":"IF(D550=\"\",\" \",VLOOKUP(R550,'Main page'!$E$29:'Main page'!$G$41,3,TRUE))","v":" "}]
[null,null,null,null,null,null,null,null,null,null,null,null," "," "," "," ",{"$f":"IF(I551=\"\",\"\",IF(I551<='Main page'!$F$49,\"Core staff\",\"Senior staff\"))","v":""},{"$f":"IF(D551=\"\",\" \",'Main page'!$F$21-(D551))","v":" "},{"$f":"IF(D551=\"\",\" \",VLOOKUP(R551,'Main page'!$E$29:'Main page'!$G$41,3,TRUE))","v":" "}]
[null,null,null,null,null,null,null,null,null,null,null,null," "," "," "," ",{"$f":"IF(I552=\"\",\"\",IF(I552<='Main page'!$F$49,\"Core staff\",\"Senior staff\"))","v":""},{"$f":"IF(D552=\"\",\" \",'Main page'!$F$21-(D552))","v":" "},{"$f":"IF(D552=\"\",\" \",VLOOKUP(R552,'Main page'!$E$29:'Main page'!$G$41,3,TRUE))","v":" "}]
[null,null,null,null,null,null,null,null,null,null,null,null," "," "," "," ",{"$f":"IF(I553=\"\",\"\",IF(I553<='Main page'!$F$49,\"Core staff\",\"Senior staff\"))","v":""},{"$f":"IF(D553=\"\",\" \",'Main page'!$F$21-(D553))","v":" "},{"$f":"IF(D553=\"\",\" \",VLOOKUP(R553,'Main page'!$E$29:'Main page'!$G$41,3,TRUE))","v":" "}]
[null,null,null,null,null,null,null,null,null,null,null,null," "," "," "," ",{"$f":"IF(I554=\"\",\"\",IF(I554<='Main page'!$F$49,\"Core staff\",\"Senior staff\"))","v":""},{"$f":"IF(D554=\"\",\" \",'Main page'!$F$21-(D554))","v":" "},{"$f":"IF(D554=\"\",\" \",VLOOKUP(R554,'Main page'!$E$29:'Main page'!$G$41,3,TRUE))","v":" "}]
[null,null,null,null,null,null,null,null,null,null,null,null," "," "," "," ",{"$f":"IF(I555=\"\",\"\",IF(I555<='Main page'!$F$49,\"Core staff\",\"Senior staff\"))","v":""},{"$f":"IF(D555=\"\",\" \",'Main page'!$F$21-(D555))","v":" "},{"$f":"IF(D555=\"\",\" \",VLOOKUP(R555,'Main page'!$E$29:'Main page'!$G$41,3,TRUE))","v":" "}]
[null,null,null,null,null,null,null,null,null,null,null,null," "," "," "," ",{"$f":"IF(I556=\"\",\"\",IF(I556<='Main page'!$F$49,\"Core staff\",\"Senior staff\"))","v":""},{"$f":"IF(D556=\"\",\" \",'Main page'!$F$21-(D556))","v":" "},{"$f":"IF(D556=\"\",\" \",VLOOKUP(R556,'Main page'!$E$29:'Main page'!$G$41,3,TRUE))","v":" "}]
[null,null,null,null,null,null,null,null,null,null,null,null," "," "," "," ",{"$f":"IF(I557=\"\",\"\",IF(I557<='Main page'!$F$49,\"Core staff\",\"Senior staff\"))","v":""},{"$f":"IF(D557=\"\",\" \",'Main page'!$F$21-(D557))","v":" "},{"$f":"IF(D557=\"\",\" \",VLOOKUP(R557,'Main page'!$E$29:'Main page'!$G$41,3,TRUE))","v":" "}]
[null,null,null,null,null,null,null,null,null,null,null,null," "," "," "," ",{"$f":"IF(I558=\"\",\"\",IF(I558<='Main page'!$F$49,\"Core staff\",\"Senior staff\"))","v":""},{"$f":"IF(D558=\"\",\" \",'Main page'!$F$21-(D558))","v":" "},{"$f":"IF(D558=\"\",\" \",VLOOKUP(R558,'Main page'!$E$29:'Main page'!$G$41,3,TRUE))","v":" "}]
[null,null,null,null,null,null,null,null,null,null,null,null," "," "," "," ",{"$f":"IF(I559=\"\",\"\",IF(I559<='Main page'!$F$49,\"Core staff\",\"Senior staff\"))","v":""},{"$f":"IF(D559=\"\",\" \",'Main page'!$F$21-(D559))","v":" "},{"$f":"IF(D559=\"\",\" \",VLOOKUP(R559,'Main page'!$E$29:'Main page'!$G$41,3,TRUE))","v":" "}]
[null,null,null,null,null,null,null,null,null,null,null,null," "," "," "," ",{"$f":"IF(I560=\"\",\"\",IF(I560<='Main page'!$F$49,\"Core staff\",\"Senior staff\"))","v":""},{"$f":"IF(D560=\"\",\" \",'Main page'!$F$21-(D560))","v":" "},{"$f":"IF(D560=\"\",\" \",VLOOKUP(R560,'Main page'!$E$29:'Main page'!$G$41,3,TRUE))","v":" "}]
[null,null,null,null,null,null,null,null,null,null,null,null," "," "," "," ",{"$f":"IF(I561=\"\",\"\",IF(I561<='Main page'!$F$49,\"Core staff\",\"Senior staff\"))","v":""},{"$f":"IF(D561=\"\",\" \",'Main page'!$F$21-(D561))","v":" "},{"$f":"IF(D561=\"\",\" \",VLOOKUP(R561,'Main page'!$E$29:'Main page'!$G$41,3,TRUE))","v":" "}]
[null,null,null,null,null,null,null,null,null,null,null,null," "," "," "," ",{"$f":"IF(I562=\"\",\"\",IF(I562<='Main page'!$F$49,\"Core staff\",\"Senior staff\"))","v":""},{"$f":"IF(D562=\"\",\" \",'Main page'!$F$21-(D562))","v":" "},{"$f":"IF(D562=\"\",\" \",VLOOKUP(R562,'Main page'!$E$29:'Main page'!$G$41,3,TRUE))","v":" "}]
[null,null,null,null,null,null,null,null,null,null,null,null," "," "," "," ",{"$f":"IF(I563=\"\",\"\",IF(I563<='Main page'!$F$49,\"Core staff\",\"Senior staff\"))","v":""},{"$f":"IF(D563=\"\",\" \",'Main page'!$F$21-(D563))","v":" "},{"$f":"IF(D563=\"\",\" \",VLOOKUP(R563,'Main page'!$E$29:'Main page'!$G$41,3,TRUE))","v":" "}]
[null,null,null,null,null,null,null,null,null,null,null,null," "," "," "," ",{"$f":"IF(I564=\"\",\"\",IF(I564<='Main page'!$F$49,\"Core staff\",\"Senior staff\"))","v":""},{"$f":"IF(D564=\"\",\" \",'Main page'!$F$21-(D564))","v":" "},{"$f":"IF(D564=\"\",\" \",VLOOKUP(R564,'Main page'!$E$29:'Main page'!$G$41,3,TRUE))","v":" "}]
[null,null,null,null,null,null,null,null,null,null,null,null," "," "," "," ",{"$f":"IF(I565=\"\",\"\",IF(I565<='Main page'!$F$49,\"Core staff\",\"Senior staff\"))","v":""},{"$f":"IF(D565=\"\",\" \",'Main page'!$F$21-(D565))","v":" "},{"$f":"IF(D565=\"\",\" \",VLOOKUP(R565,'Main page'!$E$29:'Main page'!$G$41,3,TRUE))","v":" "}]
[null,null,null,null,null,null,null,null,null,null,null,null," "," "," "," ",{"$f":"IF(I566=\"\",\"\",IF(I566<='Main page'!$F$49,\"Core staff\",\"Senior staff\"))","v":""},{"$f":"IF(D566=\"\",\" \",'Main page'!$F$21-(D566))","v":" "},{"$f":"IF(D566=\"\",\" \",VLOOKUP(R566,'Main page'!$E$29:'Main page'!$G$41,3,TRUE))","v":" "}]
[null,null,null,null,null,null,null,null,null,null,null,null," "," "," "," ",{"$f":"IF(I567=\"\",\"\",IF(I567<='Main page'!$F$49,\"Core staff\",\"Senior staff\"))","v":""},{"$f":"IF(D567=\"\",\" \",'Main page'!$F$21-(D567))","v":" "},{"$f":"IF(D567=\"\",\" \",VLOOKUP(R567,'Main page'!$E$29:'Main page'!$G$41,3,TRUE))","v":" "}]
[null,null,null,null,null,null,null,null,null,null,null,null," "," "," "," ",{"$f":"IF(I568=\"\",\"\",IF(I568<='Main page'!$F$49,\"Core staff\",\"Senior staff\"))","v":""},{"$f":"IF(D568=\"\",\" \",'Main page'!$F$21-(D568))","v":" "},{"$f":"IF(D568=\"\",\" \",VLOOKUP(R568,'Main page'!$E$29:'Main page'!$G$41,3,TRUE))","v":" "}]
[null,null,null,null,null,null,null,null,null,null,null,null," "," "," "," ",{"$f":"IF(I569=\"\",\"\",IF(I569<='Main page'!$F$49,\"Core staff\",\"Senior staff\"))","v":""},{"$f":"IF(D569=\"\",\" \",'Main page'!$F$21-(D569))","v":" "},{"$f":"IF(D569=\"\",\" \",VLOOKUP(R569,'Main page'!$E$29:'Main page'!$G$41,3,TRUE))","v":" "}]
[null,null,null,null,null,null,null,null,null,null,null,null," "," "," "," ",{"$f":"IF(I570=\"\",\"\",IF(I570<='Main page'!$F$49,\"Core staff\",\"Senior staff\"))","v":""},{"$f":"IF(D570=\"\",\" \",'Main page'!$F$21-(D570))","v":" "},{"$f":"IF(D570=\"\",\" \",VLOOKUP(R570,'Main page'!$E$29:'Main page'!$G$41,3,TRUE))","v":" "}]
[null,null,null,null,null,null,null,null,null,null,null,null," "," "," "," ",{"$f":"IF(I571=\"\",\"\",IF(I571<='Main page'!$F$49,\"Core staff\",\"Senior staff\"))","v":""},{"$f":"IF(D571=\"\",\" \",'Main page'!$F$21-(D571))","v":" "},{"$f":"IF(D571=\"\",\" \",VLOOKUP(R571,'Main page'!$E$29:'Main page'!$G$41,3,TRUE))","v":" "}]
[null,null,null,null,null,null,null,null,null,null,null,null," "," "," "," ",{"$f":"IF(I572=\"\",\"\",IF(I572<='Main page'!$F$49,\"Core staff\",\"Senior staff\"))","v":""},{"$f":"IF(D572=\"\",\" \",'Main page'!$F$21-(D572))","v":" "},{"$f":"IF(D572=\"\",\" \",VLOOKUP(R572,'Main page'!$E$29:'Main page'!$G$41,3,TRUE))","v":" "}]
[null,null,null,null,null,null,null,null,null,null,null,null," "," "," "," ",{"$f":"IF(I573=\"\",\"\",IF(I573<='Main page'!$F$49,\"Core staff\",\"Senior staff\"))","v":""},{"$f":"IF(D573=\"\",\" \",'Main page'!$F$21-(D573))","v":" "},{"$f":"IF(D573=\"\",\" \",VLOOKUP(R573,'Main page'!$E$29:'Main page'!$G$41,3,TRUE))","v":" "}]
[null,null,null,null,null,null,null,null,null,null,null,null," "," "," "," ",{"$f":"IF(I574=\"\",\"\",IF(I574<='Main page'!$F$49,\"Core staff\",\"Senior staff\"))","v":""},{"$f":"IF(D574=\"\",\" \",'Main page'!$F$21-(D574))","v":" "},{"$f":"IF(D574=\"\",\" \",VLOOKUP(R574,'Main page'!$E$29:'Main page'!$G$41,3,TRUE))","v":" "}]
[null,null,null,null,null,null,null,null,null,null,null,null," "," "," "," ",{"$f":"IF(I575=\"\",\"\",IF(I575<='Main page'!$F$49,\"Core staff\",\"Senior staff\"))","v":""},{"$f":"IF(D575=\"\",\" \",'Main page'!$F$21-(D575))","v":" "},{"$f":"IF(D575=\"\",\" \",VLOOKUP(R575,'Main page'!$E$29:'Main page'!$G$41,3,TRUE))","v":" "}]
[null,null,null,null,null,null,null,null,null,null,null,null," "," "," "," ",{"$f":"IF(I576=\"\",\"\",IF(I576<='Main page'!$F$49,\"Core staff\",\"Senior staff\"))","v":""},{"$f":"IF(D576=\"\",\" \",'Main page'!$F$21-(D576))","v":" "},{"$f":"IF(D576=\"\",\" \",VLOOKUP(R576,'Main page'!$E$29:'Main page'!$G$41,3,TRUE))","v":" "}]
[null,null,null,null,null,null,null,null,null,null,null,null," "," "," "," ",{"$f":"IF(I577=\"\",\"\",IF(I577<='Main page'!$F$49,\"Core staff\",\"Senior staff\"))","v":""},{"$f":"IF(D577=\"\",\" \",'Main page'!$F$21-(D577))","v":" "},{"$f":"IF(D577=\"\",\" \",VLOOKUP(R577,'Main page'!$E$29:'Main page'!$G$41,3,TRUE))","v":" "}]
[null,null,null,null,null,null,null,null,null,null,null,null," "," "," "," ",{"$f":"IF(I578=\"\",\"\",IF(I578<='Main page'!$F$49,\"Core staff\",\"Senior staff\"))","v":""},{"$f":"IF(D578=\"\",\" \",'Main page'!$F$21-(D578))","v":" "},{"$f":"IF(D578=\"\",\" \",VLOOKUP(R578,'Main page'!$E$29:'Main page'!$G$41,3,TRUE))","v":" "}]
[null,null,null,null,null,null,null,null,null,null,null,null," "," "," "," ",{"$f":"IF(I579=\"\",\"\",IF(I579<='Main page'!$F$49,\"Core staff\",\"Senior staff\"))","v":""},{"$f":"IF(D579=\"\",\" \",'Main page'!$F$21-(D579))","v":" "},{"$f":"IF(D579=\"\",\" \",VLOOKUP(R579,'Main page'!$E$29:'Main page'!$G$41,3,TRUE))","v":" "}]
[null,null,null,null,null,null,null,null,null,null,null,null," "," "," "," ",{"$f":"IF(I580=\"\",\"\",IF(I580<='Main page'!$F$49,\"Core staff\",\"Senior staff\"))","v":""},{"$f":"IF(D580=\"\",\" \",'Main page'!$F$21-(D580))","v":" "},{"$f":"IF(D580=\"\",\" \",VLOOKUP(R580,'Main page'!$E$29:'Main page'!$G$41,3,TRUE))","v":" "}]
[null,null,null,null,null,null,null,null,null,null,null,null," "," "," "," ",{"$f":"IF(I581=\"\",\"\",IF(I581<='Main page'!$F$49,\"Core staff\",\"Senior staff\"))","v":""},{"$f":"IF(D581=\"\",\" \",'Main page'!$F$21-(D581))","v":" "},{"$f":"IF(D581=\"\",\" \",VLOOKUP(R581,'Main page'!$E$29:'Main page'!$G$41,3,TRUE))","v":" "}]
[null,null,null,null,null,null,null,null,null,null,null,null," "," "," "," ",{"$f":"IF(I582=\"\",\"\",IF(I582<='Main page'!$F$49,\"Core staff\",\"Senior staff\"))","v":""},{"$f":"IF(D582=\"\",\" \",'Main page'!$F$21-(D582))","v":" "},{"$f":"IF(D582=\"\",\" \",VLOOKUP(R582,'Main page'!$E$29:'Main page'!$G$41,3,TRUE))","v":" "}]
[null,null,null,null,null,null,null,null,null,null,null,null," "," "," "," ",{"$f":"IF(I583=\"\",\"\",IF(I583<='Main page'!$F$49,\"Core staff\",\"Senior staff\"))","v":""},{"$f":"IF(D583=\"\",\" \",'Main page'!$F$21-(D583))","v":" "},{"$f":"IF(D583=\"\",\" \",VLOOKUP(R583,'Main page'!$E$29:'Main page'!$G$41,3,TRUE))","v":" "}]
[null,null,null,null,null,null,null,null,null,null,null,null," "," "," "," ",{"$f":"IF(I584=\"\",\"\",IF(I584<='Main page'!$F$49,\"Core staff\",\"Senior staff\"))","v":""},{"$f":"IF(D584=\"\",\" \",'Main page'!$F$21-(D584))","v":" "},{"$f":"IF(D584=\"\",\" \",VLOOKUP(R584,'Main page'!$E$29:'Main page'!$G$41,3,TRUE))","v":" "}]
[null,null,null,null,null,null,null,null,null,null,null,null," "," "," "," ",{"$f":"IF(I585=\"\",\"\",IF(I585<='Main page'!$F$49,\"Core staff\",\"Senior staff\"))","v":""},{"$f":"IF(D585=\"\",\" \",'Main page'!$F$21-(D585))","v":" "},{"$f":"IF(D585=\"\",\" \",VLOOKUP(R585,'Main page'!$E$29:'Main page'!$G$41,3,TRUE))","v":" "}]
[null,null,null,null,null,null,null,null,null,null,null,null," "," "," "," ",{"$f":"IF(I586=\"\",\"\",IF(I586<='Main page'!$F$49,\"Core staff\",\"Senior staff\"))","v":""},{"$f":"IF(D586=\"\",\" \",'Main page'!$F$21-(D586))","v":" "},{"$f":"IF(D586=\"\",\" \",VLOOKUP(R586,'Main page'!$E$29:'Main page'!$G$41,3,TRUE))","v":" "}]
[null,null,null,null,null,null,null,null,null,null,null,null," "," "," "," ",{"$f":"IF(I587=\"\",\"\",IF(I587<='Main page'!$F$49,\"Core staff\",\"Senior staff\"))","v":""},{"$f":"IF(D587=\"\",\" \",'Main page'!$F$21-(D587))","v":" "},{"$f":"IF(D587=\"\",\" \",VLOOKUP(R587,'Main page'!$E$29:'Main page'!$G$41,3,TRUE))","v":" "}]
[null,null,null,null,null,null,null,null,null,null,null,null," "," "," "," ",{"$f":"IF(I588=\"\",\"\",IF(I588<='Main page'!$F$49,\"Core staff\",\"Senior staff\"))","v":""},{"$f":"IF(D588=\"\",\" \",'Main page'!$F$21-(D588))","v":" "},{"$f":"IF(D588=\"\",\" \",VLOOKUP(R588,'Main page'!$E$29:'Main page'!$G$41,3,TRUE))","v":" "}]
[null,null,null,null,null,null,null,null,null,null,null,null," "," "," "," ",{"$f":"IF(I589=\"\",\"\",IF(I589<='Main page'!$F$49,\"Core staff\",\"Senior staff\"))","v":""},{"$f":"IF(D589=\"\",\" \",'Main page'!$F$21-(D589))","v":" "},{"$f":"IF(D589=\"\",\" \",VLOOKUP(R589,'Main page'!$E$29:'Main page'!$G$41,3,TRUE))","v":" "}]
[null,null,null,null,null,null,null,null,null,null,null,null,{"$f":"IFERROR(J590/G590,\" \")","v":" "},{"$f":"IFERROR((M590/$U$4)/H590,\" \")","v":" "},{"$f":"IFERROR((N590*75)*26.083,\" \")","v":" "},{"$f":"IF(G590=0,\" \",IF(G590=1,\"Full time\",\"Part time\"))","v":" "},{"$f":"IF(I590=\"\",\"\",IF(I590<='Main page'!$F$49,\"Core staff\",\"Senior staff\"))","v":""},{"$f":"IF(D590=\"\",\" \",'Main page'!$F$21-(D590))","v":" "},{"$f":"IF(D590=\"\",\" \",VLOOKUP(R590,'Main page'!$E$29:'Main page'!$G$41,3,TRUE))","v":" "}]
[null,null,null,null,null,null,null,null,null,null,null,null," "," "," "," ",{"$f":"IF(I591=\"\",\"\",IF(I591<='Main page'!$F$49,\"Core staff\",\"Senior staff\"))","v":""},{"$f":"IF(D591=\"\",\" \",'Main page'!$F$21-(D591))","v":" "},{"$f":"IF(D591=\"\",\" \",VLOOKUP(R591,'Main page'!$E$29:'Main page'!$G$41,3,TRUE))","v":" "}]
[null,null,null,null,null,null,null,null,null,null,null,null," "," "," "," ",{"$f":"IF(I592=\"\",\"\",IF(I592<='Main page'!$F$49,\"Core staff\",\"Senior staff\"))","v":""},{"$f":"IF(D592=\"\",\" \",'Main page'!$F$21-(D592))","v":" "},{"$f":"IF(D592=\"\",\" \",VLOOKUP(R592,'Main page'!$E$29:'Main page'!$G$41,3,TRUE))","v":" "}]
[null,null,null,null,null,null,null,null,null,null,null,null," "," "," "," ",{"$f":"IF(I593=\"\",\"\",IF(I593<='Main page'!$F$49,\"Core staff\",\"Senior staff\"))","v":""},{"$f":"IF(D593=\"\",\" \",'Main page'!$F$21-(D593))","v":" "},{"$f":"IF(D593=\"\",\" \",VLOOKUP(R593,'Main page'!$E$29:'Main page'!$G$41,3,TRUE))","v":" "}]
[null,null,null,null,null,null,null,null,null,null,null,null," "," "," "," ",{"$f":"IF(I594=\"\",\"\",IF(I594<='Main page'!$F$49,\"Core staff\",\"Senior staff\"))","v":""},{"$f":"IF(D594=\"\",\" \",'Main page'!$F$21-(D594))","v":" "},{"$f":"IF(D594=\"\",\" \",VLOOKUP(R594,'Main page'!$E$29:'Main page'!$G$41,3,TRUE))","v":" "}]
[null,null,null,null,null,null,null,null,null,null,null,null," "," "," "," ",{"$f":"IF(I595=\"\",\"\",IF(I595<='Main page'!$F$49,\"Core staff\",\"Senior staff\"))","v":""},{"$f":"IF(D595=\"\",\" \",'Main page'!$F$21-(D595))","v":" "},{"$f":"IF(D595=\"\",\" \",VLOOKUP(R595,'Main page'!$E$29:'Main page'!$G$41,3,TRUE))","v":" "}]
[null,null,null,null,null,null,null,null,null,null,null,null," "," "," "," ",{"$f":"IF(I596=\"\",\"\",IF(I596<='Main page'!$F$49,\"Core staff\",\"Senior staff\"))","v":""},{"$f":"IF(D596=\"\",\" \",'Main page'!$F$21-(D596))","v":" "},{"$f":"IF(D596=\"\",\" \",VLOOKUP(R596,'Main page'!$E$29:'Main page'!$G$41,3,TRUE))","v":" "}]
[null,null,null,null,null,null,null,null,null,null,null,null," "," "," "," ",{"$f":"IF(I597=\"\",\"\",IF(I597<='Main page'!$F$49,\"Core staff\",\"Senior staff\"))","v":""},{"$f":"IF(D597=\"\",\" \",'Main page'!$F$21-(D597))","v":" "},{"$f":"IF(D597=\"\",\" \",VLOOKUP(R597,'Main page'!$E$29:'Main page'!$G$41,3,TRUE))","v":" "}]
[null,null,null,null,null,null,null,null,null,null,null,null," "," "," "," ",{"$f":"IF(I598=\"\",\"\",IF(I598<='Main page'!$F$49,\"Core staff\",\"Senior staff\"))","v":""},{"$f":"IF(D598=\"\",\" \",'Main page'!$F$21-(D598))","v":" "},{"$f":"IF(D598=\"\",\" \",VLOOKUP(R598,'Main page'!$E$29:'Main page'!$G$41,3,TRUE))","v":" "}]
[null,null,null,null,null,null,null,null,null,null,null,null," "," "," "," ",{"$f":"IF(I599=\"\",\"\",IF(I599<='Main page'!$F$49,\"Core staff\",\"Senior staff\"))","v":""},{"$f":"IF(D599=\"\",\" \",'Main page'!$F$21-(D599))","v":" "},{"$f":"IF(D599=\"\",\" \",VLOOKUP(R599,'Main page'!$E$29:'Main page'!$G$41,3,TRUE))","v":" "}]
[null,null,null,null,null,null,null,null,null,null,null,null," "," "," "," ",{"$f":"IF(I600=\"\",\"\",IF(I600<='Main page'!$F$49,\"Core staff\",\"Senior staff\"))","v":""},{"$f":"IF(D600=\"\",\" \",'Main page'!$F$21-(D600))","v":" "},{"$f":"IF(D600=\"\",\" \",VLOOKUP(R600,'Main page'!$E$29:'Main page'!$G$41,3,TRUE))","v":" "}]
[null,null,null,null,null,null,null,null,null,null,null,null," "," "," "," ",{"$f":"IF(I601=\"\",\"\",IF(I601<='Main page'!$F$49,\"Core staff\",\"Senior staff\"))","v":""},{"$f":"IF(D601=\"\",\" \",'Main page'!$F$21-(D601))","v":" "},{"$f":"IF(D601=\"\",\" \",VLOOKUP(R601,'Main page'!$E$29:'Main page'!$G$41,3,TRUE))","v":" "}]
[null,null,null,null,null,null,null,null,null,null,null,null," "," "," "," ",{"$f":"IF(I602=\"\",\"\",IF(I602<='Main page'!$F$49,\"Core staff\",\"Senior staff\"))","v":""},{"$f":"IF(D602=\"\",\" \",'Main page'!$F$21-(D602))","v":" "},{"$f":"IF(D602=\"\",\" \",VLOOKUP(R602,'Main page'!$E$29:'Main page'!$G$41,3,TRUE))","v":" "}]
[null,null,null,null,null,null,null,null,null,null,null,null," "," "," "," ",{"$f":"IF(I603=\"\",\"\",IF(I603<='Main page'!$F$49,\"Core staff\",\"Senior staff\"))","v":""},{"$f":"IF(D603=\"\",\" \",'Main page'!$F$21-(D603))","v":" "},{"$f":"IF(D603=\"\",\" \",VLOOKUP(R603,'Main page'!$E$29:'Main page'!$G$41,3,TRUE))","v":" "}]
[null,null,null,null,null,null,null,null,null,null,null,null," "," "," "," ",{"$f":"IF(I604=\"\",\"\",IF(I604<='Main page'!$F$49,\"Core staff\",\"Senior staff\"))","v":""},{"$f":"IF(D604=\"\",\" \",'Main page'!$F$21-(D604))","v":" "},{"$f":"IF(D604=\"\",\" \",VLOOKUP(R604,'Main page'!$E$29:'Main page'!$G$41,3,TRUE))","v":" "}]
[null,null,null,null,null,null,null,null,null,null,null,null," "," "," "," ",{"$f":"IF(I605=\"\",\"\",IF(I605<='Main page'!$F$49,\"Core staff\",\"Senior staff\"))","v":""},{"$f":"IF(D605=\"\",\" \",'Main page'!$F$21-(D605))","v":" "},{"$f":"IF(D605=\"\",\" \",VLOOKUP(R605,'Main page'!$E$29:'Main page'!$G$41,3,TRUE))","v":" "}]
[null,null,null,null,null,null,null,null,null,null,null,null," "," "," "," ",{"$f":"IF(I606=\"\",\"\",IF(I606<='Main page'!$F$49,\"Core staff\",\"Senior staff\"))","v":""},{"$f":"IF(D606=\"\",\" \",'Main page'!$F$21-(D606))","v":" "},{"$f":"IF(D606=\"\",\" \",VLOOKUP(R606,'Main page'!$E$29:'Main page'!$G$41,3,TRUE))","v":" "}]
[null,null,null,null,null,null,null,null,null,null,null,null," "," "," "," ",{"$f":"IF(I607=\"\",\"\",IF(I607<='Main page'!$F$49,\"Core staff\",\"Senior staff\"))","v":""},{"$f":"IF(D607=\"\",\" \",'Main page'!$F$21-(D607))","v":" "},{"$f":"IF(D607=\"\",\" \",VLOOKUP(R607,'Main page'!$E$29:'Main page'!$G$41,3,TRUE))","v":" "}]
[null,null,null,null,null,null,null,null,null,null,null,null," "," "," "," ",{"$f":"IF(I608=\"\",\"\",IF(I608<='Main page'!$F$49,\"Core staff\",\"Senior staff\"))","v":""},{"$f":"IF(D608=\"\",\" \",'Main page'!$F$21-(D608))","v":" "},{"$f":"IF(D608=\"\",\" \",VLOOKUP(R608,'Main page'!$E$29:'Main page'!$G$41,3,TRUE))","v":" "}]
[null,null,null,null,null,null,null,null,null,null,null,null," "," "," "," ",{"$f":"IF(I609=\"\",\"\",IF(I609<='Main page'!$F$49,\"Core staff\",\"Senior staff\"))","v":""},{"$f":"IF(D609=\"\",\" \",'Main page'!$F$21-(D609))","v":" "},{"$f":"IF(D609=\"\",\" \",VLOOKUP(R609,'Main page'!$E$29:'Main page'!$G$41,3,TRUE))","v":" "}]
[null,null,null,null,null,null,null,null,null,null,null,null," "," "," "," ",{"$f":"IF(I610=\"\",\"\",IF(I610<='Main page'!$F$49,\"Core staff\",\"Senior staff\"))","v":""},{"$f":"IF(D610=\"\",\" \",'Main page'!$F$21-(D610))","v":" "},{"$f":"IF(D610=\"\",\" \",VLOOKUP(R610,'Main page'!$E$29:'Main page'!$G$41,3,TRUE))","v":" "}]
[null,null,null,null,null,null,null,null,null,null,null,null," "," "," "," ",{"$f":"IF(I611=\"\",\"\",IF(I611<='Main page'!$F$49,\"Core staff\",\"Senior staff\"))","v":""},{"$f":"IF(D611=\"\",\" \",'Main page'!$F$21-(D611))","v":" "},{"$f":"IF(D611=\"\",\" \",VLOOKUP(R611,'Main page'!$E$29:'Main page'!$G$41,3,TRUE))","v":" "}]
[null,null,null,null,null,null,null,null,null,null,null,null," "," "," "," ",{"$f":"IF(I612=\"\",\"\",IF(I612<='Main page'!$F$49,\"Core staff\",\"Senior staff\"))","v":""},{"$f":"IF(D612=\"\",\" \",'Main page'!$F$21-(D612))","v":" "},{"$f":"IF(D612=\"\",\" \",VLOOKUP(R612,'Main page'!$E$29:'Main page'!$G$41,3,TRUE))","v":" "}]
[null,null,null,null,null,null,null,null,null,null,null,null," "," "," "," ",{"$f":"IF(I613=\"\",\"\",IF(I613<='Main page'!$F$49,\"Core staff\",\"Senior staff\"))","v":""},{"$f":"IF(D613=\"\",\" \",'Main page'!$F$21-(D613))","v":" "},{"$f":"IF(D613=\"\",\" \",VLOOKUP(R613,'Main page'!$E$29:'Main page'!$G$41,3,TRUE))","v":" "}]
[null,null,null,null,null,null,null,null,null,null,null,null," "," "," "," ",{"$f":"IF(I614=\"\",\"\",IF(I614<='Main page'!$F$49,\"Core staff\",\"Senior staff\"))","v":""},{"$f":"IF(D614=\"\",\" \",'Main page'!$F$21-(D614))","v":" "},{"$f":"IF(D614=\"\",\" \",VLOOKUP(R614,'Main page'!$E$29:'Main page'!$G$41,3,TRUE))","v":" "}]
[null,null,null,null,null,null,null,null,null,null,null,null," "," "," "," ",{"$f":"IF(I615=\"\",\"\",IF(I615<='Main page'!$F$49,\"Core staff\",\"Senior staff\"))","v":""},{"$f":"IF(D615=\"\",\" \",'Main page'!$F$21-(D615))","v":" "},{"$f":"IF(D615=\"\",\" \",VLOOKUP(R615,'Main page'!$E$29:'Main page'!$G$41,3,TRUE))","v":" "}]
[null,null,null,null,null,null,null,null,null,null,null,null," "," "," "," ",{"$f":"IF(I616=\"\",\"\",IF(I616<='Main page'!$F$49,\"Core staff\",\"Senior staff\"))","v":""},{"$f":"IF(D616=\"\",\" \",'Main page'!$F$21-(D616))","v":" "},{"$f":"IF(D616=\"\",\" \",VLOOKUP(R616,'Main page'!$E$29:'Main page'!$G$41,3,TRUE))","v":" "}]
[null,null,null,null,null,null,null,null,null,null,null,null," "," "," "," ",{"$f":"IF(I617=\"\",\"\",IF(I617<='Main page'!$F$49,\"Core staff\",\"Senior staff\"))","v":""},{"$f":"IF(D617=\"\",\" \",'Main page'!$F$21-(D617))","v":" "},{"$f":"IF(D617=\"\",\" \",VLOOKUP(R617,'Main page'!$E$29:'Main page'!$G$41,3,TRUE))","v":" "}]
[null,null,null,null,null,null,null,null,null,null,null,null," "," "," "," ",{"$f":"IF(I618=\"\",\"\",IF(I618<='Main page'!$F$49,\"Core staff\",\"Senior staff\"))","v":""},{"$f":"IF(D618=\"\",\" \",'Main page'!$F$21-(D618))","v":" "},{"$f":"IF(D618=\"\",\" \",VLOOKUP(R618,'Main page'!$E$29:'Main page'!$G$41,3,TRUE))","v":" "}]
[null,null,null,null,null,null,null,null,null,null,null,null," "," "," "," ",{"$f":"IF(I619=\"\",\"\",IF(I619<='Main page'!$F$49,\"Core staff\",\"Senior staff\"))","v":""},{"$f":"IF(D619=\"\",\" \",'Main page'!$F$21-(D619))","v":" "},{"$f":"IF(D619=\"\",\" \",VLOOKUP(R619,'Main page'!$E$29:'Main page'!$G$41,3,TRUE))","v":" "}]
[null,null,null,null,null,null,null,null,null,null,null,null," "," "," "," ",{"$f":"IF(I620=\"\",\"\",IF(I620<='Main page'!$F$49,\"Core staff\",\"Senior staff\"))","v":""},{"$f":"IF(D620=\"\",\" \",'Main page'!$F$21-(D620))","v":" "},{"$f":"IF(D620=\"\",\" \",VLOOKUP(R620,'Main page'!$E$29:'Main page'!$G$41,3,TRUE))","v":" "}]
[null,null,null,null,null,null,null,null,null,null,null,null," "," "," "," ",{"$f":"IF(I621=\"\",\"\",IF(I621<='Main page'!$F$49,\"Core staff\",\"Senior staff\"))","v":""},{"$f":"IF(D621=\"\",\" \",'Main page'!$F$21-(D621))","v":" "},{"$f":"IF(D621=\"\",\" \",VLOOKUP(R621,'Main page'!$E$29:'Main page'!$G$41,3,TRUE))","v":" "}]
[null,null,null,null,null,null,null,null,null,null,null,null," "," "," "," ",{"$f":"IF(I622=\"\",\"\",IF(I622<='Main page'!$F$49,\"Core staff\",\"Senior staff\"))","v":""},{"$f":"IF(D622=\"\",\" \",'Main page'!$F$21-(D622))","v":" "},{"$f":"IF(D622=\"\",\" \",VLOOKUP(R622,'Main page'!$E$29:'Main page'!$G$41,3,TRUE))","v":" "}]
[null,null,null,null,null,null,null,null,null,null,null,null," "," "," "," ",{"$f":"IF(I623=\"\",\"\",IF(I623<='Main page'!$F$49,\"Core staff\",\"Senior staff\"))","v":""},{"$f":"IF(D623=\"\",\" \",'Main page'!$F$21-(D623))","v":" "},{"$f":"IF(D623=\"\",\" \",VLOOKUP(R623,'Main page'!$E$29:'Main page'!$G$41,3,TRUE))","v":" "}]
[null,null,null,null,null,null,null,null,null,null,null,null," "," "," "," ",{"$f":"IF(I624=\"\",\"\",IF(I624<='Main page'!$F$49,\"Core staff\",\"Senior staff\"))","v":""},{"$f":"IF(D624=\"\",\" \",'Main page'!$F$21-(D624))","v":" "},{"$f":"IF(D624=\"\",\" \",VLOOKUP(R624,'Main page'!$E$29:'Main page'!$G$41,3,TRUE))","v":" "}]
[null,null,null,null,null,null,null,null,null,null,null,null," "," "," "," ",{"$f":"IF(I625=\"\",\"\",IF(I625<='Main page'!$F$49,\"Core staff\",\"Senior staff\"))","v":""},{"$f":"IF(D625=\"\",\" \",'Main page'!$F$21-(D625))","v":" "},{"$f":"IF(D625=\"\",\" \",VLOOKUP(R625,'Main page'!$E$29:'Main page'!$G$41,3,TRUE))","v":" "}]
[null,null,null,null,null,null,null,null,null,null,null,null," "," "," "," ",{"$f":"IF(I626=\"\",\"\",IF(I626<='Main page'!$F$49,\"Core staff\",\"Senior staff\"))","v":""},{"$f":"IF(D626=\"\",\" \",'Main page'!$F$21-(D626))","v":" "},{"$f":"IF(D626=\"\",\" \",VLOOKUP(R626,'Main page'!$E$29:'Main page'!$G$41,3,TRUE))","v":" "}]
[null,null,null,null,null,null,null,null,null,null,null,null," "," "," "," ",{"$f":"IF(I627=\"\",\"\",IF(I627<='Main page'!$F$49,\"Core staff\",\"Senior staff\"))","v":""},{"$f":"IF(D627=\"\",\" \",'Main page'!$F$21-(D627))","v":" "},{"$f":"IF(D627=\"\",\" \",VLOOKUP(R627,'Main page'!$E$29:'Main page'!$G$41,3,TRUE))","v":" "}]
[null,null,null,null,null,null,null,null,null,null,null,null," "," "," "," ",{"$f":"IF(I628=\"\",\"\",IF(I628<='Main page'!$F$49,\"Core staff\",\"Senior staff\"))","v":""},{"$f":"IF(D628=\"\",\" \",'Main page'!$F$21-(D628))","v":" "},{"$f":"IF(D628=\"\",\" \",VLOOKUP(R628,'Main page'!$E$29:'Main page'!$G$41,3,TRUE))","v":" "}]
[null,null,null,null,null,null,null,null,null,null,null,null," "," "," "," ",{"$f":"IF(I629=\"\",\"\",IF(I629<='Main page'!$F$49,\"Core staff\",\"Senior staff\"))","v":""},{"$f":"IF(D629=\"\",\" \",'Main page'!$F$21-(D629))","v":" "},{"$f":"IF(D629=\"\",\" \",VLOOKUP(R629,'Main page'!$E$29:'Main page'!$G$41,3,TRUE))","v":" "}]
[null,null,null,null,null,null,null,null,null,null,null,null," "," "," "," ",{"$f":"IF(I630=\"\",\"\",IF(I630<='Main page'!$F$49,\"Core staff\",\"Senior staff\"))","v":""},{"$f":"IF(D630=\"\",\" \",'Main page'!$F$21-(D630))","v":" "},{"$f":"IF(D630=\"\",\" \",VLOOKUP(R630,'Main page'!$E$29:'Main page'!$G$41,3,TRUE))","v":" "}]
[null,null,null,null,null,null,null,null,null,null,null,null," "," "," "," ",{"$f":"IF(I631=\"\",\"\",IF(I631<='Main page'!$F$49,\"Core staff\",\"Senior staff\"))","v":""},{"$f":"IF(D631=\"\",\" \",'Main page'!$F$21-(D631))","v":" "},{"$f":"IF(D631=\"\",\" \",VLOOKUP(R631,'Main page'!$E$29:'Main page'!$G$41,3,TRUE))","v":" "}]
[null,null,null,null,null,null,null,null,null,null,null,null," "," "," "," ",{"$f":"IF(I632=\"\",\"\",IF(I632<='Main page'!$F$49,\"Core staff\",\"Senior staff\"))","v":""},{"$f":"IF(D632=\"\",\" \",'Main page'!$F$21-(D632))","v":" "},{"$f":"IF(D632=\"\",\" \",VLOOKUP(R632,'Main page'!$E$29:'Main page'!$G$41,3,TRUE))","v":" "}]
[null,null,null,null,null,null,null,null,null,null,null,null," "," "," "," ",{"$f":"IF(I633=\"\",\"\",IF(I633<='Main page'!$F$49,\"Core staff\",\"Senior staff\"))","v":""},{"$f":"IF(D633=\"\",\" \",'Main page'!$F$21-(D633))","v":" "},{"$f":"IF(D633=\"\",\" \",VLOOKUP(R633,'Main page'!$E$29:'Main page'!$G$41,3,TRUE))","v":" "}]
[null,null,null,null,null,null,null,null,null,null,null,null," "," "," "," ",{"$f":"IF(I634=\"\",\"\",IF(I634<='Main page'!$F$49,\"Core staff\",\"Senior staff\"))","v":""},{"$f":"IF(D634=\"\",\" \",'Main page'!$F$21-(D634))","v":" "},{"$f":"IF(D634=\"\",\" \",VLOOKUP(R634,'Main page'!$E$29:'Main page'!$G$41,3,TRUE))","v":" "}]
[null,null,null,null,null,null,null,null,null,null,null,null," "," "," "," ",{"$f":"IF(I635=\"\",\"\",IF(I635<='Main page'!$F$49,\"Core staff\",\"Senior staff\"))","v":""},{"$f":"IF(D635=\"\",\" \",'Main page'!$F$21-(D635))","v":" "},{"$f":"IF(D635=\"\",\" \",VLOOKUP(R635,'Main page'!$E$29:'Main page'!$G$41,3,TRUE))","v":" "}]
[null,null,null,null,null,null,null,null,null,null,null,null," "," "," "," ",{"$f":"IF(I636=\"\",\"\",IF(I636<='Main page'!$F$49,\"Core staff\",\"Senior staff\"))","v":""},{"$f":"IF(D636=\"\",\" \",'Main page'!$F$21-(D636))","v":" "},{"$f":"IF(D636=\"\",\" \",VLOOKUP(R636,'Main page'!$E$29:'Main page'!$G$41,3,TRUE))","v":" "}]
[null,null,null,null,null,null,null,null,null,null,null,null," "," "," "," ",{"$f":"IF(I637=\"\",\"\",IF(I637<='Main page'!$F$49,\"Core staff\",\"Senior staff\"))","v":""},{"$f":"IF(D637=\"\",\" \",'Main page'!$F$21-(D637))","v":" "},{"$f":"IF(D637=\"\",\" \",VLOOKUP(R637,'Main page'!$E$29:'Main page'!$G$41,3,TRUE))","v":" "}]
[null,null,null,null,null,null,null,null,null,null,null,null," "," "," "," ",{"$f":"IF(I638=\"\",\"\",IF(I638<='Main page'!$F$49,\"Core staff\",\"Senior staff\"))","v":""},{"$f":"IF(D638=\"\",\" \",'Main page'!$F$21-(D638))","v":" "},{"$f":"IF(D638=\"\",\" \",VLOOKUP(R638,'Main page'!$E$29:'Main page'!$G$41,3,TRUE))","v":" "}]
[null,null,null,null,null,null,null,null,null,null,null,null," "," "," "," ",{"$f":"IF(I639=\"\",\"\",IF(I639<='Main page'!$F$49,\"Core staff\",\"Senior staff\"))","v":""},{"$f":"IF(D639=\"\",\" \",'Main page'!$F$21-(D639))","v":" "},{"$f":"IF(D639=\"\",\" \",VLOOKUP(R639,'Main page'!$E$29:'Main page'!$G$41,3,TRUE))","v":" "}]
[null,null,null,null,null,null,null,null,null,null,null,null," "," "," "," ",{"$f":"IF(I640=\"\",\"\",IF(I640<='Main page'!$F$49,\"Core staff\",\"Senior staff\"))","v":""},{"$f":"IF(D640=\"\",\" \",'Main page'!$F$21-(D640))","v":" "},{"$f":"IF(D640=\"\",\" \",VLOOKUP(R640,'Main page'!$E$29:'Main page'!$G$41,3,TRUE))","v":" "}]
[null,null,null,null,null,null,null,null,null,null,null,null," "," "," "," ",{"$f":"IF(I641=\"\",\"\",IF(I641<='Main page'!$F$49,\"Core staff\",\"Senior staff\"))","v":""},{"$f":"IF(D641=\"\",\" \",'Main page'!$F$21-(D641))","v":" "},{"$f":"IF(D641=\"\",\" \",VLOOKUP(R641,'Main page'!$E$29:'Main page'!$G$41,3,TRUE))","v":" "}]
[null,null,null,null,null,null,null,null,null,null,null,null," "," "," "," ",{"$f":"IF(I642=\"\",\"\",IF(I642<='Main page'!$F$49,\"Core staff\",\"Senior staff\"))","v":""},{"$f":"IF(D642=\"\",\" \",'Main page'!$F$21-(D642))","v":" "},{"$f":"IF(D642=\"\",\" \",VLOOKUP(R642,'Main page'!$E$29:'Main page'!$G$41,3,TRUE))","v":" "}]
[null,null,null,null,null,null,null,null,null,null,null,null," "," "," "," ",{"$f":"IF(I643=\"\",\"\",IF(I643<='Main page'!$F$49,\"Core staff\",\"Senior staff\"))","v":""},{"$f":"IF(D643=\"\",\" \",'Main page'!$F$21-(D643))","v":" "},{"$f":"IF(D643=\"\",\" \",VLOOKUP(R643,'Main page'!$E$29:'Main page'!$G$41,3,TRUE))","v":" "}]
[null,null,null,null,null,null,null,null,null,null,null,null," "," "," "," ",{"$f":"IF(I644=\"\",\"\",IF(I644<='Main page'!$F$49,\"Core staff\",\"Senior staff\"))","v":""},{"$f":"IF(D644=\"\",\" \",'Main page'!$F$21-(D644))","v":" "},{"$f":"IF(D644=\"\",\" \",VLOOKUP(R644,'Main page'!$E$29:'Main page'!$G$41,3,TRUE))","v":" "}]
[null,null,null,null,null,null,null,null,null,null,null,null," "," "," "," ",{"$f":"IF(I645=\"\",\"\",IF(I645<='Main page'!$F$49,\"Core staff\",\"Senior staff\"))","v":""},{"$f":"IF(D645=\"\",\" \",'Main page'!$F$21-(D645))","v":" "},{"$f":"IF(D645=\"\",\" \",VLOOKUP(R645,'Main page'!$E$29:'Main page'!$G$41,3,TRUE))","v":" "}]
[null,null,null,null,null,null,null,null,null,null,null,null," "," "," "," ",{"$f":"IF(I646=\"\",\"\",IF(I646<='Main page'!$F$49,\"Core staff\",\"Senior staff\"))","v":""},{"$f":"IF(D646=\"\",\" \",'Main page'!$F$21-(D646))","v":" "},{"$f":"IF(D646=\"\",\" \",VLOOKUP(R646,'Main page'!$E$29:'Main page'!$G$41,3,TRUE))","v":" "}]
[null,null,null,null,null,null,null,null,null,null,null,null," "," "," "," ",{"$f":"IF(I647=\"\",\"\",IF(I647<='Main page'!$F$49,\"Core staff\",\"Senior staff\"))","v":""},{"$f":"IF(D647=\"\",\" \",'Main page'!$F$21-(D647))","v":" "},{"$f":"IF(D647=\"\",\" \",VLOOKUP(R647,'Main page'!$E$29:'Main page'!$G$41,3,TRUE))","v":" "}]
[null,null,null,null,null,null,null,null,null,null,null,null," "," "," "," ",{"$f":"IF(I648=\"\",\"\",IF(I648<='Main page'!$F$49,\"Core staff\",\"Senior staff\"))","v":""},{"$f":"IF(D648=\"\",\" \",'Main page'!$F$21-(D648))","v":" "},{"$f":"IF(D648=\"\",\" \",VLOOKUP(R648,'Main page'!$E$29:'Main page'!$G$41,3,TRUE))","v":" "}]
[null,null,null,null,null,null,null,null,null,null,null,null," "," "," "," ",{"$f":"IF(I649=\"\",\"\",IF(I649<='Main page'!$F$49,\"Core staff\",\"Senior staff\"))","v":""},{"$f":"IF(D649=\"\",\" \",'Main page'!$F$21-(D649))","v":" "},{"$f":"IF(D649=\"\",\" \",VLOOKUP(R649,'Main page'!$E$29:'Main page'!$G$41,3,TRUE))","v":" "}]
[null,null,null,null,null,null,null,null,null,null,null,null," "," "," "," ",{"$f":"IF(I650=\"\",\"\",IF(I650<='Main page'!$F$49,\"Core staff\",\"Senior staff\"))","v":""},{"$f":"IF(D650=\"\",\" \",'Main page'!$F$21-(D650))","v":" "},{"$f":"IF(D650=\"\",\" \",VLOOKUP(R650,'Main page'!$E$29:'Main page'!$G$41,3,TRUE))","v":" "}]
[null,null,null,null,null,null,null,null,null,null,null,null," "," "," "," ",{"$f":"IF(I651=\"\",\"\",IF(I651<='Main page'!$F$49,\"Core staff\",\"Senior staff\"))","v":""},{"$f":"IF(D651=\"\",\" \",'Main page'!$F$21-(D651))","v":" "},{"$f":"IF(D651=\"\",\" \",VLOOKUP(R651,'Main page'!$E$29:'Main page'!$G$41,3,TRUE))","v":" "}]
[null,null,null,null,null,null,null,null,null,null,null,null," "," "," "," ",{"$f":"IF(I652=\"\",\"\",IF(I652<='Main page'!$F$49,\"Core staff\",\"Senior staff\"))","v":""},{"$f":"IF(D652=\"\",\" \",'Main page'!$F$21-(D652))","v":" "},{"$f":"IF(D652=\"\",\" \",VLOOKUP(R652,'Main page'!$E$29:'Main page'!$G$41,3,TRUE))","v":" "}]
[null,null,null,null,null,null,null,null,null,null,null,null," "," "," "," ",{"$f":"IF(I653=\"\",\"\",IF(I653<='Main page'!$F$49,\"Core staff\",\"Senior staff\"))","v":""},{"$f":"IF(D653=\"\",\" \",'Main page'!$F$21-(D653))","v":" "},{"$f":"IF(D653=\"\",\" \",VLOOKUP(R653,'Main page'!$E$29:'Main page'!$G$41,3,TRUE))","v":" "}]
[null,null,null,null,null,null,null,null,null,null,null,null,{"$f":"IFERROR(J654/G654,\" \")","v":" "},{"$f":"IFERROR((M654/$U$4)/H654,\" \")","v":" "},{"$f":"IFERROR((N654*75)*26.083,\" \")","v":" "},{"$f":"IF(G654=0,\" \",IF(G654=1,\"Full time\",\"Part time\"))","v":" "},{"$f":"IF(I654=\"\",\"\",IF(I654<='Main page'!$F$49,\"Core staff\",\"Senior staff\"))","v":""},{"$f":"IF(D654=\"\",\" \",'Main page'!$F$21-(D654))","v":" "},{"$f":"IF(D654=\"\",\" \",VLOOKUP(R654,'Main page'!$E$29:'Main page'!$G$41,3,TRUE))","v":" "}]
[null,null,null,null,null,null,null,null,null,null,null,null," "," "," "," ",{"$f":"IF(I655=\"\",\"\",IF(I655<='Main page'!$F$49,\"Core staff\",\"Senior staff\"))","v":""},{"$f":"IF(D655=\"\",\" \",'Main page'!$F$21-(D655))","v":" "},{"$f":"IF(D655=\"\",\" \",VLOOKUP(R655,'Main page'!$E$29:'Main page'!$G$41,3,TRUE))","v":" "}]
[null,null,null,null,null,null,null,null,null,null,null,null," "," "," "," ",{"$f":"IF(I656=\"\",\"\",IF(I656<='Main page'!$F$49,\"Core staff\",\"Senior staff\"))","v":""},{"$f":"IF(D656=\"\",\" \",'Main page'!$F$21-(D656))","v":" "},{"$f":"IF(D656=\"\",\" \",VLOOKUP(R656,'Main page'!$E$29:'Main page'!$G$41,3,TRUE))","v":" "}]
[null,null,null,null,null,null,null,null,null,null,null,null," "," "," "," ",{"$f":"IF(I657=\"\",\"\",IF(I657<='Main page'!$F$49,\"Core staff\",\"Senior staff\"))","v":""},{"$f":"IF(D657=\"\",\" \",'Main page'!$F$21-(D657))","v":" "},{"$f":"IF(D657=\"\",\" \",VLOOKUP(R657,'Main page'!$E$29:'Main page'!$G$41,3,TRUE))","v":" "}]
[null,null,null,null,null,null,null,null,null,null,null,null," "," "," "," ",{"$f":"IF(I658=\"\",\"\",IF(I658<='Main page'!$F$49,\"Core staff\",\"Senior staff\"))","v":""},{"$f":"IF(D658=\"\",\" \",'Main page'!$F$21-(D658))","v":" "},{"$f":"IF(D658=\"\",\" \",VLOOKUP(R658,'Main page'!$E$29:'Main page'!$G$41,3,TRUE))","v":" "}]
[null,null,null,null,null,null,null,null,null,null,null,null," "," "," "," ",{"$f":"IF(I659=\"\",\"\",IF(I659<='Main page'!$F$49,\"Core staff\",\"Senior staff\"))","v":""},{"$f":"IF(D659=\"\",\" \",'Main page'!$F$21-(D659))","v":" "},{"$f":"IF(D659=\"\",\" \",VLOOKUP(R659,'Main page'!$E$29:'Main page'!$G$41,3,TRUE))","v":" "}]
[null,null,null,null,null,null,null,null,null,null,null,null," "," "," "," ",{"$f":"IF(I660=\"\",\"\",IF(I660<='Main page'!$F$49,\"Core staff\",\"Senior staff\"))","v":""},{"$f":"IF(D660=\"\",\" \",'Main page'!$F$21-(D660))","v":" "},{"$f":"IF(D660=\"\",\" \",VLOOKUP(R660,'Main page'!$E$29:'Main page'!$G$41,3,TRUE))","v":" "}]
[null,null,null,null,null,null,null,null,null,null,null,null," "," "," "," ",{"$f":"IF(I661=\"\",\"\",IF(I661<='Main page'!$F$49,\"Core staff\",\"Senior staff\"))","v":""},{"$f":"IF(D661=\"\",\" \",'Main page'!$F$21-(D661))","v":" "},{"$f":"IF(D661=\"\",\" \",VLOOKUP(R661,'Main page'!$E$29:'Main page'!$G$41,3,TRUE))","v":" "}]
[null,null,null,null,null,null,null,null,null,null,null,null," "," "," "," ",{"$f":"IF(I662=\"\",\"\",IF(I662<='Main page'!$F$49,\"Core staff\",\"Senior staff\"))","v":""},{"$f":"IF(D662=\"\",\" \",'Main page'!$F$21-(D662))","v":" "},{"$f":"IF(D662=\"\",\" \",VLOOKUP(R662,'Main page'!$E$29:'Main page'!$G$41,3,TRUE))","v":" "}]
[null,null,null,null,null,null,null,null,null,null,null,null," "," "," "," ",{"$f":"IF(I663=\"\",\"\",IF(I663<='Main page'!$F$49,\"Core staff\",\"Senior staff\"))","v":""},{"$f":"IF(D663=\"\",\" \",'Main page'!$F$21-(D663))","v":" "},{"$f":"IF(D663=\"\",\" \",VLOOKUP(R663,'Main page'!$E$29:'Main page'!$G$41,3,TRUE))","v":" "}]
[null,null,null,null,null,null,null,null,null,null,null,null," "," "," "," ",{"$f":"IF(I664=\"\",\"\",IF(I664<='Main page'!$F$49,\"Core staff\",\"Senior staff\"))","v":""},{"$f":"IF(D664=\"\",\" \",'Main page'!$F$21-(D664))","v":" "},{"$f":"IF(D664=\"\",\" \",VLOOKUP(R664,'Main page'!$E$29:'Main page'!$G$41,3,TRUE))","v":" "}]
[null,null,null,null,null,null,null,null,null,null,null,null," "," "," "," ",{"$f":"IF(I665=\"\",\"\",IF(I665<='Main page'!$F$49,\"Core staff\",\"Senior staff\"))","v":""},{"$f":"IF(D665=\"\",\" \",'Main page'!$F$21-(D665))","v":" "},{"$f":"IF(D665=\"\",\" \",VLOOKUP(R665,'Main page'!$E$29:'Main page'!$G$41,3,TRUE))","v":" "}]
[null,null,null,null,null,null,null,null,null,null,null,null," "," "," "," ",{"$f":"IF(I666=\"\",\"\",IF(I666<='Main page'!$F$49,\"Core staff\",\"Senior staff\"))","v":""},{"$f":"IF(D666=\"\",\" \",'Main page'!$F$21-(D666))","v":" "},{"$f":"IF(D666=\"\",\" \",VLOOKUP(R666,'Main page'!$E$29:'Main page'!$G$41,3,TRUE))","v":" "}]
[null,null,null,null,null,null,null,null,null,null,null,null," "," "," "," ",{"$f":"IF(I667=\"\",\"\",IF(I667<='Main page'!$F$49,\"Core staff\",\"Senior staff\"))","v":""},{"$f":"IF(D667=\"\",\" \",'Main page'!$F$21-(D667))","v":" "},{"$f":"IF(D667=\"\",\" \",VLOOKUP(R667,'Main page'!$E$29:'Main page'!$G$41,3,TRUE))","v":" "}]
[null,null,null,null,null,null,null,null,null,null,null,null," "," "," "," ",{"$f":"IF(I668=\"\",\"\",IF(I668<='Main page'!$F$49,\"Core staff\",\"Senior staff\"))","v":""},{"$f":"IF(D668=\"\",\" \",'Main page'!$F$21-(D668))","v":" "},{"$f":"IF(D668=\"\",\" \",VLOOKUP(R668,'Main page'!$E$29:'Main page'!$G$41,3,TRUE))","v":" "}]
[null,null,null,null,null,null,null,null,null,null,null,null," "," "," "," ",{"$f":"IF(I669=\"\",\"\",IF(I669<='Main page'!$F$49,\"Core staff\",\"Senior staff\"))","v":""},{"$f":"IF(D669=\"\",\" \",'Main page'!$F$21-(D669))","v":" "},{"$f":"IF(D669=\"\",\" \",VLOOKUP(R669,'Main page'!$E$29:'Main page'!$G$41,3,TRUE))","v":" "}]
[null,null,null,null,null,null,null,null,null,null,null,null," "," "," "," ",{"$f":"IF(I670=\"\",\"\",IF(I670<='Main page'!$F$49,\"Core staff\",\"Senior staff\"))","v":""},{"$f":"IF(D670=\"\",\" \",'Main page'!$F$21-(D670))","v":" "},{"$f":"IF(D670=\"\",\" \",VLOOKUP(R670,'Main page'!$E$29:'Main page'!$G$41,3,TRUE))","v":" "}]
[null,null,null,null,null,null,null,null,null,null,null,null," "," "," "," ",{"$f":"IF(I671=\"\",\"\",IF(I671<='Main page'!$F$49,\"Core staff\",\"Senior staff\"))","v":""},{"$f":"IF(D671=\"\",\" \",'Main page'!$F$21-(D671))","v":" "},{"$f":"IF(D671=\"\",\" \",VLOOKUP(R671,'Main page'!$E$29:'Main page'!$G$41,3,TRUE))","v":" "}]
[null,null,null,null,null,null,null,null,null,null,null,null," "," "," "," ",{"$f":"IF(I672=\"\",\"\",IF(I672<='Main page'!$F$49,\"Core staff\",\"Senior staff\"))","v":""},{"$f":"IF(D672=\"\",\" \",'Main page'!$F$21-(D672))","v":" "},{"$f":"IF(D672=\"\",\" \",VLOOKUP(R672,'Main page'!$E$29:'Main page'!$G$41,3,TRUE))","v":" "}]
[null,null,null,null,null,null,null,null,null,null,null,null," "," "," "," ",{"$f":"IF(I673=\"\",\"\",IF(I673<='Main page'!$F$49,\"Core staff\",\"Senior staff\"))","v":""},{"$f":"IF(D673=\"\",\" \",'Main page'!$F$21-(D673))","v":" "},{"$f":"IF(D673=\"\",\" \",VLOOKUP(R673,'Main page'!$E$29:'Main page'!$G$41,3,TRUE))","v":" "}]
[null,null,null,null,null,null,null,null,null,null,null,null," "," "," "," ",{"$f":"IF(I674=\"\",\"\",IF(I674<='Main page'!$F$49,\"Core staff\",\"Senior staff\"))","v":""},{"$f":"IF(D674=\"\",\" \",'Main page'!$F$21-(D674))","v":" "},{"$f":"IF(D674=\"\",\" \",VLOOKUP(R674,'Main page'!$E$29:'Main page'!$G$41,3,TRUE))","v":" "}]
[null,null,null,null,null,null,null,null,null,null,null,null," "," "," "," ",{"$f":"IF(I675=\"\",\"\",IF(I675<='Main page'!$F$49,\"Core staff\",\"Senior staff\"))","v":""},{"$f":"IF(D675=\"\",\" \",'Main page'!$F$21-(D675))","v":" "},{"$f":"IF(D675=\"\",\" \",VLOOKUP(R675,'Main page'!$E$29:'Main page'!$G$41,3,TRUE))","v":" "}]
[null,null,null,null,null,null,null,null,null,null,null,null," "," "," "," ",{"$f":"IF(I676=\"\",\"\",IF(I676<='Main page'!$F$49,\"Core staff\",\"Senior staff\"))","v":""},{"$f":"IF(D676=\"\",\" \",'Main page'!$F$21-(D676))","v":" "},{"$f":"IF(D676=\"\",\" \",VLOOKUP(R676,'Main page'!$E$29:'Main page'!$G$41,3,TRUE))","v":" "}]
[null,null,null,null,null,null,null,null,null,null,null,null," "," "," "," ",{"$f":"IF(I677=\"\",\"\",IF(I677<='Main page'!$F$49,\"Core staff\",\"Senior staff\"))","v":""},{"$f":"IF(D677=\"\",\" \",'Main page'!$F$21-(D677))","v":" "},{"$f":"IF(D677=\"\",\" \",VLOOKUP(R677,'Main page'!$E$29:'Main page'!$G$41,3,TRUE))","v":" "}]
[null,null,null,null,null,null,null,null,null,null,null,null," "," "," "," ",{"$f":"IF(I678=\"\",\"\",IF(I678<='Main page'!$F$49,\"Core staff\",\"Senior staff\"))","v":""},{"$f":"IF(D678=\"\",\" \",'Main page'!$F$21-(D678))","v":" "},{"$f":"IF(D678=\"\",\" \",VLOOKUP(R678,'Main page'!$E$29:'Main page'!$G$41,3,TRUE))","v":" "}]
[null,null,null,null,null,null,null,null,null,null,null,null," "," "," "," ",{"$f":"IF(I679=\"\",\"\",IF(I679<='Main page'!$F$49,\"Core staff\",\"Senior staff\"))","v":""},{"$f":"IF(D679=\"\",\" \",'Main page'!$F$21-(D679))","v":" "},{"$f":"IF(D679=\"\",\" \",VLOOKUP(R679,'Main page'!$E$29:'Main page'!$G$41,3,TRUE))","v":" "}]
[null,null,null,null,null,null,null,null,null,null,null,null," "," "," "," ",{"$f":"IF(I680=\"\",\"\",IF(I680<='Main page'!$F$49,\"Core staff\",\"Senior staff\"))","v":""},{"$f":"IF(D680=\"\",\" \",'Main page'!$F$21-(D680))","v":" "},{"$f":"IF(D680=\"\",\" \",VLOOKUP(R680,'Main page'!$E$29:'Main page'!$G$41,3,TRUE))","v":" "}]
[null,null,null,null,null,null,null,null,null,null,null,null," "," "," "," ",{"$f":"IF(I681=\"\",\"\",IF(I681<='Main page'!$F$49,\"Core staff\",\"Senior staff\"))","v":""},{"$f":"IF(D681=\"\",\" \",'Main page'!$F$21-(D681))","v":" "},{"$f":"IF(D681=\"\",\" \",VLOOKUP(R681,'Main page'!$E$29:'Main page'!$G$41,3,TRUE))","v":" "}]
[null,null,null,null,null,null,null,null,null,null,null,null," "," "," "," ",{"$f":"IF(I682=\"\",\"\",IF(I682<='Main page'!$F$49,\"Core staff\",\"Senior staff\"))","v":""},{"$f":"IF(D682=\"\",\" \",'Main page'!$F$21-(D682))","v":" "},{"$f":"IF(D682=\"\",\" \",VLOOKUP(R682,'Main page'!$E$29:'Main page'!$G$41,3,TRUE))","v":" "}]
[null,null,null,null,null,null,null,null,null,null,null,null," "," "," "," ",{"$f":"IF(I683=\"\",\"\",IF(I683<='Main page'!$F$49,\"Core staff\",\"Senior staff\"))","v":""},{"$f":"IF(D683=\"\",\" \",'Main page'!$F$21-(D683))","v":" "},{"$f":"IF(D683=\"\",\" \",VLOOKUP(R683,'Main page'!$E$29:'Main page'!$G$41,3,TRUE))","v":" "}]
[null,null,null,null,null,null,null,null,null,null,null,null," "," "," "," ",{"$f":"IF(I684=\"\",\"\",IF(I684<='Main page'!$F$49,\"Core staff\",\"Senior staff\"))","v":""},{"$f":"IF(D684=\"\",\" \",'Main page'!$F$21-(D684))","v":" "},{"$f":"IF(D684=\"\",\" \",VLOOKUP(R684,'Main page'!$E$29:'Main page'!$G$41,3,TRUE))","v":" "}]
[null,null,null,null,null,null,null,null,null,null,null,null," "," "," "," ",{"$f":"IF(I685=\"\",\"\",IF(I685<='Main page'!$F$49,\"Core staff\",\"Senior staff\"))","v":""},{"$f":"IF(D685=\"\",\" \",'Main page'!$F$21-(D685))","v":" "},{"$f":"IF(D685=\"\",\" \",VLOOKUP(R685,'Main page'!$E$29:'Main page'!$G$41,3,TRUE))","v":" "}]
[null,null,null,null,null,null,null,null,null,null,null,null," "," "," "," ",{"$f":"IF(I686=\"\",\"\",IF(I686<='Main page'!$F$49,\"Core staff\",\"Senior staff\"))","v":""},{"$f":"IF(D686=\"\",\" \",'Main page'!$F$21-(D686))","v":" "},{"$f":"IF(D686=\"\",\" \",VLOOKUP(R686,'Main page'!$E$29:'Main page'!$G$41,3,TRUE))","v":" "}]
[null,null,null,null,null,null,null,null,null,null,null,null," "," "," "," ",{"$f":"IF(I687=\"\",\"\",IF(I687<='Main page'!$F$49,\"Core staff\",\"Senior staff\"))","v":""},{"$f":"IF(D687=\"\",\" \",'Main page'!$F$21-(D687))","v":" "},{"$f":"IF(D687=\"\",\" \",VLOOKUP(R687,'Main page'!$E$29:'Main page'!$G$41,3,TRUE))","v":" "}]
[null,null,null,null,null,null,null,null,null,null,null,null," "," "," "," ",{"$f":"IF(I688=\"\",\"\",IF(I688<='Main page'!$F$49,\"Core staff\",\"Senior staff\"))","v":""},{"$f":"IF(D688=\"\",\" \",'Main page'!$F$21-(D688))","v":" "},{"$f":"IF(D688=\"\",\" \",VLOOKUP(R688,'Main page'!$E$29:'Main page'!$G$41,3,TRUE))","v":" "}]
[null,null,null,null,null,null,null,null,null,null,null,null," "," "," "," ",{"$f":"IF(I689=\"\",\"\",IF(I689<='Main page'!$F$49,\"Core staff\",\"Senior staff\"))","v":""},{"$f":"IF(D689=\"\",\" \",'Main page'!$F$21-(D689))","v":" "},{"$f":"IF(D689=\"\",\" \",VLOOKUP(R689,'Main page'!$E$29:'Main page'!$G$41,3,TRUE))","v":" "}]
[null,null,null,null,null,null,null,null,null,null,null,null," "," "," "," ",{"$f":"IF(I690=\"\",\"\",IF(I690<='Main page'!$F$49,\"Core staff\",\"Senior staff\"))","v":""},{"$f":"IF(D690=\"\",\" \",'Main page'!$F$21-(D690))","v":" "},{"$f":"IF(D690=\"\",\" \",VLOOKUP(R690,'Main page'!$E$29:'Main page'!$G$41,3,TRUE))","v":" "}]
[null,null,null,null,null,null,null,null,null,null,null,null," "," "," "," ",{"$f":"IF(I691=\"\",\"\",IF(I691<='Main page'!$F$49,\"Core staff\",\"Senior staff\"))","v":""},{"$f":"IF(D691=\"\",\" \",'Main page'!$F$21-(D691))","v":" "},{"$f":"IF(D691=\"\",\" \",VLOOKUP(R691,'Main page'!$E$29:'Main page'!$G$41,3,TRUE))","v":" "}]
[null,null,null,null,null,null,null,null,null,null,null,null," "," "," "," ",{"$f":"IF(I692=\"\",\"\",IF(I692<='Main page'!$F$49,\"Core staff\",\"Senior staff\"))","v":""},{"$f":"IF(D692=\"\",\" \",'Main page'!$F$21-(D692))","v":" "},{"$f":"IF(D692=\"\",\" \",VLOOKUP(R692,'Main page'!$E$29:'Main page'!$G$41,3,TRUE))","v":" "}]
[null,null,null,null,null,null,null,null,null,null,null,null," "," "," "," ",{"$f":"IF(I693=\"\",\"\",IF(I693<='Main page'!$F$49,\"Core staff\",\"Senior staff\"))","v":""},{"$f":"IF(D693=\"\",\" \",'Main page'!$F$21-(D693))","v":" "},{"$f":"IF(D693=\"\",\" \",VLOOKUP(R693,'Main page'!$E$29:'Main page'!$G$41,3,TRUE))","v":" "}]
[null,null,null,null,null,null,null,null,null,null,null,null," "," "," "," ",{"$f":"IF(I694=\"\",\"\",IF(I694<='Main page'!$F$49,\"Core staff\",\"Senior staff\"))","v":""},{"$f":"IF(D694=\"\",\" \",'Main page'!$F$21-(D694))","v":" "},{"$f":"IF(D694=\"\",\" \",VLOOKUP(R694,'Main page'!$E$29:'Main page'!$G$41,3,TRUE))","v":" "}]
[null,null,null,null,null,null,null,null,null,null,null,null," "," "," "," ",{"$f":"IF(I695=\"\",\"\",IF(I695<='Main page'!$F$49,\"Core staff\",\"Senior staff\"))","v":""},{"$f":"IF(D695=\"\",\" \",'Main page'!$F$21-(D695))","v":" "},{"$f":"IF(D695=\"\",\" \",VLOOKUP(R695,'Main page'!$E$29:'Main page'!$G$41,3,TRUE))","v":" "}]
[null,null,null,null,null,null,null,null,null,null,null,null," "," "," "," ",{"$f":"IF(I696=\"\",\"\",IF(I696<='Main page'!$F$49,\"Core staff\",\"Senior staff\"))","v":""},{"$f":"IF(D696=\"\",\" \",'Main page'!$F$21-(D696))","v":" "},{"$f":"IF(D696=\"\",\" \",VLOOKUP(R696,'Main page'!$E$29:'Main page'!$G$41,3,TRUE))","v":" "}]
[null,null,null,null,null,null,null,null,null,null,null,null," "," "," "," ",{"$f":"IF(I697=\"\",\"\",IF(I697<='Main page'!$F$49,\"Core staff\",\"Senior staff\"))","v":""},{"$f":"IF(D697=\"\",\" \",'Main page'!$F$21-(D697))","v":" "},{"$f":"IF(D697=\"\",\" \",VLOOKUP(R697,'Main page'!$E$29:'Main page'!$G$41,3,TRUE))","v":" "}]
[null,null,null,null,null,null,null,null,null,null,null,null," "," "," "," ",{"$f":"IF(I698=\"\",\"\",IF(I698<='Main page'!$F$49,\"Core staff\",\"Senior staff\"))","v":""},{"$f":"IF(D698=\"\",\" \",'Main page'!$F$21-(D698))","v":" "},{"$f":"IF(D698=\"\",\" \",VLOOKUP(R698,'Main page'!$E$29:'Main page'!$G$41,3,TRUE))","v":" "}]
[null,null,null,null,null,null,null,null,null,null,null,null," "," "," "," ",{"$f":"IF(I699=\"\",\"\",IF(I699<='Main page'!$F$49,\"Core staff\",\"Senior staff\"))","v":""},{"$f":"IF(D699=\"\",\" \",'Main page'!$F$21-(D699))","v":" "},{"$f":"IF(D699=\"\",\" \",VLOOKUP(R699,'Main page'!$E$29:'Main page'!$G$41,3,TRUE))","v":" "}]
[null,null,null,null,null,null,null,null,null,null,null,null," "," "," "," ",{"$f":"IF(I700=\"\",\"\",IF(I700<='Main page'!$F$49,\"Core staff\",\"Senior staff\"))","v":""},{"$f":"IF(D700=\"\",\" \",'Main page'!$F$21-(D700))","v":" "},{"$f":"IF(D700=\"\",\" \",VLOOKUP(R700,'Main page'!$E$29:'Main page'!$G$41,3,TRUE))","v":" "}]
[null,null,null,null,null,null,null,null,null,null,null,null," "," "," "," ",{"$f":"IF(I701=\"\",\"\",IF(I701<='Main page'!$F$49,\"Core staff\",\"Senior staff\"))","v":""},{"$f":"IF(D701=\"\",\" \",'Main page'!$F$21-(D701))","v":" "},{"$f":"IF(D701=\"\",\" \",VLOOKUP(R701,'Main page'!$E$29:'Main page'!$G$41,3,TRUE))","v":" "}]
[null,null,null,null,null,null,null,null,null,null,null,null," "," "," "," ",{"$f":"IF(I702=\"\",\"\",IF(I702<='Main page'!$F$49,\"Core staff\",\"Senior staff\"))","v":""},{"$f":"IF(D702=\"\",\" \",'Main page'!$F$21-(D702))","v":" "},{"$f":"IF(D702=\"\",\" \",VLOOKUP(R702,'Main page'!$E$29:'Main page'!$G$41,3,TRUE))","v":" "}]
[null,null,null,null,null,null,null,null,null,null,null,null," "," "," "," ",{"$f":"IF(I703=\"\",\"\",IF(I703<='Main page'!$F$49,\"Core staff\",\"Senior staff\"))","v":""},{"$f":"IF(D703=\"\",\" \",'Main page'!$F$21-(D703))","v":" "},{"$f":"IF(D703=\"\",\" \",VLOOKUP(R703,'Main page'!$E$29:'Main page'!$G$41,3,TRUE))","v":" "}]
[null,null,null,null,null,null,null,null,null,null,null,null," "," "," "," ",{"$f":"IF(I704=\"\",\"\",IF(I704<='Main page'!$F$49,\"Core staff\",\"Senior staff\"))","v":""},{"$f":"IF(D704=\"\",\" \",'Main page'!$F$21-(D704))","v":" "},{"$f":"IF(D704=\"\",\" \",VLOOKUP(R704,'Main page'!$E$29:'Main page'!$G$41,3,TRUE))","v":" "}]
[null,null,null,null,null,null,null,null,null,null,null,null," "," "," "," ",{"$f":"IF(I705=\"\",\"\",IF(I705<='Main page'!$F$49,\"Core staff\",\"Senior staff\"))","v":""},{"$f":"IF(D705=\"\",\" \",'Main page'!$F$21-(D705))","v":" "},{"$f":"IF(D705=\"\",\" \",VLOOKUP(R705,'Main page'!$E$29:'Main page'!$G$41,3,TRUE))","v":" "}]
[null,null,null,null,null,null,null,null,null,null,null,null," "," "," "," ",{"$f":"IF(I706=\"\",\"\",IF(I706<='Main page'!$F$49,\"Core staff\",\"Senior staff\"))","v":""},{"$f":"IF(D706=\"\",\" \",'Main page'!$F$21-(D706))","v":" "},{"$f":"IF(D706=\"\",\" \",VLOOKUP(R706,'Main page'!$E$29:'Main page'!$G$41,3,TRUE))","v":" "}]
[null,null,null,null,null,null,null,null,null,null,null,null," "," "," "," ",{"$f":"IF(I707=\"\",\"\",IF(I707<='Main page'!$F$49,\"Core staff\",\"Senior staff\"))","v":""},{"$f":"IF(D707=\"\",\" \",'Main page'!$F$21-(D707))","v":" "},{"$f":"IF(D707=\"\",\" \",VLOOKUP(R707,'Main page'!$E$29:'Main page'!$G$41,3,TRUE))","v":" "}]
[null,null,null,null,null,null,null,null,null,null,null,null," "," "," "," ",{"$f":"IF(I708=\"\",\"\",IF(I708<='Main page'!$F$49,\"Core staff\",\"Senior staff\"))","v":""},{"$f":"IF(D708=\"\",\" \",'Main page'!$F$21-(D708))","v":" "},{"$f":"IF(D708=\"\",\" \",VLOOKUP(R708,'Main page'!$E$29:'Main page'!$G$41,3,TRUE))","v":" "}]
[null,null,null,null,null,null,null,null,null,null,null,null," "," "," "," ",{"$f":"IF(I709=\"\",\"\",IF(I709<='Main page'!$F$49,\"Core staff\",\"Senior staff\"))","v":""},{"$f":"IF(D709=\"\",\" \",'Main page'!$F$21-(D709))","v":" "},{"$f":"IF(D709=\"\",\" \",VLOOKUP(R709,'Main page'!$E$29:'Main page'!$G$41,3,TRUE))","v":" "}]
[null,null,null,null,null,null,null,null,null,null,null,null," "," "," "," ",{"$f":"IF(I710=\"\",\"\",IF(I710<='Main page'!$F$49,\"Core staff\",\"Senior staff\"))","v":""},{"$f":"IF(D710=\"\",\" \",'Main page'!$F$21-(D710))","v":" "},{"$f":"IF(D710=\"\",\" \",VLOOKUP(R710,'Main page'!$E$29:'Main page'!$G$41,3,TRUE))","v":" "}]
[null,null,null,null,null,null,null,null,null,null,null,null," "," "," "," ",{"$f":"IF(I711=\"\",\"\",IF(I711<='Main page'!$F$49,\"Core staff\",\"Senior staff\"))","v":""},{"$f":"IF(D711=\"\",\" \",'Main page'!$F$21-(D711))","v":" "},{"$f":"IF(D711=\"\",\" \",VLOOKUP(R711,'Main page'!$E$29:'Main page'!$G$41,3,TRUE))","v":" "}]
[null,null,null,null,null,null,null,null,null,null,null,null," "," "," "," ",{"$f":"IF(I712=\"\",\"\",IF(I712<='Main page'!$F$49,\"Core staff\",\"Senior staff\"))","v":""},{"$f":"IF(D712=\"\",\" \",'Main page'!$F$21-(D712))","v":" "},{"$f":"IF(D712=\"\",\" \",VLOOKUP(R712,'Main page'!$E$29:'Main page'!$G$41,3,TRUE))","v":" "}]
[null,null,null,null,null,null,null,null,null,null,null,null," "," "," "," ",{"$f":"IF(I713=\"\",\"\",IF(I713<='Main page'!$F$49,\"Core staff\",\"Senior staff\"))","v":""},{"$f":"IF(D713=\"\",\" \",'Main page'!$F$21-(D713))","v":" "},{"$f":"IF(D713=\"\",\" \",VLOOKUP(R713,'Main page'!$E$29:'Main page'!$G$41,3,TRUE))","v":" "}]
[null,null,null,null,null,null,null,null,null,null,null,null," "," "," "," ",{"$f":"IF(I714=\"\",\"\",IF(I714<='Main page'!$F$49,\"Core staff\",\"Senior staff\"))","v":""},{"$f":"IF(D714=\"\",\" \",'Main page'!$F$21-(D714))","v":" "},{"$f":"IF(D714=\"\",\" \",VLOOKUP(R714,'Main page'!$E$29:'Main page'!$G$41,3,TRUE))","v":" "}]
[null,null,null,null,null,null,null,null,null,null,null,null," "," "," "," ",{"$f":"IF(I715=\"\",\"\",IF(I715<='Main page'!$F$49,\"Core staff\",\"Senior staff\"))","v":""},{"$f":"IF(D715=\"\",\" \",'Main page'!$F$21-(D715))","v":" "},{"$f":"IF(D715=\"\",\" \",VLOOKUP(R715,'Main page'!$E$29:'Main page'!$G$41,3,TRUE))","v":" "}]
[null,null,null,null,null,null,null,null,null,null,null,null," "," "," "," ",{"$f":"IF(I716=\"\",\"\",IF(I716<='Main page'!$F$49,\"Core staff\",\"Senior staff\"))","v":""},{"$f":"IF(D716=\"\",\" \",'Main page'!$F$21-(D716))","v":" "},{"$f":"IF(D716=\"\",\" \",VLOOKUP(R716,'Main page'!$E$29:'Main page'!$G$41,3,TRUE))","v":" "}]
[null,null,null,null,null,null,null,null,null,null,null,null," "," "," "," ",{"$f":"IF(I717=\"\",\"\",IF(I717<='Main page'!$F$49,\"Core staff\",\"Senior staff\"))","v":""},{"$f":"IF(D717=\"\",\" \",'Main page'!$F$21-(D717))","v":" "},{"$f":"IF(D717=\"\",\" \",VLOOKUP(R717,'Main page'!$E$29:'Main page'!$G$41,3,TRUE))","v":" "}]
[null,null,null,null,null,null,null,null,null,null,null,null,{"$f":"IFERROR(J718/G718,\" \")","v":" "},{"$f":"IFERROR((M718/$U$4)/H718,\" \")","v":" "},{"$f":"IFERROR((N718*75)*26.083,\" \")","v":" "},{"$f":"IF(G718=0,\" \",IF(G718=1,\"Full time\",\"Part time\"))","v":" "},{"$f":"IF(I718=\"\",\"\",IF(I718<='Main page'!$F$49,\"Core staff\",\"Senior staff\"))","v":""},{"$f":"IF(D718=\"\",\" \",'Main page'!$F$21-(D718))","v":" "},{"$f":"IF(D718=\"\",\" \",VLOOKUP(R718,'Main page'!$E$29:'Main page'!$G$41,3,TRUE))","v":" "}]
[null,null,null,null,null,null,null,null,null,null,null,null," "," "," "," ",{"$f":"IF(I719=\"\",\"\",IF(I719<='Main page'!$F$49,\"Core staff\",\"Senior staff\"))","v":""},{"$f":"IF(D719=\"\",\" \",'Main page'!$F$21-(D719))","v":" "},{"$f":"IF(D719=\"\",\" \",VLOOKUP(R719,'Main page'!$E$29:'Main page'!$G$41,3,TRUE))","v":" "}]
[null,null,null,null,null,null,null,null,null,null,null,null," "," "," "," ",{"$f":"IF(I720=\"\",\"\",IF(I720<='Main page'!$F$49,\"Core staff\",\"Senior staff\"))","v":""},{"$f":"IF(D720=\"\",\" \",'Main page'!$F$21-(D720))","v":" "},{"$f":"IF(D720=\"\",\" \",VLOOKUP(R720,'Main page'!$E$29:'Main page'!$G$41,3,TRUE))","v":" "}]
[null,null,null,null,null,null,null,null,null,null,null,null," "," "," "," ",{"$f":"IF(I721=\"\",\"\",IF(I721<='Main page'!$F$49,\"Core staff\",\"Senior staff\"))","v":""},{"$f":"IF(D721=\"\",\" \",'Main page'!$F$21-(D721))","v":" "},{"$f":"IF(D721=\"\",\" \",VLOOKUP(R721,'Main page'!$E$29:'Main page'!$G$41,3,TRUE))","v":" "}]
[null,null,null,null,null,null,null,null,null,null,null,null," "," "," "," ",{"$f":"IF(I722=\"\",\"\",IF(I722<='Main page'!$F$49,\"Core staff\",\"Senior staff\"))","v":""},{"$f":"IF(D722=\"\",\" \",'Main page'!$F$21-(D722))","v":" "},{"$f":"IF(D722=\"\",\" \",VLOOKUP(R722,'Main page'!$E$29:'Main page'!$G$41,3,TRUE))","v":" "}]
[null,null,null,null,null,null,null,null,null,null,null,null," "," "," "," ",{"$f":"IF(I723=\"\",\"\",IF(I723<='Main page'!$F$49,\"Core staff\",\"Senior staff\"))","v":""},{"$f":"IF(D723=\"\",\" \",'Main page'!$F$21-(D723))","v":" "},{"$f":"IF(D723=\"\",\" \",VLOOKUP(R723,'Main page'!$E$29:'Main page'!$G$41,3,TRUE))","v":" "}]
[null,null,null,null,null,null,null,null,null,null,null,null," "," "," "," ",{"$f":"IF(I724=\"\",\"\",IF(I724<='Main page'!$F$49,\"Core staff\",\"Senior staff\"))","v":""},{"$f":"IF(D724=\"\",\" \",'Main page'!$F$21-(D724))","v":" "},{"$f":"IF(D724=\"\",\" \",VLOOKUP(R724,'Main page'!$E$29:'Main page'!$G$41,3,TRUE))","v":" "}]
[null,null,null,null,null,null,null,null,null,null,null,null," "," "," "," ",{"$f":"IF(I725=\"\",\"\",IF(I725<='Main page'!$F$49,\"Core staff\",\"Senior staff\"))","v":""},{"$f":"IF(D725=\"\",\" \",'Main page'!$F$21-(D725))","v":" "},{"$f":"IF(D725=\"\",\" \",VLOOKUP(R725,'Main page'!$E$29:'Main page'!$G$41,3,TRUE))","v":" "}]
[null,null,null,null,null,null,null,null,null,null,null,null," "," "," "," ",{"$f":"IF(I726=\"\",\"\",IF(I726<='Main page'!$F$49,\"Core staff\",\"Senior staff\"))","v":""},{"$f":"IF(D726=\"\",\" \",'Main page'!$F$21-(D726))","v":" "},{"$f":"IF(D726=\"\",\" \",VLOOKUP(R726,'Main page'!$E$29:'Main page'!$G$41,3,TRUE))","v":" "}]
[null,null,null,null,null,null,null,null,null,null,null,null," "," "," "," ",{"$f":"IF(I727=\"\",\"\",IF(I727<='Main page'!$F$49,\"Core staff\",\"Senior staff\"))","v":""},{"$f":"IF(D727=\"\",\" \",'Main page'!$F$21-(D727))","v":" "},{"$f":"IF(D727=\"\",\" \",VLOOKUP(R727,'Main page'!$E$29:'Main page'!$G$41,3,TRUE))","v":" "}]
[null,null,null,null,null,null,null,null,null,null,null,null," "," "," "," ",{"$f":"IF(I728=\"\",\"\",IF(I728<='Main page'!$F$49,\"Core staff\",\"Senior staff\"))","v":""},{"$f":"IF(D728=\"\",\" \",'Main page'!$F$21-(D728))","v":" "},{"$f":"IF(D728=\"\",\" \",VLOOKUP(R728,'Main page'!$E$29:'Main page'!$G$41,3,TRUE))","v":" "}]
[null,null,null,null,null,null,null,null,null,null,null,null," "," "," "," ",{"$f":"IF(I729=\"\",\"\",IF(I729<='Main page'!$F$49,\"Core staff\",\"Senior staff\"))","v":""},{"$f":"IF(D729=\"\",\" \",'Main page'!$F$21-(D729))","v":" "},{"$f":"IF(D729=\"\",\" \",VLOOKUP(R729,'Main page'!$E$29:'Main page'!$G$41,3,TRUE))","v":" "}]
[null,null,null,null,null,null,null,null,null,null,null,null," "," "," "," ",{"$f":"IF(I730=\"\",\"\",IF(I730<='Main page'!$F$49,\"Core staff\",\"Senior staff\"))","v":""},{"$f":"IF(D730=\"\",\" \",'Main page'!$F$21-(D730))","v":" "},{"$f":"IF(D730=\"\",\" \",VLOOKUP(R730,'Main page'!$E$29:'Main page'!$G$41,3,TRUE))","v":" "}]
[null,null,null,null,null,null,null,null,null,null,null,null," "," "," "," ",{"$f":"IF(I731=\"\",\"\",IF(I731<='Main page'!$F$49,\"Core staff\",\"Senior staff\"))","v":""},{"$f":"IF(D731=\"\",\" \",'Main page'!$F$21-(D731))","v":" "},{"$f":"IF(D731=\"\",\" \",VLOOKUP(R731,'Main page'!$E$29:'Main page'!$G$41,3,TRUE))","v":" "}]
[null,null,null,null,null,null,null,null,null,null,null,null," "," "," "," ",{"$f":"IF(I732=\"\",\"\",IF(I732<='Main page'!$F$49,\"Core staff\",\"Senior staff\"))","v":""},{"$f":"IF(D732=\"\",\" \",'Main page'!$F$21-(D732))","v":" "},{"$f":"IF(D732=\"\",\" \",VLOOKUP(R732,'Main page'!$E$29:'Main page'!$G$41,3,TRUE))","v":" "}]
[null,null,null,null,null,null,null,null,null,null,null,null," "," "," "," ",{"$f":"IF(I733=\"\",\"\",IF(I733<='Main page'!$F$49,\"Core staff\",\"Senior staff\"))","v":""},{"$f":"IF(D733=\"\",\" \",'Main page'!$F$21-(D733))","v":" "},{"$f":"IF(D733=\"\",\" \",VLOOKUP(R733,'Main page'!$E$29:'Main page'!$G$41,3,TRUE))","v":" "}]
[null,null,null,null,null,null,null,null,null,null,null,null," "," "," "," ",{"$f":"IF(I734=\"\",\"\",IF(I734<='Main page'!$F$49,\"Core staff\",\"Senior staff\"))","v":""},{"$f":"IF(D734=\"\",\" \",'Main page'!$F$21-(D734))","v":" "},{"$f":"IF(D734=\"\",\" \",VLOOKUP(R734,'Main page'!$E$29:'Main page'!$G$41,3,TRUE))","v":" "}]
[null,null,null,null,null,null,null,null,null,null,null,null," "," "," "," ",{"$f":"IF(I735=\"\",\"\",IF(I735<='Main page'!$F$49,\"Core staff\",\"Senior staff\"))","v":""},{"$f":"IF(D735=\"\",\" \",'Main page'!$F$21-(D735))","v":" "},{"$f":"IF(D735=\"\",\" \",VLOOKUP(R735,'Main page'!$E$29:'Main page'!$G$41,3,TRUE))","v":" "}]
[null,null,null,null,null,null,null,null,null,null,null,null," "," "," "," ",{"$f":"IF(I736=\"\",\"\",IF(I736<='Main page'!$F$49,\"Core staff\",\"Senior staff\"))","v":""},{"$f":"IF(D736=\"\",\" \",'Main page'!$F$21-(D736))","v":" "},{"$f":"IF(D736=\"\",\" \",VLOOKUP(R736,'Main page'!$E$29:'Main page'!$G$41,3,TRUE))","v":" "}]
[null,null,null,null,null,null,null,null,null,null,null,null," "," "," "," ",{"$f":"IF(I737=\"\",\"\",IF(I737<='Main page'!$F$49,\"Core staff\",\"Senior staff\"))","v":""},{"$f":"IF(D737=\"\",\" \",'Main page'!$F$21-(D737))","v":" "},{"$f":"IF(D737=\"\",\" \",VLOOKUP(R737,'Main page'!$E$29:'Main page'!$G$41,3,TRUE))","v":" "}]
[null,null,null,null,null,null,null,null,null,null,null,null," "," "," "," ",{"$f":"IF(I738=\"\",\"\",IF(I738<='Main page'!$F$49,\"Core staff\",\"Senior staff\"))","v":""},{"$f":"IF(D738=\"\",\" \",'Main page'!$F$21-(D738))","v":" "},{"$f":"IF(D738=\"\",\" \",VLOOKUP(R738,'Main page'!$E$29:'Main page'!$G$41,3,TRUE))","v":" "}]
[null,null,null,null,null,null,null,null,null,null,null,null," "," "," "," ",{"$f":"IF(I739=\"\",\"\",IF(I739<='Main page'!$F$49,\"Core staff\",\"Senior staff\"))","v":""},{"$f":"IF(D739=\"\",\" \",'Main page'!$F$21-(D739))","v":" "},{"$f":"IF(D739=\"\",\" \",VLOOKUP(R739,'Main page'!$E$29:'Main page'!$G$41,3,TRUE))","v":" "}]
[null,null,null,null,null,null,null,null,null,null,null,null," "," "," "," ",{"$f":"IF(I740=\"\",\"\",IF(I740<='Main page'!$F$49,\"Core staff\",\"Senior staff\"))","v":""},{"$f":"IF(D740=\"\",\" \",'Main page'!$F$21-(D740))","v":" "},{"$f":"IF(D740=\"\",\" \",VLOOKUP(R740,'Main page'!$E$29:'Main page'!$G$41,3,TRUE))","v":" "}]
[null,null,null,null,null,null,null,null,null,null,null,null," "," "," "," ",{"$f":"IF(I741=\"\",\"\",IF(I741<='Main page'!$F$49,\"Core staff\",\"Senior staff\"))","v":""},{"$f":"IF(D741=\"\",\" \",'Main page'!$F$21-(D741))","v":" "},{"$f":"IF(D741=\"\",\" \",VLOOKUP(R741,'Main page'!$E$29:'Main page'!$G$41,3,TRUE))","v":" "}]
[null,null,null,null,null,null,null,null,null,null,null,null," "," "," "," ",{"$f":"IF(I742=\"\",\"\",IF(I742<='Main page'!$F$49,\"Core staff\",\"Senior staff\"))","v":""},{"$f":"IF(D742=\"\",\" \",'Main page'!$F$21-(D742))","v":" "},{"$f":"IF(D742=\"\",\" \",VLOOKUP(R742,'Main page'!$E$29:'Main page'!$G$41,3,TRUE))","v":" "}]
[null,null,null,null,null,null,null,null,null,null,null,null," "," "," "," ",{"$f":"IF(I743=\"\",\"\",IF(I743<='Main page'!$F$49,\"Core staff\",\"Senior staff\"))","v":""},{"$f":"IF(D743=\"\",\" \",'Main page'!$F$21-(D743))","v":" "},{"$f":"IF(D743=\"\",\" \",VLOOKUP(R743,'Main page'!$E$29:'Main page'!$G$41,3,TRUE))","v":" "}]
[null,null,null,null,null,null,null,null,null,null,null,null," "," "," "," ",{"$f":"IF(I744=\"\",\"\",IF(I744<='Main page'!$F$49,\"Core staff\",\"Senior staff\"))","v":""},{"$f":"IF(D744=\"\",\" \",'Main page'!$F$21-(D744))","v":" "},{"$f":"IF(D744=\"\",\" \",VLOOKUP(R744,'Main page'!$E$29:'Main page'!$G$41,3,TRUE))","v":" "}]
[null,null,null,null,null,null,null,null,null,null,null,null," "," "," "," ",{"$f":"IF(I745=\"\",\"\",IF(I745<='Main page'!$F$49,\"Core staff\",\"Senior staff\"))","v":""},{"$f":"IF(D745=\"\",\" \",'Main page'!$F$21-(D745))","v":" "},{"$f":"IF(D745=\"\",\" \",VLOOKUP(R745,'Main page'!$E$29:'Main page'!$G$41,3,TRUE))","v":" "}]
[null,null,null,null,null,null,null,null,null,null,null,null," "," "," "," ",{"$f":"IF(I746=\"\",\"\",IF(I746<='Main page'!$F$49,\"Core staff\",\"Senior staff\"))","v":""},{"$f":"IF(D746=\"\",\" \",'Main page'!$F$21-(D746))","v":" "},{"$f":"IF(D746=\"\",\" \",VLOOKUP(R746,'Main page'!$E$29:'Main page'!$G$41,3,TRUE))","v":" "}]
[null,null,null,null,null,null,null,null,null,null,null,null," "," "," "," ",{"$f":"IF(I747=\"\",\"\",IF(I747<='Main page'!$F$49,\"Core staff\",\"Senior staff\"))","v":""},{"$f":"IF(D747=\"\",\" \",'Main page'!$F$21-(D747))","v":" "},{"$f":"IF(D747=\"\",\" \",VLOOKUP(R747,'Main page'!$E$29:'Main page'!$G$41,3,TRUE))","v":" "}]
[null,null,null,null,null,null,null,null,null,null,null,null," "," "," "," ",{"$f":"IF(I748=\"\",\"\",IF(I748<='Main page'!$F$49,\"Core staff\",\"Senior staff\"))","v":""},{"$f":"IF(D748=\"\",\" \",'Main page'!$F$21-(D748))","v":" "},{"$f":"IF(D748=\"\",\" \",VLOOKUP(R748,'Main page'!$E$29:'Main page'!$G$41,3,TRUE))","v":" "}]
[null,null,null,null,null,null,null,null,null,null,null,null," "," "," "," ",{"$f":"IF(I749=\"\",\"\",IF(I749<='Main page'!$F$49,\"Core staff\",\"Senior staff\"))","v":""},{"$f":"IF(D749=\"\",\" \",'Main page'!$F$21-(D749))","v":" "},{"$f":"IF(D749=\"\",\" \",VLOOKUP(R749,'Main page'!$E$29:'Main page'!$G$41,3,TRUE))","v":" "}]
[null,null,null,null,null,null,null,null,null,null,null,null," "," "," "," ",{"$f":"IF(I750=\"\",\"\",IF(I750<='Main page'!$F$49,\"Core staff\",\"Senior staff\"))","v":""},{"$f":"IF(D750=\"\",\" \",'Main page'!$F$21-(D750))","v":" "},{"$f":"IF(D750=\"\",\" \",VLOOKUP(R750,'Main page'!$E$29:'Main page'!$G$41,3,TRUE))","v":" "}]
[null,null,null,null,null,null,null,null,null,null,null,null," "," "," "," ",{"$f":"IF(I751=\"\",\"\",IF(I751<='Main page'!$F$49,\"Core staff\",\"Senior staff\"))","v":""},{"$f":"IF(D751=\"\",\" \",'Main page'!$F$21-(D751))","v":" "},{"$f":"IF(D751=\"\",\" \",VLOOKUP(R751,'Main page'!$E$29:'Main page'!$G$41,3,TRUE))","v":" "}]
[null,null,null,null,null,null,null,null,null,null,null,null," "," "," "," ",{"$f":"IF(I752=\"\",\"\",IF(I752<='Main page'!$F$49,\"Core staff\",\"Senior staff\"))","v":""},{"$f":"IF(D752=\"\",\" \",'Main page'!$F$21-(D752))","v":" "},{"$f":"IF(D752=\"\",\" \",VLOOKUP(R752,'Main page'!$E$29:'Main page'!$G$41,3,TRUE))","v":" "}]
[null,null,null,null,null,null,null,null,null,null,null,null," "," "," "," ",{"$f":"IF(I753=\"\",\"\",IF(I753<='Main page'!$F$49,\"Core staff\",\"Senior staff\"))","v":""},{"$f":"IF(D753=\"\",\" \",'Main page'!$F$21-(D753))","v":" "},{"$f":"IF(D753=\"\",\" \",VLOOKUP(R753,'Main page'!$E$29:'Main page'!$G$41,3,TRUE))","v":" "}]
[null,null,null,null,null,null,null,null,null,null,null,null," "," "," "," ",{"$f":"IF(I754=\"\",\"\",IF(I754<='Main page'!$F$49,\"Core staff\",\"Senior staff\"))","v":""},{"$f":"IF(D754=\"\",\" \",'Main page'!$F$21-(D754))","v":" "},{"$f":"IF(D754=\"\",\" \",VLOOKUP(R754,'Main page'!$E$29:'Main page'!$G$41,3,TRUE))","v":" "}]
[null,null,null,null,null,null,null,null,null,null,null,null," "," "," "," ",{"$f":"IF(I755=\"\",\"\",IF(I755<='Main page'!$F$49,\"Core staff\",\"Senior staff\"))","v":""},{"$f":"IF(D755=\"\",\" \",'Main page'!$F$21-(D755))","v":" "},{"$f":"IF(D755=\"\",\" \",VLOOKUP(R755,'Main page'!$E$29:'Main page'!$G$41,3,TRUE))","v":" "}]
[null,null,null,null,null,null,null,null,null,null,null,null," "," "," "," ",{"$f":"IF(I756=\"\",\"\",IF(I756<='Main page'!$F$49,\"Core staff\",\"Senior staff\"))","v":""},{"$f":"IF(D756=\"\",\" \",'Main page'!$F$21-(D756))","v":" "},{"$f":"IF(D756=\"\",\" \",VLOOKUP(R756,'Main page'!$E$29:'Main page'!$G$41,3,TRUE))","v":" "}]
[null,null,null,null,null,null,null,null,null,null,null,null," "," "," "," ",{"$f":"IF(I757=\"\",\"\",IF(I757<='Main page'!$F$49,\"Core staff\",\"Senior staff\"))","v":""},{"$f":"IF(D757=\"\",\" \",'Main page'!$F$21-(D757))","v":" "},{"$f":"IF(D757=\"\",\" \",VLOOKUP(R757,'Main page'!$E$29:'Main page'!$G$41,3,TRUE))","v":" "}]
[null,null,null,null,null,null,null,null,null,null,null,null," "," "," "," ",{"$f":"IF(I758=\"\",\"\",IF(I758<='Main page'!$F$49,\"Core staff\",\"Senior staff\"))","v":""},{"$f":"IF(D758=\"\",\" \",'Main page'!$F$21-(D758))","v":" "},{"$f":"IF(D758=\"\",\" \",VLOOKUP(R758,'Main page'!$E$29:'Main page'!$G$41,3,TRUE))","v":" "}]
[null,null,null,null,null,null,null,null,null,null,null,null," "," "," "," ",{"$f":"IF(I759=\"\",\"\",IF(I759<='Main page'!$F$49,\"Core staff\",\"Senior staff\"))","v":""},{"$f":"IF(D759=\"\",\" \",'Main page'!$F$21-(D759))","v":" "},{"$f":"IF(D759=\"\",\" \",VLOOKUP(R759,'Main page'!$E$29:'Main page'!$G$41,3,TRUE))","v":" "}]
[null,null,null,null,null,null,null,null,null,null,null,null," "," "," "," ",{"$f":"IF(I760=\"\",\"\",IF(I760<='Main page'!$F$49,\"Core staff\",\"Senior staff\"))","v":""},{"$f":"IF(D760=\"\",\" \",'Main page'!$F$21-(D760))","v":" "},{"$f":"IF(D760=\"\",\" \",VLOOKUP(R760,'Main page'!$E$29:'Main page'!$G$41,3,TRUE))","v":" "}]
[null,null,null,null,null,null,null,null,null,null,null,null," "," "," "," ",{"$f":"IF(I761=\"\",\"\",IF(I761<='Main page'!$F$49,\"Core staff\",\"Senior staff\"))","v":""},{"$f":"IF(D761=\"\",\" \",'Main page'!$F$21-(D761))","v":" "},{"$f":"IF(D761=\"\",\" \",VLOOKUP(R761,'Main page'!$E$29:'Main page'!$G$41,3,TRUE))","v":" "}]
[null,null,null,null,null,null,null,null,null,null,null,null," "," "," "," ",{"$f":"IF(I762=\"\",\"\",IF(I762<='Main page'!$F$49,\"Core staff\",\"Senior staff\"))","v":""},{"$f":"IF(D762=\"\",\" \",'Main page'!$F$21-(D762))","v":" "},{"$f":"IF(D762=\"\",\" \",VLOOKUP(R762,'Main page'!$E$29:'Main page'!$G$41,3,TRUE))","v":" "}]
[null,null,null,null,null,null,null,null,null,null,null,null," "," "," "," ",{"$f":"IF(I763=\"\",\"\",IF(I763<='Main page'!$F$49,\"Core staff\",\"Senior staff\"))","v":""},{"$f":"IF(D763=\"\",\" \",'Main page'!$F$21-(D763))","v":" "},{"$f":"IF(D763=\"\",\" \",VLOOKUP(R763,'Main page'!$E$29:'Main page'!$G$41,3,TRUE))","v":" "}]
[null,null,null,null,null,null,null,null,null,null,null,null," "," "," "," ",{"$f":"IF(I764=\"\",\"\",IF(I764<='Main page'!$F$49,\"Core staff\",\"Senior staff\"))","v":""},{"$f":"IF(D764=\"\",\" \",'Main page'!$F$21-(D764))","v":" "},{"$f":"IF(D764=\"\",\" \",VLOOKUP(R764,'Main page'!$E$29:'Main page'!$G$41,3,TRUE))","v":" "}]
[null,null,null,null,null,null,null,null,null,null,null,null," "," "," "," ",{"$f":"IF(I765=\"\",\"\",IF(I765<='Main page'!$F$49,\"Core staff\",\"Senior staff\"))","v":""},{"$f":"IF(D765=\"\",\" \",'Main page'!$F$21-(D765))","v":" "},{"$f":"IF(D765=\"\",\" \",VLOOKUP(R765,'Main page'!$E$29:'Main page'!$G$41,3,TRUE))","v":" "}]
[null,null,null,null,null,null,null,null,null,null,null,null," "," "," "," ",{"$f":"IF(I766=\"\",\"\",IF(I766<='Main page'!$F$49,\"Core staff\",\"Senior staff\"))","v":""},{"$f":"IF(D766=\"\",\" \",'Main page'!$F$21-(D766))","v":" "},{"$f":"IF(D766=\"\",\" \",VLOOKUP(R766,'Main page'!$E$29:'Main page'!$G$41,3,TRUE))","v":" "}]
[null,null,null,null,null,null,null,null,null,null,null,null," "," "," "," ",{"$f":"IF(I767=\"\",\"\",IF(I767<='Main page'!$F$49,\"Core staff\",\"Senior staff\"))","v":""},{"$f":"IF(D767=\"\",\" \",'Main page'!$F$21-(D767))","v":" "},{"$f":"IF(D767=\"\",\" \",VLOOKUP(R767,'Main page'!$E$29:'Main page'!$G$41,3,TRUE))","v":" "}]
[null,null,null,null,null,null,null,null,null,null,null,null," "," "," "," ",{"$f":"IF(I768=\"\",\"\",IF(I768<='Main page'!$F$49,\"Core staff\",\"Senior staff\"))","v":""},{"$f":"IF(D768=\"\",\" \",'Main page'!$F$21-(D768))","v":" "},{"$f":"IF(D768=\"\",\" \",VLOOKUP(R768,'Main page'!$E$29:'Main page'!$G$41,3,TRUE))","v":" "}]
[null,null,null,null,null,null,null,null,null,null,null,null," "," "," "," ",{"$f":"IF(I769=\"\",\"\",IF(I769<='Main page'!$F$49,\"Core staff\",\"Senior staff\"))","v":""},{"$f":"IF(D769=\"\",\" \",'Main page'!$F$21-(D769))","v":" "},{"$f":"IF(D769=\"\",\" \",VLOOKUP(R769,'Main page'!$E$29:'Main page'!$G$41,3,TRUE))","v":" "}]
[null,null,null,null,null,null,null,null,null,null,null,null," "," "," "," ",{"$f":"IF(I770=\"\",\"\",IF(I770<='Main page'!$F$49,\"Core staff\",\"Senior staff\"))","v":""},{"$f":"IF(D770=\"\",\" \",'Main page'!$F$21-(D770))","v":" "},{"$f":"IF(D770=\"\",\" \",VLOOKUP(R770,'Main page'!$E$29:'Main page'!$G$41,3,TRUE))","v":" "}]
[null,null,null,null,null,null,null,null,null,null,null,null," "," "," "," ",{"$f":"IF(I771=\"\",\"\",IF(I771<='Main page'!$F$49,\"Core staff\",\"Senior staff\"))","v":""},{"$f":"IF(D771=\"\",\" \",'Main page'!$F$21-(D771))","v":" "},{"$f":"IF(D771=\"\",\" \",VLOOKUP(R771,'Main page'!$E$29:'Main page'!$G$41,3,TRUE))","v":" "}]
[null,null,null,null,null,null,null,null,null,null,null,null," "," "," "," ",{"$f":"IF(I772=\"\",\"\",IF(I772<='Main page'!$F$49,\"Core staff\",\"Senior staff\"))","v":""},{"$f":"IF(D772=\"\",\" \",'Main page'!$F$21-(D772))","v":" "},{"$f":"IF(D772=\"\",\" \",VLOOKUP(R772,'Main page'!$E$29:'Main page'!$G$41,3,TRUE))","v":" "}]
[null,null,null,null,null,null,null,null,null,null,null,null," "," "," "," ",{"$f":"IF(I773=\"\",\"\",IF(I773<='Main page'!$F$49,\"Core staff\",\"Senior staff\"))","v":""},{"$f":"IF(D773=\"\",\" \",'Main page'!$F$21-(D773))","v":" "},{"$f":"IF(D773=\"\",\" \",VLOOKUP(R773,'Main page'!$E$29:'Main page'!$G$41,3,TRUE))","v":" "}]
[null,null,null,null,null,null,null,null,null,null,null,null," "," "," "," ",{"$f":"IF(I774=\"\",\"\",IF(I774<='Main page'!$F$49,\"Core staff\",\"Senior staff\"))","v":""},{"$f":"IF(D774=\"\",\" \",'Main page'!$F$21-(D774))","v":" "},{"$f":"IF(D774=\"\",\" \",VLOOKUP(R774,'Main page'!$E$29:'Main page'!$G$41,3,TRUE))","v":" "}]
[null,null,null,null,null,null,null,null,null,null,null,null," "," "," "," ",{"$f":"IF(I775=\"\",\"\",IF(I775<='Main page'!$F$49,\"Core staff\",\"Senior staff\"))","v":""},{"$f":"IF(D775=\"\",\" \",'Main page'!$F$21-(D775))","v":" "},{"$f":"IF(D775=\"\",\" \",VLOOKUP(R775,'Main page'!$E$29:'Main page'!$G$41,3,TRUE))","v":" "}]
[null,null,null,null,null,null,null,null,null,null,null,null," "," "," "," ",{"$f":"IF(I776=\"\",\"\",IF(I776<='Main page'!$F$49,\"Core staff\",\"Senior staff\"))","v":""},{"$f":"IF(D776=\"\",\" \",'Main page'!$F$21-(D776))","v":" "},{"$f":"IF(D776=\"\",\" \",VLOOKUP(R776,'Main page'!$E$29:'Main page'!$G$41,3,TRUE))","v":" "}]
[null,null,null,null,null,null,null,null,null,null,null,null," "," "," "," ",{"$f":"IF(I777=\"\",\"\",IF(I777<='Main page'!$F$49,\"Core staff\",\"Senior staff\"))","v":""},{"$f":"IF(D777=\"\",\" \",'Main page'!$F$21-(D777))","v":" "},{"$f":"IF(D777=\"\",\" \",VLOOKUP(R777,'Main page'!$E$29:'Main page'!$G$41,3,TRUE))","v":" "}]
[null,null,null,null,null,null,null,null,null,null,null,null," "," "," "," ",{"$f":"IF(I778=\"\",\"\",IF(I778<='Main page'!$F$49,\"Core staff\",\"Senior staff\"))","v":""},{"$f":"IF(D778=\"\",\" \",'Main page'!$F$21-(D778))","v":" "},{"$f":"IF(D778=\"\",\" \",VLOOKUP(R778,'Main page'!$E$29:'Main page'!$G$41,3,TRUE))","v":" "}]
[null,null,null,null,null,null,null,null,null,null,null,null," "," "," "," ",{"$f":"IF(I779=\"\",\"\",IF(I779<='Main page'!$F$49,\"Core staff\",\"Senior staff\"))","v":""},{"$f":"IF(D779=\"\",\" \",'Main page'!$F$21-(D779))","v":" "},{"$f":"IF(D779=\"\",\" \",VLOOKUP(R779,'Main page'!$E$29:'Main page'!$G$41,3,TRUE))","v":" "}]
[null,null,null,null,null,null,null,null,null,null,null,null," "," "," "," ",{"$f":"IF(I780=\"\",\"\",IF(I780<='Main page'!$F$49,\"Core staff\",\"Senior staff\"))","v":""},{"$f":"IF(D780=\"\",\" \",'Main page'!$F$21-(D780))","v":" "},{"$f":"IF(D780=\"\",\" \",VLOOKUP(R780,'Main page'!$E$29:'Main page'!$G$41,3,TRUE))","v":" "}]
[null,null,null,null,null,null,null,null,null,null,null,null," "," "," "," ",{"$f":"IF(I781=\"\",\"\",IF(I781<='Main page'!$F$49,\"Core staff\",\"Senior staff\"))","v":""},{"$f":"IF(D781=\"\",\" \",'Main page'!$F$21-(D781))","v":" "},{"$f":"IF(D781=\"\",\" \",VLOOKUP(R781,'Main page'!$E$29:'Main page'!$G$41,3,TRUE))","v":" "}]
[null,null,null,null,null,null,null,null,null,null,null,null,{"$f":"IFERROR(J782/G782,\" \")","v":" "},{"$f":"IFERROR((M782/$U$4)/H782,\" \")","v":" "},{"$f":"IFERROR((N782*75)*26.083,\" \")","v":" "},{"$f":"IF(G782=0,\" \",IF(G782=1,\"Full time\",\"Part time\"))","v":" "},{"$f":"IF(I782=\"\",\"\",IF(I782<='Main page'!$F$49,\"Core staff\",\"Senior staff\"))","v":""},{"$f":"IF(D782=\"\",\" \",'Main page'!$F$21-(D782))","v":" "},{"$f":"IF(D782=\"\",\" \",VLOOKUP(R782,'Main page'!$E$29:'Main page'!$G$41,3,TRUE))","v":" "}]
[null,null,null,null,null,null,null,null,null,null,null,null," "," "," "," ",{"$f":"IF(I783=\"\",\"\",IF(I783<='Main page'!$F$49,\"Core staff\",\"Senior staff\"))","v":""},{"$f":"IF(D783=\"\",\" \",'Main page'!$F$21-(D783))","v":" "},{"$f":"IF(D783=\"\",\" \",VLOOKUP(R783,'Main page'!$E$29:'Main page'!$G$41,3,TRUE))","v":" "}]
[null,null,null,null,null,null,null,null,null,null,null,null," "," "," "," ",{"$f":"IF(I784=\"\",\"\",IF(I784<='Main page'!$F$49,\"Core staff\",\"Senior staff\"))","v":""},{"$f":"IF(D784=\"\",\" \",'Main page'!$F$21-(D784))","v":" "},{"$f":"IF(D784=\"\",\" \",VLOOKUP(R784,'Main page'!$E$29:'Main page'!$G$41,3,TRUE))","v":" "}]
[null,null,null,null,null,null,null,null,null,null,null,null," "," "," "," ",{"$f":"IF(I785=\"\",\"\",IF(I785<='Main page'!$F$49,\"Core staff\",\"Senior staff\"))","v":""},{"$f":"IF(D785=\"\",\" \",'Main page'!$F$21-(D785))","v":" "},{"$f":"IF(D785=\"\",\" \",VLOOKUP(R785,'Main page'!$E$29:'Main page'!$G$41,3,TRUE))","v":" "}]
[null,null,null,null,null,null,null,null,null,null,null,null," "," "," "," ",{"$f":"IF(I786=\"\",\"\",IF(I786<='Main page'!$F$49,\"Core staff\",\"Senior staff\"))","v":""},{"$f":"IF(D786=\"\",\" \",'Main page'!$F$21-(D786))","v":" "},{"$f":"IF(D786=\"\",\" \",VLOOKUP(R786,'Main page'!$E$29:'Main page'!$G$41,3,TRUE))","v":" "}]
[null,null,null,null,null,null,null,null,null,null,null,null," "," "," "," ",{"$f":"IF(I787=\"\",\"\",IF(I787<='Main page'!$F$49,\"Core staff\",\"Senior staff\"))","v":""},{"$f":"IF(D787=\"\",\" \",'Main page'!$F$21-(D787))","v":" "},{"$f":"IF(D787=\"\",\" \",VLOOKUP(R787,'Main page'!$E$29:'Main page'!$G$41,3,TRUE))","v":" "}]
[null,null,null,null,null,null,null,null,null,null,null,null," "," "," "," ",{"$f":"IF(I788=\"\",\"\",IF(I788<='Main page'!$F$49,\"Core staff\",\"Senior staff\"))","v":""},{"$f":"IF(D788=\"\",\" \",'Main page'!$F$21-(D788))","v":" "},{"$f":"IF(D788=\"\",\" \",VLOOKUP(R788,'Main page'!$E$29:'Main page'!$G$41,3,TRUE))","v":" "}]
[null,null,null,null,null,null,null,null,null,null,null,null," "," "," "," ",{"$f":"IF(I789=\"\",\"\",IF(I789<='Main page'!$F$49,\"Core staff\",\"Senior staff\"))","v":""},{"$f":"IF(D789=\"\",\" \",'Main page'!$F$21-(D789))","v":" "},{"$f":"IF(D789=\"\",\" \",VLOOKUP(R789,'Main page'!$E$29:'Main page'!$G$41,3,TRUE))","v":" "}]
[null,null,null,null,null,null,null,null,null,null,null,null," "," "," "," ",{"$f":"IF(I790=\"\",\"\",IF(I790<='Main page'!$F$49,\"Core staff\",\"Senior staff\"))","v":""},{"$f":"IF(D790=\"\",\" \",'Main page'!$F$21-(D790))","v":" "},{"$f":"IF(D790=\"\",\" \",VLOOKUP(R790,'Main page'!$E$29:'Main page'!$G$41,3,TRUE))","v":" "}]
[null,null,null,null,null,null,null,null,null,null,null,null," "," "," "," ",{"$f":"IF(I791=\"\",\"\",IF(I791<='Main page'!$F$49,\"Core staff\",\"Senior staff\"))","v":""},{"$f":"IF(D791=\"\",\" \",'Main page'!$F$21-(D791))","v":" "},{"$f":"IF(D791=\"\",\" \",VLOOKUP(R791,'Main page'!$E$29:'Main page'!$G$41,3,TRUE))","v":" "}]
[null,null,null,null,null,null,null,null,null,null,null,null," "," "," "," ",{"$f":"IF(I792=\"\",\"\",IF(I792<='Main page'!$F$49,\"Core staff\",\"Senior staff\"))","v":""},{"$f":"IF(D792=\"\",\" \",'Main page'!$F$21-(D792))","v":" "},{"$f":"IF(D792=\"\",\" \",VLOOKUP(R792,'Main page'!$E$29:'Main page'!$G$41,3,TRUE))","v":" "}]
[null,null,null,null,null,null,null,null,null,null,null,null," "," "," "," ",{"$f":"IF(I793=\"\",\"\",IF(I793<='Main page'!$F$49,\"Core staff\",\"Senior staff\"))","v":""},{"$f":"IF(D793=\"\",\" \",'Main page'!$F$21-(D793))","v":" "},{"$f":"IF(D793=\"\",\" \",VLOOKUP(R793,'Main page'!$E$29:'Main page'!$G$41,3,TRUE))","v":" "}]
[null,null,null,null,null,null,null,null,null,null,null,null," "," "," "," ",{"$f":"IF(I794=\"\",\"\",IF(I794<='Main page'!$F$49,\"Core staff\",\"Senior staff\"))","v":""},{"$f":"IF(D794=\"\",\" \",'Main page'!$F$21-(D794))","v":" "},{"$f":"IF(D794=\"\",\" \",VLOOKUP(R794,'Main page'!$E$29:'Main page'!$G$41,3,TRUE))","v":" "}]
[null,null,null,null,null,null,null,null,null,null,null,null," "," "," "," ",{"$f":"IF(I795=\"\",\"\",IF(I795<='Main page'!$F$49,\"Core staff\",\"Senior staff\"))","v":""},{"$f":"IF(D795=\"\",\" \",'Main page'!$F$21-(D795))","v":" "},{"$f":"IF(D795=\"\",\" \",VLOOKUP(R795,'Main page'!$E$29:'Main page'!$G$41,3,TRUE))","v":" "}]
[null,null,null,null,null,null,null,null,null,null,null,null," "," "," "," ",{"$f":"IF(I796=\"\",\"\",IF(I796<='Main page'!$F$49,\"Core staff\",\"Senior staff\"))","v":""},{"$f":"IF(D796=\"\",\" \",'Main page'!$F$21-(D796))","v":" "},{"$f":"IF(D796=\"\",\" \",VLOOKUP(R796,'Main page'!$E$29:'Main page'!$G$41,3,TRUE))","v":" "}]
[null,null,null,null,null,null,null,null,null,null,null,null," "," "," "," ",{"$f":"IF(I797=\"\",\"\",IF(I797<='Main page'!$F$49,\"Core staff\",\"Senior staff\"))","v":""},{"$f":"IF(D797=\"\",\" \",'Main page'!$F$21-(D797))","v":" "},{"$f":"IF(D797=\"\",\" \",VLOOKUP(R797,'Main page'!$E$29:'Main page'!$G$41,3,TRUE))","v":" "}]
[null,null,null,null,null,null,null,null,null,null,null,null," "," "," "," ",{"$f":"IF(I798=\"\",\"\",IF(I798<='Main page'!$F$49,\"Core staff\",\"Senior staff\"))","v":""},{"$f":"IF(D798=\"\",\" \",'Main page'!$F$21-(D798))","v":" "},{"$f":"IF(D798=\"\",\" \",VLOOKUP(R798,'Main page'!$E$29:'Main page'!$G$41,3,TRUE))","v":" "}]
[null,null,null,null,null,null,null,null,null,null,null,null," "," "," "," ",{"$f":"IF(I799=\"\",\"\",IF(I799<='Main page'!$F$49,\"Core staff\",\"Senior staff\"))","v":""},{"$f":"IF(D799=\"\",\" \",'Main page'!$F$21-(D799))","v":" "},{"$f":"IF(D799=\"\",\" \",VLOOKUP(R799,'Main page'!$E$29:'Main page'!$G$41,3,TRUE))","v":" "}]
[null,null,null,null,null,null,null,null,null,null,null,null," "," "," "," ",{"$f":"IF(I800=\"\",\"\",IF(I800<='Main page'!$F$49,\"Core staff\",\"Senior staff\"))","v":""},{"$f":"IF(D800=\"\",\" \",'Main page'!$F$21-(D800))","v":" "},{"$f":"IF(D800=\"\",\" \",VLOOKUP(R800,'Main page'!$E$29:'Main page'!$G$41,3,TRUE))","v":" "}]
[null,null,null,null,null,null,null,null,null,null,null,null," "," "," "," ",{"$f":"IF(I801=\"\",\"\",IF(I801<='Main page'!$F$49,\"Core staff\",\"Senior staff\"))","v":""},{"$f":"IF(D801=\"\",\" \",'Main page'!$F$21-(D801))","v":" "},{"$f":"IF(D801=\"\",\" \",VLOOKUP(R801,'Main page'!$E$29:'Main page'!$G$41,3,TRUE))","v":" "}]
[null,null,null,null,null,null,null,null,null,null,null,null," "," "," "," ",{"$f":"IF(I802=\"\",\"\",IF(I802<='Main page'!$F$49,\"Core staff\",\"Senior staff\"))","v":""},{"$f":"IF(D802=\"\",\" \",'Main page'!$F$21-(D802))","v":" "},{"$f":"IF(D802=\"\",\" \",VLOOKUP(R802,'Main page'!$E$29:'Main page'!$G$41,3,TRUE))","v":" "}]
[null,null,null,null,null,null,null,null,null,null,null,null," "," "," "," ",{"$f":"IF(I803=\"\",\"\",IF(I803<='Main page'!$F$49,\"Core staff\",\"Senior staff\"))","v":""},{"$f":"IF(D803=\"\",\" \",'Main page'!$F$21-(D803))","v":" "},{"$f":"IF(D803=\"\",\" \",VLOOKUP(R803,'Main page'!$E$29:'Main page'!$G$41,3,TRUE))","v":" "}]
[null,null,null,null,null,null,null,null,null,null,null,null," "," "," "," ",{"$f":"IF(I804=\"\",\"\",IF(I804<='Main page'!$F$49,\"Core staff\",\"Senior staff\"))","v":""},{"$f":"IF(D804=\"\",\" \",'Main page'!$F$21-(D804))","v":" "},{"$f":"IF(D804=\"\",\" \",VLOOKUP(R804,'Main page'!$E$29:'Main page'!$G$41,3,TRUE))","v":" "}]
[null,null,null,null,null,null,null,null,null,null,null,null," "," "," "," ",{"$f":"IF(I805=\"\",\"\",IF(I805<='Main page'!$F$49,\"Core staff\",\"Senior staff\"))","v":""},{"$f":"IF(D805=\"\",\" \",'Main page'!$F$21-(D805))","v":" "},{"$f":"IF(D805=\"\",\" \",VLOOKUP(R805,'Main page'!$E$29:'Main page'!$G$41,3,TRUE))","v":" "}]
[null,null,null,null,null,null,null,null,null,null,null,null," "," "," "," ",{"$f":"IF(I806=\"\",\"\",IF(I806<='Main page'!$F$49,\"Core staff\",\"Senior staff\"))","v":""},{"$f":"IF(D806=\"\",\" \",'Main page'!$F$21-(D806))","v":" "},{"$f":"IF(D806=\"\",\" \",VLOOKUP(R806,'Main page'!$E$29:'Main page'!$G$41,3,TRUE))","v":" "}]
[null,null,null,null,null,null,null,null,null,null,null,null," "," "," "," ",{"$f":"IF(I807=\"\",\"\",IF(I807<='Main page'!$F$49,\"Core staff\",\"Senior staff\"))","v":""},{"$f":"IF(D807=\"\",\" \",'Main page'!$F$21-(D807))","v":" "},{"$f":"IF(D807=\"\",\" \",VLOOKUP(R807,'Main page'!$E$29:'Main page'!$G$41,3,TRUE))","v":" "}]
[null,null,null,null,null,null,null,null,null,null,null,null," "," "," "," ",{"$f":"IF(I808=\"\",\"\",IF(I808<='Main page'!$F$49,\"Core staff\",\"Senior staff\"))","v":""},{"$f":"IF(D808=\"\",\" \",'Main page'!$F$21-(D808))","v":" "},{"$f":"IF(D808=\"\",\" \",VLOOKUP(R808,'Main page'!$E$29:'Main page'!$G$41,3,TRUE))","v":" "}]
[null,null,null,null,null,null,null,null,null,null,null,null," "," "," "," ",{"$f":"IF(I809=\"\",\"\",IF(I809<='Main page'!$F$49,\"Core staff\",\"Senior staff\"))","v":""},{"$f":"IF(D809=\"\",\" \",'Main page'!$F$21-(D809))","v":" "},{"$f":"IF(D809=\"\",\" \",VLOOKUP(R809,'Main page'!$E$29:'Main page'!$G$41,3,TRUE))","v":" "}]
[null,null,null,null,null,null,null,null,null,null,null,null," "," "," "," ",{"$f":"IF(I810=\"\",\"\",IF(I810<='Main page'!$F$49,\"Core staff\",\"Senior staff\"))","v":""},{"$f":"IF(D810=\"\",\" \",'Main page'!$F$21-(D810))","v":" "},{"$f":"IF(D810=\"\",\" \",VLOOKUP(R810,'Main page'!$E$29:'Main page'!$G$41,3,TRUE))","v":" "}]
[null,null,null,null,null,null,null,null,null,null,null,null," "," "," "," ",{"$f":"IF(I811=\"\",\"\",IF(I811<='Main page'!$F$49,\"Core staff\",\"Senior staff\"))","v":""},{"$f":"IF(D811=\"\",\" \",'Main page'!$F$21-(D811))","v":" "},{"$f":"IF(D811=\"\",\" \",VLOOKUP(R811,'Main page'!$E$29:'Main page'!$G$41,3,TRUE))","v":" "}]
[null,null,null,null,null,null,null,null,null,null,null,null," "," "," "," ",{"$f":"IF(I812=\"\",\"\",IF(I812<='Main page'!$F$49,\"Core staff\",\"Senior staff\"))","v":""},{"$f":"IF(D812=\"\",\" \",'Main page'!$F$21-(D812))","v":" "},{"$f":"IF(D812=\"\",\" \",VLOOKUP(R812,'Main page'!$E$29:'Main page'!$G$41,3,TRUE))","v":" "}]
[null,null,null,null,null,null,null,null,null,null,null,null," "," "," "," ",{"$f":"IF(I813=\"\",\"\",IF(I813<='Main page'!$F$49,\"Core staff\",\"Senior staff\"))","v":""},{"$f":"IF(D813=\"\",\" \",'Main page'!$F$21-(D813))","v":" "},{"$f":"IF(D813=\"\",\" \",VLOOKUP(R813,'Main page'!$E$29:'Main page'!$G$41,3,TRUE))","v":" "}]
[null,null,null,null,null,null,null,null,null,null,null,null," "," "," "," ",{"$f":"IF(I814=\"\",\"\",IF(I814<='Main page'!$F$49,\"Core staff\",\"Senior staff\"))","v":""},{"$f":"IF(D814=\"\",\" \",'Main page'!$F$21-(D814))","v":" "},{"$f":"IF(D814=\"\",\" \",VLOOKUP(R814,'Main page'!$E$29:'Main page'!$G$41,3,TRUE))","v":" "}]
[null,null,null,null,null,null,null,null,null,null,null,null," "," "," "," ",{"$f":"IF(I815=\"\",\"\",IF(I815<='Main page'!$F$49,\"Core staff\",\"Senior staff\"))","v":""},{"$f":"IF(D815=\"\",\" \",'Main page'!$F$21-(D815))","v":" "},{"$f":"IF(D815=\"\",\" \",VLOOKUP(R815,'Main page'!$E$29:'Main page'!$G$41,3,TRUE))","v":" "}]
[null,null,null,null,null,null,null,null,null,null,null,null," "," "," "," ",{"$f":"IF(I816=\"\",\"\",IF(I816<='Main page'!$F$49,\"Core staff\",\"Senior staff\"))","v":""},{"$f":"IF(D816=\"\",\" \",'Main page'!$F$21-(D816))","v":" "},{"$f":"IF(D816=\"\",\" \",VLOOKUP(R816,'Main page'!$E$29:'Main page'!$G$41,3,TRUE))","v":" "}]
[null,null,null,null,null,null,null,null,null,null,null,null," "," "," "," ",{"$f":"IF(I817=\"\",\"\",IF(I817<='Main page'!$F$49,\"Core staff\",\"Senior staff\"))","v":""},{"$f":"IF(D817=\"\",\" \",'Main page'!$F$21-(D817))","v":" "},{"$f":"IF(D817=\"\",\" \",VLOOKUP(R817,'Main page'!$E$29:'Main page'!$G$41,3,TRUE))","v":" "}]
[null,null,null,null,null,null,null,null,null,null,null,null," "," "," "," ",{"$f":"IF(I818=\"\",\"\",IF(I818<='Main page'!$F$49,\"Core staff\",\"Senior staff\"))","v":""},{"$f":"IF(D818=\"\",\" \",'Main page'!$F$21-(D818))","v":" "},{"$f":"IF(D818=\"\",\" \",VLOOKUP(R818,'Main page'!$E$29:'Main page'!$G$41,3,TRUE))","v":" "}]
[null,null,null,null,null,null,null,null,null,null,null,null," "," "," "," ",{"$f":"IF(I819=\"\",\"\",IF(I819<='Main page'!$F$49,\"Core staff\",\"Senior staff\"))","v":""},{"$f":"IF(D819=\"\",\" \",'Main page'!$F$21-(D819))","v":" "},{"$f":"IF(D819=\"\",\" \",VLOOKUP(R819,'Main page'!$E$29:'Main page'!$G$41,3,TRUE))","v":" "}]
[null,null,null,null,null,null,null,null,null,null,null,null," "," "," "," ",{"$f":"IF(I820=\"\",\"\",IF(I820<='Main page'!$F$49,\"Core staff\",\"Senior staff\"))","v":""},{"$f":"IF(D820=\"\",\" \",'Main page'!$F$21-(D820))","v":" "},{"$f":"IF(D820=\"\",\" \",VLOOKUP(R820,'Main page'!$E$29:'Main page'!$G$41,3,TRUE))","v":" "}]
[null,null,null,null,null,null,null,null,null,null,null,null," "," "," "," ",{"$f":"IF(I821=\"\",\"\",IF(I821<='Main page'!$F$49,\"Core staff\",\"Senior staff\"))","v":""},{"$f":"IF(D821=\"\",\" \",'Main page'!$F$21-(D821))","v":" "},{"$f":"IF(D821=\"\",\" \",VLOOKUP(R821,'Main page'!$E$29:'Main page'!$G$41,3,TRUE))","v":" "}]
[null,null,null,null,null,null,null,null,null,null,null,null," "," "," "," ",{"$f":"IF(I822=\"\",\"\",IF(I822<='Main page'!$F$49,\"Core staff\",\"Senior staff\"))","v":""},{"$f":"IF(D822=\"\",\" \",'Main page'!$F$21-(D822))","v":" "},{"$f":"IF(D822=\"\",\" \",VLOOKUP(R822,'Main page'!$E$29:'Main page'!$G$41,3,TRUE))","v":" "}]
[null,null,null,null,null,null,null,null,null,null,null,null," "," "," "," ",{"$f":"IF(I823=\"\",\"\",IF(I823<='Main page'!$F$49,\"Core staff\",\"Senior staff\"))","v":""},{"$f":"IF(D823=\"\",\" \",'Main page'!$F$21-(D823))","v":" "},{"$f":"IF(D823=\"\",\" \",VLOOKUP(R823,'Main page'!$E$29:'Main page'!$G$41,3,TRUE))","v":" "}]
[null,null,null,null,null,null,null,null,null,null,null,null," "," "," "," ",{"$f":"IF(I824=\"\",\"\",IF(I824<='Main page'!$F$49,\"Core staff\",\"Senior staff\"))","v":""},{"$f":"IF(D824=\"\",\" \",'Main page'!$F$21-(D824))","v":" "},{"$f":"IF(D824=\"\",\" \",VLOOKUP(R824,'Main page'!$E$29:'Main page'!$G$41,3,TRUE))","v":" "}]
[null,null,null,null,null,null,null,null,null,null,null,null," "," "," "," ",{"$f":"IF(I825=\"\",\"\",IF(I825<='Main page'!$F$49,\"Core staff\",\"Senior staff\"))","v":""},{"$f":"IF(D825=\"\",\" \",'Main page'!$F$21-(D825))","v":" "},{"$f":"IF(D825=\"\",\" \",VLOOKUP(R825,'Main page'!$E$29:'Main page'!$G$41,3,TRUE))","v":" "}]
[null,null,null,null,null,null,null,null,null,null,null,null," "," "," "," ",{"$f":"IF(I826=\"\",\"\",IF(I826<='Main page'!$F$49,\"Core staff\",\"Senior staff\"))","v":""},{"$f":"IF(D826=\"\",\" \",'Main page'!$F$21-(D826))","v":" "},{"$f":"IF(D826=\"\",\" \",VLOOKUP(R826,'Main page'!$E$29:'Main page'!$G$41,3,TRUE))","v":" "}]
[null,null,null,null,null,null,null,null,null,null,null,null," "," "," "," ",{"$f":"IF(I827=\"\",\"\",IF(I827<='Main page'!$F$49,\"Core staff\",\"Senior staff\"))","v":""},{"$f":"IF(D827=\"\",\" \",'Main page'!$F$21-(D827))","v":" "},{"$f":"IF(D827=\"\",\" \",VLOOKUP(R827,'Main page'!$E$29:'Main page'!$G$41,3,TRUE))","v":" "}]
[null,null,null,null,null,null,null,null,null,null,null,null," "," "," "," ",{"$f":"IF(I828=\"\",\"\",IF(I828<='Main page'!$F$49,\"Core staff\",\"Senior staff\"))","v":""},{"$f":"IF(D828=\"\",\" \",'Main page'!$F$21-(D828))","v":" "},{"$f":"IF(D828=\"\",\" \",VLOOKUP(R828,'Main page'!$E$29:'Main page'!$G$41,3,TRUE))","v":" "}]
[null,null,null,null,null,null,null,null,null,null,null,null," "," "," "," ",{"$f":"IF(I829=\"\",\"\",IF(I829<='Main page'!$F$49,\"Core staff\",\"Senior staff\"))","v":""},{"$f":"IF(D829=\"\",\" \",'Main page'!$F$21-(D829))","v":" "},{"$f":"IF(D829=\"\",\" \",VLOOKUP(R829,'Main page'!$E$29:'Main page'!$G$41,3,TRUE))","v":" "}]
[null,null,null,null,null,null,null,null,null,null,null,null," "," "," "," ",{"$f":"IF(I830=\"\",\"\",IF(I830<='Main page'!$F$49,\"Core staff\",\"Senior staff\"))","v":""},{"$f":"IF(D830=\"\",\" \",'Main page'!$F$21-(D830))","v":" "},{"$f":"IF(D830=\"\",\" \",VLOOKUP(R830,'Main page'!$E$29:'Main page'!$G$41,3,TRUE))","v":" "}]
[null,null,null,null,null,null,null,null,null,null,null,null," "," "," "," ",{"$f":"IF(I831=\"\",\"\",IF(I831<='Main page'!$F$49,\"Core staff\",\"Senior staff\"))","v":""},{"$f":"IF(D831=\"\",\" \",'Main page'!$F$21-(D831))","v":" "},{"$f":"IF(D831=\"\",\" \",VLOOKUP(R831,'Main page'!$E$29:'Main page'!$G$41,3,TRUE))","v":" "}]
[null,null,null,null,null,null,null,null,null,null,null,null," "," "," "," ",{"$f":"IF(I832=\"\",\"\",IF(I832<='Main page'!$F$49,\"Core staff\",\"Senior staff\"))","v":""},{"$f":"IF(D832=\"\",\" \",'Main page'!$F$21-(D832))","v":" "},{"$f":"IF(D832=\"\",\" \",VLOOKUP(R832,'Main page'!$E$29:'Main page'!$G$41,3,TRUE))","v":" "}]
[null,null,null,null,null,null,null,null,null,null,null,null," "," "," "," ",{"$f":"IF(I833=\"\",\"\",IF(I833<='Main page'!$F$49,\"Core staff\",\"Senior staff\"))","v":""},{"$f":"IF(D833=\"\",\" \",'Main page'!$F$21-(D833))","v":" "},{"$f":"IF(D833=\"\",\" \",VLOOKUP(R833,'Main page'!$E$29:'Main page'!$G$41,3,TRUE))","v":" "}]
[null,null,null,null,null,null,null,null,null,null,null,null," "," "," "," ",{"$f":"IF(I834=\"\",\"\",IF(I834<='Main page'!$F$49,\"Core staff\",\"Senior staff\"))","v":""},{"$f":"IF(D834=\"\",\" \",'Main page'!$F$21-(D834))","v":" "},{"$f":"IF(D834=\"\",\" \",VLOOKUP(R834,'Main page'!$E$29:'Main page'!$G$41,3,TRUE))","v":" "}]
[null,null,null,null,null,null,null,null,null,null,null,null," "," "," "," ",{"$f":"IF(I835=\"\",\"\",IF(I835<='Main page'!$F$49,\"Core staff\",\"Senior staff\"))","v":""},{"$f":"IF(D835=\"\",\" \",'Main page'!$F$21-(D835))","v":" "},{"$f":"IF(D835=\"\",\" \",VLOOKUP(R835,'Main page'!$E$29:'Main page'!$G$41,3,TRUE))","v":" "}]
[null,null,null,null,null,null,null,null,null,null,null,null," "," "," "," ",{"$f":"IF(I836=\"\",\"\",IF(I836<='Main page'!$F$49,\"Core staff\",\"Senior staff\"))","v":""},{"$f":"IF(D836=\"\",\" \",'Main page'!$F$21-(D836))","v":" "},{"$f":"IF(D836=\"\",\" \",VLOOKUP(R836,'Main page'!$E$29:'Main page'!$G$41,3,TRUE))","v":" "}]
[null,null,null,null,null,null,null,null,null,null,null,null," "," "," "," ",{"$f":"IF(I837=\"\",\"\",IF(I837<='Main page'!$F$49,\"Core staff\",\"Senior staff\"))","v":""},{"$f":"IF(D837=\"\",\" \",'Main page'!$F$21-(D837))","v":" "},{"$f":"IF(D837=\"\",\" \",VLOOKUP(R837,'Main page'!$E$29:'Main page'!$G$41,3,TRUE))","v":" "}]
[null,null,null,null,null,null,null,null,null,null,null,null," "," "," "," ",{"$f":"IF(I838=\"\",\"\",IF(I838<='Main page'!$F$49,\"Core staff\",\"Senior staff\"))","v":""},{"$f":"IF(D838=\"\",\" \",'Main page'!$F$21-(D838))","v":" "},{"$f":"IF(D838=\"\",\" \",VLOOKUP(R838,'Main page'!$E$29:'Main page'!$G$41,3,TRUE))","v":" "}]
[null,null,null,null,null,null,null,null,null,null,null,null," "," "," "," ",{"$f":"IF(I839=\"\",\"\",IF(I839<='Main page'!$F$49,\"Core staff\",\"Senior staff\"))","v":""},{"$f":"IF(D839=\"\",\" \",'Main page'!$F$21-(D839))","v":" "},{"$f":"IF(D839=\"\",\" \",VLOOKUP(R839,'Main page'!$E$29:'Main page'!$G$41,3,TRUE))","v":" "}]
[null,null,null,null,null,null,null,null,null,null,null,null," "," "," "," ",{"$f":"IF(I840=\"\",\"\",IF(I840<='Main page'!$F$49,\"Core staff\",\"Senior staff\"))","v":""},{"$f":"IF(D840=\"\",\" \",'Main page'!$F$21-(D840))","v":" "},{"$f":"IF(D840=\"\",\" \",VLOOKUP(R840,'Main page'!$E$29:'Main page'!$G$41,3,TRUE))","v":" "}]
[null,null,null,null,null,null,null,null,null,null,null,null," "," "," "," ",{"$f":"IF(I841=\"\",\"\",IF(I841<='Main page'!$F$49,\"Core staff\",\"Senior staff\"))","v":""},{"$f":"IF(D841=\"\",\" \",'Main page'!$F$21-(D841))","v":" "},{"$f":"IF(D841=\"\",\" \",VLOOKUP(R841,'Main page'!$E$29:'Main page'!$G$41,3,TRUE))","v":" "}]
[null,null,null,null,null,null,null,null,null,null,null,null," "," "," "," ",{"$f":"IF(I842=\"\",\"\",IF(I842<='Main page'!$F$49,\"Core staff\",\"Senior staff\"))","v":""},{"$f":"IF(D842=\"\",\" \",'Main page'!$F$21-(D842))","v":" "},{"$f":"IF(D842=\"\",\" \",VLOOKUP(R842,'Main page'!$E$29:'Main page'!$G$41,3,TRUE))","v":" "}]
[null,null,null,null,null,null,null,null,null,null,null,null," "," "," "," ",{"$f":"IF(I843=\"\",\"\",IF(I843<='Main page'!$F$49,\"Core staff\",\"Senior staff\"))","v":""},{"$f":"IF(D843=\"\",\" \",'Main page'!$F$21-(D843))","v":" "},{"$f":"IF(D843=\"\",\" \",VLOOKUP(R843,'Main page'!$E$29:'Main page'!$G$41,3,TRUE))","v":" "}]
[null,null,null,null,null,null,null,null,null,null,null,null," "," "," "," ",{"$f":"IF(I844=\"\",\"\",IF(I844<='Main page'!$F$49,\"Core staff\",\"Senior staff\"))","v":""},{"$f":"IF(D844=\"\",\" \",'Main page'!$F$21-(D844))","v":" "},{"$f":"IF(D844=\"\",\" \",VLOOKUP(R844,'Main page'!$E$29:'Main page'!$G$41,3,TRUE))","v":" "}]
[null,null,null,null,null,null,null,null,null,null,null,null," "," "," "," ",{"$f":"IF(I845=\"\",\"\",IF(I845<='Main page'!$F$49,\"Core staff\",\"Senior staff\"))","v":""},{"$f":"IF(D845=\"\",\" \",'Main page'!$F$21-(D845))","v":" "},{"$f":"IF(D845=\"\",\" \",VLOOKUP(R845,'Main page'!$E$29:'Main page'!$G$41,3,TRUE))","v":" "}]
[null,null,null,null,null,null,null,null,null,null,null,null,{"$f":"IFERROR(J846/G846,\" \")","v":" "},{"$f":"IFERROR((M846/$U$4)/H846,\" \")","v":" "},{"$f":"IFERROR((N846*75)*26.083,\" \")","v":" "},{"$f":"IF(G846=0,\" \",IF(G846=1,\"Full time\",\"Part time\"))","v":" "},{"$f":"IF(I846=\"\",\"\",IF(I846<='Main page'!$F$49,\"Core staff\",\"Senior staff\"))","v":""},{"$f":"IF(D846=\"\",\" \",'Main page'!$F$21-(D846))","v":" "},{"$f":"IF(D846=\"\",\" \",VLOOKUP(R846,'Main page'!$E$29:'Main page'!$G$41,3,TRUE))","v":" "}]
[null,null,null,null,null,null,null,null,null,null,null,null," "," "," "," ",{"$f":"IF(I847=\"\",\"\",IF(I847<='Main page'!$F$49,\"Core staff\",\"Senior staff\"))","v":""},{"$f":"IF(D847=\"\",\" \",'Main page'!$F$21-(D847))","v":" "},{"$f":"IF(D847=\"\",\" \",VLOOKUP(R847,'Main page'!$E$29:'Main page'!$G$41,3,TRUE))","v":" "}]
[null,null,null,null,null,null,null,null,null,null,null,null," "," "," "," ",{"$f":"IF(I848=\"\",\"\",IF(I848<='Main page'!$F$49,\"Core staff\",\"Senior staff\"))","v":""},{"$f":"IF(D848=\"\",\" \",'Main page'!$F$21-(D848))","v":" "},{"$f":"IF(D848=\"\",\" \",VLOOKUP(R848,'Main page'!$E$29:'Main page'!$G$41,3,TRUE))","v":" "}]
[null,null,null,null,null,null,null,null,null,null,null,null," "," "," "," ",{"$f":"IF(I849=\"\",\"\",IF(I849<='Main page'!$F$49,\"Core staff\",\"Senior staff\"))","v":""},{"$f":"IF(D849=\"\",\" \",'Main page'!$F$21-(D849))","v":" "},{"$f":"IF(D849=\"\",\" \",VLOOKUP(R849,'Main page'!$E$29:'Main page'!$G$41,3,TRUE))","v":" "}]
[null,null,null,null,null,null,null,null,null,null,null,null," "," "," "," ",{"$f":"IF(I850=\"\",\"\",IF(I850<='Main page'!$F$49,\"Core staff\",\"Senior staff\"))","v":""},{"$f":"IF(D850=\"\",\" \",'Main page'!$F$21-(D850))","v":" "},{"$f":"IF(D850=\"\",\" \",VLOOKUP(R850,'Main page'!$E$29:'Main page'!$G$41,3,TRUE))","v":" "}]
[null,null,null,null,null,null,null,null,null,null,null,null," "," "," "," ",{"$f":"IF(I851=\"\",\"\",IF(I851<='Main page'!$F$49,\"Core staff\",\"Senior staff\"))","v":""},{"$f":"IF(D851=\"\",\" \",'Main page'!$F$21-(D851))","v":" "},{"$f":"IF(D851=\"\",\" \",VLOOKUP(R851,'Main page'!$E$29:'Main page'!$G$41,3,TRUE))","v":" "}]
[null,null,null,null,null,null,null,null,null,null,null,null," "," "," "," ",{"$f":"IF(I852=\"\",\"\",IF(I852<='Main page'!$F$49,\"Core staff\",\"Senior staff\"))","v":""},{"$f":"IF(D852=\"\",\" \",'Main page'!$F$21-(D852))","v":" "},{"$f":"IF(D852=\"\",\" \",VLOOKUP(R852,'Main page'!$E$29:'Main page'!$G$41,3,TRUE))","v":" "}]
[null,null,null,null,null,null,null,null,null,null,null,null," "," "," "," ",{"$f":"IF(I853=\"\",\"\",IF(I853<='Main page'!$F$49,\"Core staff\",\"Senior staff\"))","v":""},{"$f":"IF(D853=\"\",\" \",'Main page'!$F$21-(D853))","v":" "},{"$f":"IF(D853=\"\",\" \",VLOOKUP(R853,'Main page'!$E$29:'Main page'!$G$41,3,TRUE))","v":" "}]
[null,null,null,null,null,null,null,null,null,null,null,null," "," "," "," ",{"$f":"IF(I854=\"\",\"\",IF(I854<='Main page'!$F$49,\"Core staff\",\"Senior staff\"))","v":""},{"$f":"IF(D854=\"\",\" \",'Main page'!$F$21-(D854))","v":" "},{"$f":"IF(D854=\"\",\" \",VLOOKUP(R854,'Main page'!$E$29:'Main page'!$G$41,3,TRUE))","v":" "}]
[null,null,null,null,null,null,null,null,null,null,null,null," "," "," "," ",{"$f":"IF(I855=\"\",\"\",IF(I855<='Main page'!$F$49,\"Core staff\",\"Senior staff\"))","v":""},{"$f":"IF(D855=\"\",\" \",'Main page'!$F$21-(D855))","v":" "},{"$f":"IF(D855=\"\",\" \",VLOOKUP(R855,'Main page'!$E$29:'Main page'!$G$41,3,TRUE))","v":" "}]
[null,null,null,null,null,null,null,null,null,null,null,null," "," "," "," ",{"$f":"IF(I856=\"\",\"\",IF(I856<='Main page'!$F$49,\"Core staff\",\"Senior staff\"))","v":""},{"$f":"IF(D856=\"\",\" \",'Main page'!$F$21-(D856))","v":" "},{"$f":"IF(D856=\"\",\" \",VLOOKUP(R856,'Main page'!$E$29:'Main page'!$G$41,3,TRUE))","v":" "}]
[null,null,null,null,null,null,null,null,null,null,null,null," "," "," "," ",{"$f":"IF(I857=\"\",\"\",IF(I857<='Main page'!$F$49,\"Core staff\",\"Senior staff\"))","v":""},{"$f":"IF(D857=\"\",\" \",'Main page'!$F$21-(D857))","v":" "},{"$f":"IF(D857=\"\",\" \",VLOOKUP(R857,'Main page'!$E$29:'Main page'!$G$41,3,TRUE))","v":" "}]
[null,null,null,null,null,null,null,null,null,null,null,null," "," "," "," ",{"$f":"IF(I858=\"\",\"\",IF(I858<='Main page'!$F$49,\"Core staff\",\"Senior staff\"))","v":""},{"$f":"IF(D858=\"\",\" \",'Main page'!$F$21-(D858))","v":" "},{"$f":"IF(D858=\"\",\" \",VLOOKUP(R858,'Main page'!$E$29:'Main page'!$G$41,3,TRUE))","v":" "}]
[null,null,null,null,null,null,null,null,null,null,null,null," "," "," "," ",{"$f":"IF(I859=\"\",\"\",IF(I859<='Main page'!$F$49,\"Core staff\",\"Senior staff\"))","v":""},{"$f":"IF(D859=\"\",\" \",'Main page'!$F$21-(D859))","v":" "},{"$f":"IF(D859=\"\",\" \",VLOOKUP(R859,'Main page'!$E$29:'Main page'!$G$41,3,TRUE))","v":" "}]
[null,null,null,null,null,null,null,null,null,null,null,null," "," "," "," ",{"$f":"IF(I860=\"\",\"\",IF(I860<='Main page'!$F$49,\"Core staff\",\"Senior staff\"))","v":""},{"$f":"IF(D860=\"\",\" \",'Main page'!$F$21-(D860))","v":" "},{"$f":"IF(D860=\"\",\" \",VLOOKUP(R860,'Main page'!$E$29:'Main page'!$G$41,3,TRUE))","v":" "}]
[null,null,null,null,null,null,null,null,null,null,null,null," "," "," "," ",{"$f":"IF(I861=\"\",\"\",IF(I861<='Main page'!$F$49,\"Core staff\",\"Senior staff\"))","v":""},{"$f":"IF(D861=\"\",\" \",'Main page'!$F$21-(D861))","v":" "},{"$f":"IF(D861=\"\",\" \",VLOOKUP(R861,'Main page'!$E$29:'Main page'!$G$41,3,TRUE))","v":" "}]
[null,null,null,null,null,null,null,null,null,null,null,null," "," "," "," ",{"$f":"IF(I862=\"\",\"\",IF(I862<='Main page'!$F$49,\"Core staff\",\"Senior staff\"))","v":""},{"$f":"IF(D862=\"\",\" \",'Main page'!$F$21-(D862))","v":" "},{"$f":"IF(D862=\"\",\" \",VLOOKUP(R862,'Main page'!$E$29:'Main page'!$G$41,3,TRUE))","v":" "}]
[null,null,null,null,null,null,null,null,null,null,null,null," "," "," "," ",{"$f":"IF(I863=\"\",\"\",IF(I863<='Main page'!$F$49,\"Core staff\",\"Senior staff\"))","v":""},{"$f":"IF(D863=\"\",\" \",'Main page'!$F$21-(D863))","v":" "},{"$f":"IF(D863=\"\",\" \",VLOOKUP(R863,'Main page'!$E$29:'Main page'!$G$41,3,TRUE))","v":" "}]
[null,null,null,null,null,null,null,null,null,null,null,null," "," "," "," ",{"$f":"IF(I864=\"\",\"\",IF(I864<='Main page'!$F$49,\"Core staff\",\"Senior staff\"))","v":""},{"$f":"IF(D864=\"\",\" \",'Main page'!$F$21-(D864))","v":" "},{"$f":"IF(D864=\"\",\" \",VLOOKUP(R864,'Main page'!$E$29:'Main page'!$G$41,3,TRUE))","v":" "}]
[null,null,null,null,null,null,null,null,null,null,null,null," "," "," "," ",{"$f":"IF(I865=\"\",\"\",IF(I865<='Main page'!$F$49,\"Core staff\",\"Senior staff\"))","v":""},{"$f":"IF(D865=\"\",\" \",'Main page'!$F$21-(D865))","v":" "},{"$f":"IF(D865=\"\",\" \",VLOOKUP(R865,'Main page'!$E$29:'Main page'!$G$41,3,TRUE))","v":" "}]
[null,null,null,null,null,null,null,null,null,null,null,null," "," "," "," ",{"$f":"IF(I866=\"\",\"\",IF(I866<='Main page'!$F$49,\"Core staff\",\"Senior staff\"))","v":""},{"$f":"IF(D866=\"\",\" \",'Main page'!$F$21-(D866))","v":" "},{"$f":"IF(D866=\"\",\" \",VLOOKUP(R866,'Main page'!$E$29:'Main page'!$G$41,3,TRUE))","v":" "}]
[null,null,null,null,null,null,null,null,null,null,null,null," "," "," "," ",{"$f":"IF(I867=\"\",\"\",IF(I867<='Main page'!$F$49,\"Core staff\",\"Senior staff\"))","v":""},{"$f":"IF(D867=\"\",\" \",'Main page'!$F$21-(D867))","v":" "},{"$f":"IF(D867=\"\",\" \",VLOOKUP(R867,'Main page'!$E$29:'Main page'!$G$41,3,TRUE))","v":" "}]
[null,null,null,null,null,null,null,null,null,null,null,null," "," "," "," ",{"$f":"IF(I868=\"\",\"\",IF(I868<='Main page'!$F$49,\"Core staff\",\"Senior staff\"))","v":""},{"$f":"IF(D868=\"\",\" \",'Main page'!$F$21-(D868))","v":" "},{"$f":"IF(D868=\"\",\" \",VLOOKUP(R868,'Main page'!$E$29:'Main page'!$G$41,3,TRUE))","v":" "}]
[null,null,null,null,null,null,null,null,null,null,null,null," "," "," "," ",{"$f":"IF(I869=\"\",\"\",IF(I869<='Main page'!$F$49,\"Core staff\",\"Senior staff\"))","v":""},{"$f":"IF(D869=\"\",\" \",'Main page'!$F$21-(D869))","v":" "},{"$f":"IF(D869=\"\",\" \",VLOOKUP(R869,'Main page'!$E$29:'Main page'!$G$41,3,TRUE))","v":" "}]
[null,null,null,null,null,null,null,null,null,null,null,null," "," "," "," ",{"$f":"IF(I870=\"\",\"\",IF(I870<='Main page'!$F$49,\"Core staff\",\"Senior staff\"))","v":""},{"$f":"IF(D870=\"\",\" \",'Main page'!$F$21-(D870))","v":" "},{"$f":"IF(D870=\"\",\" \",VLOOKUP(R870,'Main page'!$E$29:'Main page'!$G$41,3,TRUE))","v":" "}]
[null,null,null,null,null,null,null,null,null,null,null,null," "," "," "," ",{"$f":"IF(I871=\"\",\"\",IF(I871<='Main page'!$F$49,\"Core staff\",\"Senior staff\"))","v":""},{"$f":"IF(D871=\"\",\" \",'Main page'!$F$21-(D871))","v":" "},{"$f":"IF(D871=\"\",\" \",VLOOKUP(R871,'Main page'!$E$29:'Main page'!$G$41,3,TRUE))","v":" "}]
[null,null,null,null,null,null,null,null,null,null,null,null," "," "," "," ",{"$f":"IF(I872=\"\",\"\",IF(I872<='Main page'!$F$49,\"Core staff\",\"Senior staff\"))","v":""},{"$f":"IF(D872=\"\",\" \",'Main page'!$F$21-(D872))","v":" "},{"$f":"IF(D872=\"\",\" \",VLOOKUP(R872,'Main page'!$E$29:'Main page'!$G$41,3,TRUE))","v":" "}]
[null,null,null,null,null,null,null,null,null,null,null,null," "," "," "," ",{"$f":"IF(I873=\"\",\"\",IF(I873<='Main page'!$F$49,\"Core staff\",\"Senior staff\"))","v":""},{"$f":"IF(D873=\"\",\" \",'Main page'!$F$21-(D873))","v":" "},{"$f":"IF(D873=\"\",\" \",VLOOKUP(R873,'Main page'!$E$29:'Main page'!$G$41,3,TRUE))","v":" "}]
[null,null,null,null,null,null,null,null,null,null,null,null," "," "," "," ",{"$f":"IF(I874=\"\",\"\",IF(I874<='Main page'!$F$49,\"Core staff\",\"Senior staff\"))","v":""},{"$f":"IF(D874=\"\",\" \",'Main page'!$F$21-(D874))","v":" "},{"$f":"IF(D874=\"\",\" \",VLOOKUP(R874,'Main page'!$E$29:'Main page'!$G$41,3,TRUE))","v":" "}]
[null,null,null,null,null,null,null,null,null,null,null,null," "," "," "," ",{"$f":"IF(I875=\"\",\"\",IF(I875<='Main page'!$F$49,\"Core staff\",\"Senior staff\"))","v":""},{"$f":"IF(D875=\"\",\" \",'Main page'!$F$21-(D875))","v":" "},{"$f":"IF(D875=\"\",\" \",VLOOKUP(R875,'Main page'!$E$29:'Main page'!$G$41,3,TRUE))","v":" "}]
[null,null,null,null,null,null,null,null,null,null,null,null," "," "," "," ",{"$f":"IF(I876=\"\",\"\",IF(I876<='Main page'!$F$49,\"Core staff\",\"Senior staff\"))","v":""},{"$f":"IF(D876=\"\",\" \",'Main page'!$F$21-(D876))","v":" "},{"$f":"IF(D876=\"\",\" \",VLOOKUP(R876,'Main page'!$E$29:'Main page'!$G$41,3,TRUE))","v":" "}]
[null,null,null,null,null,null,null,null,null,null,null,null," "," "," "," ",{"$f":"IF(I877=\"\",\"\",IF(I877<='Main page'!$F$49,\"Core staff\",\"Senior staff\"))","v":""},{"$f":"IF(D877=\"\",\" \",'Main page'!$F$21-(D877))","v":" "},{"$f":"IF(D877=\"\",\" \",VLOOKUP(R877,'Main page'!$E$29:'Main page'!$G$41,3,TRUE))","v":" "}]
[null,null,null,null,null,null,null,null,null,null,null,null," "," "," "," ",{"$f":"IF(I878=\"\",\"\",IF(I878<='Main page'!$F$49,\"Core staff\",\"Senior staff\"))","v":""},{"$f":"IF(D878=\"\",\" \",'Main page'!$F$21-(D878))","v":" "},{"$f":"IF(D878=\"\",\" \",VLOOKUP(R878,'Main page'!$E$29:'Main page'!$G$41,3,TRUE))","v":" "}]
[null,null,null,null,null,null,null,null,null,null,null,null," "," "," "," ",{"$f":"IF(I879=\"\",\"\",IF(I879<='Main page'!$F$49,\"Core staff\",\"Senior staff\"))","v":""},{"$f":"IF(D879=\"\",\" \",'Main page'!$F$21-(D879))","v":" "},{"$f":"IF(D879=\"\",\" \",VLOOKUP(R879,'Main page'!$E$29:'Main page'!$G$41,3,TRUE))","v":" "}]
[null,null,null,null,null,null,null,null,null,null,null,null," "," "," "," ",{"$f":"IF(I880=\"\",\"\",IF(I880<='Main page'!$F$49,\"Core staff\",\"Senior staff\"))","v":""},{"$f":"IF(D880=\"\",\" \",'Main page'!$F$21-(D880))","v":" "},{"$f":"IF(D880=\"\",\" \",VLOOKUP(R880,'Main page'!$E$29:'Main page'!$G$41,3,TRUE))","v":" "}]
[null,null,null,null,null,null,null,null,null,null,null,null," "," "," "," ",{"$f":"IF(I881=\"\",\"\",IF(I881<='Main page'!$F$49,\"Core staff\",\"Senior staff\"))","v":""},{"$f":"IF(D881=\"\",\" \",'Main page'!$F$21-(D881))","v":" "},{"$f":"IF(D881=\"\",\" \",VLOOKUP(R881,'Main page'!$E$29:'Main page'!$G$41,3,TRUE))","v":" "}]
[null,null,null,null,null,null,null,null,null,null,null,null," "," "," "," ",{"$f":"IF(I882=\"\",\"\",IF(I882<='Main page'!$F$49,\"Core staff\",\"Senior staff\"))","v":""},{"$f":"IF(D882=\"\",\" \",'Main page'!$F$21-(D882))","v":" "},{"$f":"IF(D882=\"\",\" \",VLOOKUP(R882,'Main page'!$E$29:'Main page'!$G$41,3,TRUE))","v":" "}]
[null,null,null,null,null,null,null,null,null,null,null,null," "," "," "," ",{"$f":"IF(I883=\"\",\"\",IF(I883<='Main page'!$F$49,\"Core staff\",\"Senior staff\"))","v":""},{"$f":"IF(D883=\"\",\" \",'Main page'!$F$21-(D883))","v":" "},{"$f":"IF(D883=\"\",\" \",VLOOKUP(R883,'Main page'!$E$29:'Main page'!$G$41,3,TRUE))","v":" "}]
[null,null,null,null,null,null,null,null,null,null,null,null," "," "," "," ",{"$f":"IF(I884=\"\",\"\",IF(I884<='Main page'!$F$49,\"Core staff\",\"Senior staff\"))","v":""},{"$f":"IF(D884=\"\",\" \",'Main page'!$F$21-(D884))","v":" "},{"$f":"IF(D884=\"\",\" \",VLOOKUP(R884,'Main page'!$E$29:'Main page'!$G$41,3,TRUE))","v":" "}]
[null,null,null,null,null,null,null,null,null,null,null,null," "," "," "," ",{"$f":"IF(I885=\"\",\"\",IF(I885<='Main page'!$F$49,\"Core staff\",\"Senior staff\"))","v":""},{"$f":"IF(D885=\"\",\" \",'Main page'!$F$21-(D885))","v":" "},{"$f":"IF(D885=\"\",\" \",VLOOKUP(R885,'Main page'!$E$29:'Main page'!$G$41,3,TRUE))","v":" "}]
[null,null,null,null,null,null,null,null,null,null,null,null," "," "," "," ",{"$f":"IF(I886=\"\",\"\",IF(I886<='Main page'!$F$49,\"Core staff\",\"Senior staff\"))","v":""},{"$f":"IF(D886=\"\",\" \",'Main page'!$F$21-(D886))","v":" "},{"$f":"IF(D886=\"\",\" \",VLOOKUP(R886,'Main page'!$E$29:'Main page'!$G$41,3,TRUE))","v":" "}]
[null,null,null,null,null,null,null,null,null,null,null,null," "," "," "," ",{"$f":"IF(I887=\"\",\"\",IF(I887<='Main page'!$F$49,\"Core staff\",\"Senior staff\"))","v":""},{"$f":"IF(D887=\"\",\" \",'Main page'!$F$21-(D887))","v":" "},{"$f":"IF(D887=\"\",\" \",VLOOKUP(R887,'Main page'!$E$29:'Main page'!$G$41,3,TRUE))","v":" "}]
[null,null,null,null,null,null,null,null,null,null,null,null," "," "," "," ",{"$f":"IF(I888=\"\",\"\",IF(I888<='Main page'!$F$49,\"Core staff\",\"Senior staff\"))","v":""},{"$f":"IF(D888=\"\",\" \",'Main page'!$F$21-(D888))","v":" "},{"$f":"IF(D888=\"\",\" \",VLOOKUP(R888,'Main page'!$E$29:'Main page'!$G$41,3,TRUE))","v":" "}]
[null,null,null,null,null,null,null,null,null,null,null,null," "," "," "," ",{"$f":"IF(I889=\"\",\"\",IF(I889<='Main page'!$F$49,\"Core staff\",\"Senior staff\"))","v":""},{"$f":"IF(D889=\"\",\" \",'Main page'!$F$21-(D889))","v":" "},{"$f":"IF(D889=\"\",\" \",VLOOKUP(R889,'Main page'!$E$29:'Main page'!$G$41,3,TRUE))","v":" "}]
[null,null,null,null,null,null,null,null,null,null,null,null," "," "," "," ",{"$f":"IF(I890=\"\",\"\",IF(I890<='Main page'!$F$49,\"Core staff\",\"Senior staff\"))","v":""},{"$f":"IF(D890=\"\",\" \",'Main page'!$F$21-(D890))","v":" "},{"$f":"IF(D890=\"\",\" \",VLOOKUP(R890,'Main page'!$E$29:'Main page'!$G$41,3,TRUE))","v":" "}]
[null,null,null,null,null,null,null,null,null,null,null,null," "," "," "," ",{"$f":"IF(I891=\"\",\"\",IF(I891<='Main page'!$F$49,\"Core staff\",\"Senior staff\"))","v":""},{"$f":"IF(D891=\"\",\" \",'Main page'!$F$21-(D891))","v":" "},{"$f":"IF(D891=\"\",\" \",VLOOKUP(R891,'Main page'!$E$29:'Main page'!$G$41,3,TRUE))","v":" "}]
[null,null,null,null,null,null,null,null,null,null,null,null," "," "," "," ",{"$f":"IF(I892=\"\",\"\",IF(I892<='Main page'!$F$49,\"Core staff\",\"Senior staff\"))","v":""},{"$f":"IF(D892=\"\",\" \",'Main page'!$F$21-(D892))","v":" "},{"$f":"IF(D892=\"\",\" \",VLOOKUP(R892,'Main page'!$E$29:'Main page'!$G$41,3,TRUE))","v":" "}]
[null,null,null,null,null,null,null,null,null,null,null,null," "," "," "," ",{"$f":"IF(I893=\"\",\"\",IF(I893<='Main page'!$F$49,\"Core staff\",\"Senior staff\"))","v":""},{"$f":"IF(D893=\"\",\" \",'Main page'!$F$21-(D893))","v":" "},{"$f":"IF(D893=\"\",\" \",VLOOKUP(R893,'Main page'!$E$29:'Main page'!$G$41,3,TRUE))","v":" "}]
[null,null,null,null,null,null,null,null,null,null,null,null," "," "," "," ",{"$f":"IF(I894=\"\",\"\",IF(I894<='Main page'!$F$49,\"Core staff\",\"Senior staff\"))","v":""},{"$f":"IF(D894=\"\",\" \",'Main page'!$F$21-(D894))","v":" "},{"$f":"IF(D894=\"\",\" \",VLOOKUP(R894,'Main page'!$E$29:'Main page'!$G$41,3,TRUE))","v":" "}]
[null,null,null,null,null,null,null,null,null,null,null,null," "," "," "," ",{"$f":"IF(I895=\"\",\"\",IF(I895<='Main page'!$F$49,\"Core staff\",\"Senior staff\"))","v":""},{"$f":"IF(D895=\"\",\" \",'Main page'!$F$21-(D895))","v":" "},{"$f":"IF(D895=\"\",\" \",VLOOKUP(R895,'Main page'!$E$29:'Main page'!$G$41,3,TRUE))","v":" "}]
[null,null,null,null,null,null,null,null,null,null,null,null," "," "," "," ",{"$f":"IF(I896=\"\",\"\",IF(I896<='Main page'!$F$49,\"Core staff\",\"Senior staff\"))","v":""},{"$f":"IF(D896=\"\",\" \",'Main page'!$F$21-(D896))","v":" "},{"$f":"IF(D896=\"\",\" \",VLOOKUP(R896,'Main page'!$E$29:'Main page'!$G$41,3,TRUE))","v":" "}]
[null,null,null,null,null,null,null,null,null,null,null,null," "," "," "," ",{"$f":"IF(I897=\"\",\"\",IF(I897<='Main page'!$F$49,\"Core staff\",\"Senior staff\"))","v":""},{"$f":"IF(D897=\"\",\" \",'Main page'!$F$21-(D897))","v":" "},{"$f":"IF(D897=\"\",\" \",VLOOKUP(R897,'Main page'!$E$29:'Main page'!$G$41,3,TRUE))","v":" "}]
[null,null,null,null,null,null,null,null,null,null,null,null," "," "," "," ",{"$f":"IF(I898=\"\",\"\",IF(I898<='Main page'!$F$49,\"Core staff\",\"Senior staff\"))","v":""},{"$f":"IF(D898=\"\",\" \",'Main page'!$F$21-(D898))","v":" "},{"$f":"IF(D898=\"\",\" \",VLOOKUP(R898,'Main page'!$E$29:'Main page'!$G$41,3,TRUE))","v":" "}]
[null,null,null,null,null,null,null,null,null,null,null,null," "," "," "," ",{"$f":"IF(I899=\"\",\"\",IF(I899<='Main page'!$F$49,\"Core staff\",\"Senior staff\"))","v":""},{"$f":"IF(D899=\"\",\" \",'Main page'!$F$21-(D899))","v":" "},{"$f":"IF(D899=\"\",\" \",VLOOKUP(R899,'Main page'!$E$29:'Main page'!$G$41,3,TRUE))","v":" "}]
[null,null,null,null,null,null,null,null,null,null,null,null," "," "," "," ",{"$f":"IF(I900=\"\",\"\",IF(I900<='Main page'!$F$49,\"Core staff\",\"Senior staff\"))","v":""},{"$f":"IF(D900=\"\",\" \",'Main page'!$F$21-(D900))","v":" "},{"$f":"IF(D900=\"\",\" \",VLOOKUP(R900,'Main page'!$E$29:'Main page'!$G$41,3,TRUE))","v":" "}]
[null,null,null,null,null,null,null,null,null,null,null,null," "," "," "," ",{"$f":"IF(I901=\"\",\"\",IF(I901<='Main page'!$F$49,\"Core staff\",\"Senior staff\"))","v":""},{"$f":"IF(D901=\"\",\" \",'Main page'!$F$21-(D901))","v":" "},{"$f":"IF(D901=\"\",\" \",VLOOKUP(R901,'Main page'!$E$29:'Main page'!$G$41,3,TRUE))","v":" "}]
[null,null,null,null,null,null,null,null,null,null,null,null," "," "," "," ",{"$f":"IF(I902=\"\",\"\",IF(I902<='Main page'!$F$49,\"Core staff\",\"Senior staff\"))","v":""},{"$f":"IF(D902=\"\",\" \",'Main page'!$F$21-(D902))","v":" "},{"$f":"IF(D902=\"\",\" \",VLOOKUP(R902,'Main page'!$E$29:'Main page'!$G$41,3,TRUE))","v":" "}]
[null,null,null,null,null,null,null,null,null,null,null,null," "," "," "," ",{"$f":"IF(I903=\"\",\"\",IF(I903<='Main page'!$F$49,\"Core staff\",\"Senior staff\"))","v":""},{"$f":"IF(D903=\"\",\" \",'Main page'!$F$21-(D903))","v":" "},{"$f":"IF(D903=\"\",\" \",VLOOKUP(R903,'Main page'!$E$29:'Main page'!$G$41,3,TRUE))","v":" "}]
[null,null,null,null,null,null,null,null,null,null,null,null," "," "," "," ",{"$f":"IF(I904=\"\",\"\",IF(I904<='Main page'!$F$49,\"Core staff\",\"Senior staff\"))","v":""},{"$f":"IF(D904=\"\",\" \",'Main page'!$F$21-(D904))","v":" "},{"$f":"IF(D904=\"\",\" \",VLOOKUP(R904,'Main page'!$E$29:'Main page'!$G$41,3,TRUE))","v":" "}]
[null,null,null,null,null,null,null,null,null,null,null,null," "," "," "," ",{"$f":"IF(I905=\"\",\"\",IF(I905<='Main page'!$F$49,\"Core staff\",\"Senior staff\"))","v":""},{"$f":"IF(D905=\"\",\" \",'Main page'!$F$21-(D905))","v":" "},{"$f":"IF(D905=\"\",\" \",VLOOKUP(R905,'Main page'!$E$29:'Main page'!$G$41,3,TRUE))","v":" "}]
[null,null,null,null,null,null,null,null,null,null,null,null," "," "," "," ",{"$f":"IF(I906=\"\",\"\",IF(I906<='Main page'!$F$49,\"Core staff\",\"Senior staff\"))","v":""},{"$f":"IF(D906=\"\",\" \",'Main page'!$F$21-(D906))","v":" "},{"$f":"IF(D906=\"\",\" \",VLOOKUP(R906,'Main page'!$E$29:'Main page'!$G$41,3,TRUE))","v":" "}]
[null,null,null,null,null,null,null,null,null,null,null,null," "," "," "," ",{"$f":"IF(I907=\"\",\"\",IF(I907<='Main page'!$F$49,\"Core staff\",\"Senior staff\"))","v":""},{"$f":"IF(D907=\"\",\" \",'Main page'!$F$21-(D907))","v":" "},{"$f":"IF(D907=\"\",\" \",VLOOKUP(R907,'Main page'!$E$29:'Main page'!$G$41,3,TRUE))","v":" "}]
[null,null,null,null,null,null,null,null,null,null,null,null," "," "," "," ",{"$f":"IF(I908=\"\",\"\",IF(I908<='Main page'!$F$49,\"Core staff\",\"Senior staff\"))","v":""},{"$f":"IF(D908=\"\",\" \",'Main page'!$F$21-(D908))","v":" "},{"$f":"IF(D908=\"\",\" \",VLOOKUP(R908,'Main page'!$E$29:'Main page'!$G$41,3,TRUE))","v":" "}]
[null,null,null,null,null,null,null,null,null,null,null,null," "," "," "," ",{"$f":"IF(I909=\"\",\"\",IF(I909<='Main page'!$F$49,\"Core staff\",\"Senior staff\"))","v":""},{"$f":"IF(D909=\"\",\" \",'Main page'!$F$21-(D909))","v":" "},{"$f":"IF(D909=\"\",\" \",VLOOKUP(R909,'Main page'!$E$29:'Main page'!$G$41,3,TRUE))","v":" "}]
[null,null,null,null,null,null,null,null,null,null,null,null,{"$f":"IFERROR(J910/G910,\" \")","v":" "},{"$f":"IFERROR((M910/$U$4)/H910,\" \")","v":" "},{"$f":"IFERROR((N910*75)*26.083,\" \")","v":" "},{"$f":"IF(G910=0,\" \",IF(G910=1,\"Full time\",\"Part time\"))","v":" "},{"$f":"IF(I910=\"\",\"\",IF(I910<='Main page'!$F$49,\"Core staff\",\"Senior staff\"))","v":""},{"$f":"IF(D910=\"\",\" \",'Main page'!$F$21-(D910))","v":" "},{"$f":"IF(D910=\"\",\" \",VLOOKUP(R910,'Main page'!$E$29:'Main page'!$G$41,3,TRUE))","v":" "}]
[null,null,null,null,null,null,null,null,null,null,null,null," "," "," "," ",{"$f":"IF(I911=\"\",\"\",IF(I911<='Main page'!$F$49,\"Core staff\",\"Senior staff\"))","v":""},{"$f":"IF(D911=\"\",\" \",'Main page'!$F$21-(D911))","v":" "},{"$f":"IF(D911=\"\",\" \",VLOOKUP(R911,'Main page'!$E$29:'Main page'!$G$41,3,TRUE))","v":" "}]
[null,null,null,null,null,null,null,null,null,null,null,null," "," "," "," ",{"$f":"IF(I912=\"\",\"\",IF(I912<='Main page'!$F$49,\"Core staff\",\"Senior staff\"))","v":""},{"$f":"IF(D912=\"\",\" \",'Main page'!$F$21-(D912))","v":" "},{"$f":"IF(D912=\"\",\" \",VLOOKUP(R912,'Main page'!$E$29:'Main page'!$G$41,3,TRUE))","v":" "}]
[null,null,null,null,null,null,null,null,null,null,null,null," "," "," "," ",{"$f":"IF(I913=\"\",\"\",IF(I913<='Main page'!$F$49,\"Core staff\",\"Senior staff\"))","v":""},{"$f":"IF(D913=\"\",\" \",'Main page'!$F$21-(D913))","v":" "},{"$f":"IF(D913=\"\",\" \",VLOOKUP(R913,'Main page'!$E$29:'Main page'!$G$41,3,TRUE))","v":" "}]
[null,null,null,null,null,null,null,null,null,null,null,null," "," "," "," ",{"$f":"IF(I914=\"\",\"\",IF(I914<='Main page'!$F$49,\"Core staff\",\"Senior staff\"))","v":""},{"$f":"IF(D914=\"\",\" \",'Main page'!$F$21-(D914))","v":" "},{"$f":"IF(D914=\"\",\" \",VLOOKUP(R914,'Main page'!$E$29:'Main page'!$G$41,3,TRUE))","v":" "}]
[null,null,null,null,null,null,null,null,null,null,null,null," "," "," "," ",{"$f":"IF(I915=\"\",\"\",IF(I915<='Main page'!$F$49,\"Core staff\",\"Senior staff\"))","v":""},{"$f":"IF(D915=\"\",\" \",'Main page'!$F$21-(D915))","v":" "},{"$f":"IF(D915=\"\",\" \",VLOOKUP(R915,'Main page'!$E$29:'Main page'!$G$41,3,TRUE))","v":" "}]
[null,null,null,null,null,null,null,null,null,null,null,null," "," "," "," ",{"$f":"IF(I916=\"\",\"\",IF(I916<='Main page'!$F$49,\"Core staff\",\"Senior staff\"))","v":""},{"$f":"IF(D916=\"\",\" \",'Main page'!$F$21-(D916))","v":" "},{"$f":"IF(D916=\"\",\" \",VLOOKUP(R916,'Main page'!$E$29:'Main page'!$G$41,3,TRUE))","v":" "}]
[null,null,null,null,null,null,null,null,null,null,null,null," "," "," "," ",{"$f":"IF(I917=\"\",\"\",IF(I917<='Main page'!$F$49,\"Core staff\",\"Senior staff\"))","v":""},{"$f":"IF(D917=\"\",\" \",'Main page'!$F$21-(D917))","v":" "},{"$f":"IF(D917=\"\",\" \",VLOOKUP(R917,'Main page'!$E$29:'Main page'!$G$41,3,TRUE))","v":" "}]
[null,null,null,null,null,null,null,null,null,null,null,null," "," "," "," ",{"$f":"IF(I918=\"\",\"\",IF(I918<='Main page'!$F$49,\"Core staff\",\"Senior staff\"))","v":""},{"$f":"IF(D918=\"\",\" \",'Main page'!$F$21-(D918))","v":" "},{"$f":"IF(D918=\"\",\" \",VLOOKUP(R918,'Main page'!$E$29:'Main page'!$G$41,3,TRUE))","v":" "}]
[null,null,null,null,null,null,null,null,null,null,null,null," "," "," "," ",{"$f":"IF(I919=\"\",\"\",IF(I919<='Main page'!$F$49,\"Core staff\",\"Senior staff\"))","v":""},{"$f":"IF(D919=\"\",\" \",'Main page'!$F$21-(D919))","v":" "},{"$f":"IF(D919=\"\",\" \",VLOOKUP(R919,'Main page'!$E$29:'Main page'!$G$41,3,TRUE))","v":" "}]
[null,null,null,null,null,null,null,null,null,null,null,null," "," "," "," ",{"$f":"IF(I920=\"\",\"\",IF(I920<='Main page'!$F$49,\"Core staff\",\"Senior staff\"))","v":""},{"$f":"IF(D920=\"\",\" \",'Main page'!$F$21-(D920))","v":" "},{"$f":"IF(D920=\"\",\" \",VLOOKUP(R920,'Main page'!$E$29:'Main page'!$G$41,3,TRUE))","v":" "}]
[null,null,null,null,null,null,null,null,null,null,null,null," "," "," "," ",{"$f":"IF(I921=\"\",\"\",IF(I921<='Main page'!$F$49,\"Core staff\",\"Senior staff\"))","v":""},{"$f":"IF(D921=\"\",\" \",'Main page'!$F$21-(D921))","v":" "},{"$f":"IF(D921=\"\",\" \",VLOOKUP(R921,'Main page'!$E$29:'Main page'!$G$41,3,TRUE))","v":" "}]
[null,null,null,null,null,null,null,null,null,null,null,null," "," "," "," ",{"$f":"IF(I922=\"\",\"\",IF(I922<='Main page'!$F$49,\"Core staff\",\"Senior staff\"))","v":""},{"$f":"IF(D922=\"\",\" \",'Main page'!$F$21-(D922))","v":" "},{"$f":"IF(D922=\"\",\" \",VLOOKUP(R922,'Main page'!$E$29:'Main page'!$G$41,3,TRUE))","v":" "}]
[null,null,null,null,null,null,null,null,null,null,null,null," "," "," "," ",{"$f":"IF(I923=\"\",\"\",IF(I923<='Main page'!$F$49,\"Core staff\",\"Senior staff\"))","v":""},{"$f":"IF(D923=\"\",\" \",'Main page'!$F$21-(D923))","v":" "},{"$f":"IF(D923=\"\",\" \",VLOOKUP(R923,'Main page'!$E$29:'Main page'!$G$41,3,TRUE))","v":" "}]
[null,null,null,null,null,null,null,null,null,null,null,null," "," "," "," ",{"$f":"IF(I924=\"\",\"\",IF(I924<='Main page'!$F$49,\"Core staff\",\"Senior staff\"))","v":""},{"$f":"IF(D924=\"\",\" \",'Main page'!$F$21-(D924))","v":" "},{"$f":"IF(D924=\"\",\" \",VLOOKUP(R924,'Main page'!$E$29:'Main page'!$G$41,3,TRUE))","v":" "}]
[null,null,null,null,null,null,null,null,null,null,null,null," "," "," "," ",{"$f":"IF(I925=\"\",\"\",IF(I925<='Main page'!$F$49,\"Core staff\",\"Senior staff\"))","v":""},{"$f":"IF(D925=\"\",\" \",'Main page'!$F$21-(D925))","v":" "},{"$f":"IF(D925=\"\",\" \",VLOOKUP(R925,'Main page'!$E$29:'Main page'!$G$41,3,TRUE))","v":" "}]
[null,null,null,null,null,null,null,null,null,null,null,null," "," "," "," ",{"$f":"IF(I926=\"\",\"\",IF(I926<='Main page'!$F$49,\"Core staff\",\"Senior staff\"))","v":""},{"$f":"IF(D926=\"\",\" \",'Main page'!$F$21-(D926))","v":" "},{"$f":"IF(D926=\"\",\" \",VLOOKUP(R926,'Main page'!$E$29:'Main page'!$G$41,3,TRUE))","v":" "}]
[null,null,null,null,null,null,null,null,null,null,null,null," "," "," "," ",{"$f":"IF(I927=\"\",\"\",IF(I927<='Main page'!$F$49,\"Core staff\",\"Senior staff\"))","v":""},{"$f":"IF(D927=\"\",\" \",'Main page'!$F$21-(D927))","v":" "},{"$f":"IF(D927=\"\",\" \",VLOOKUP(R927,'Main page'!$E$29:'Main page'!$G$41,3,TRUE))","v":" "}]
[null,null,null,null,null,null,null,null,null,null,null,null," "," "," "," ",{"$f":"IF(I928=\"\",\"\",IF(I928<='Main page'!$F$49,\"Core staff\",\"Senior staff\"))","v":""},{"$f":"IF(D928=\"\",\" \",'Main page'!$F$21-(D928))","v":" "},{"$f":"IF(D928=\"\",\" \",VLOOKUP(R928,'Main page'!$E$29:'Main page'!$G$41,3,TRUE))","v":" "}]
[null,null,null,null,null,null,null,null,null,null,null,null," "," "," "," ",{"$f":"IF(I929=\"\",\"\",IF(I929<='Main page'!$F$49,\"Core staff\",\"Senior staff\"))","v":""},{"$f":"IF(D929=\"\",\" \",'Main page'!$F$21-(D929))","v":" "},{"$f":"IF(D929=\"\",\" \",VLOOKUP(R929,'Main page'!$E$29:'Main page'!$G$41,3,TRUE))","v":" "}]
[null,null,null,null,null,null,null,null,null,null,null,null," "," "," "," ",{"$f":"IF(I930=\"\",\"\",IF(I930<='Main page'!$F$49,\"Core staff\",\"Senior staff\"))","v":""},{"$f":"IF(D930=\"\",\" \",'Main page'!$F$21-(D930))","v":" "},{"$f":"IF(D930=\"\",\" \",VLOOKUP(R930,'Main page'!$E$29:'Main page'!$G$41,3,TRUE))","v":" "}]
[null,null,null,null,null,null,null,null,null,null,null,null," "," "," "," ",{"$f":"IF(I931=\"\",\"\",IF(I931<='Main page'!$F$49,\"Core staff\",\"Senior staff\"))","v":""},{"$f":"IF(D931=\"\",\" \",'Main page'!$F$21-(D931))","v":" "},{"$f":"IF(D931=\"\",\" \",VLOOKUP(R931,'Main page'!$E$29:'Main page'!$G$41,3,TRUE))","v":" "}]
[null,null,null,null,null,null,null,null,null,null,null,null," "," "," "," ",{"$f":"IF(I932=\"\",\"\",IF(I932<='Main page'!$F$49,\"Core staff\",\"Senior staff\"))","v":""},{"$f":"IF(D932=\"\",\" \",'Main page'!$F$21-(D932))","v":" "},{"$f":"IF(D932=\"\",\" \",VLOOKUP(R932,'Main page'!$E$29:'Main page'!$G$41,3,TRUE))","v":" "}]
[null,null,null,null,null,null,null,null,null,null,null,null," "," "," "," ",{"$f":"IF(I933=\"\",\"\",IF(I933<='Main page'!$F$49,\"Core staff\",\"Senior staff\"))","v":""},{"$f":"IF(D933=\"\",\" \",'Main page'!$F$21-(D933))","v":" "},{"$f":"IF(D933=\"\",\" \",VLOOKUP(R933,'Main page'!$E$29:'Main page'!$G$41,3,TRUE))","v":" "}]
[null,null,null,null,null,null,null,null,null,null,null,null," "," "," "," ",{"$f":"IF(I934=\"\",\"\",IF(I934<='Main page'!$F$49,\"Core staff\",\"Senior staff\"))","v":""},{"$f":"IF(D934=\"\",\" \",'Main page'!$F$21-(D934))","v":" "},{"$f":"IF(D934=\"\",\" \",VLOOKUP(R934,'Main page'!$E$29:'Main page'!$G$41,3,TRUE))","v":" "}]
[null,null,null,null,null,null,null,null,null,null,null,null," "," "," "," ",{"$f":"IF(I935=\"\",\"\",IF(I935<='Main page'!$F$49,\"Core staff\",\"Senior staff\"))","v":""},{"$f":"IF(D935=\"\",\" \",'Main page'!$F$21-(D935))","v":" "},{"$f":"IF(D935=\"\",\" \",VLOOKUP(R935,'Main page'!$E$29:'Main page'!$G$41,3,TRUE))","v":" "}]
[null,null,null,null,null,null,null,null,null,null,null,null," "," "," "," ",{"$f":"IF(I936=\"\",\"\",IF(I936<='Main page'!$F$49,\"Core staff\",\"Senior staff\"))","v":""},{"$f":"IF(D936=\"\",\" \",'Main page'!$F$21-(D936))","v":" "},{"$f":"IF(D936=\"\",\" \",VLOOKUP(R936,'Main page'!$E$29:'Main page'!$G$41,3,TRUE))","v":" "}]
[null,null,null,null,null,null,null,null,null,null,null,null," "," "," "," ",{"$f":"IF(I937=\"\",\"\",IF(I937<='Main page'!$F$49,\"Core staff\",\"Senior staff\"))","v":""},{"$f":"IF(D937=\"\",\" \",'Main page'!$F$21-(D937))","v":" "},{"$f":"IF(D937=\"\",\" \",VLOOKUP(R937,'Main page'!$E$29:'Main page'!$G$41,3,TRUE))","v":" "}]
[null,null,null,null,null,null,null,null,null,null,null,null," "," "," "," ",{"$f":"IF(I938=\"\",\"\",IF(I938<='Main page'!$F$49,\"Core staff\",\"Senior staff\"))","v":""},{"$f":"IF(D938=\"\",\" \",'Main page'!$F$21-(D938))","v":" "},{"$f":"IF(D938=\"\",\" \",VLOOKUP(R938,'Main page'!$E$29:'Main page'!$G$41,3,TRUE))","v":" "}]
[null,null,null,null,null,null,null,null,null,null,null,null," "," "," "," ",{"$f":"IF(I939=\"\",\"\",IF(I939<='Main page'!$F$49,\"Core staff\",\"Senior staff\"))","v":""},{"$f":"IF(D939=\"\",\" \",'Main page'!$F$21-(D939))","v":" "},{"$f":"IF(D939=\"\",\" \",VLOOKUP(R939,'Main page'!$E$29:'Main page'!$G$41,3,TRUE))","v":" "}]
[null,null,null,null,null,null,null,null,null,null,null,null," "," "," "," ",{"$f":"IF(I940=\"\",\"\",IF(I940<='Main page'!$F$49,\"Core staff\",\"Senior staff\"))","v":""},{"$f":"IF(D940=\"\",\" \",'Main page'!$F$21-(D940))","v":" "},{"$f":"IF(D940=\"\",\" \",VLOOKUP(R940,'Main page'!$E$29:'Main page'!$G$41,3,TRUE))","v":" "}]
[null,null,null,null,null,null,null,null,null,null,null,null," "," "," "," ",{"$f":"IF(I941=\"\",\"\",IF(I941<='Main page'!$F$49,\"Core staff\",\"Senior staff\"))","v":""},{"$f":"IF(D941=\"\",\" \",'Main page'!$F$21-(D941))","v":" "},{"$f":"IF(D941=\"\",\" \",VLOOKUP(R941,'Main page'!$E$29:'Main page'!$G$41,3,TRUE))","v":" "}]
[null,null,null,null,null,null,null,null,null,null,null,null," "," "," "," ",{"$f":"IF(I942=\"\",\"\",IF(I942<='Main page'!$F$49,\"Core staff\",\"Senior staff\"))","v":""},{"$f":"IF(D942=\"\",\" \",'Main page'!$F$21-(D942))","v":" "},{"$f":"IF(D942=\"\",\" \",VLOOKUP(R942,'Main page'!$E$29:'Main page'!$G$41,3,TRUE))","v":" "}]
[null,null,null,null,null,null,null,null,null,null,null,null," "," "," "," ",{"$f":"IF(I943=\"\",\"\",IF(I943<='Main page'!$F$49,\"Core staff\",\"Senior staff\"))","v":""},{"$f":"IF(D943=\"\",\" \",'Main page'!$F$21-(D943))","v":" "},{"$f":"IF(D943=\"\",\" \",VLOOKUP(R943,'Main page'!$E$29:'Main page'!$G$41,3,TRUE))","v":" "}]
[null,null,null,null,null,null,null,null,null,null,null,null," "," "," "," ",{"$f":"IF(I944=\"\",\"\",IF(I944<='Main page'!$F$49,\"Core staff\",\"Senior staff\"))","v":""},{"$f":"IF(D944=\"\",\" \",'Main page'!$F$21-(D944))","v":" "},{"$f":"IF(D944=\"\",\" \",VLOOKUP(R944,'Main page'!$E$29:'Main page'!$G$41,3,TRUE))","v":" "}]
[null,null,null,null,null,null,null,null,null,null,null,null," "," "," "," ",{"$f":"IF(I945=\"\",\"\",IF(I945<='Main page'!$F$49,\"Core staff\",\"Senior staff\"))","v":""},{"$f":"IF(D945=\"\",\" \",'Main page'!$F$21-(D945))","v":" "},{"$f":"IF(D945=\"\",\" \",VLOOKUP(R945,'Main page'!$E$29:'Main page'!$G$41,3,TRUE))","v":" "}]
[null,null,null,null,null,null,null,null,null,null,null,null," "," "," "," ",{"$f":"IF(I946=\"\",\"\",IF(I946<='Main page'!$F$49,\"Core staff\",\"Senior staff\"))","v":""},{"$f":"IF(D946=\"\",\" \",'Main page'!$F$21-(D946))","v":" "},{"$f":"IF(D946=\"\",\" \",VLOOKUP(R946,'Main page'!$E$29:'Main page'!$G$41,3,TRUE))","v":" "}]
[null,null,null,null,null,null,null,null,null,null,null,null," "," "," "," ",{"$f":"IF(I947=\"\",\"\",IF(I947<='Main page'!$F$49,\"Core staff\",\"Senior staff\"))","v":""},{"$f":"IF(D947=\"\",\" \",'Main page'!$F$21-(D947))","v":" "},{"$f":"IF(D947=\"\",\" \",VLOOKUP(R947,'Main page'!$E$29:'Main page'!$G$41,3,TRUE))","v":" "}]
[null,null,null,null,null,null,null,null,null,null,null,null," "," "," "," ",{"$f":"IF(I948=\"\",\"\",IF(I948<='Main page'!$F$49,\"Core staff\",\"Senior staff\"))","v":""},{"$f":"IF(D948=\"\",\" \",'Main page'!$F$21-(D948))","v":" "},{"$f":"IF(D948=\"\",\" \",VLOOKUP(R948,'Main page'!$E$29:'Main page'!$G$41,3,TRUE))","v":" "}]
[null,null,null,null,null,null,null,null,null,null,null,null," "," "," "," ",{"$f":"IF(I949=\"\",\"\",IF(I949<='Main page'!$F$49,\"Core staff\",\"Senior staff\"))","v":""},{"$f":"IF(D949=\"\",\" \",'Main page'!$F$21-(D949))","v":" "},{"$f":"IF(D949=\"\",\" \",VLOOKUP(R949,'Main page'!$E$29:'Main page'!$G$41,3,TRUE))","v":" "}]
[null,null,null,null,null,null,null,null,null,null,null,null," "," "," "," ",{"$f":"IF(I950=\"\",\"\",IF(I950<='Main page'!$F$49,\"Core staff\",\"Senior staff\"))","v":""},{"$f":"IF(D950=\"\",\" \",'Main page'!$F$21-(D950))","v":" "},{"$f":"IF(D950=\"\",\" \",VLOOKUP(R950,'Main page'!$E$29:'Main page'!$G$41,3,TRUE))","v":" "}]
[null,null,null,null,null,null,null,null,null,null,null,null," "," "," "," ",{"$f":"IF(I951=\"\",\"\",IF(I951<='Main page'!$F$49,\"Core staff\",\"Senior staff\"))","v":""},{"$f":"IF(D951=\"\",\" \",'Main page'!$F$21-(D951))","v":" "},{"$f":"IF(D951=\"\",\" \",VLOOKUP(R951,'Main page'!$E$29:'Main page'!$G$41,3,TRUE))","v":" "}]
[null,null,null,null,null,null,null,null,null,null,null,null," "," "," "," ",{"$f":"IF(I952=\"\",\"\",IF(I952<='Main page'!$F$49,\"Core staff\",\"Senior staff\"))","v":""},{"$f":"IF(D952=\"\",\" \",'Main page'!$F$21-(D952))","v":" "},{"$f":"IF(D952=\"\",\" \",VLOOKUP(R952,'Main page'!$E$29:'Main page'!$G$41,3,TRUE))","v":" "}]
[null,null,null,null,null,null,null,null,null,null,null,null," "," "," "," ",{"$f":"IF(I953=\"\",\"\",IF(I953<='Main page'!$F$49,\"Core staff\",\"Senior staff\"))","v":""},{"$f":"IF(D953=\"\",\" \",'Main page'!$F$21-(D953))","v":" "},{"$f":"IF(D953=\"\",\" \",VLOOKUP(R953,'Main page'!$E$29:'Main page'!$G$41,3,TRUE))","v":" "}]
[null,null,null,null,null,null,null,null,null,null,null,null," "," "," "," ",{"$f":"IF(I954=\"\",\"\",IF(I954<='Main page'!$F$49,\"Core staff\",\"Senior staff\"))","v":""},{"$f":"IF(D954=\"\",\" \",'Main page'!$F$21-(D954))","v":" "},{"$f":"IF(D954=\"\",\" \",VLOOKUP(R954,'Main page'!$E$29:'Main page'!$G$41,3,TRUE))","v":" "}]
[null,null,null,null,null,null,null,null,null,null,null,null," "," "," "," ",{"$f":"IF(I955=\"\",\"\",IF(I955<='Main page'!$F$49,\"Core staff\",\"Senior staff\"))","v":""},{"$f":"IF(D955=\"\",\" \",'Main page'!$F$21-(D955))","v":" "},{"$f":"IF(D955=\"\",\" \",VLOOKUP(R955,'Main page'!$E$29:'Main page'!$G$41,3,TRUE))","v":" "}]
[null,null,null,null,null,null,null,null,null,null,null,null," "," "," "," ",{"$f":"IF(I956=\"\",\"\",IF(I956<='Main page'!$F$49,\"Core staff\",\"Senior staff\"))","v":""},{"$f":"IF(D956=\"\",\" \",'Main page'!$F$21-(D956))","v":" "},{"$f":"IF(D956=\"\",\" \",VLOOKUP(R956,'Main page'!$E$29:'Main page'!$G$41,3,TRUE))","v":" "}]
[null,null,null,null,null,null,null,null,null,null,null,null," "," "," "," ",{"$f":"IF(I957=\"\",\"\",IF(I957<='Main page'!$F$49,\"Core staff\",\"Senior staff\"))","v":""},{"$f":"IF(D957=\"\",\" \",'Main page'!$F$21-(D957))","v":" "},{"$f":"IF(D957=\"\",\" \",VLOOKUP(R957,'Main page'!$E$29:'Main page'!$G$41,3,TRUE))","v":" "}]
[null,null,null,null,null,null,null,null,null,null,null,null," "," "," "," ",{"$f":"IF(I958=\"\",\"\",IF(I958<='Main page'!$F$49,\"Core staff\",\"Senior staff\"))","v":""},{"$f":"IF(D958=\"\",\" \",'Main page'!$F$21-(D958))","v":" "},{"$f":"IF(D958=\"\",\" \",VLOOKUP(R958,'Main page'!$E$29:'Main page'!$G$41,3,TRUE))","v":" "}]
[null,null,null,null,null,null,null,null,null,null,null,null," "," "," "," ",{"$f":"IF(I959=\"\",\"\",IF(I959<='Main page'!$F$49,\"Core staff\",\"Senior staff\"))","v":""},{"$f":"IF(D959=\"\",\" \",'Main page'!$F$21-(D959))","v":" "},{"$f":"IF(D959=\"\",\" \",VLOOKUP(R959,'Main page'!$E$29:'Main page'!$G$41,3,TRUE))","v":" "}]
[null,null,null,null,null,null,null,null,null,null,null,null," "," "," "," ",{"$f":"IF(I960=\"\",\"\",IF(I960<='Main page'!$F$49,\"Core staff\",\"Senior staff\"))","v":""},{"$f":"IF(D960=\"\",\" \",'Main page'!$F$21-(D960))","v":" "},{"$f":"IF(D960=\"\",\" \",VLOOKUP(R960,'Main page'!$E$29:'Main page'!$G$41,3,TRUE))","v":" "}]
[null,null,null,null,null,null,null,null,null,null,null,null," "," "," "," ",{"$f":"IF(I961=\"\",\"\",IF(I961<='Main page'!$F$49,\"Core staff\",\"Senior staff\"))","v":""},{"$f":"IF(D961=\"\",\" \",'Main page'!$F$21-(D961))","v":" "},{"$f":"IF(D961=\"\",\" \",VLOOKUP(R961,'Main page'!$E$29:'Main page'!$G$41,3,TRUE))","v":" "}]
[null,null,null,null,null,null,null,null,null,null,null,null," "," "," "," ",{"$f":"IF(I962=\"\",\"\",IF(I962<='Main page'!$F$49,\"Core staff\",\"Senior staff\"))","v":""},{"$f":"IF(D962=\"\",\" \",'Main page'!$F$21-(D962))","v":" "},{"$f":"IF(D962=\"\",\" \",VLOOKUP(R962,'Main page'!$E$29:'Main page'!$G$41,3,TRUE))","v":" "}]
[null,null,null,null,null,null,null,null,null,null,null,null," "," "," "," ",{"$f":"IF(I963=\"\",\"\",IF(I963<='Main page'!$F$49,\"Core staff\",\"Senior staff\"))","v":""},{"$f":"IF(D963=\"\",\" \",'Main page'!$F$21-(D963))","v":" "},{"$f":"IF(D963=\"\",\" \",VLOOKUP(R963,'Main page'!$E$29:'Main page'!$G$41,3,TRUE))","v":" "}]
[null,null,null,null,null,null,null,null,null,null,null,null," "," "," "," ",{"$f":"IF(I964=\"\",\"\",IF(I964<='Main page'!$F$49,\"Core staff\",\"Senior staff\"))","v":""},{"$f":"IF(D964=\"\",\" \",'Main page'!$F$21-(D964))","v":" "},{"$f":"IF(D964=\"\",\" \",VLOOKUP(R964,'Main page'!$E$29:'Main page'!$G$41,3,TRUE))","v":" "}]
[null,null,null,null,null,null,null,null,null,null,null,null," "," "," "," ",{"$f":"IF(I965=\"\",\"\",IF(I965<='Main page'!$F$49,\"Core staff\",\"Senior staff\"))","v":""},{"$f":"IF(D965=\"\",\" \",'Main page'!$F$21-(D965))","v":" "},{"$f":"IF(D965=\"\",\" \",VLOOKUP(R965,'Main page'!$E$29:'Main page'!$G$41,3,TRUE))","v":" "}]
[null,null,null,null,null,null,null,null,null,null,null,null," "," "," "," ",{"$f":"IF(I966=\"\",\"\",IF(I966<='Main page'!$F$49,\"Core staff\",\"Senior staff\"))","v":""},{"$f":"IF(D966=\"\",\" \",'Main page'!$F$21-(D966))","v":" "},{"$f":"IF(D966=\"\",\" \",VLOOKUP(R966,'Main page'!$E$29:'Main page'!$G$41,3,TRUE))","v":" "}]
[null,null,null,null,null,null,null,null,null,null,null,null," "," "," "," ",{"$f":"IF(I967=\"\",\"\",IF(I967<='Main page'!$F$49,\"Core staff\",\"Senior staff\"))","v":""},{"$f":"IF(D967=\"\",\" \",'Main page'!$F$21-(D967))","v":" "},{"$f":"IF(D967=\"\",\" \",VLOOKUP(R967,'Main page'!$E$29:'Main page'!$G$41,3,TRUE))","v":" "}]
[null,null,null,null,null,null,null,null,null,null,null,null," "," "," "," ",{"$f":"IF(I968=\"\",\"\",IF(I968<='Main page'!$F$49,\"Core staff\",\"Senior staff\"))","v":""},{"$f":"IF(D968=\"\",\" \",'Main page'!$F$21-(D968))","v":" "},{"$f":"IF(D968=\"\",\" \",VLOOKUP(R968,'Main page'!$E$29:'Main page'!$G$41,3,TRUE))","v":" "}]
[null,null,null,null,null,null,null,null,null,null,null,null," "," "," "," ",{"$f":"IF(I969=\"\",\"\",IF(I969<='Main page'!$F$49,\"Core staff\",\"Senior staff\"))","v":""},{"$f":"IF(D969=\"\",\" \",'Main page'!$F$21-(D969))","v":" "},{"$f":"IF(D969=\"\",\" \",VLOOKUP(R969,'Main page'!$E$29:'Main page'!$G$41,3,TRUE))","v":" "}]
[null,null,null,null,null,null,null,null,null,null,null,null," "," "," "," ",{"$f":"IF(I970=\"\",\"\",IF(I970<='Main page'!$F$49,\"Core staff\",\"Senior staff\"))","v":""},{"$f":"IF(D970=\"\",\" \",'Main page'!$F$21-(D970))","v":" "},{"$f":"IF(D970=\"\",\" \",VLOOKUP(R970,'Main page'!$E$29:'Main page'!$G$41,3,TRUE))","v":" "}]
[null,null,null,null,null,null,null,null,null,null,null,null," "," "," "," ",{"$f":"IF(I971=\"\",\"\",IF(I971<='Main page'!$F$49,\"Core staff\",\"Senior staff\"))","v":""},{"$f":"IF(D971=\"\",\" \",'Main page'!$F$21-(D971))","v":" "},{"$f":"IF(D971=\"\",\" \",VLOOKUP(R971,'Main page'!$E$29:'Main page'!$G$41,3,TRUE))","v":" "}]
[null,null,null,null,null,null,null,null,null,null,null,null," "," "," "," ",{"$f":"IF(I972=\"\",\"\",IF(I972<='Main page'!$F$49,\"Core staff\",\"Senior staff\"))","v":""},{"$f":"IF(D972=\"\",\" \",'Main page'!$F$21-(D972))","v":" "},{"$f":"IF(D972=\"\",\" \",VLOOKUP(R972,'Main page'!$E$29:'Main page'!$G$41,3,TRUE))","v":" "}]
[null,null,null,null,null,null,null,null,null,null,null,null," "," "," "," ",{"$f":"IF(I973=\"\",\"\",IF(I973<='Main page'!$F$49,\"Core staff\",\"Senior staff\"))","v":""},{"$f":"IF(D973=\"\",\" \",'Main page'!$F$21-(D973))","v":" "},{"$f":"IF(D973=\"\",\" \",VLOOKUP(R973,'Main page'!$E$29:'Main page'!$G$41,3,TRUE))","v":" "}]
[null,null,null,null,null,null,null,null,null,null,null,null,{"$f":"IFERROR(J974/G974,\" \")","v":" "},{"$f":"IFERROR((M974/$U$4)/H974,\" \")","v":" "},{"$f":"IFERROR((N974*75)*26.083,\" \")","v":" "},{"$f":"IF(G974=0,\" \",IF(G974=1,\"Full time\",\"Part time\"))","v":" "},{"$f":"IF(I974=\"\",\"\",IF(I974<='Main page'!$F$49,\"Core staff\",\"Senior staff\"))","v":""},{"$f":"IF(D974=\"\",\" \",'Main page'!$F$21-(D974))","v":" "},{"$f":"IF(D974=\"\",\" \",VLOOKUP(R974,'Main page'!$E$29:'Main page'!$G$41,3,TRUE))","v":" "}]
[null,null,null,null,null,null,null,null,null,null,null,null," "," "," "," ",{"$f":"IF(I975=\"\",\"\",IF(I975<='Main page'!$F$49,\"Core staff\",\"Senior staff\"))","v":""},{"$f":"IF(D975=\"\",\" \",'Main page'!$F$21-(D975))","v":" "},{"$f":"IF(D975=\"\",\" \",VLOOKUP(R975,'Main page'!$E$29:'Main page'!$G$41,3,TRUE))","v":" "}]
[null,null,null,null,null,null,null,null,null,null,null,null," "," "," "," ",{"$f":"IF(I976=\"\",\"\",IF(I976<='Main page'!$F$49,\"Core staff\",\"Senior staff\"))","v":""},{"$f":"IF(D976=\"\",\" \",'Main page'!$F$21-(D976))","v":" "},{"$f":"IF(D976=\"\",\" \",VLOOKUP(R976,'Main page'!$E$29:'Main page'!$G$41,3,TRUE))","v":" "}]
[null,null,null,null,null,null,null,null,null,null,null,null," "," "," "," ",{"$f":"IF(I977=\"\",\"\",IF(I977<='Main page'!$F$49,\"Core staff\",\"Senior staff\"))","v":""},{"$f":"IF(D977=\"\",\" \",'Main page'!$F$21-(D977))","v":" "},{"$f":"IF(D977=\"\",\" \",VLOOKUP(R977,'Main page'!$E$29:'Main page'!$G$41,3,TRUE))","v":" "}]
[null,null,null,null,null,null,null,null,null,null,null,null," "," "," "," ",{"$f":"IF(I978=\"\",\"\",IF(I978<='Main page'!$F$49,\"Core staff\",\"Senior staff\"))","v":""},{"$f":"IF(D978=\"\",\" \",'Main page'!$F$21-(D978))","v":" "},{"$f":"IF(D978=\"\",\" \",VLOOKUP(R978,'Main page'!$E$29:'Main page'!$G$41,3,TRUE))","v":" "}]
[null,null,null,null,null,null,null,null,null,null,null,null," "," "," "," ",{"$f":"IF(I979=\"\",\"\",IF(I979<='Main page'!$F$49,\"Core staff\",\"Senior staff\"))","v":""},{"$f":"IF(D979=\"\",\" \",'Main page'!$F$21-(D979))","v":" "},{"$f":"IF(D979=\"\",\" \",VLOOKUP(R979,'Main page'!$E$29:'Main page'!$G$41,3,TRUE))","v":" "}]
[null,null,null,null,null,null,null,null,null,null,null,null," "," "," "," ",{"$f":"IF(I980=\"\",\"\",IF(I980<='Main page'!$F$49,\"Core staff\",\"Senior staff\"))","v":""},{"$f":"IF(D980=\"\",\" \",'Main page'!$F$21-(D980))","v":" "},{"$f":"IF(D980=\"\",\" \",VLOOKUP(R980,'Main page'!$E$29:'Main page'!$G$41,3,TRUE))","v":" "}]
[null,null,null,null,null,null,null,null,null,null,null,null," "," "," "," ",{"$f":"IF(I981=\"\",\"\",IF(I981<='Main page'!$F$49,\"Core staff\",\"Senior staff\"))","v":""},{"$f":"IF(D981=\"\",\" \",'Main page'!$F$21-(D981))","v":" "},{"$f":"IF(D981=\"\",\" \",VLOOKUP(R981,'Main page'!$E$29:'Main page'!$G$41,3,TRUE))","v":" "}]
[null,null,null,null,null,null,null,null,null,null,null,null," "," "," "," ",{"$f":"IF(I982=\"\",\"\",IF(I982<='Main page'!$F$49,\"Core staff\",\"Senior staff\"))","v":""},{"$f":"IF(D982=\"\",\" \",'Main page'!$F$21-(D982))","v":" "},{"$f":"IF(D982=\"\",\" \",VLOOKUP(R982,'Main page'!$E$29:'Main page'!$G$41,3,TRUE))","v":" "}]
[null,null,null,null,null,null,null,null,null,null,null,null," "," "," "," ",{"$f":"IF(I983=\"\",\"\",IF(I983<='Main page'!$F$49,\"Core staff\",\"Senior staff\"))","v":""},{"$f":"IF(D983=\"\",\" \",'Main page'!$F$21-(D983))","v":" "},{"$f":"IF(D983=\"\",\" \",VLOOKUP(R983,'Main page'!$E$29:'Main page'!$G$41,3,TRUE))","v":" "}]
[null,null,null,null,null,null,null,null,null,null,null,null," "," "," "," ",{"$f":"IF(I984=\"\",\"\",IF(I984<='Main page'!$F$49,\"Core staff\",\"Senior staff\"))","v":""},{"$f":"IF(D984=\"\",\" \",'Main page'!$F$21-(D984))","v":" "},{"$f":"IF(D984=\"\",\" \",VLOOKUP(R984,'Main page'!$E$29:'Main page'!$G$41,3,TRUE))","v":" "}]
[null,null,null,null,null,null,null,null,null,null,null,null," "," "," "," ",{"$f":"IF(I985=\"\",\"\",IF(I985<='Main page'!$F$49,\"Core staff\",\"Senior staff\"))","v":""},{"$f":"IF(D985=\"\",\" \",'Main page'!$F$21-(D985))","v":" "},{"$f":"IF(D985=\"\",\" \",VLOOKUP(R985,'Main page'!$E$29:'Main page'!$G$41,3,TRUE))","v":" "}]
[null,null,null,null,null,null,null,null,null,null,null,null," "," "," "," ",{"$f":"IF(I986=\"\",\"\",IF(I986<='Main page'!$F$49,\"Core staff\",\"Senior staff\"))","v":""},{"$f":"IF(D986=\"\",\" \",'Main page'!$F$21-(D986))","v":" "},{"$f":"IF(D986=\"\",\" \",VLOOKUP(R986,'Main page'!$E$29:'Main page'!$G$41,3,TRUE))","v":" "}]
[null,null,null,null,null,null,null,null,null,null,null,null," "," "," "," ",{"$f":"IF(I987=\"\",\"\",IF(I987<='Main page'!$F$49,\"Core staff\",\"Senior staff\"))","v":""},{"$f":"IF(D987=\"\",\" \",'Main page'!$F$21-(D987))","v":" "},{"$f":"IF(D987=\"\",\" \",VLOOKUP(R987,'Main page'!$E$29:'Main page'!$G$41,3,TRUE))","v":" "}]
[null,null,null,null,null,null,null,null,null,null,null,null," "," "," "," ",{"$f":"IF(I988=\"\",\"\",IF(I988<='Main page'!$F$49,\"Core staff\",\"Senior staff\"))","v":""},{"$f":"IF(D988=\"\",\" \",'Main page'!$F$21-(D988))","v":" "},{"$f":"IF(D988=\"\",\" \",VLOOKUP(R988,'Main page'!$E$29:'Main page'!$G$41,3,TRUE))","v":" "}]
[null,null,null,null,null,null,null,null,null,null,null,null," "," "," "," ",{"$f":"IF(I989=\"\",\"\",IF(I989<='Main page'!$F$49,\"Core staff\",\"Senior staff\"))","v":""},{"$f":"IF(D989=\"\",\" \",'Main page'!$F$21-(D989))","v":" "},{"$f":"IF(D989=\"\",\" \",VLOOKUP(R989,'Main page'!$E$29:'Main page'!$G$41,3,TRUE))","v":" "}]
[null,null,null,null,null,null,null,null,null,null,null,null," "," "," "," ",{"$f":"IF(I990=\"\",\"\",IF(I990<='Main page'!$F$49,\"Core staff\",\"Senior staff\"))","v":""},{"$f":"IF(D990=\"\",\" \",'Main page'!$F$21-(D990))","v":" "},{"$f":"IF(D990=\"\",\" \",VLOOKUP(R990,'Main page'!$E$29:'Main page'!$G$41,3,TRUE))","v":" "}]
[null,null,null,null,null,null,null,null,null,null,null,null," "," "," "," ",{"$f":"IF(I991=\"\",\"\",IF(I991<='Main page'!$F$49,\"Core staff\",\"Senior staff\"))","v":""},{"$f":"IF(D991=\"\",\" \",'Main page'!$F$21-(D991))","v":" "},{"$f":"IF(D991=\"\",\" \",VLOOKUP(R991,'Main page'!$E$29:'Main page'!$G$41,3,TRUE))","v":" "}]
[null,null,null,null,null,null,null,null,null,null,null,null," "," "," "," ",{"$f":"IF(I992=\"\",\"\",IF(I992<='Main page'!$F$49,\"Core staff\",\"Senior staff\"))","v":""},{"$f":"IF(D992=\"\",\" \",'Main page'!$F$21-(D992))","v":" "},{"$f":"IF(D992=\"\",\" \",VLOOKUP(R992,'Main page'!$E$29:'Main page'!$G$41,3,TRUE))","v":" "}]
[null,null,null,null,null,null,null,null,null,null,null,null," "," "," "," ",{"$f":"IF(I993=\"\",\"\",IF(I993<='Main page'!$F$49,\"Core staff\",\"Senior staff\"))","v":""},{"$f":"IF(D993=\"\",\" \",'Main page'!$F$21-(D993))","v":" "},{"$f":"IF(D993=\"\",\" \",VLOOKUP(R993,'Main page'!$E$29:'Main page'!$G$41,3,TRUE))","v":" "}]
[null,null,null,null,null,null,null,null,null,null,null,null," "," "," "," ",{"$f":"IF(I994=\"\",\"\",IF(I994<='Main page'!$F$49,\"Core staff\",\"Senior staff\"))","v":""},{"$f":"IF(D994=\"\",\" \",'Main page'!$F$21-(D994))","v":" "},{"$f":"IF(D994=\"\",\" \",VLOOKUP(R994,'Main page'!$E$29:'Main page'!$G$41,3,TRUE))","v":" "}]
[null,null,null,null,null,null,null,null,null,null,null,null," "," "," "," ",{"$f":"IF(I995=\"\",\"\",IF(I995<='Main page'!$F$49,\"Core staff\",\"Senior staff\"))","v":""},{"$f":"IF(D995=\"\",\" \",'Main page'!$F$21-(D995))","v":" "},{"$f":"IF(D995=\"\",\" \",VLOOKUP(R995,'Main page'!$E$29:'Main page'!$G$41,3,TRUE))","v":" "}]
[null,null,null,null,null,null,null,null,null,null,null,null," "," "," "," ",{"$f":"IF(I996=\"\",\"\",IF(I996<='Main page'!$F$49,\"Core staff\",\"Senior staff\"))","v":""},{"$f":"IF(D996=\"\",\" \",'Main page'!$F$21-(D996))","v":" "},{"$f":"IF(D996=\"\",\" \",VLOOKUP(R996,'Main page'!$E$29:'Main page'!$G$41,3,TRUE))","v":" "}]
[null,null,null,null,null,null,null,null,null,null,null,null," "," "," "," ",{"$f":"IF(I997=\"\",\"\",IF(I997<='Main page'!$F$49,\"Core staff\",\"Senior staff\"))","v":""},{"$f":"IF(D997=\"\",\" \",'Main page'!$F$21-(D997))","v":" "},{"$f":"IF(D997=\"\",\" \",VLOOKUP(R997,'Main page'!$E$29:'Main page'!$G$41,3,TRUE))","v":" "}]
[null,null,null,null,null,null,null,null,null,null,null,null," "," "," "," ",{"$f":"IF(I998=\"\",\"\",IF(I998<='Main page'!$F$49,\"Core staff\",\"Senior staff\"))","v":""},{"$f":"IF(D998=\"\",\" \",'Main page'!$F$21-(D998))","v":" "},{"$f":"IF(D998=\"\",\" \",VLOOKUP(R998,'Main page'!$E$29:'Main page'!$G$41,3,TRUE))","v":" "}]
[null,null,null,null,null,null,null,null,null,null,null,null," "," "," "," ",{"$f":"IF(I999=\"\",\"\",IF(I999<='Main page'!$F$49,\"Core staff\",\"Senior staff\"))","v":""},{"$f":"IF(D999=\"\",\" \",'Main page'!$F$21-(D999))","v":" "},{"$f":"IF(D999=\"\",\" \",VLOOKUP(R999,'Main page'!$E$29:'Main page'!$G$41,3,TRUE))","v":" "}]
[null,null,null,null,null,null,null,null,null,null,null,null," "," "," "," ",{"$f":"IF(I1000=\"\",\"\",IF(I1000<='Main page'!$F$49,\"Core staff\",\"Senior staff\"))","v":""},{"$f":"IF(D1000=\"\",\" \",'Main page'!$F$21-(D1000))","v":" "},{"$f":"IF(D1000=\"\",\" \",VLOOKUP(R1000,'Main page'!$E$29:'Main page'!$G$41,3,TRUE))","v":" "}]
[null,null,null,null,null,null,null,null,null,null,null,null," "," "," "," ",{"$f":"IF(I1001=\"\",\"\",IF(I1001<='Main page'!$F$49,\"Core staff\",\"Senior staff\"))","v":""},{"$f":"IF(D1001=\"\",\" \",'Main page'!$F$21-(D1001))","v":" "},{"$f":"IF(D1001=\"\",\" \",VLOOKUP(R1001,'Main page'!$E$29:'Main page'!$G$41,3,TRUE))","v":" "}]
[null,null,null,null,null,null,null,null,null,null,null,null," "," "," "," ",{"$f":"IF(I1002=\"\",\"\",IF(I1002<='Main page'!$F$49,\"Core staff\",\"Senior staff\"))","v":""},{"$f":"IF(D1002=\"\",\" \",'Main page'!$F$21-(D1002))","v":" "},{"$f":"IF(D1002=\"\",\" \",VLOOKUP(R1002,'Main page'!$E$29:'Main page'!$G$41,3,TRUE))","v":" "}]
[null,null,null,null,null,null,null,null,null,null,null,null," "," "," "," ",{"$f":"IF(I1003=\"\",\"\",IF(I1003<='Main page'!$F$49,\"Core staff\",\"Senior staff\"))","v":""},{"$f":"IF(D1003=\"\",\" \",'Main page'!$F$21-(D1003))","v":" "},{"$f":"IF(D1003=\"\",\" \",VLOOKUP(R1003,'Main page'!$E$29:'Main page'!$G$41,3,TRUE))","v":" "}]
[null,null,null,null,null,null,null,null,null,null,null,null," "," "," "," ",{"$f":"IF(I1004=\"\",\"\",IF(I1004<='Main page'!$F$49,\"Core staff\",\"Senior staff\"))","v":""},{"$f":"IF(D1004=\"\",\" \",'Main page'!$F$21-(D1004))","v":" "},{"$f":"IF(D1004=\"\",\" \",VLOOKUP(R1004,'Main page'!$E$29:'Main page'!$G$41,3,TRUE))","v":" "}]
[null,null,null,null,null,null,null,null,null,null,null,null," "," "," "," ",{"$f":"IF(I1005=\"\",\"\",IF(I1005<='Main page'!$F$49,\"Core staff\",\"Senior staff\"))","v":""},{"$f":"IF(D1005=\"\",\" \",'Main page'!$F$21-(D1005))","v":" "},{"$f":"IF(D1005=\"\",\" \",VLOOKUP(R1005,'Main page'!$E$29:'Main page'!$G$41,3,TRUE))","v":" "}]
[null,null,null,null,null,null,null,null,null,null,null,null," "," "," "," ",{"$f":"IF(I1006=\"\",\"\",IF(I1006<='Main page'!$F$49,\"Core staff\",\"Senior staff\"))","v":""},{"$f":"IF(D1006=\"\",\" \",'Main page'!$F$21-(D1006))","v":" "},{"$f":"IF(D1006=\"\",\" \",VLOOKUP(R1006,'Main page'!$E$29:'Main page'!$G$41,3,TRUE))","v":" "}]
[null,null,null,null,null,null,null,null,null,null,null,null," "," "," "," ",{"$f":"IF(I1007=\"\",\"\",IF(I1007<='Main page'!$F$49,\"Core staff\",\"Senior staff\"))","v":""},{"$f":"IF(D1007=\"\",\" \",'Main page'!$F$21-(D1007))","v":" "},{"$f":"IF(D1007=\"\",\" \",VLOOKUP(R1007,'Main page'!$E$29:'Main page'!$G$41,3,TRUE))","v":" "}]
[null,null,null,null,null,null,null,null,null,null,null,null," "," "," "," ",{"$f":"IF(I1008=\"\",\"\",IF(I1008<='Main page'!$F$49,\"Core staff\",\"Senior staff\"))","v":""},{"$f":"IF(D1008=\"\",\" \",'Main page'!$F$21-(D1008))","v":" "},{"$f":"IF(D1008=\"\",\" \",VLOOKUP(R1008,'Main page'!$E$29:'Main page'!$G$41,3,TRUE))","v":" "}]
[null,null,null,null,null,null,null,null,null,null,null,null," "," "," "," ",{"$f":"IF(I1009=\"\",\"\",IF(I1009<='Main page'!$F$49,\"Core staff\",\"Senior staff\"))","v":""},{"$f":"IF(D1009=\"\",\" \",'Main page'!$F$21-(D1009))","v":" "},{"$f":"IF(D1009=\"\",\" \",VLOOKUP(R1009,'Main page'!$E$29:'Main page'!$G$41,3,TRUE))","v":" "}]
[null,null,null,null,null,null,null,null,null,null,null,null," "," "," "," ",{"$f":"IF(I1010=\"\",\"\",IF(I1010<='Main page'!$F$49,\"Core staff\",\"Senior staff\"))","v":""},{"$f":"IF(D1010=\"\",\" \",'Main page'!$F$21-(D1010))","v":" "},{"$f":"IF(D1010=\"\",\" \",VLOOKUP(R1010,'Main page'!$E$29:'Main page'!$G$41,3,TRUE))","v":" "}]
[null,null,null,null,null,null,null,null,null,null,null,null," "," "," "," ",{"$f":"IF(I1011=\"\",\"\",IF(I1011<='Main page'!$F$49,\"Core staff\",\"Senior staff\"))","v":""},{"$f":"IF(D1011=\"\",\" \",'Main page'!$F$21-(D1011))","v":" "},{"$f":"IF(D1011=\"\",\" \",VLOOKUP(R1011,'Main page'!$E$29:'Main page'!$G$41,3,TRUE))","v":" "}]
[null,null,null,null,null,null,null,null,null,null,null,null," "," "," "," ",{"$f":"IF(I1012=\"\",\"\",IF(I1012<='Main page'!$F$49,\"Core staff\",\"Senior staff\"))","v":""},{"$f":"IF(D1012=\"\",\" \",'Main page'!$F$21-(D1012))","v":" "},{"$f":"IF(D1012=\"\",\" \",VLOOKUP(R1012,'Main page'!$E$29:'Main page'!$G$41,3,TRUE))","v":" "}]
[null,null,null,null,null,null,null,null,null,null,null,null," "," "," "," ",{"$f":"IF(I1013=\"\",\"\",IF(I1013<='Main page'!$F$49,\"Core staff\",\"Senior staff\"))","v":""},{"$f":"IF(D1013=\"\",\" \",'Main page'!$F$21-(D1013))","v":" "},{"$f":"IF(D1013=\"\",\" \",VLOOKUP(R1013,'Main page'!$E$29:'Main page'!$G$41,3,TRUE))","v":" "}]
[null,null,null,null,null,null,null,null,null,null,null,null," "," "," "," ",{"$f":"IF(I1014=\"\",\"\",IF(I1014<='Main page'!$F$49,\"Core staff\",\"Senior staff\"))","v":""},{"$f":"IF(D1014=\"\",\" \",'Main page'!$F$21-(D1014))","v":" "},{"$f":"IF(D1014=\"\",\" \",VLOOKUP(R1014,'Main page'!$E$29:'Main page'!$G$41,3,TRUE))","v":" "}]
[null,null,null,null,null,null,null,null,null,null,null,null," "," "," "," ",{"$f":"IF(I1015=\"\",\"\",IF(I1015<='Main page'!$F$49,\"Core staff\",\"Senior staff\"))","v":""},{"$f":"IF(D1015=\"\",\" \",'Main page'!$F$21-(D1015))","v":" "},{"$f":"IF(D1015=\"\",\" \",VLOOKUP(R1015,'Main page'!$E$29:'Main page'!$G$41,3,TRUE))","v":" "}]
[null,null,null,null,null,null,null,null,null,null,null,null," "," "," "," ",{"$f":"IF(I1016=\"\",\"\",IF(I1016<='Main page'!$F$49,\"Core staff\",\"Senior staff\"))","v":""},{"$f":"IF(D1016=\"\",\" \",'Main page'!$F$21-(D1016))","v":" "},{"$f":"IF(D1016=\"\",\" \",VLOOKUP(R1016,'Main page'!$E$29:'Main page'!$G$41,3,TRUE))","v":" "}]
[null,null,null,null,null,null,null,null,null,null,null,null," "," "," "," ",{"$f":"IF(I1017=\"\",\"\",IF(I1017<='Main page'!$F$49,\"Core staff\",\"Senior staff\"))","v":""},{"$f":"IF(D1017=\"\",\" \",'Main page'!$F$21-(D1017))","v":" "},{"$f":"IF(D1017=\"\",\" \",VLOOKUP(R1017,'Main page'!$E$29:'Main page'!$G$41,3,TRUE))","v":" "}]
[null,null,null,null,null,null,null,null,null,null,null,null," "," "," "," ",{"$f":"IF(I1018=\"\",\"\",IF(I1018<='Main page'!$F$49,\"Core staff\",\"Senior staff\"))","v":""},{"$f":"IF(D1018=\"\",\" \",'Main page'!$F$21-(D1018))","v":" "},{"$f":"IF(D1018=\"\",\" \",VLOOKUP(R1018,'Main page'!$E$29:'Main page'!$G$41,3,TRUE))","v":" "}]
[null,null,null,null,null,null,null,null,null,null,null,null," "," "," "," ",{"$f":"IF(I1019=\"\",\"\",IF(I1019<='Main page'!$F$49,\"Core staff\",\"Senior staff\"))","v":""},{"$f":"IF(D1019=\"\",\" \",'Main page'!$F$21-(D1019))","v":" "},{"$f":"IF(D1019=\"\",\" \",VLOOKUP(R1019,'Main page'!$E$29:'Main page'!$G$41,3,TRUE))","v":" "}]
[null,null,null,null,null,null,null,null,null,null,null,null," "," "," "," ",{"$f":"IF(I1020=\"\",\"\",IF(I1020<='Main page'!$F$49,\"Core staff\",\"Senior staff\"))","v":""},{"$f":"IF(D1020=\"\",\" \",'Main page'!$F$21-(D1020))","v":" "},{"$f":"IF(D1020=\"\",\" \",VLOOKUP(R1020,'Main page'!$E$29:'Main page'!$G$41,3,TRUE))","v":" "}]
[null,null,null,null,null,null,null,null,null,null,null,null," "," "," "," ",{"$f":"IF(I1021=\"\",\"\",IF(I1021<='Main page'!$F$49,\"Core staff\",\"Senior staff\"))","v":""},{"$f":"IF(D1021=\"\",\" \",'Main page'!$F$21-(D1021))","v":" "},{"$f":"IF(D1021=\"\",\" \",VLOOKUP(R1021,'Main page'!$E$29:'Main page'!$G$41,3,TRUE))","v":" "}]
[null,null,null,null,null,null,null,null,null,null,null,null," "," "," "," ",{"$f":"IF(I1022=\"\",\"\",IF(I1022<='Main page'!$F$49,\"Core staff\",\"Senior staff\"))","v":""},{"$f":"IF(D1022=\"\",\" \",'Main page'!$F$21-(D1022))","v":" "},{"$f":"IF(D1022=\"\",\" \",VLOOKUP(R1022,'Main page'!$E$29:'Main page'!$G$41,3,TRUE))","v":" "}]
[null,null,null,null,null,null,null,null,null,null,null,null," "," "," "," ",{"$f":"IF(I1023=\"\",\"\",IF(I1023<='Main page'!$F$49,\"Core staff\",\"Senior staff\"))","v":""},{"$f":"IF(D1023=\"\",\" \",'Main page'!$F$21-(D1023))","v":" "},{"$f":"IF(D1023=\"\",\" \",VLOOKUP(R1023,'Main page'!$E$29:'Main page'!$G$41,3,TRUE))","v":" "}]
[null,null,null,null,null,null,null,null,null,null,null,null," "," "," "," ",{"$f":"IF(I1024=\"\",\"\",IF(I1024<='Main page'!$F$49,\"Core staff\",\"Senior staff\"))","v":""},{"$f":"IF(D1024=\"\",\" \",'Main page'!$F$21-(D1024))","v":" "},{"$f":"IF(D1024=\"\",\" \",VLOOKUP(R1024,'Main page'!$E$29:'Main page'!$G$41,3,TRUE))","v":" "}]
[null,null,null,null,null,null,null,null,null,null,null,null," "," "," "," ",{"$f":"IF(I1025=\"\",\"\",IF(I1025<='Main page'!$F$49,\"Core staff\",\"Senior staff\"))","v":""},{"$f":"IF(D1025=\"\",\" \",'Main page'!$F$21-(D1025))","v":" "},{"$f":"IF(D1025=\"\",\" \",VLOOKUP(R1025,'Main page'!$E$29:'Main page'!$G$41,3,TRUE))","v":" "}]
[null,null,null,null,null,null,null,null,null,null,null,null," "," "," "," ",{"$f":"IF(I1026=\"\",\"\",IF(I1026<='Main page'!$F$49,\"Core staff\",\"Senior staff\"))","v":""},{"$f":"IF(D1026=\"\",\" \",'Main page'!$F$21-(D1026))","v":" "},{"$f":"IF(D1026=\"\",\" \",VLOOKUP(R1026,'Main page'!$E$29:'Main page'!$G$41,3,TRUE))","v":" "}]
[null,null,null,null,null,null,null,null,null,null,null,null," "," "," "," ",{"$f":"IF(I1027=\"\",\"\",IF(I1027<='Main page'!$F$49,\"Core staff\",\"Senior staff\"))","v":""},{"$f":"IF(D1027=\"\",\" \",'Main page'!$F$21-(D1027))","v":" "},{"$f":"IF(D1027=\"\",\" \",VLOOKUP(R1027,'Main page'!$E$29:'Main page'!$G$41,3,TRUE))","v":" "}]
[null,null,null,null,null,null,null,null,null,null,null,null," "," "," "," ",{"$f":"IF(I1028=\"\",\"\",IF(I1028<='Main page'!$F$49,\"Core staff\",\"Senior staff\"))","v":""},{"$f":"IF(D1028=\"\",\" \",'Main page'!$F$21-(D1028))","v":" "},{"$f":"IF(D1028=\"\",\" \",VLOOKUP(R1028,'Main page'!$E$29:'Main page'!$G$41,3,TRUE))","v":" "}]
[null,null,null,null,null,null,null,null,null,null,null,null," "," "," "," ",{"$f":"IF(I1029=\"\",\"\",IF(I1029<='Main page'!$F$49,\"Core staff\",\"Senior staff\"))","v":""},{"$f":"IF(D1029=\"\",\" \",'Main page'!$F$21-(D1029))","v":" "},{"$f":"IF(D1029=\"\",\" \",VLOOKUP(R1029,'Main page'!$E$29:'Main page'!$G$41,3,TRUE))","v":" "}]
[null,null,null,null,null,null,null,null,null,null,null,null," "," "," "," ",{"$f":"IF(I1030=\"\",\"\",IF(I1030<='Main page'!$F$49,\"Core staff\",\"Senior staff\"))","v":""},{"$f":"IF(D1030=\"\",\" \",'Main page'!$F$21-(D1030))","v":" "},{"$f":"IF(D1030=\"\",\" \",VLOOKUP(R1030,'Main page'!$E$29:'Main page'!$G$41,3,TRUE))","v":" "}]
[null,null,null,null,null,null,null,null,null,null,null,null," "," "," "," ",{"$f":"IF(I1031=\"\",\"\",IF(I1031<='Main page'!$F$49,\"Core staff\",\"Senior staff\"))","v":""},{"$f":"IF(D1031=\"\",\" \",'Main page'!$F$21-(D1031))","v":" "},{"$f":"IF(D1031=\"\",\" \",VLOOKUP(R1031,'Main page'!$E$29:'Main page'!$G$41,3,TRUE))","v":" "}]
[null,null,null,null,null,null,null,null,null,null,null,null," "," "," "," ",{"$f":"IF(I1032=\"\",\"\",IF(I1032<='Main page'!$F$49,\"Core staff\",\"Senior staff\"))","v":""},{"$f":"IF(D1032=\"\",\" \",'Main page'!$F$21-(D1032))","v":" "},{"$f":"IF(D1032=\"\",\" \",VLOOKUP(R1032,'Main page'!$E$29:'Main page'!$G$41,3,TRUE))","v":" "}]
[null,null,null,null,null,null,null,null,null,null,null,null," "," "," "," ",{"$f":"IF(I1033=\"\",\"\",IF(I1033<='Main page'!$F$49,\"Core staff\",\"Senior staff\"))","v":""},{"$f":"IF(D1033=\"\",\" \",'Main page'!$F$21-(D1033))","v":" "},{"$f":"IF(D1033=\"\",\" \",VLOOKUP(R1033,'Main page'!$E$29:'Main page'!$G$41,3,TRUE))","v":" "}]
[null,null,null,null,null,null,null,null,null,null,null,null," "," "," "," ",{"$f":"IF(I1034=\"\",\"\",IF(I1034<='Main page'!$F$49,\"Core staff\",\"Senior staff\"))","v":""},{"$f":"IF(D1034=\"\",\" \",'Main page'!$F$21-(D1034))","v":" "},{"$f":"IF(D1034=\"\",\" \",VLOOKUP(R1034,'Main page'!$E$29:'Main page'!$G$41,3,TRUE))","v":" "}]
[null,null,null,null,null,null,null,null,null,null,null,null," "," "," "," ",{"$f":"IF(I1035=\"\",\"\",IF(I1035<='Main page'!$F$49,\"Core staff\",\"Senior staff\"))","v":""},{"$f":"IF(D1035=\"\",\" \",'Main page'!$F$21-(D1035))","v":" "},{"$f":"IF(D1035=\"\",\" \",VLOOKUP(R1035,'Main page'!$E$29:'Main page'!$G$41,3,TRUE))","v":" "}]
[null,null,null,null,null,null,null,null,null,null,null,null," "," "," "," ",{"$f":"IF(I1036=\"\",\"\",IF(I1036<='Main page'!$F$49,\"Core staff\",\"Senior staff\"))","v":""},{"$f":"IF(D1036=\"\",\" \",'Main page'!$F$21-(D1036))","v":" "},{"$f":"IF(D1036=\"\",\" \",VLOOKUP(R1036,'Main page'!$E$29:'Main page'!$G$41,3,TRUE))","v":" "}]
[null,null,null,null,null,null,null,null,null,null,null,null," "," "," "," ",{"$f":"IF(I1037=\"\",\"\",IF(I1037<='Main page'!$F$49,\"Core staff\",\"Senior staff\"))","v":""},{"$f":"IF(D1037=\"\",\" \",'Main page'!$F$21-(D1037))","v":" "},{"$f":"IF(D1037=\"\",\" \",VLOOKUP(R1037,'Main page'!$E$29:'Main page'!$G$41,3,TRUE))","v":" "}]
[null,null,null,null,null,null,null,null,null,null,null,null,{"$f":"IFERROR(J1038/G1038,\" \")","v":" "},{"$f":"IFERROR((M1038/$U$4)/H1038,\" \")","v":" "},{"$f":"IFERROR((N1038*75)*26.083,\" \")","v":" "},{"$f":"IF(G1038=0,\" \",IF(G1038=1,\"Full time\",\"Part time\"))","v":" "},{"$f":"IF(I1038=\"\",\"\",IF(I1038<='Main page'!$F$49,\"Core staff\",\"Senior staff\"))","v":""},{"$f":"IF(D1038=\"\",\" \",'Main page'!$F$21-(D1038))","v":" "},{"$f":"IF(D1038=\"\",\" \",VLOOKUP(R1038,'Main page'!$E$29:'Main page'!$G$41,3,TRUE))","v":" "}]
[null,null,null,null,null,null,null,null,null,null,null,null," "," "," "," ",{"$f":"IF(I1039=\"\",\"\",IF(I1039<='Main page'!$F$49,\"Core staff\",\"Senior staff\"))","v":""},{"$f":"IF(D1039=\"\",\" \",'Main page'!$F$21-(D1039))","v":" "},{"$f":"IF(D1039=\"\",\" \",VLOOKUP(R1039,'Main page'!$E$29:'Main page'!$G$41,3,TRUE))","v":" "}]
[null,null,null,null,null,null,null,null,null,null,null,null," "," "," "," ",{"$f":"IF(I1040=\"\",\"\",IF(I1040<='Main page'!$F$49,\"Core staff\",\"Senior staff\"))","v":""},{"$f":"IF(D1040=\"\",\" \",'Main page'!$F$21-(D1040))","v":" "},{"$f":"IF(D1040=\"\",\" \",VLOOKUP(R1040,'Main page'!$E$29:'Main page'!$G$41,3,TRUE))","v":" "}]
[null,null,null,null,null,null,null,null,null,null,null,null," "," "," "," ",{"$f":"IF(I1041=\"\",\"\",IF(I1041<='Main page'!$F$49,\"Core staff\",\"Senior staff\"))","v":""},{"$f":"IF(D1041=\"\",\" \",'Main page'!$F$21-(D1041))","v":" "},{"$f":"IF(D1041=\"\",\" \",VLOOKUP(R1041,'Main page'!$E$29:'Main page'!$G$41,3,TRUE))","v":" "}]
[null,null,null,null,null,null,null,null,null,null,null,null," "," "," "," ",{"$f":"IF(I1042=\"\",\"\",IF(I1042<='Main page'!$F$49,\"Core staff\",\"Senior staff\"))","v":""},{"$f":"IF(D1042=\"\",\" \",'Main page'!$F$21-(D1042))","v":" "},{"$f":"IF(D1042=\"\",\" \",VLOOKUP(R1042,'Main page'!$E$29:'Main page'!$G$41,3,TRUE))","v":" "}]
[null,null,null,null,null,null,null,null,null,null,null,null," "," "," "," ",{"$f":"IF(I1043=\"\",\"\",IF(I1043<='Main page'!$F$49,\"Core staff\",\"Senior staff\"))","v":""},{"$f":"IF(D1043=\"\",\" \",'Main page'!$F$21-(D1043))","v":" "},{"$f":"IF(D1043=\"\",\" \",VLOOKUP(R1043,'Main page'!$E$29:'Main page'!$G$41,3,TRUE))","v":" "}]
[null,null,null,null,null,null,null,null,null,null,null,null," "," "," "," ",{"$f":"IF(I1044=\"\",\"\",IF(I1044<='Main page'!$F$49,\"Core staff\",\"Senior staff\"))","v":""},{"$f":"IF(D1044=\"\",\" \",'Main page'!$F$21-(D1044))","v":" "},{"$f":"IF(D1044=\"\",\" \",VLOOKUP(R1044,'Main page'!$E$29:'Main page'!$G$41,3,TRUE))","v":" "}]
[null,null,null,null,null,null,null,null,null,null,null,null," "," "," "," ",{"$f":"IF(I1045=\"\",\"\",IF(I1045<='Main page'!$F$49,\"Core staff\",\"Senior staff\"))","v":""},{"$f":"IF(D1045=\"\",\" \",'Main page'!$F$21-(D1045))","v":" "},{"$f":"IF(D1045=\"\",\" \",VLOOKUP(R1045,'Main page'!$E$29:'Main page'!$G$41,3,TRUE))","v":" "}]
[null,null,null,null,null,null,null,null,null,null,null,null," "," "," "," ",{"$f":"IF(I1046=\"\",\"\",IF(I1046<='Main page'!$F$49,\"Core staff\",\"Senior staff\"))","v":""},{"$f":"IF(D1046=\"\",\" \",'Main page'!$F$21-(D1046))","v":" "},{"$f":"IF(D1046=\"\",\" \",VLOOKUP(R1046,'Main page'!$E$29:'Main page'!$G$41,3,TRUE))","v":" "}]
[null,null,null,null,null,null,null,null,null,null,null,null," "," "," "," ",{"$f":"IF(I1047=\"\",\"\",IF(I1047<='Main page'!$F$49,\"Core staff\",\"Senior staff\"))","v":""},{"$f":"IF(D1047=\"\",\" \",'Main page'!$F$21-(D1047))","v":" "},{"$f":"IF(D1047=\"\",\" \",VLOOKUP(R1047,'Main page'!$E$29:'Main page'!$G$41,3,TRUE))","v":" "}]
[null,null,null,null,null,null,null,null,null,null,null,null," "," "," "," ",{"$f":"IF(I1048=\"\",\"\",IF(I1048<='Main page'!$F$49,\"Core staff\",\"Senior staff\"))","v":""},{"$f":"IF(D1048=\"\",\" \",'Main page'!$F$21-(D1048))","v":" "},{"$f":"IF(D1048=\"\",\" \",VLOOKUP(R1048,'Main page'!$E$29:'Main page'!$G$41,3,TRUE))","v":" "}]
[null,null,null,null,null,null,null,null,null,null,null,null," "," "," "," ",{"$f":"IF(I1049=\"\",\"\",IF(I1049<='Main page'!$F$49,\"Core staff\",\"Senior staff\"))","v":""},{"$f":"IF(D1049=\"\",\" \",'Main page'!$F$21-(D1049))","v":" "},{"$f":"IF(D1049=\"\",\" \",VLOOKUP(R1049,'Main page'!$E$29:'Main page'!$G$41,3,TRUE))","v":" "}]
[null,null,null,null,null,null,null,null,null,null,null,null," "," "," "," ",{"$f":"IF(I1050=\"\",\"\",IF(I1050<='Main page'!$F$49,\"Core staff\",\"Senior staff\"))","v":""},{"$f":"IF(D1050=\"\",\" \",'Main page'!$F$21-(D1050))","v":" "},{"$f":"IF(D1050=\"\",\" \",VLOOKUP(R1050,'Main page'!$E$29:'Main page'!$G$41,3,TRUE))","v":" "}]
[null,null,null,null,null,null,null,null,null,null,null,null," "," "," "," ",{"$f":"IF(I1051=\"\",\"\",IF(I1051<='Main page'!$F$49,\"Core staff\",\"Senior staff\"))","v":""},{"$f":"IF(D1051=\"\",\" \",'Main page'!$F$21-(D1051))","v":" "},{"$f":"IF(D1051=\"\",\" \",VLOOKUP(R1051,'Main page'!$E$29:'Main page'!$G$41,3,TRUE))","v":" "}]
[null,null,null,null,null,null,null,null,null,null,null,null," "," "," "," ",{"$f":"IF(I1052=\"\",\"\",IF(I1052<='Main page'!$F$49,\"Core staff\",\"Senior staff\"))","v":""},{"$f":"IF(D1052=\"\",\" \",'Main page'!$F$21-(D1052))","v":" "},{"$f":"IF(D1052=\"\",\" \",VLOOKUP(R1052,'Main page'!$E$29:'Main page'!$G$41,3,TRUE))","v":" "}]
[null,null,null,null,null,null,null,null,null,null,null,null," "," "," "," ",{"$f":"IF(I1053=\"\",\"\",IF(I1053<='Main page'!$F$49,\"Core staff\",\"Senior staff\"))","v":""},{"$f":"IF(D1053=\"\",\" \",'Main page'!$F$21-(D1053))","v":" "},{"$f":"IF(D1053=\"\",\" \",VLOOKUP(R1053,'Main page'!$E$29:'Main page'!$G$41,3,TRUE))","v":" "}]
[null,null,null,null,null,null,null,null,null,null,null,null," "," "," "," ",{"$f":"IF(I1054=\"\",\"\",IF(I1054<='Main page'!$F$49,\"Core staff\",\"Senior staff\"))","v":""},{"$f":"IF(D1054=\"\",\" \",'Main page'!$F$21-(D1054))","v":" "},{"$f":"IF(D1054=\"\",\" \",VLOOKUP(R1054,'Main page'!$E$29:'Main page'!$G$41,3,TRUE))","v":" "}]
[null,null,null,null,null,null,null,null,null,null,null,null," "," "," "," ",{"$f":"IF(I1055=\"\",\"\",IF(I1055<='Main page'!$F$49,\"Core staff\",\"Senior staff\"))","v":""},{"$f":"IF(D1055=\"\",\" \",'Main page'!$F$21-(D1055))","v":" "},{"$f":"IF(D1055=\"\",\" \",VLOOKUP(R1055,'Main page'!$E$29:'Main page'!$G$41,3,TRUE))","v":" "}]
[null,null,null,null,null,null,null,null,null,null,null,null," "," "," "," ",{"$f":"IF(I1056=\"\",\"\",IF(I1056<='Main page'!$F$49,\"Core staff\",\"Senior staff\"))","v":""},{"$f":"IF(D1056=\"\",\" \",'Main page'!$F$21-(D1056))","v":" "},{"$f":"IF(D1056=\"\",\" \",VLOOKUP(R1056,'Main page'!$E$29:'Main page'!$G$41,3,TRUE))","v":" "}]
[null,null,null,null,null,null,null,null,null,null,null,null," "," "," "," ",{"$f":"IF(I1057=\"\",\"\",IF(I1057<='Main page'!$F$49,\"Core staff\",\"Senior staff\"))","v":""},{"$f":"IF(D1057=\"\",\" \",'Main page'!$F$21-(D1057))","v":" "},{"$f":"IF(D1057=\"\",\" \",VLOOKUP(R1057,'Main page'!$E$29:'Main page'!$G$41,3,TRUE))","v":" "}]
[null,null,null,null,null,null,null,null,null,null,null,null," "," "," "," ",{"$f":"IF(I1058=\"\",\"\",IF(I1058<='Main page'!$F$49,\"Core staff\",\"Senior staff\"))","v":""},{"$f":"IF(D1058=\"\",\" \",'Main page'!$F$21-(D1058))","v":" "},{"$f":"IF(D1058=\"\",\" \",VLOOKUP(R1058,'Main page'!$E$29:'Main page'!$G$41,3,TRUE))","v":" "}]
[null,null,null,null,null,null,null,null,null,null,null,null," "," "," "," ",{"$f":"IF(I1059=\"\",\"\",IF(I1059<='Main page'!$F$49,\"Core staff\",\"Senior staff\"))","v":""},{"$f":"IF(D1059=\"\",\" \",'Main page'!$F$21-(D1059))","v":" "},{"$f":"IF(D1059=\"\",\" \",VLOOKUP(R1059,'Main page'!$E$29:'Main page'!$G$41,3,TRUE))","v":" "}]
[null,null,null,null,null,null,null,null,null,null,null,null," "," "," "," ",{"$f":"IF(I1060=\"\",\"\",IF(I1060<='Main page'!$F$49,\"Core staff\",\"Senior staff\"))","v":""},{"$f":"IF(D1060=\"\",\" \",'Main page'!$F$21-(D1060))","v":" "},{"$f":"IF(D1060=\"\",\" \",VLOOKUP(R1060,'Main page'!$E$29:'Main page'!$G$41,3,TRUE))","v":" "}]
[null,null,null,null,null,null,null,null,null,null,null,null," "," "," "," ",{"$f":"IF(I1061=\"\",\"\",IF(I1061<='Main page'!$F$49,\"Core staff\",\"Senior staff\"))","v":""},{"$f":"IF(D1061=\"\",\" \",'Main page'!$F$21-(D1061))","v":" "},{"$f":"IF(D1061=\"\",\" \",VLOOKUP(R1061,'Main page'!$E$29:'Main page'!$G$41,3,TRUE))","v":" "}]
[null,null,null,null,null,null,null,null,null,null,null,null," "," "," "," ",{"$f":"IF(I1062=\"\",\"\",IF(I1062<='Main page'!$F$49,\"Core staff\",\"Senior staff\"))","v":""},{"$f":"IF(D1062=\"\",\" \",'Main page'!$F$21-(D1062))","v":" "},{"$f":"IF(D1062=\"\",\" \",VLOOKUP(R1062,'Main page'!$E$29:'Main page'!$G$41,3,TRUE))","v":" "}]
[null,null,null,null,null,null,null,null,null,null,null,null," "," "," "," ",{"$f":"IF(I1063=\"\",\"\",IF(I1063<='Main page'!$F$49,\"Core staff\",\"Senior staff\"))","v":""},{"$f":"IF(D1063=\"\",\" \",'Main page'!$F$21-(D1063))","v":" "},{"$f":"IF(D1063=\"\",\" \",VLOOKUP(R1063,'Main page'!$E$29:'Main page'!$G$41,3,TRUE))","v":" "}]
[null,null,null,null,null,null,null,null,null,null,null,null," "," "," "," ",{"$f":"IF(I1064=\"\",\"\",IF(I1064<='Main page'!$F$49,\"Core staff\",\"Senior staff\"))","v":""},{"$f":"IF(D1064=\"\",\" \",'Main page'!$F$21-(D1064))","v":" "},{"$f":"IF(D1064=\"\",\" \",VLOOKUP(R1064,'Main page'!$E$29:'Main page'!$G$41,3,TRUE))","v":" "}]
[null,null,null,null,null,null,null,null,null,null,null,null," "," "," "," ",{"$f":"IF(I1065=\"\",\"\",IF(I1065<='Main page'!$F$49,\"Core staff\",\"Senior staff\"))","v":""},{"$f":"IF(D1065=\"\",\" \",'Main page'!$F$21-(D1065))","v":" "},{"$f":"IF(D1065=\"\",\" \",VLOOKUP(R1065,'Main page'!$E$29:'Main page'!$G$41,3,TRUE))","v":" "}]
[null,null,null,null,null,null,null,null,null,null,null,null," "," "," "," ",{"$f":"IF(I1066=\"\",\"\",IF(I1066<='Main page'!$F$49,\"Core staff\",\"Senior staff\"))","v":""},{"$f":"IF(D1066=\"\",\" \",'Main page'!$F$21-(D1066))","v":" "},{"$f":"IF(D1066=\"\",\" \",VLOOKUP(R1066,'Main page'!$E$29:'Main page'!$G$41,3,TRUE))","v":" "}]
[null,null,null,null,null,null,null,null,null,null,null,null," "," "," "," ",{"$f":"IF(I1067=\"\",\"\",IF(I1067<='Main page'!$F$49,\"Core staff\",\"Senior staff\"))","v":""},{"$f":"IF(D1067=\"\",\" \",'Main page'!$F$21-(D1067))","v":" "},{"$f":"IF(D1067=\"\",\" \",VLOOKUP(R1067,'Main page'!$E$29:'Main page'!$G$41,3,TRUE))","v":" "}]
[null,null,null,null,null,null,null,null,null,null,null,null," "," "," "," ",{"$f":"IF(I1068=\"\",\"\",IF(I1068<='Main page'!$F$49,\"Core staff\",\"Senior staff\"))","v":""},{"$f":"IF(D1068=\"\",\" \",'Main page'!$F$21-(D1068))","v":" "},{"$f":"IF(D1068=\"\",\" \",VLOOKUP(R1068,'Main page'!$E$29:'Main page'!$G$41,3,TRUE))","v":" "}]
[null,null,null,null,null,null,null,null,null,null,null,null," "," "," "," ",{"$f":"IF(I1069=\"\",\"\",IF(I1069<='Main page'!$F$49,\"Core staff\",\"Senior staff\"))","v":""},{"$f":"IF(D1069=\"\",\" \",'Main page'!$F$21-(D1069))","v":" "},{"$f":"IF(D1069=\"\",\" \",VLOOKUP(R1069,'Main page'!$E$29:'Main page'!$G$41,3,TRUE))","v":" "}]
[null,null,null,null,null,null,null,null,null,null,null,null," "," "," "," ",{"$f":"IF(I1070=\"\",\"\",IF(I1070<='Main page'!$F$49,\"Core staff\",\"Senior staff\"))","v":""},{"$f":"IF(D1070=\"\",\" \",'Main page'!$F$21-(D1070))","v":" "},{"$f":"IF(D1070=\"\",\" \",VLOOKUP(R1070,'Main page'!$E$29:'Main page'!$G$41,3,TRUE))","v":" "}]
[null,null,null,null,null,null,null,null,null,null,null,null," "," "," "," ",{"$f":"IF(I1071=\"\",\"\",IF(I1071<='Main page'!$F$49,\"Core staff\",\"Senior staff\"))","v":""},{"$f":"IF(D1071=\"\",\" \",'Main page'!$F$21-(D1071))","v":" "},{"$f":"IF(D1071=\"\",\" \",VLOOKUP(R1071,'Main page'!$E$29:'Main page'!$G$41,3,TRUE))","v":" "}]
[null,null,null,null,null,null,null,null,null,null,null,null," "," "," "," ",{"$f":"IF(I1072=\"\",\"\",IF(I1072<='Main page'!$F$49,\"Core staff\",\"Senior staff\"))","v":""},{"$f":"IF(D1072=\"\",\" \",'Main page'!$F$21-(D1072))","v":" "},{"$f":"IF(D1072=\"\",\" \",VLOOKUP(R1072,'Main page'!$E$29:'Main page'!$G$41,3,TRUE))","v":" "}]
[null,null,null,null,null,null,null,null,null,null,null,null," "," "," "," ",{"$f":"IF(I1073=\"\",\"\",IF(I1073<='Main page'!$F$49,\"Core staff\",\"Senior staff\"))","v":""},{"$f":"IF(D1073=\"\",\" \",'Main page'!$F$21-(D1073))","v":" "},{"$f":"IF(D1073=\"\",\" \",VLOOKUP(R1073,'Main page'!$E$29:'Main page'!$G$41,3,TRUE))","v":" "}]
[null,null,null,null,null,null,null,null,null,null,null,null," "," "," "," ",{"$f":"IF(I1074=\"\",\"\",IF(I1074<='Main page'!$F$49,\"Core staff\",\"Senior staff\"))","v":""},{"$f":"IF(D1074=\"\",\" \",'Main page'!$F$21-(D1074))","v":" "},{"$f":"IF(D1074=\"\",\" \",VLOOKUP(R1074,'Main page'!$E$29:'Main page'!$G$41,3,TRUE))","v":" "}]
[null,null,null,null,null,null,null,null,null,null,null,null," "," "," "," ",{"$f":"IF(I1075=\"\",\"\",IF(I1075<='Main page'!$F$49,\"Core staff\",\"Senior staff\"))","v":""},{"$f":"IF(D1075=\"\",\" \",'Main page'!$F$21-(D1075))","v":" "},{"$f":"IF(D1075=\"\",\" \",VLOOKUP(R1075,'Main page'!$E$29:'Main page'!$G$41,3,TRUE))","v":" "}]
[null,null,null,null,null,null,null,null,null,null,null,null," "," "," "," ",{"$f":"IF(I1076=\"\",\"\",IF(I1076<='Main page'!$F$49,\"Core staff\",\"Senior staff\"))","v":""},{"$f":"IF(D1076=\"\",\" \",'Main page'!$F$21-(D1076))","v":" "},{"$f":"IF(D1076=\"\",\" \",VLOOKUP(R1076,'Main page'!$E$29:'Main page'!$G$41,3,TRUE))","v":" "}]
[null,null,null,null,null,null,null,null,null,null,null,null," "," "," "," ",{"$f":"IF(I1077=\"\",\"\",IF(I1077<='Main page'!$F$49,\"Core staff\",\"Senior staff\"))","v":""},{"$f":"IF(D1077=\"\",\" \",'Main page'!$F$21-(D1077))","v":" "},{"$f":"IF(D1077=\"\",\" \",VLOOKUP(R1077,'Main page'!$E$29:'Main page'!$G$41,3,TRUE))","v":" "}]
[null,null,null,null,null,null,null,null,null,null,null,null," "," "," "," ",{"$f":"IF(I1078=\"\",\"\",IF(I1078<='Main page'!$F$49,\"Core staff\",\"Senior staff\"))","v":""},{"$f":"IF(D1078=\"\",\" \",'Main page'!$F$21-(D1078))","v":" "},{"$f":"IF(D1078=\"\",\" \",VLOOKUP(R1078,'Main page'!$E$29:'Main page'!$G$41,3,TRUE))","v":" "}]
[null,null,null,null,null,null,null,null,null,null,null,null," "," "," "," ",{"$f":"IF(I1079=\"\",\"\",IF(I1079<='Main page'!$F$49,\"Core staff\",\"Senior staff\"))","v":""},{"$f":"IF(D1079=\"\",\" \",'Main page'!$F$21-(D1079))","v":" "},{"$f":"IF(D1079=\"\",\" \",VLOOKUP(R1079,'Main page'!$E$29:'Main page'!$G$41,3,TRUE))","v":" "}]
[null,null,null,null,null,null,null,null,null,null,null,null," "," "," "," ",{"$f":"IF(I1080=\"\",\"\",IF(I1080<='Main page'!$F$49,\"Core staff\",\"Senior staff\"))","v":""},{"$f":"IF(D1080=\"\",\" \",'Main page'!$F$21-(D1080))","v":" "},{"$f":"IF(D1080=\"\",\" \",VLOOKUP(R1080,'Main page'!$E$29:'Main page'!$G$41,3,TRUE))","v":" "}]
[null,null,null,null,null,null,null,null,null,null,null,null," "," "," "," ",{"$f":"IF(I1081=\"\",\"\",IF(I1081<='Main page'!$F$49,\"Core staff\",\"Senior staff\"))","v":""},{"$f":"IF(D1081=\"\",\" \",'Main page'!$F$21-(D1081))","v":" "},{"$f":"IF(D1081=\"\",\" \",VLOOKUP(R1081,'Main page'!$E$29:'Main page'!$G$41,3,TRUE))","v":" "}]
[null,null,null,null,null,null,null,null,null,null,null,null," "," "," "," ",{"$f":"IF(I1082=\"\",\"\",IF(I1082<='Main page'!$F$49,\"Core staff\",\"Senior staff\"))","v":""},{"$f":"IF(D1082=\"\",\" \",'Main page'!$F$21-(D1082))","v":" "},{"$f":"IF(D1082=\"\",\" \",VLOOKUP(R1082,'Main page'!$E$29:'Main page'!$G$41,3,TRUE))","v":" "}]
[null,null,null,null,null,null,null,null,null,null,null,null," "," "," "," ",{"$f":"IF(I1083=\"\",\"\",IF(I1083<='Main page'!$F$49,\"Core staff\",\"Senior staff\"))","v":""},{"$f":"IF(D1083=\"\",\" \",'Main page'!$F$21-(D1083))","v":" "},{"$f":"IF(D1083=\"\",\" \",VLOOKUP(R1083,'Main page'!$E$29:'Main page'!$G$41,3,TRUE))","v":" "}]
[null,null,null,null,null,null,null,null,null,null,null,null," "," "," "," ",{"$f":"IF(I1084=\"\",\"\",IF(I1084<='Main page'!$F$49,\"Core staff\",\"Senior staff\"))","v":""},{"$f":"IF(D1084=\"\",\" \",'Main page'!$F$21-(D1084))","v":" "},{"$f":"IF(D1084=\"\",\" \",VLOOKUP(R1084,'Main page'!$E$29:'Main page'!$G$41,3,TRUE))","v":" "}]
[null,null,null,null,null,null,null,null,null,null,null,null," "," "," "," ",{"$f":"IF(I1085=\"\",\"\",IF(I1085<='Main page'!$F$49,\"Core staff\",\"Senior staff\"))","v":""},{"$f":"IF(D1085=\"\",\" \",'Main page'!$F$21-(D1085))","v":" "},{"$f":"IF(D1085=\"\",\" \",VLOOKUP(R1085,'Main page'!$E$29:'Main page'!$G$41,3,TRUE))","v":" "}]
[null,null,null,null,null,null,null,null,null,null,null,null," "," "," "," ",{"$f":"IF(I1086=\"\",\"\",IF(I1086<='Main page'!$F$49,\"Core staff\",\"Senior staff\"))","v":""},{"$f":"IF(D1086=\"\",\" \",'Main page'!$F$21-(D1086))","v":" "},{"$f":"IF(D1086=\"\",\" \",VLOOKUP(R1086,'Main page'!$E$29:'Main page'!$G$41,3,TRUE))","v":" "}]
[null,null,null,null,null,null,null,null,null,null,null,null," "," "," "," ",{"$f":"IF(I1087=\"\",\"\",IF(I1087<='Main page'!$F$49,\"Core staff\",\"Senior staff\"))","v":""},{"$f":"IF(D1087=\"\",\" \",'Main page'!$F$21-(D1087))","v":" "},{"$f":"IF(D1087=\"\",\" \",VLOOKUP(R1087,'Main page'!$E$29:'Main page'!$G$41,3,TRUE))","v":" "}]
[null,null,null,null,null,null,null,null,null,null,null,null," "," "," "," ",{"$f":"IF(I1088=\"\",\"\",IF(I1088<='Main page'!$F$49,\"Core staff\",\"Senior staff\"))","v":""},{"$f":"IF(D1088=\"\",\" \",'Main page'!$F$21-(D1088))","v":" "},{"$f":"IF(D1088=\"\",\" \",VLOOKUP(R1088,'Main page'!$E$29:'Main page'!$G$41,3,TRUE))","v":" "}]
[null,null,null,null,null,null,null,null,null,null,null,null," "," "," "," ",{"$f":"IF(I1089=\"\",\"\",IF(I1089<='Main page'!$F$49,\"Core staff\",\"Senior staff\"))","v":""},{"$f":"IF(D1089=\"\",\" \",'Main page'!$F$21-(D1089))","v":" "},{"$f":"IF(D1089=\"\",\" \",VLOOKUP(R1089,'Main page'!$E$29:'Main page'!$G$41,3,TRUE))","v":" "}]
[null,null,null,null,null,null,null,null,null,null,null,null," "," "," "," ",{"$f":"IF(I1090=\"\",\"\",IF(I1090<='Main page'!$F$49,\"Core staff\",\"Senior staff\"))","v":""},{"$f":"IF(D1090=\"\",\" \",'Main page'!$F$21-(D1090))","v":" "},{"$f":"IF(D1090=\"\",\" \",VLOOKUP(R1090,'Main page'!$E$29:'Main page'!$G$41,3,TRUE))","v":" "}]
[null,null,null,null,null,null,null,null,null,null,null,null," "," "," "," ",{"$f":"IF(I1091=\"\",\"\",IF(I1091<='Main page'!$F$49,\"Core staff\",\"Senior staff\"))","v":""},{"$f":"IF(D1091=\"\",\" \",'Main page'!$F$21-(D1091))","v":" "},{"$f":"IF(D1091=\"\",\" \",VLOOKUP(R1091,'Main page'!$E$29:'Main page'!$G$41,3,TRUE))","v":" "}]
[null,null,null,null,null,null,null,null,null,null,null,null," "," "," "," ",{"$f":"IF(I1092=\"\",\"\",IF(I1092<='Main page'!$F$49,\"Core staff\",\"Senior staff\"))","v":""},{"$f":"IF(D1092=\"\",\" \",'Main page'!$F$21-(D1092))","v":" "},{"$f":"IF(D1092=\"\",\" \",VLOOKUP(R1092,'Main page'!$E$29:'Main page'!$G$41,3,TRUE))","v":" "}]
[null,null,null,null,null,null,null,null,null,null,null,null," "," "," "," ",{"$f":"IF(I1093=\"\",\"\",IF(I1093<='Main page'!$F$49,\"Core staff\",\"Senior staff\"))","v":""},{"$f":"IF(D1093=\"\",\" \",'Main page'!$F$21-(D1093))","v":" "},{"$f":"IF(D1093=\"\",\" \",VLOOKUP(R1093,'Main page'!$E$29:'Main page'!$G$41,3,TRUE))","v":" "}]
[null,null,null,null,null,null,null,null,null,null,null,null," "," "," "," ",{"$f":"IF(I1094=\"\",\"\",IF(I1094<='Main page'!$F$49,\"Core staff\",\"Senior staff\"))","v":""},{"$f":"IF(D1094=\"\",\" \",'Main page'!$F$21-(D1094))","v":" "},{"$f":"IF(D1094=\"\",\" \",VLOOKUP(R1094,'Main page'!$E$29:'Main page'!$G$41,3,TRUE))","v":" "}]
[null,null,null,null,null,null,null,null,null,null,null,null," "," "," "," ",{"$f":"IF(I1095=\"\",\"\",IF(I1095<='Main page'!$F$49,\"Core staff\",\"Senior staff\"))","v":""},{"$f":"IF(D1095=\"\",\" \",'Main page'!$F$21-(D1095))","v":" "},{"$f":"IF(D1095=\"\",\" \",VLOOKUP(R1095,'Main page'!$E$29:'Main page'!$G$41,3,TRUE))","v":" "}]
[null,null,null,null,null,null,null,null,null,null,null,null," "," "," "," ",{"$f":"IF(I1096=\"\",\"\",IF(I1096<='Main page'!$F$49,\"Core staff\",\"Senior staff\"))","v":""},{"$f":"IF(D1096=\"\",\" \",'Main page'!$F$21-(D1096))","v":" "},{"$f":"IF(D1096=\"\",\" \",VLOOKUP(R1096,'Main page'!$E$29:'Main page'!$G$41,3,TRUE))","v":" "}]
[null,null,null,null,null,null,null,null,null,null,null,null," "," "," "," ",{"$f":"IF(I1097=\"\",\"\",IF(I1097<='Main page'!$F$49,\"Core staff\",\"Senior staff\"))","v":""},{"$f":"IF(D1097=\"\",\" \",'Main page'!$F$21-(D1097))","v":" "},{"$f":"IF(D1097=\"\",\" \",VLOOKUP(R1097,'Main page'!$E$29:'Main page'!$G$41,3,TRUE))","v":" "}]
[null,null,null,null,null,null,null,null,null,null,null,null," "," "," "," ",{"$f":"IF(I1098=\"\",\"\",IF(I1098<='Main page'!$F$49,\"Core staff\",\"Senior staff\"))","v":""},{"$f":"IF(D1098=\"\",\" \",'Main page'!$F$21-(D1098))","v":" "},{"$f":"IF(D1098=\"\",\" \",VLOOKUP(R1098,'Main page'!$E$29:'Main page'!$G$41,3,TRUE))","v":" "}]
[null,null,null,null,null,null,null,null,null,null,null,null," "," "," "," ",{"$f":"IF(I1099=\"\",\"\",IF(I1099<='Main page'!$F$49,\"Core staff\",\"Senior staff\"))","v":""},{"$f":"IF(D1099=\"\",\" \",'Main page'!$F$21-(D1099))","v":" "},{"$f":"IF(D1099=\"\",\" \",VLOOKUP(R1099,'Main page'!$E$29:'Main page'!$G$41,3,TRUE))","v":" "}]
[null,null,null,null,null,null,null,null,null,null,null,null," "," "," "," ",{"$f":"IF(I1100=\"\",\"\",IF(I1100<='Main page'!$F$49,\"Core staff\",\"Senior staff\"))","v":""},{"$f":"IF(D1100=\"\",\" \",'Main page'!$F$21-(D1100))","v":" "},{"$f":"IF(D1100=\"\",\" \",VLOOKUP(R1100,'Main page'!$E$29:'Main page'!$G$41,3,TRUE))","v":" "}]
[null,null,null,null,null,null,null,null,null,null,null,null," "," "," "," ",{"$f":"IF(I1101=\"\",\"\",IF(I1101<='Main page'!$F$49,\"Core staff\",\"Senior staff\"))","v":""},{"$f":"IF(D1101=\"\",\" \",'Main page'!$F$21-(D1101))","v":" "},{"$f":"IF(D1101=\"\",\" \",VLOOKUP(R1101,'Main page'!$E$29:'Main page'!$G$41,3,TRUE))","v":" "}]
[null,null,null,null,null,null,null,null,null,null,null,null,{"$f":"IFERROR(J1102/G1102,\" \")","v":" "},{"$f":"IFERROR((M1102/$U$4)/H1102,\" \")","v":" "},{"$f":"IFERROR((N1102*75)*26.083,\" \")","v":" "},{"$f":"IF(G1102=0,\" \",IF(G1102=1,\"Full time\",\"Part time\"))","v":" "},{"$f":"IF(I1102=\"\",\"\",IF(I1102<='Main page'!$F$49,\"Core staff\",\"Senior staff\"))","v":""},{"$f":"IF(D1102=\"\",\" \",'Main page'!$F$21-(D1102))","v":" "},{"$f":"IF(D1102=\"\",\" \",VLOOKUP(R1102,'Main page'!$E$29:'Main page'!$G$41,3,TRUE))","v":" "}]
[null,null,null,null,null,null,null,null,null,null,null,null," "," "," "," ",{"$f":"IF(I1103=\"\",\"\",IF(I1103<='Main page'!$F$49,\"Core staff\",\"Senior staff\"))","v":""},{"$f":"IF(D1103=\"\",\" \",'Main page'!$F$21-(D1103))","v":" "},{"$f":"IF(D1103=\"\",\" \",VLOOKUP(R1103,'Main page'!$E$29:'Main page'!$G$41,3,TRUE))","v":" "}]
[null,null,null,null,null,null,null,null,null,null,null,null," "," "," "," ",{"$f":"IF(I1104=\"\",\"\",IF(I1104<='Main page'!$F$49,\"Core staff\",\"Senior staff\"))","v":""},{"$f":"IF(D1104=\"\",\" \",'Main page'!$F$21-(D1104))","v":" "},{"$f":"IF(D1104=\"\",\" \",VLOOKUP(R1104,'Main page'!$E$29:'Main page'!$G$41,3,TRUE))","v":" "}]
[null,null,null,null,null,null,null,null,null,null,null,null," "," "," "," ",{"$f":"IF(I1105=\"\",\"\",IF(I1105<='Main page'!$F$49,\"Core staff\",\"Senior staff\"))","v":""},{"$f":"IF(D1105=\"\",\" \",'Main page'!$F$21-(D1105))","v":" "},{"$f":"IF(D1105=\"\",\" \",VLOOKUP(R1105,'Main page'!$E$29:'Main page'!$G$41,3,TRUE))","v":" "}]
[null,null,null,null,null,null,null,null,null,null,null,null," "," "," "," ",{"$f":"IF(I1106=\"\",\"\",IF(I1106<='Main page'!$F$49,\"Core staff\",\"Senior staff\"))","v":""},{"$f":"IF(D1106=\"\",\" \",'Main page'!$F$21-(D1106))","v":" "},{"$f":"IF(D1106=\"\",\" \",VLOOKUP(R1106,'Main page'!$E$29:'Main page'!$G$41,3,TRUE))","v":" "}]
[null,null,null,null,null,null,null,null,null,null,null,null," "," "," "," ",{"$f":"IF(I1107=\"\",\"\",IF(I1107<='Main page'!$F$49,\"Core staff\",\"Senior staff\"))","v":""},{"$f":"IF(D1107=\"\",\" \",'Main page'!$F$21-(D1107))","v":" "},{"$f":"IF(D1107=\"\",\" \",VLOOKUP(R1107,'Main page'!$E$29:'Main page'!$G$41,3,TRUE))","v":" "}]
[null,null,null,null,null,null,null,null,null,null,null,null," "," "," "," ",{"$f":"IF(I1108=\"\",\"\",IF(I1108<='Main page'!$F$49,\"Core staff\",\"Senior staff\"))","v":""},{"$f":"IF(D1108=\"\",\" \",'Main page'!$F$21-(D1108))","v":" "},{"$f":"IF(D1108=\"\",\" \",VLOOKUP(R1108,'Main page'!$E$29:'Main page'!$G$41,3,TRUE))","v":" "}]
[null,null,null,null,null,null,null,null,null,null,null,null," "," "," "," ",{"$f":"IF(I1109=\"\",\"\",IF(I1109<='Main page'!$F$49,\"Core staff\",\"Senior staff\"))","v":""},{"$f":"IF(D1109=\"\",\" \",'Main page'!$F$21-(D1109))","v":" "},{"$f":"IF(D1109=\"\",\" \",VLOOKUP(R1109,'Main page'!$E$29:'Main page'!$G$41,3,TRUE))","v":" "}]
[null,null,null,null,null,null,null,null,null,null,null,null," "," "," "," ",{"$f":"IF(I1110=\"\",\"\",IF(I1110<='Main page'!$F$49,\"Core staff\",\"Senior staff\"))","v":""},{"$f":"IF(D1110=\"\",\" \",'Main page'!$F$21-(D1110))","v":" "},{"$f":"IF(D1110=\"\",\" \",VLOOKUP(R1110,'Main page'!$E$29:'Main page'!$G$41,3,TRUE))","v":" "}]
[null,null,null,null,null,null,null,null,null,null,null,null," "," "," "," ",{"$f":"IF(I1111=\"\",\"\",IF(I1111<='Main page'!$F$49,\"Core staff\",\"Senior staff\"))","v":""},{"$f":"IF(D1111=\"\",\" \",'Main page'!$F$21-(D1111))","v":" "},{"$f":"IF(D1111=\"\",\" \",VLOOKUP(R1111,'Main page'!$E$29:'Main page'!$G$41,3,TRUE))","v":" "}]
[null,null,null,null,null,null,null,null,null,null,null,null," "," "," "," ",{"$f":"IF(I1112=\"\",\"\",IF(I1112<='Main page'!$F$49,\"Core staff\",\"Senior staff\"))","v":""},{"$f":"IF(D1112=\"\",\" \",'Main page'!$F$21-(D1112))","v":" "},{"$f":"IF(D1112=\"\",\" \",VLOOKUP(R1112,'Main page'!$E$29:'Main page'!$G$41,3,TRUE))","v":" "}]
[null,null,null,null,null,null,null,null,null,null,null,null," "," "," "," ",{"$f":"IF(I1113=\"\",\"\",IF(I1113<='Main page'!$F$49,\"Core staff\",\"Senior staff\"))","v":""},{"$f":"IF(D1113=\"\",\" \",'Main page'!$F$21-(D1113))","v":" "},{"$f":"IF(D1113=\"\",\" \",VLOOKUP(R1113,'Main page'!$E$29:'Main page'!$G$41,3,TRUE))","v":" "}]
[null,null,null,null,null,null,null,null,null,null,null,null," "," "," "," ",{"$f":"IF(I1114=\"\",\"\",IF(I1114<='Main page'!$F$49,\"Core staff\",\"Senior staff\"))","v":""},{"$f":"IF(D1114=\"\",\" \",'Main page'!$F$21-(D1114))","v":" "},{"$f":"IF(D1114=\"\",\" \",VLOOKUP(R1114,'Main page'!$E$29:'Main page'!$G$41,3,TRUE))","v":" "}]
[null,null,null,null,null,null,null,null,null,null,null,null," "," "," "," ",{"$f":"IF(I1115=\"\",\"\",IF(I1115<='Main page'!$F$49,\"Core staff\",\"Senior staff\"))","v":""},{"$f":"IF(D1115=\"\",\" \",'Main page'!$F$21-(D1115))","v":" "},{"$f":"IF(D1115=\"\",\" \",VLOOKUP(R1115,'Main page'!$E$29:'Main page'!$G$41,3,TRUE))","v":" "}]
[null,null,null,null,null,null,null,null,null,null,null,null," "," "," "," ",{"$f":"IF(I1116=\"\",\"\",IF(I1116<='Main page'!$F$49,\"Core staff\",\"Senior staff\"))","v":""},{"$f":"IF(D1116=\"\",\" \",'Main page'!$F$21-(D1116))","v":" "},{"$f":"IF(D1116=\"\",\" \",VLOOKUP(R1116,'Main page'!$E$29:'Main page'!$G$41,3,TRUE))","v":" "}]
[null,null,null,null,null,null,null,null,null,null,null,null," "," "," "," ",{"$f":"IF(I1117=\"\",\"\",IF(I1117<='Main page'!$F$49,\"Core staff\",\"Senior staff\"))","v":""},{"$f":"IF(D1117=\"\",\" \",'Main page'!$F$21-(D1117))","v":" "},{"$f":"IF(D1117=\"\",\" \",VLOOKUP(R1117,'Main page'!$E$29:'Main page'!$G$41,3,TRUE))","v":" "}]
[null,null,null,null,null,null,null,null,null,null,null,null," "," "," "," ",{"$f":"IF(I1118=\"\",\"\",IF(I1118<='Main page'!$F$49,\"Core staff\",\"Senior staff\"))","v":""},{"$f":"IF(D1118=\"\",\" \",'Main page'!$F$21-(D1118))","v":" "},{"$f":"IF(D1118=\"\",\" \",VLOOKUP(R1118,'Main page'!$E$29:'Main page'!$G$41,3,TRUE))","v":" "}]
[null,null,null,null,null,null,null,null,null,null,null,null," "," "," "," ",{"$f":"IF(I1119=\"\",\"\",IF(I1119<='Main page'!$F$49,\"Core staff\",\"Senior staff\"))","v":""},{"$f":"IF(D1119=\"\",\" \",'Main page'!$F$21-(D1119))","v":" "},{"$f":"IF(D1119=\"\",\" \",VLOOKUP(R1119,'Main page'!$E$29:'Main page'!$G$41,3,TRUE))","v":" "}]
[null,null,null,null,null,null,null,null,null,null,null,null," "," "," "," ",{"$f":"IF(I1120=\"\",\"\",IF(I1120<='Main page'!$F$49,\"Core staff\",\"Senior staff\"))","v":""},{"$f":"IF(D1120=\"\",\" \",'Main page'!$F$21-(D1120))","v":" "},{"$f":"IF(D1120=\"\",\" \",VLOOKUP(R1120,'Main page'!$E$29:'Main page'!$G$41,3,TRUE))","v":" "}]
[null,null,null,null,null,null,null,null,null,null,null,null," "," "," "," ",{"$f":"IF(I1121=\"\",\"\",IF(I1121<='Main page'!$F$49,\"Core staff\",\"Senior staff\"))","v":""},{"$f":"IF(D1121=\"\",\" \",'Main page'!$F$21-(D1121))","v":" "},{"$f":"IF(D1121=\"\",\" \",VLOOKUP(R1121,'Main page'!$E$29:'Main page'!$G$41,3,TRUE))","v":" "}]
[null,null,null,null,null,null,null,null,null,null,null,null," "," "," "," ",{"$f":"IF(I1122=\"\",\"\",IF(I1122<='Main page'!$F$49,\"Core staff\",\"Senior staff\"))","v":""},{"$f":"IF(D1122=\"\",\" \",'Main page'!$F$21-(D1122))","v":" "},{"$f":"IF(D1122=\"\",\" \",VLOOKUP(R1122,'Main page'!$E$29:'Main page'!$G$41,3,TRUE))","v":" "}]
[null,null,null,null,null,null,null,null,null,null,null,null," "," "," "," ",{"$f":"IF(I1123=\"\",\"\",IF(I1123<='Main page'!$F$49,\"Core staff\",\"Senior staff\"))","v":""},{"$f":"IF(D1123=\"\",\" \",'Main page'!$F$21-(D1123))","v":" "},{"$f":"IF(D1123=\"\",\" \",VLOOKUP(R1123,'Main page'!$E$29:'Main page'!$G$41,3,TRUE))","v":" "}]
[null,null,null,null,null,null,null,null,null,null,null,null," "," "," "," ",{"$f":"IF(I1124=\"\",\"\",IF(I1124<='Main page'!$F$49,\"Core staff\",\"Senior staff\"))","v":""},{"$f":"IF(D1124=\"\",\" \",'Main page'!$F$21-(D1124))","v":" "},{"$f":"IF(D1124=\"\",\" \",VLOOKUP(R1124,'Main page'!$E$29:'Main page'!$G$41,3,TRUE))","v":" "}]
[null,null,null,null,null,null,null,null,null,null,null,null," "," "," "," ",{"$f":"IF(I1125=\"\",\"\",IF(I1125<='Main page'!$F$49,\"Core staff\",\"Senior staff\"))","v":""},{"$f":"IF(D1125=\"\",\" \",'Main page'!$F$21-(D1125))","v":" "},{"$f":"IF(D1125=\"\",\" \",VLOOKUP(R1125,'Main page'!$E$29:'Main page'!$G$41,3,TRUE))","v":" "}]
[null,null,null,null,null,null,null,null,null,null,null,null," "," "," "," ",{"$f":"IF(I1126=\"\",\"\",IF(I1126<='Main page'!$F$49,\"Core staff\",\"Senior staff\"))","v":""},{"$f":"IF(D1126=\"\",\" \",'Main page'!$F$21-(D1126))","v":" "},{"$f":"IF(D1126=\"\",\" \",VLOOKUP(R1126,'Main page'!$E$29:'Main page'!$G$41,3,TRUE))","v":" "}]
[null,null,null,null,null,null,null,null,null,null,null,null," "," "," "," ",{"$f":"IF(I1127=\"\",\"\",IF(I1127<='Main page'!$F$49,\"Core staff\",\"Senior staff\"))","v":""},{"$f":"IF(D1127=\"\",\" \",'Main page'!$F$21-(D1127))","v":" "},{"$f":"IF(D1127=\"\",\" \",VLOOKUP(R1127,'Main page'!$E$29:'Main page'!$G$41,3,TRUE))","v":" "}]
[null,null,null,null,null,null,null,null,null,null,null,null," "," "," "," ",{"$f":"IF(I1128=\"\",\"\",IF(I1128<='Main page'!$F$49,\"Core staff\",\"Senior staff\"))","v":""},{"$f":"IF(D1128=\"\",\" \",'Main page'!$F$21-(D1128))","v":" "},{"$f":"IF(D1128=\"\",\" \",VLOOKUP(R1128,'Main page'!$E$29:'Main page'!$G$41,3,TRUE))","v":" "}]
[null,null,null,null,null,null,null,null,null,null,null,null," "," "," "," ",{"$f":"IF(I1129=\"\",\"\",IF(I1129<='Main page'!$F$49,\"Core staff\",\"Senior staff\"))","v":""},{"$f":"IF(D1129=\"\",\" \",'Main page'!$F$21-(D1129))","v":" "},{"$f":"IF(D1129=\"\",\" \",VLOOKUP(R1129,'Main page'!$E$29:'Main page'!$G$41,3,TRUE))","v":" "}]
[null,null,null,null,null,null,null,null,null,null,null,null," "," "," "," ",{"$f":"IF(I1130=\"\",\"\",IF(I1130<='Main page'!$F$49,\"Core staff\",\"Senior staff\"))","v":""},{"$f":"IF(D1130=\"\",\" \",'Main page'!$F$21-(D1130))","v":" "},{"$f":"IF(D1130=\"\",\" \",VLOOKUP(R1130,'Main page'!$E$29:'Main page'!$G$41,3,TRUE))","v":" "}]
[null,null,null,null,null,null,null,null,null,null,null,null," "," "," "," ",{"$f":"IF(I1131=\"\",\"\",IF(I1131<='Main page'!$F$49,\"Core staff\",\"Senior staff\"))","v":""},{"$f":"IF(D1131=\"\",\" \",'Main page'!$F$21-(D1131))","v":" "},{"$f":"IF(D1131=\"\",\" \",VLOOKUP(R1131,'Main page'!$E$29:'Main page'!$G$41,3,TRUE))","v":" "}]
[null,null,null,null,null,null,null,null,null,null,null,null," "," "," "," ",{"$f":"IF(I1132=\"\",\"\",IF(I1132<='Main page'!$F$49,\"Core staff\",\"Senior staff\"))","v":""},{"$f":"IF(D1132=\"\",\" \",'Main page'!$F$21-(D1132))","v":" "},{"$f":"IF(D1132=\"\",\" \",VLOOKUP(R1132,'Main page'!$E$29:'Main page'!$G$41,3,TRUE))","v":" "}]
[null,null,null,null,null,null,null,null,null,null,null,null," "," "," "," ",{"$f":"IF(I1133=\"\",\"\",IF(I1133<='Main page'!$F$49,\"Core staff\",\"Senior staff\"))","v":""},{"$f":"IF(D1133=\"\",\" \",'Main page'!$F$21-(D1133))","v":" "},{"$f":"IF(D1133=\"\",\" \",VLOOKUP(R1133,'Main page'!$E$29:'Main page'!$G$41,3,TRUE))","v":" "}]
[null,null,null,null,null,null,null,null,null,null,null,null," "," "," "," ",{"$f":"IF(I1134=\"\",\"\",IF(I1134<='Main page'!$F$49,\"Core staff\",\"Senior staff\"))","v":""},{"$f":"IF(D1134=\"\",\" \",'Main page'!$F$21-(D1134))","v":" "},{"$f":"IF(D1134=\"\",\" \",VLOOKUP(R1134,'Main page'!$E$29:'Main page'!$G$41,3,TRUE))","v":" "}]
[null,null,null,null,null,null,null,null,null,null,null,null," "," "," "," ",{"$f":"IF(I1135=\"\",\"\",IF(I1135<='Main page'!$F$49,\"Core staff\",\"Senior staff\"))","v":""},{"$f":"IF(D1135=\"\",\" \",'Main page'!$F$21-(D1135))","v":" "},{"$f":"IF(D1135=\"\",\" \",VLOOKUP(R1135,'Main page'!$E$29:'Main page'!$G$41,3,TRUE))","v":" "}]
[null,null,null,null,null,null,null,null,null,null,null,null," "," "," "," ",{"$f":"IF(I1136=\"\",\"\",IF(I1136<='Main page'!$F$49,\"Core staff\",\"Senior staff\"))","v":""},{"$f":"IF(D1136=\"\",\" \",'Main page'!$F$21-(D1136))","v":" "},{"$f":"IF(D1136=\"\",\" \",VLOOKUP(R1136,'Main page'!$E$29:'Main page'!$G$41,3,TRUE))","v":" "}]
[null,null,null,null,null,null,null,null,null,null,null,null," "," "," "," ",{"$f":"IF(I1137=\"\",\"\",IF(I1137<='Main page'!$F$49,\"Core staff\",\"Senior staff\"))","v":""},{"$f":"IF(D1137=\"\",\" \",'Main page'!$F$21-(D1137))","v":" "},{"$f":"IF(D1137=\"\",\" \",VLOOKUP(R1137,'Main page'!$E$29:'Main page'!$G$41,3,TRUE))","v":" "}]
[null,null,null,null,null,null,null,null,null,null,null,null," "," "," "," ",{"$f":"IF(I1138=\"\",\"\",IF(I1138<='Main page'!$F$49,\"Core staff\",\"Senior staff\"))","v":""},{"$f":"IF(D1138=\"\",\" \",'Main page'!$F$21-(D1138))","v":" "},{"$f":"IF(D1138=\"\",\" \",VLOOKUP(R1138,'Main page'!$E$29:'Main page'!$G$41,3,TRUE))","v":" "}]
[null,null,null,null,null,null,null,null,null,null,null,null," "," "," "," ",{"$f":"IF(I1139=\"\",\"\",IF(I1139<='Main page'!$F$49,\"Core staff\",\"Senior staff\"))","v":""},{"$f":"IF(D1139=\"\",\" \",'Main page'!$F$21-(D1139))","v":" "},{"$f":"IF(D1139=\"\",\" \",VLOOKUP(R1139,'Main page'!$E$29:'Main page'!$G$41,3,TRUE))","v":" "}]
[null,null,null,null,null,null,null,null,null,null,null,null," "," "," "," ",{"$f":"IF(I1140=\"\",\"\",IF(I1140<='Main page'!$F$49,\"Core staff\",\"Senior staff\"))","v":""},{"$f":"IF(D1140=\"\",\" \",'Main page'!$F$21-(D1140))","v":" "},{"$f":"IF(D1140=\"\",\" \",VLOOKUP(R1140,'Main page'!$E$29:'Main page'!$G$41,3,TRUE))","v":" "}]
[null,null,null,null,null,null,null,null,null,null,null,null," "," "," "," ",{"$f":"IF(I1141=\"\",\"\",IF(I1141<='Main page'!$F$49,\"Core staff\",\"Senior staff\"))","v":""},{"$f":"IF(D1141=\"\",\" \",'Main page'!$F$21-(D1141))","v":" "},{"$f":"IF(D1141=\"\",\" \",VLOOKUP(R1141,'Main page'!$E$29:'Main page'!$G$41,3,TRUE))","v":" "}]
[null,null,null,null,null,null,null,null,null,null,null,null," "," "," "," ",{"$f":"IF(I1142=\"\",\"\",IF(I1142<='Main page'!$F$49,\"Core staff\",\"Senior staff\"))","v":""},{"$f":"IF(D1142=\"\",\" \",'Main page'!$F$21-(D1142))","v":" "},{"$f":"IF(D1142=\"\",\" \",VLOOKUP(R1142,'Main page'!$E$29:'Main page'!$G$41,3,TRUE))","v":" "}]
[null,null,null,null,null,null,null,null,null,null,null,null," "," "," "," ",{"$f":"IF(I1143=\"\",\"\",IF(I1143<='Main page'!$F$49,\"Core staff\",\"Senior staff\"))","v":""},{"$f":"IF(D1143=\"\",\" \",'Main page'!$F$21-(D1143))","v":" "},{"$f":"IF(D1143=\"\",\" \",VLOOKUP(R1143,'Main page'!$E$29:'Main page'!$G$41,3,TRUE))","v":" "}]
[null,null,null,null,null,null,null,null,null,null,null,null," "," "," "," ",{"$f":"IF(I1144=\"\",\"\",IF(I1144<='Main page'!$F$49,\"Core staff\",\"Senior staff\"))","v":""},{"$f":"IF(D1144=\"\",\" \",'Main page'!$F$21-(D1144))","v":" "},{"$f":"IF(D1144=\"\",\" \",VLOOKUP(R1144,'Main page'!$E$29:'Main page'!$G$41,3,TRUE))","v":" "}]
[null,null,null,null,null,null,null,null,null,null,null,null," "," "," "," ",{"$f":"IF(I1145=\"\",\"\",IF(I1145<='Main page'!$F$49,\"Core staff\",\"Senior staff\"))","v":""},{"$f":"IF(D1145=\"\",\" \",'Main page'!$F$21-(D1145))","v":" "},{"$f":"IF(D1145=\"\",\" \",VLOOKUP(R1145,'Main page'!$E$29:'Main page'!$G$41,3,TRUE))","v":" "}]
[null,null,null,null,null,null,null,null,null,null,null,null," "," "," "," ",{"$f":"IF(I1146=\"\",\"\",IF(I1146<='Main page'!$F$49,\"Core staff\",\"Senior staff\"))","v":""},{"$f":"IF(D1146=\"\",\" \",'Main page'!$F$21-(D1146))","v":" "},{"$f":"IF(D1146=\"\",\" \",VLOOKUP(R1146,'Main page'!$E$29:'Main page'!$G$41,3,TRUE))","v":" "}]
[null,null,null,null,null,null,null,null,null,null,null,null," "," "," "," ",{"$f":"IF(I1147=\"\",\"\",IF(I1147<='Main page'!$F$49,\"Core staff\",\"Senior staff\"))","v":""},{"$f":"IF(D1147=\"\",\" \",'Main page'!$F$21-(D1147))","v":" "},{"$f":"IF(D1147=\"\",\" \",VLOOKUP(R1147,'Main page'!$E$29:'Main page'!$G$41,3,TRUE))","v":" "}]
[null,null,null,null,null,null,null,null,null,null,null,null," "," "," "," ",{"$f":"IF(I1148=\"\",\"\",IF(I1148<='Main page'!$F$49,\"Core staff\",\"Senior staff\"))","v":""},{"$f":"IF(D1148=\"\",\" \",'Main page'!$F$21-(D1148))","v":" "},{"$f":"IF(D1148=\"\",\" \",VLOOKUP(R1148,'Main page'!$E$29:'Main page'!$G$41,3,TRUE))","v":" "}]
[null,null,null,null,null,null,null,null,null,null,null,null," "," "," "," ",{"$f":"IF(I1149=\"\",\"\",IF(I1149<='Main page'!$F$49,\"Core staff\",\"Senior staff\"))","v":""},{"$f":"IF(D1149=\"\",\" \",'Main page'!$F$21-(D1149))","v":" "},{"$f":"IF(D1149=\"\",\" \",VLOOKUP(R1149,'Main page'!$E$29:'Main page'!$G$41,3,TRUE))","v":" "}]
[null,null,null,null,null,null,null,null,null,null,null,null," "," "," "," ",{"$f":"IF(I1150=\"\",\"\",IF(I1150<='Main page'!$F$49,\"Core staff\",\"Senior staff\"))","v":""},{"$f":"IF(D1150=\"\",\" \",'Main page'!$F$21-(D1150))","v":" "},{"$f":"IF(D1150=\"\",\" \",VLOOKUP(R1150,'Main page'!$E$29:'Main page'!$G$41,3,TRUE))","v":" "}]
[null,null,null,null,null,null,null,null,null,null,null,null," "," "," "," ",{"$f":"IF(I1151=\"\",\"\",IF(I1151<='Main page'!$F$49,\"Core staff\",\"Senior staff\"))","v":""},{"$f":"IF(D1151=\"\",\" \",'Main page'!$F$21-(D1151))","v":" "},{"$f":"IF(D1151=\"\",\" \",VLOOKUP(R1151,'Main page'!$E$29:'Main page'!$G$41,3,TRUE))","v":" "}]
[null,null,null,null,null,null,null,null,null,null,null,null," "," "," "," ",{"$f":"IF(I1152=\"\",\"\",IF(I1152<='Main page'!$F$49,\"Core staff\",\"Senior staff\"))","v":""},{"$f":"IF(D1152=\"\",\" \",'Main page'!$F$21-(D1152))","v":" "},{"$f":"IF(D1152=\"\",\" \",VLOOKUP(R1152,'Main page'!$E$29:'Main page'!$G$41,3,TRUE))","v":" "}]
[null,null,null,null,null,null,null,null,null,null,null,null," "," "," "," ",{"$f":"IF(I1153=\"\",\"\",IF(I1153<='Main page'!$F$49,\"Core staff\",\"Senior staff\"))","v":""},{"$f":"IF(D1153=\"\",\" \",'Main page'!$F$21-(D1153))","v":" "},{"$f":"IF(D1153=\"\",\" \",VLOOKUP(R1153,'Main page'!$E$29:'Main page'!$G$41,3,TRUE))","v":" "}]
[null,null,null,null,null,null,null,null,null,null,null,null," "," "," "," ",{"$f":"IF(I1154=\"\",\"\",IF(I1154<='Main page'!$F$49,\"Core staff\",\"Senior staff\"))","v":""},{"$f":"IF(D1154=\"\",\" \",'Main page'!$F$21-(D1154))","v":" "},{"$f":"IF(D1154=\"\",\" \",VLOOKUP(R1154,'Main page'!$E$29:'Main page'!$G$41,3,TRUE))","v":" "}]
[null,null,null,null,null,null,null,null,null,null,null,null," "," "," "," ",{"$f":"IF(I1155=\"\",\"\",IF(I1155<='Main page'!$F$49,\"Core staff\",\"Senior staff\"))","v":""},{"$f":"IF(D1155=\"\",\" \",'Main page'!$F$21-(D1155))","v":" "},{"$f":"IF(D1155=\"\",\" \",VLOOKUP(R1155,'Main page'!$E$29:'Main page'!$G$41,3,TRUE))","v":" "}]
[null,null,null,null,null,null,null,null,null,null,null,null," "," "," "," ",{"$f":"IF(I1156=\"\",\"\",IF(I1156<='Main page'!$F$49,\"Core staff\",\"Senior staff\"))","v":""},{"$f":"IF(D1156=\"\",\" \",'Main page'!$F$21-(D1156))","v":" "},{"$f":"IF(D1156=\"\",\" \",VLOOKUP(R1156,'Main page'!$E$29:'Main page'!$G$41,3,TRUE))","v":" "}]
[null,null,null,null,null,null,null,null,null,null,null,null," "," "," "," ",{"$f":"IF(I1157=\"\",\"\",IF(I1157<='Main page'!$F$49,\"Core staff\",\"Senior staff\"))","v":""},{"$f":"IF(D1157=\"\",\" \",'Main page'!$F$21-(D1157))","v":" "},{"$f":"IF(D1157=\"\",\" \",VLOOKUP(R1157,'Main page'!$E$29:'Main page'!$G$41,3,TRUE))","v":" "}]
[null,null,null,null,null,null,null,null,null,null,null,null," "," "," "," ",{"$f":"IF(I1158=\"\",\"\",IF(I1158<='Main page'!$F$49,\"Core staff\",\"Senior staff\"))","v":""},{"$f":"IF(D1158=\"\",\" \",'Main page'!$F$21-(D1158))","v":" "},{"$f":"IF(D1158=\"\",\" \",VLOOKUP(R1158,'Main page'!$E$29:'Main page'!$G$41,3,TRUE))","v":" "}]
[null,null,null,null,null,null,null,null,null,null,null,null," "," "," "," ",{"$f":"IF(I1159=\"\",\"\",IF(I1159<='Main page'!$F$49,\"Core staff\",\"Senior staff\"))","v":""},{"$f":"IF(D1159=\"\",\" \",'Main page'!$F$21-(D1159))","v":" "},{"$f":"IF(D1159=\"\",\" \",VLOOKUP(R1159,'Main page'!$E$29:'Main page'!$G$41,3,TRUE))","v":" "}]
[null,null,null,null,null,null,null,null,null,null,null,null," "," "," "," ",{"$f":"IF(I1160=\"\",\"\",IF(I1160<='Main page'!$F$49,\"Core staff\",\"Senior staff\"))","v":""},{"$f":"IF(D1160=\"\",\" \",'Main page'!$F$21-(D1160))","v":" "},{"$f":"IF(D1160=\"\",\" \",VLOOKUP(R1160,'Main page'!$E$29:'Main page'!$G$41,3,TRUE))","v":" "}]
[null,null,null,null,null,null,null,null,null,null,null,null," "," "," "," ",{"$f":"IF(I1161=\"\",\"\",IF(I1161<='Main page'!$F$49,\"Core staff\",\"Senior staff\"))","v":""},{"$f":"IF(D1161=\"\",\" \",'Main page'!$F$21-(D1161))","v":" "},{"$f":"IF(D1161=\"\",\" \",VLOOKUP(R1161,'Main page'!$E$29:'Main page'!$G$41,3,TRUE))","v":" "}]
[null,null,null,null,null,null,null,null,null,null,null,null," "," "," "," ",{"$f":"IF(I1162=\"\",\"\",IF(I1162<='Main page'!$F$49,\"Core staff\",\"Senior staff\"))","v":""},{"$f":"IF(D1162=\"\",\" \",'Main page'!$F$21-(D1162))","v":" "},{"$f":"IF(D1162=\"\",\" \",VLOOKUP(R1162,'Main page'!$E$29:'Main page'!$G$41,3,TRUE))","v":" "}]
[null,null,null,null,null,null,null,null,null,null,null,null," "," "," "," ",{"$f":"IF(I1163=\"\",\"\",IF(I1163<='Main page'!$F$49,\"Core staff\",\"Senior staff\"))","v":""},{"$f":"IF(D1163=\"\",\" \",'Main page'!$F$21-(D1163))","v":" "},{"$f":"IF(D1163=\"\",\" \",VLOOKUP(R1163,'Main page'!$E$29:'Main page'!$G$41,3,TRUE))","v":" "}]
[null,null,null,null,null,null,null,null,null,null,null,null," "," "," "," ",{"$f":"IF(I1164=\"\",\"\",IF(I1164<='Main page'!$F$49,\"Core staff\",\"Senior staff\"))","v":""},{"$f":"IF(D1164=\"\",\" \",'Main page'!$F$21-(D1164))","v":" "},{"$f":"IF(D1164=\"\",\" \",VLOOKUP(R1164,'Main page'!$E$29:'Main page'!$G$41,3,TRUE))","v":" "}]
[null,null,null,null,null,null,null,null,null,null,null,null," "," "," "," ",{"$f":"IF(I1165=\"\",\"\",IF(I1165<='Main page'!$F$49,\"Core staff\",\"Senior staff\"))","v":""},{"$f":"IF(D1165=\"\",\" \",'Main page'!$F$21-(D1165))","v":" "},{"$f":"IF(D1165=\"\",\" \",VLOOKUP(R1165,'Main page'!$E$29:'Main page'!$G$41,3,TRUE))","v":" "}]
[null,null,null,null,null,null,null,null,null,null,null,null,{"$f":"IFERROR(J1166/G1166,\" \")","v":" "},{"$f":"IFERROR((M1166/$U$4)/H1166,\" \")","v":" "},{"$f":"IFERROR((N1166*75)*26.083,\" \")","v":" "},{"$f":"IF(G1166=0,\" \",IF(G1166=1,\"Full time\",\"Part time\"))","v":" "},{"$f":"IF(I1166=\"\",\"\",IF(I1166<='Main page'!$F$49,\"Core staff\",\"Senior staff\"))","v":""},{"$f":"IF(D1166=\"\",\" \",'Main page'!$F$21-(D1166))","v":" "},{"$f":"IF(D1166=\"\",\" \",VLOOKUP(R1166,'Main page'!$E$29:'Main page'!$G$41,3,TRUE))","v":" "}]
[null,null,null,null,null,null,null,null,null,null,null,null," "," "," "," ",{"$f":"IF(I1167=\"\",\"\",IF(I1167<='Main page'!$F$49,\"Core staff\",\"Senior staff\"))","v":""},{"$f":"IF(D1167=\"\",\" \",'Main page'!$F$21-(D1167))","v":" "},{"$f":"IF(D1167=\"\",\" \",VLOOKUP(R1167,'Main page'!$E$29:'Main page'!$G$41,3,TRUE))","v":" "}]
[null,null,null,null,null,null,null,null,null,null,null,null," "," "," "," ",{"$f":"IF(I1168=\"\",\"\",IF(I1168<='Main page'!$F$49,\"Core staff\",\"Senior staff\"))","v":""},{"$f":"IF(D1168=\"\",\" \",'Main page'!$F$21-(D1168))","v":" "},{"$f":"IF(D1168=\"\",\" \",VLOOKUP(R1168,'Main page'!$E$29:'Main page'!$G$41,3,TRUE))","v":" "}]
[null,null,null,null,null,null,null,null,null,null,null,null," "," "," "," ",{"$f":"IF(I1169=\"\",\"\",IF(I1169<='Main page'!$F$49,\"Core staff\",\"Senior staff\"))","v":""},{"$f":"IF(D1169=\"\",\" \",'Main page'!$F$21-(D1169))","v":" "},{"$f":"IF(D1169=\"\",\" \",VLOOKUP(R1169,'Main page'!$E$29:'Main page'!$G$41,3,TRUE))","v":" "}]
[null,null,null,null,null,null,null,null,null,null,null,null," "," "," "," ",{"$f":"IF(I1170=\"\",\"\",IF(I1170<='Main page'!$F$49,\"Core staff\",\"Senior staff\"))","v":""},{"$f":"IF(D1170=\"\",\" \",'Main page'!$F$21-(D1170))","v":" "},{"$f":"IF(D1170=\"\",\" \",VLOOKUP(R1170,'Main page'!$E$29:'Main page'!$G$41,3,TRUE))","v":" "}]
[null,null,null,null,null,null,null,null,null,null,null,null," "," "," "," ",{"$f":"IF(I1171=\"\",\"\",IF(I1171<='Main page'!$F$49,\"Core staff\",\"Senior staff\"))","v":""},{"$f":"IF(D1171=\"\",\" \",'Main page'!$F$21-(D1171))","v":" "},{"$f":"IF(D1171=\"\",\" \",VLOOKUP(R1171,'Main page'!$E$29:'Main page'!$G$41,3,TRUE))","v":" "}]
[null,null,null,null,null,null,null,null,null,null,null,null," "," "," "," ",{"$f":"IF(I1172=\"\",\"\",IF(I1172<='Main page'!$F$49,\"Core staff\",\"Senior staff\"))","v":""},{"$f":"IF(D1172=\"\",\" \",'Main page'!$F$21-(D1172))","v":" "},{"$f":"IF(D1172=\"\",\" \",VLOOKUP(R1172,'Main page'!$E$29:'Main page'!$G$41,3,TRUE))","v":" "}]
[null,null,null,null,null,null,null,null,null,null,null,null," "," "," "," ",{"$f":"IF(I1173=\"\",\"\",IF(I1173<='Main page'!$F$49,\"Core staff\",\"Senior staff\"))","v":""},{"$f":"IF(D1173=\"\",\" \",'Main page'!$F$21-(D1173))","v":" "},{"$f":"IF(D1173=\"\",\" \",VLOOKUP(R1173,'Main page'!$E$29:'Main page'!$G$41,3,TRUE))","v":" "}]
[null,null,null,null,null,null,null,null,null,null,null,null," "," "," "," ",{"$f":"IF(I1174=\"\",\"\",IF(I1174<='Main page'!$F$49,\"Core staff\",\"Senior staff\"))","v":""},{"$f":"IF(D1174=\"\",\" \",'Main page'!$F$21-(D1174))","v":" "},{"$f":"IF(D1174=\"\",\" \",VLOOKUP(R1174,'Main page'!$E$29:'Main page'!$G$41,3,TRUE))","v":" "}]
[null,null,null,null,null,null,null,null,null,null,null,null," "," "," "," ",{"$f":"IF(I1175=\"\",\"\",IF(I1175<='Main page'!$F$49,\"Core staff\",\"Senior staff\"))","v":""},{"$f":"IF(D1175=\"\",\" \",'Main page'!$F$21-(D1175))","v":" "},{"$f":"IF(D1175=\"\",\" \",VLOOKUP(R1175,'Main page'!$E$29:'Main page'!$G$41,3,TRUE))","v":" "}]
[null,null,null,null,null,null,null,null,null,null,null,null," "," "," "," ",{"$f":"IF(I1176=\"\",\"\",IF(I1176<='Main page'!$F$49,\"Core staff\",\"Senior staff\"))","v":""},{"$f":"IF(D1176=\"\",\" \",'Main page'!$F$21-(D1176))","v":" "},{"$f":"IF(D1176=\"\",\" \",VLOOKUP(R1176,'Main page'!$E$29:'Main page'!$G$41,3,TRUE))","v":" "}]
[null,null,null,null,null,null,null,null,null,null,null,null," "," "," "," ",{"$f":"IF(I1177=\"\",\"\",IF(I1177<='Main page'!$F$49,\"Core staff\",\"Senior staff\"))","v":""},{"$f":"IF(D1177=\"\",\" \",'Main page'!$F$21-(D1177))","v":" "},{"$f":"IF(D1177=\"\",\" \",VLOOKUP(R1177,'Main page'!$E$29:'Main page'!$G$41,3,TRUE))","v":" "}]
[null,null,null,null,null,null,null,null,null,null,null,null," "," "," "," ",{"$f":"IF(I1178=\"\",\"\",IF(I1178<='Main page'!$F$49,\"Core staff\",\"Senior staff\"))","v":""},{"$f":"IF(D1178=\"\",\" \",'Main page'!$F$21-(D1178))","v":" "},{"$f":"IF(D1178=\"\",\" \",VLOOKUP(R1178,'Main page'!$E$29:'Main page'!$G$41,3,TRUE))","v":" "}]
[null,null,null,null,null,null,null,null,null,null,null,null," "," "," "," ",{"$f":"IF(I1179=\"\",\"\",IF(I1179<='Main page'!$F$49,\"Core staff\",\"Senior staff\"))","v":""},{"$f":"IF(D1179=\"\",\" \",'Main page'!$F$21-(D1179))","v":" "},{"$f":"IF(D1179=\"\",\" \",VLOOKUP(R1179,'Main page'!$E$29:'Main page'!$G$41,3,TRUE))","v":" "}]
[null,null,null,null,null,null,null,null,null,null,null,null," "," "," "," ",{"$f":"IF(I1180=\"\",\"\",IF(I1180<='Main page'!$F$49,\"Core staff\",\"Senior staff\"))","v":""},{"$f":"IF(D1180=\"\",\" \",'Main page'!$F$21-(D1180))","v":" "},{"$f":"IF(D1180=\"\",\" \",VLOOKUP(R1180,'Main page'!$E$29:'Main page'!$G$41,3,TRUE))","v":" "}]
[null,null,null,null,null,null,null,null,null,null,null,null," "," "," "," ",{"$f":"IF(I1181=\"\",\"\",IF(I1181<='Main page'!$F$49,\"Core staff\",\"Senior staff\"))","v":""},{"$f":"IF(D1181=\"\",\" \",'Main page'!$F$21-(D1181))","v":" "},{"$f":"IF(D1181=\"\",\" \",VLOOKUP(R1181,'Main page'!$E$29:'Main page'!$G$41,3,TRUE))","v":" "}]
[null,null,null,null,null,null,null,null,null,null,null,null," "," "," "," ",{"$f":"IF(I1182=\"\",\"\",IF(I1182<='Main page'!$F$49,\"Core staff\",\"Senior staff\"))","v":""},{"$f":"IF(D1182=\"\",\" \",'Main page'!$F$21-(D1182))","v":" "},{"$f":"IF(D1182=\"\",\" \",VLOOKUP(R1182,'Main page'!$E$29:'Main page'!$G$41,3,TRUE))","v":" "}]
[null,null,null,null,null,null,null,null,null,null,null,null," "," "," "," ",{"$f":"IF(I1183=\"\",\"\",IF(I1183<='Main page'!$F$49,\"Core staff\",\"Senior staff\"))","v":""},{"$f":"IF(D1183=\"\",\" \",'Main page'!$F$21-(D1183))","v":" "},{"$f":"IF(D1183=\"\",\" \",VLOOKUP(R1183,'Main page'!$E$29:'Main page'!$G$41,3,TRUE))","v":" "}]
[null,null,null,null,null,null,null,null,null,null,null,null," "," "," "," ",{"$f":"IF(I1184=\"\",\"\",IF(I1184<='Main page'!$F$49,\"Core staff\",\"Senior staff\"))","v":""},{"$f":"IF(D1184=\"\",\" \",'Main page'!$F$21-(D1184))","v":" "},{"$f":"IF(D1184=\"\",\" \",VLOOKUP(R1184,'Main page'!$E$29:'Main page'!$G$41,3,TRUE))","v":" "}]
[null,null,null,null,null,null,null,null,null,null,null,null," "," "," "," ",{"$f":"IF(I1185=\"\",\"\",IF(I1185<='Main page'!$F$49,\"Core staff\",\"Senior staff\"))","v":""},{"$f":"IF(D1185=\"\",\" \",'Main page'!$F$21-(D1185))","v":" "},{"$f":"IF(D1185=\"\",\" \",VLOOKUP(R1185,'Main page'!$E$29:'Main page'!$G$41,3,TRUE))","v":" "}]
[null,null,null,null,null,null,null,null,null,null,null,null," "," "," "," ",{"$f":"IF(I1186=\"\",\"\",IF(I1186<='Main page'!$F$49,\"Core staff\",\"Senior staff\"))","v":""},{"$f":"IF(D1186=\"\",\" \",'Main page'!$F$21-(D1186))","v":" "},{"$f":"IF(D1186=\"\",\" \",VLOOKUP(R1186,'Main page'!$E$29:'Main page'!$G$41,3,TRUE))","v":" "}]
[null,null,null,null,null,null,null,null,null,null,null,null," "," "," "," ",{"$f":"IF(I1187=\"\",\"\",IF(I1187<='Main page'!$F$49,\"Core staff\",\"Senior staff\"))","v":""},{"$f":"IF(D1187=\"\",\" \",'Main page'!$F$21-(D1187))","v":" "},{"$f":"IF(D1187=\"\",\" \",VLOOKUP(R1187,'Main page'!$E$29:'Main page'!$G$41,3,TRUE))","v":" "}]
[null,null,null,null,null,null,null,null,null,null,null,null," "," "," "," ",{"$f":"IF(I1188=\"\",\"\",IF(I1188<='Main page'!$F$49,\"Core staff\",\"Senior staff\"))","v":""},{"$f":"IF(D1188=\"\",\" \",'Main page'!$F$21-(D1188))","v":" "},{"$f":"IF(D1188=\"\",\" \",VLOOKUP(R1188,'Main page'!$E$29:'Main page'!$G$41,3,TRUE))","v":" "}]
[null,null,null,null,null,null,null,null,null,null,null,null," "," "," "," ",{"$f":"IF(I1189=\"\",\"\",IF(I1189<='Main page'!$F$49,\"Core staff\",\"Senior staff\"))","v":""},{"$f":"IF(D1189=\"\",\" \",'Main page'!$F$21-(D1189))","v":" "},{"$f":"IF(D1189=\"\",\" \",VLOOKUP(R1189,'Main page'!$E$29:'Main page'!$G$41,3,TRUE))","v":" "}]
[null,null,null,null,null,null,null,null,null,null,null,null," "," "," "," ",{"$f":"IF(I1190=\"\",\"\",IF(I1190<='Main page'!$F$49,\"Core staff\",\"Senior staff\"))","v":""},{"$f":"IF(D1190=\"\",\" \",'Main page'!$F$21-(D1190))","v":" "},{"$f":"IF(D1190=\"\",\" \",VLOOKUP(R1190,'Main page'!$E$29:'Main page'!$G$41,3,TRUE))","v":" "}]
[null,null,null,null,null,null,null,null,null,null,null,null," "," "," "," ",{"$f":"IF(I1191=\"\",\"\",IF(I1191<='Main page'!$F$49,\"Core staff\",\"Senior staff\"))","v":""},{"$f":"IF(D1191=\"\",\" \",'Main page'!$F$21-(D1191))","v":" "},{"$f":"IF(D1191=\"\",\" \",VLOOKUP(R1191,'Main page'!$E$29:'Main page'!$G$41,3,TRUE))","v":" "}]
[null,null,null,null,null,null,null,null,null,null,null,null," "," "," "," ",{"$f":"IF(I1192=\"\",\"\",IF(I1192<='Main page'!$F$49,\"Core staff\",\"Senior staff\"))","v":""},{"$f":"IF(D1192=\"\",\" \",'Main page'!$F$21-(D1192))","v":" "},{"$f":"IF(D1192=\"\",\" \",VLOOKUP(R1192,'Main page'!$E$29:'Main page'!$G$41,3,TRUE))","v":" "}]
[null,null,null,null,null,null,null,null,null,null,null,null," "," "," "," ",{"$f":"IF(I1193=\"\",\"\",IF(I1193<='Main page'!$F$49,\"Core staff\",\"Senior staff\"))","v":""},{"$f":"IF(D1193=\"\",\" \",'Main page'!$F$21-(D1193))","v":" "},{"$f":"IF(D1193=\"\",\" \",VLOOKUP(R1193,'Main page'!$E$29:'Main page'!$G$41,3,TRUE))","v":" "}]
[null,null,null,null,null,null,null,null,null,null,null,null," "," "," "," ",{"$f":"IF(I1194=\"\",\"\",IF(I1194<='Main page'!$F$49,\"Core staff\",\"Senior staff\"))","v":""},{"$f":"IF(D1194=\"\",\" \",'Main page'!$F$21-(D1194))","v":" "},{"$f":"IF(D1194=\"\",\" \",VLOOKUP(R1194,'Main page'!$E$29:'Main page'!$G$41,3,TRUE))","v":" "}]
[null,null,null,null,null,null,null,null,null,null,null,null," "," "," "," ",{"$f":"IF(I1195=\"\",\"\",IF(I1195<='Main page'!$F$49,\"Core staff\",\"Senior staff\"))","v":""},{"$f":"IF(D1195=\"\",\" \",'Main page'!$F$21-(D1195))","v":" "},{"$f":"IF(D1195=\"\",\" \",VLOOKUP(R1195,'Main page'!$E$29:'Main page'!$G$41,3,TRUE))","v":" "}]
[null,null,null,null,null,null,null,null,null,null,null,null," "," "," "," ",{"$f":"IF(I1196=\"\",\"\",IF(I1196<='Main page'!$F$49,\"Core staff\",\"Senior staff\"))","v":""},{"$f":"IF(D1196=\"\",\" \",'Main page'!$F$21-(D1196))","v":" "},{"$f":"IF(D1196=\"\",\" \",VLOOKUP(R1196,'Main page'!$E$29:'Main page'!$G$41,3,TRUE))","v":" "}]
[null,null,null,null,null,null,null,null,null,null,null,null," "," "," "," ",{"$f":"IF(I1197=\"\",\"\",IF(I1197<='Main page'!$F$49,\"Core staff\",\"Senior staff\"))","v":""},{"$f":"IF(D1197=\"\",\" \",'Main page'!$F$21-(D1197))","v":" "},{"$f":"IF(D1197=\"\",\" \",VLOOKUP(R1197,'Main page'!$E$29:'Main page'!$G$41,3,TRUE))","v":" "}]
[null,null,null,null,null,null,null,null,null,null,null,null," "," "," "," ",{"$f":"IF(I1198=\"\",\"\",IF(I1198<='Main page'!$F$49,\"Core staff\",\"Senior staff\"))","v":""},{"$f":"IF(D1198=\"\",\" \",'Main page'!$F$21-(D1198))","v":" "},{"$f":"IF(D1198=\"\",\" \",VLOOKUP(R1198,'Main page'!$E$29:'Main page'!$G$41,3,TRUE))","v":" "}]
[null,null,null,null,null,null,null,null,null,null,null,null," "," "," "," ",{"$f":"IF(I1199=\"\",\"\",IF(I1199<='Main page'!$F$49,\"Core staff\",\"Senior staff\"))","v":""},{"$f":"IF(D1199=\"\",\" \",'Main page'!$F$21-(D1199))","v":" "},{"$f":"IF(D1199=\"\",\" \",VLOOKUP(R1199,'Main page'!$E$29:'Main page'!$G$41,3,TRUE))","v":" "}]
[null,null,null,null,null,null,null,null,null,null,null,null," "," "," "," ",{"$f":"IF(I1200=\"\",\"\",IF(I1200<='Main page'!$F$49,\"Core staff\",\"Senior staff\"))","v":""},{"$f":"IF(D1200=\"\",\" \",'Main page'!$F$21-(D1200))","v":" "},{"$f":"IF(D1200=\"\",\" \",VLOOKUP(R1200,'Main page'!$E$29:'Main page'!$G$41,3,TRUE))","v":" "}]
[null,null,null,null,null,null,null,null,null,null,null,null," "," "," "," ",{"$f":"IF(I1201=\"\",\"\",IF(I1201<='Main page'!$F$49,\"Core staff\",\"Senior staff\"))","v":""},{"$f":"IF(D1201=\"\",\" \",'Main page'!$F$21-(D1201))","v":" "},{"$f":"IF(D1201=\"\",\" \",VLOOKUP(R1201,'Main page'!$E$29:'Main page'!$G$41,3,TRUE))","v":" "}]
[null,null,null,null,null,null,null,null,null,null,null,null," "," "," "," ",{"$f":"IF(I1202=\"\",\"\",IF(I1202<='Main page'!$F$49,\"Core staff\",\"Senior staff\"))","v":""},{"$f":"IF(D1202=\"\",\" \",'Main page'!$F$21-(D1202))","v":" "},{"$f":"IF(D1202=\"\",\" \",VLOOKUP(R1202,'Main page'!$E$29:'Main page'!$G$41,3,TRUE))","v":" "}]
[null,null,null,null,null,null,null,null,null,null,null,null," "," "," "," ",{"$f":"IF(I1203=\"\",\"\",IF(I1203<='Main page'!$F$49,\"Core staff\",\"Senior staff\"))","v":""},{"$f":"IF(D1203=\"\",\" \",'Main page'!$F$21-(D1203))","v":" "},{"$f":"IF(D1203=\"\",\" \",VLOOKUP(R1203,'Main page'!$E$29:'Main page'!$G$41,3,TRUE))","v":" "}]
[null,null,null,null,null,null,null,null,null,null,null,null," "," "," "," ",{"$f":"IF(I1204=\"\",\"\",IF(I1204<='Main page'!$F$49,\"Core staff\",\"Senior staff\"))","v":""},{"$f":"IF(D1204=\"\",\" \",'Main page'!$F$21-(D1204))","v":" "},{"$f":"IF(D1204=\"\",\" \",VLOOKUP(R1204,'Main page'!$E$29:'Main page'!$G$41,3,TRUE))","v":" "}]
[null,null,null,null,null,null,null,null,null,null,null,null," "," "," "," ",{"$f":"IF(I1205=\"\",\"\",IF(I1205<='Main page'!$F$49,\"Core staff\",\"Senior staff\"))","v":""},{"$f":"IF(D1205=\"\",\" \",'Main page'!$F$21-(D1205))","v":" "},{"$f":"IF(D1205=\"\",\" \",VLOOKUP(R1205,'Main page'!$E$29:'Main page'!$G$41,3,TRUE))","v":" "}]
[null,null,null,null,null,null,null,null,null,null,null,null," "," "," "," ",{"$f":"IF(I1206=\"\",\"\",IF(I1206<='Main page'!$F$49,\"Core staff\",\"Senior staff\"))","v":""},{"$f":"IF(D1206=\"\",\" \",'Main page'!$F$21-(D1206))","v":" "},{"$f":"IF(D1206=\"\",\" \",VLOOKUP(R1206,'Main page'!$E$29:'Main page'!$G$41,3,TRUE))","v":" "}]
[null,null,null,null,null,null,null,null,null,null,null,null," "," "," "," ",{"$f":"IF(I1207=\"\",\"\",IF(I1207<='Main page'!$F$49,\"Core staff\",\"Senior staff\"))","v":""},{"$f":"IF(D1207=\"\",\" \",'Main page'!$F$21-(D1207))","v":" "},{"$f":"IF(D1207=\"\",\" \",VLOOKUP(R1207,'Main page'!$E$29:'Main page'!$G$41,3,TRUE))","v":" "}]
[null,null,null,null,null,null,null,null,null,null,null,null," "," "," "," ",{"$f":"IF(I1208=\"\",\"\",IF(I1208<='Main page'!$F$49,\"Core staff\",\"Senior staff\"))","v":""},{"$f":"IF(D1208=\"\",\" \",'Main page'!$F$21-(D1208))","v":" "},{"$f":"IF(D1208=\"\",\" \",VLOOKUP(R1208,'Main page'!$E$29:'Main page'!$G$41,3,TRUE))","v":" "}]
[null,null,null,null,null,null,null,null,null,null,null,null," "," "," "," ",{"$f":"IF(I1209=\"\",\"\",IF(I1209<='Main page'!$F$49,\"Core staff\",\"Senior staff\"))","v":""},{"$f":"IF(D1209=\"\",\" \",'Main page'!$F$21-(D1209))","v":" "},{"$f":"IF(D1209=\"\",\" \",VLOOKUP(R1209,'Main page'!$E$29:'Main page'!$G$41,3,TRUE))","v":" "}]
[null,null,null,null,null,null,null,null,null,null,null,null," "," "," "," ",{"$f":"IF(I1210=\"\",\"\",IF(I1210<='Main page'!$F$49,\"Core staff\",\"Senior staff\"))","v":""},{"$f":"IF(D1210=\"\",\" \",'Main page'!$F$21-(D1210))","v":" "},{"$f":"IF(D1210=\"\",\" \",VLOOKUP(R1210,'Main page'!$E$29:'Main page'!$G$41,3,TRUE))","v":" "}]
[null,null,null,null,null,null,null,null,null,null,null,null," "," "," "," ",{"$f":"IF(I1211=\"\",\"\",IF(I1211<='Main page'!$F$49,\"Core staff\",\"Senior staff\"))","v":""},{"$f":"IF(D1211=\"\",\" \",'Main page'!$F$21-(D1211))","v":" "},{"$f":"IF(D1211=\"\",\" \",VLOOKUP(R1211,'Main page'!$E$29:'Main page'!$G$41,3,TRUE))","v":" "}]
[null,null,null,null,null,null,null,null,null,null,null,null," "," "," "," ",{"$f":"IF(I1212=\"\",\"\",IF(I1212<='Main page'!$F$49,\"Core staff\",\"Senior staff\"))","v":""},{"$f":"IF(D1212=\"\",\" \",'Main page'!$F$21-(D1212))","v":" "},{"$f":"IF(D1212=\"\",\" \",VLOOKUP(R1212,'Main page'!$E$29:'Main page'!$G$41,3,TRUE))","v":" "}]
[null,null,null,null,null,null,null,null,null,null,null,null," "," "," "," ",{"$f":"IF(I1213=\"\",\"\",IF(I1213<='Main page'!$F$49,\"Core staff\",\"Senior staff\"))","v":""},{"$f":"IF(D1213=\"\",\" \",'Main page'!$F$21-(D1213))","v":" "},{"$f":"IF(D1213=\"\",\" \",VLOOKUP(R1213,'Main page'!$E$29:'Main page'!$G$41,3,TRUE))","v":" "}]
[null,null,null,null,null,null,null,null,null,null,null,null," "," "," "," ",{"$f":"IF(I1214=\"\",\"\",IF(I1214<='Main page'!$F$49,\"Core staff\",\"Senior staff\"))","v":""},{"$f":"IF(D1214=\"\",\" \",'Main page'!$F$21-(D1214))","v":" "},{"$f":"IF(D1214=\"\",\" \",VLOOKUP(R1214,'Main page'!$E$29:'Main page'!$G$41,3,TRUE))","v":" "}]
[null,null,null,null,null,null,null,null,null,null,null,null," "," "," "," ",{"$f":"IF(I1215=\"\",\"\",IF(I1215<='Main page'!$F$49,\"Core staff\",\"Senior staff\"))","v":""},{"$f":"IF(D1215=\"\",\" \",'Main page'!$F$21-(D1215))","v":" "},{"$f":"IF(D1215=\"\",\" \",VLOOKUP(R1215,'Main page'!$E$29:'Main page'!$G$41,3,TRUE))","v":" "}]
[null,null,null,null,null,null,null,null,null,null,null,null," "," "," "," ",{"$f":"IF(I1216=\"\",\"\",IF(I1216<='Main page'!$F$49,\"Core staff\",\"Senior staff\"))","v":""},{"$f":"IF(D1216=\"\",\" \",'Main page'!$F$21-(D1216))","v":" "},{"$f":"IF(D1216=\"\",\" \",VLOOKUP(R1216,'Main page'!$E$29:'Main page'!$G$41,3,TRUE))","v":" "}]
[null,null,null,null,null,null,null,null,null,null,null,null," "," "," "," ",{"$f":"IF(I1217=\"\",\"\",IF(I1217<='Main page'!$F$49,\"Core staff\",\"Senior staff\"))","v":""},{"$f":"IF(D1217=\"\",\" \",'Main page'!$F$21-(D1217))","v":" "},{"$f":"IF(D1217=\"\",\" \",VLOOKUP(R1217,'Main page'!$E$29:'Main page'!$G$41,3,TRUE))","v":" "}]
[null,null,null,null,null,null,null,null,null,null,null,null," "," "," "," ",{"$f":"IF(I1218=\"\",\"\",IF(I1218<='Main page'!$F$49,\"Core staff\",\"Senior staff\"))","v":""},{"$f":"IF(D1218=\"\",\" \",'Main page'!$F$21-(D1218))","v":" "},{"$f":"IF(D1218=\"\",\" \",VLOOKUP(R1218,'Main page'!$E$29:'Main page'!$G$41,3,TRUE))","v":" "}]
[null,null,null,null,null,null,null,null,null,null,null,null," "," "," "," ",{"$f":"IF(I1219=\"\",\"\",IF(I1219<='Main page'!$F$49,\"Core staff\",\"Senior staff\"))","v":""},{"$f":"IF(D1219=\"\",\" \",'Main page'!$F$21-(D1219))","v":" "},{"$f":"IF(D1219=\"\",\" \",VLOOKUP(R1219,'Main page'!$E$29:'Main page'!$G$41,3,TRUE))","v":" "}]
[null,null,null,null,null,null,null,null,null,null,null,null," "," "," "," ",{"$f":"IF(I1220=\"\",\"\",IF(I1220<='Main page'!$F$49,\"Core staff\",\"Senior staff\"))","v":""},{"$f":"IF(D1220=\"\",\" \",'Main page'!$F$21-(D1220))","v":" "},{"$f":"IF(D1220=\"\",\" \",VLOOKUP(R1220,'Main page'!$E$29:'Main page'!$G$41,3,TRUE))","v":" "}]
[null,null,null,null,null,null,null,null,null,null,null,null," "," "," "," ",{"$f":"IF(I1221=\"\",\"\",IF(I1221<='Main page'!$F$49,\"Core staff\",\"Senior staff\"))","v":""},{"$f":"IF(D1221=\"\",\" \",'Main page'!$F$21-(D1221))","v":" "},{"$f":"IF(D1221=\"\",\" \",VLOOKUP(R1221,'Main page'!$E$29:'Main page'!$G$41,3,TRUE))","v":" "}]
[null,null,null,null,null,null,null,null,null,null,null,null," "," "," "," ",{"$f":"IF(I1222=\"\",\"\",IF(I1222<='Main page'!$F$49,\"Core staff\",\"Senior staff\"))","v":""},{"$f":"IF(D1222=\"\",\" \",'Main page'!$F$21-(D1222))","v":" "},{"$f":"IF(D1222=\"\",\" \",VLOOKUP(R1222,'Main page'!$E$29:'Main page'!$G$41,3,TRUE))","v":" "}]
[null,null,null,null,null,null,null,null,null,null,null,null," "," "," "," ",{"$f":"IF(I1223=\"\",\"\",IF(I1223<='Main page'!$F$49,\"Core staff\",\"Senior staff\"))","v":""},{"$f":"IF(D1223=\"\",\" \",'Main page'!$F$21-(D1223))","v":" "},{"$f":"IF(D1223=\"\",\" \",VLOOKUP(R1223,'Main page'!$E$29:'Main page'!$G$41,3,TRUE))","v":" "}]
[null,null,null,null,null,null,null,null,null,null,null,null," "," "," "," ",{"$f":"IF(I1224=\"\",\"\",IF(I1224<='Main page'!$F$49,\"Core staff\",\"Senior staff\"))","v":""},{"$f":"IF(D1224=\"\",\" \",'Main page'!$F$21-(D1224))","v":" "},{"$f":"IF(D1224=\"\",\" \",VLOOKUP(R1224,'Main page'!$E$29:'Main page'!$G$41,3,TRUE))","v":" "}]
[null,null,null,null,null,null,null,null,null,null,null,null," "," "," "," ",{"$f":"IF(I1225=\"\",\"\",IF(I1225<='Main page'!$F$49,\"Core staff\",\"Senior staff\"))","v":""},{"$f":"IF(D1225=\"\",\" \",'Main page'!$F$21-(D1225))","v":" "},{"$f":"IF(D1225=\"\",\" \",VLOOKUP(R1225,'Main page'!$E$29:'Main page'!$G$41,3,TRUE))","v":" "}]
[null,null,null,null,null,null,null,null,null,null,null,null," "," "," "," ",{"$f":"IF(I1226=\"\",\"\",IF(I1226<='Main page'!$F$49,\"Core staff\",\"Senior staff\"))","v":""},{"$f":"IF(D1226=\"\",\" \",'Main page'!$F$21-(D1226))","v":" "},{"$f":"IF(D1226=\"\",\" \",VLOOKUP(R1226,'Main page'!$E$29:'Main page'!$G$41,3,TRUE))","v":" "}]
[null,null,null,null,null,null,null,null,null,null,null,null," "," "," "," ",{"$f":"IF(I1227=\"\",\"\",IF(I1227<='Main page'!$F$49,\"Core staff\",\"Senior staff\"))","v":""},{"$f":"IF(D1227=\"\",\" \",'Main page'!$F$21-(D1227))","v":" "},{"$f":"IF(D1227=\"\",\" \",VLOOKUP(R1227,'Main page'!$E$29:'Main page'!$G$41,3,TRUE))","v":" "}]
[null,null,null,null,null,null,null,null,null,null,null,null," "," "," "," ",{"$f":"IF(I1228=\"\",\"\",IF(I1228<='Main page'!$F$49,\"Core staff\",\"Senior staff\"))","v":""},{"$f":"IF(D1228=\"\",\" \",'Main page'!$F$21-(D1228))","v":" "},{"$f":"IF(D1228=\"\",\" \",VLOOKUP(R1228,'Main page'!$E$29:'Main page'!$G$41,3,TRUE))","v":" "}]
[null,null,null,null,null,null,null,null,null,null,null,null," "," "," "," ",{"$f":"IF(I1229=\"\",\"\",IF(I1229<='Main page'!$F$49,\"Core staff\",\"Senior staff\"))","v":""},{"$f":"IF(D1229=\"\",\" \",'Main page'!$F$21-(D1229))","v":" "},{"$f":"IF(D1229=\"\",\" \",VLOOKUP(R1229,'Main page'!$E$29:'Main page'!$G$41,3,TRUE))","v":" "}]
[null,null,null,null,null,null,null,null,null,null,null,null,{"$f":"IFERROR(J1230/G1230,\" \")","v":" "},{"$f":"IFERROR((M1230/$U$4)/H1230,\" \")","v":" "},{"$f":"IFERROR((N1230*75)*26.083,\" \")","v":" "},{"$f":"IF(G1230=0,\" \",IF(G1230=1,\"Full time\",\"Part time\"))","v":" "},{"$f":"IF(I1230=\"\",\"\",IF(I1230<='Main page'!$F$49,\"Core staff\",\"Senior staff\"))","v":""},{"$f":"IF(D1230=\"\",\" \",'Main page'!$F$21-(D1230))","v":" "},{"$f":"IF(D1230=\"\",\" \",VLOOKUP(R1230,'Main page'!$E$29:'Main page'!$G$41,3,TRUE))","v":" "}]
[null,null,null,null,null,null,null,null,null,null,null,null," "," "," "," ",{"$f":"IF(I1231=\"\",\"\",IF(I1231<='Main page'!$F$49,\"Core staff\",\"Senior staff\"))","v":""},{"$f":"IF(D1231=\"\",\" \",'Main page'!$F$21-(D1231))","v":" "},{"$f":"IF(D1231=\"\",\" \",VLOOKUP(R1231,'Main page'!$E$29:'Main page'!$G$41,3,TRUE))","v":" "}]
[null,null,null,null,null,null,null,null,null,null,null,null," "," "," "," ",{"$f":"IF(I1232=\"\",\"\",IF(I1232<='Main page'!$F$49,\"Core staff\",\"Senior staff\"))","v":""},{"$f":"IF(D1232=\"\",\" \",'Main page'!$F$21-(D1232))","v":" "},{"$f":"IF(D1232=\"\",\" \",VLOOKUP(R1232,'Main page'!$E$29:'Main page'!$G$41,3,TRUE))","v":" "}]
[null,null,null,null,null,null,null,null,null,null,null,null," "," "," "," ",{"$f":"IF(I1233=\"\",\"\",IF(I1233<='Main page'!$F$49,\"Core staff\",\"Senior staff\"))","v":""},{"$f":"IF(D1233=\"\",\" \",'Main page'!$F$21-(D1233))","v":" "},{"$f":"IF(D1233=\"\",\" \",VLOOKUP(R1233,'Main page'!$E$29:'Main page'!$G$41,3,TRUE))","v":" "}]
[null,null,null,null,null,null,null,null,null,null,null,null," "," "," "," ",{"$f":"IF(I1234=\"\",\"\",IF(I1234<='Main page'!$F$49,\"Core staff\",\"Senior staff\"))","v":""},{"$f":"IF(D1234=\"\",\" \",'Main page'!$F$21-(D1234))","v":" "},{"$f":"IF(D1234=\"\",\" \",VLOOKUP(R1234,'Main page'!$E$29:'Main page'!$G$41,3,TRUE))","v":" "}]
[null,null,null,null,null,null,null,null,null,null,null,null," "," "," "," ",{"$f":"IF(I1235=\"\",\"\",IF(I1235<='Main page'!$F$49,\"Core staff\",\"Senior staff\"))","v":""},{"$f":"IF(D1235=\"\",\" \",'Main page'!$F$21-(D1235))","v":" "},{"$f":"IF(D1235=\"\",\" \",VLOOKUP(R1235,'Main page'!$E$29:'Main page'!$G$41,3,TRUE))","v":" "}]
[null,null,null,null,null,null,null,null,null,null,null,null," "," "," "," ",{"$f":"IF(I1236=\"\",\"\",IF(I1236<='Main page'!$F$49,\"Core staff\",\"Senior staff\"))","v":""},{"$f":"IF(D1236=\"\",\" \",'Main page'!$F$21-(D1236))","v":" "},{"$f":"IF(D1236=\"\",\" \",VLOOKUP(R1236,'Main page'!$E$29:'Main page'!$G$41,3,TRUE))","v":" "}]
[null,null,null,null,null,null,null,null,null,null,null,null," "," "," "," ",{"$f":"IF(I1237=\"\",\"\",IF(I1237<='Main page'!$F$49,\"Core staff\",\"Senior staff\"))","v":""},{"$f":"IF(D1237=\"\",\" \",'Main page'!$F$21-(D1237))","v":" "},{"$f":"IF(D1237=\"\",\" \",VLOOKUP(R1237,'Main page'!$E$29:'Main page'!$G$41,3,TRUE))","v":" "}]
[null,null,null,null,null,null,null,null,null,null,null,null," "," "," "," ",{"$f":"IF(I1238=\"\",\"\",IF(I1238<='Main page'!$F$49,\"Core staff\",\"Senior staff\"))","v":""},{"$f":"IF(D1238=\"\",\" \",'Main page'!$F$21-(D1238))","v":" "},{"$f":"IF(D1238=\"\",\" \",VLOOKUP(R1238,'Main page'!$E$29:'Main page'!$G$41,3,TRUE))","v":" "}]
[null,null,null,null,null,null,null,null,null,null,null,null," "," "," "," ",{"$f":"IF(I1239=\"\",\"\",IF(I1239<='Main page'!$F$49,\"Core staff\",\"Senior staff\"))","v":""},{"$f":"IF(D1239=\"\",\" \",'Main page'!$F$21-(D1239))","v":" "},{"$f":"IF(D1239=\"\",\" \",VLOOKUP(R1239,'Main page'!$E$29:'Main page'!$G$41,3,TRUE))","v":" "}]
[null,null,null,null,null,null,null,null,null,null,null,null," "," "," "," ",{"$f":"IF(I1240=\"\",\"\",IF(I1240<='Main page'!$F$49,\"Core staff\",\"Senior staff\"))","v":""},{"$f":"IF(D1240=\"\",\" \",'Main page'!$F$21-(D1240))","v":" "},{"$f":"IF(D1240=\"\",\" \",VLOOKUP(R1240,'Main page'!$E$29:'Main page'!$G$41,3,TRUE))","v":" "}]
[null,null,null,null,null,null,null,null,null,null,null,null," "," "," "," ",{"$f":"IF(I1241=\"\",\"\",IF(I1241<='Main page'!$F$49,\"Core staff\",\"Senior staff\"))","v":""},{"$f":"IF(D1241=\"\",\" \",'Main page'!$F$21-(D1241))","v":" "},{"$f":"IF(D1241=\"\",\" \",VLOOKUP(R1241,'Main page'!$E$29:'Main page'!$G$41,3,TRUE))","v":" "}]
[null,null,null,null,null,null,null,null,null,null,null,null," "," "," "," ",{"$f":"IF(I1242=\"\",\"\",IF(I1242<='Main page'!$F$49,\"Core staff\",\"Senior staff\"))","v":""},{"$f":"IF(D1242=\"\",\" \",'Main page'!$F$21-(D1242))","v":" "},{"$f":"IF(D1242=\"\",\" \",VLOOKUP(R1242,'Main page'!$E$29:'Main page'!$G$41,3,TRUE))","v":" "}]
[null,null,null,null,null,null,null,null,null,null,null,null," "," "," "," ",{"$f":"IF(I1243=\"\",\"\",IF(I1243<='Main page'!$F$49,\"Core staff\",\"Senior staff\"))","v":""},{"$f":"IF(D1243=\"\",\" \",'Main page'!$F$21-(D1243))","v":" "},{"$f":"IF(D1243=\"\",\" \",VLOOKUP(R1243,'Main page'!$E$29:'Main page'!$G$41,3,TRUE))","v":" "}]
[null,null,null,null,null,null,null,null,null,null,null,null," "," "," "," ",{"$f":"IF(I1244=\"\",\"\",IF(I1244<='Main page'!$F$49,\"Core staff\",\"Senior staff\"))","v":""},{"$f":"IF(D1244=\"\",\" \",'Main page'!$F$21-(D1244))","v":" "},{"$f":"IF(D1244=\"\",\" \",VLOOKUP(R1244,'Main page'!$E$29:'Main page'!$G$41,3,TRUE))","v":" "}]
[null,null,null,null,null,null,null,null,null,null,null,null," "," "," "," ",{"$f":"IF(I1245=\"\",\"\",IF(I1245<='Main page'!$F$49,\"Core staff\",\"Senior staff\"))","v":""},{"$f":"IF(D1245=\"\",\" \",'Main page'!$F$21-(D1245))","v":" "},{"$f":"IF(D1245=\"\",\" \",VLOOKUP(R1245,'Main page'!$E$29:'Main page'!$G$41,3,TRUE))","v":" "}]
[null,null,null,null,null,null,null,null,null,null,null,null," "," "," "," ",{"$f":"IF(I1246=\"\",\"\",IF(I1246<='Main page'!$F$49,\"Core staff\",\"Senior staff\"))","v":""},{"$f":"IF(D1246=\"\",\" \",'Main page'!$F$21-(D1246))","v":" "},{"$f":"IF(D1246=\"\",\" \",VLOOKUP(R1246,'Main page'!$E$29:'Main page'!$G$41,3,TRUE))","v":" "}]
[null,null,null,null,null,null,null,null,null,null,null,null," "," "," "," ",{"$f":"IF(I1247=\"\",\"\",IF(I1247<='Main page'!$F$49,\"Core staff\",\"Senior staff\"))","v":""},{"$f":"IF(D1247=\"\",\" \",'Main page'!$F$21-(D1247))","v":" "},{"$f":"IF(D1247=\"\",\" \",VLOOKUP(R1247,'Main page'!$E$29:'Main page'!$G$41,3,TRUE))","v":" "}]
[null,null,null,null,null,null,null,null,null,null,null,null," "," "," "," ",{"$f":"IF(I1248=\"\",\"\",IF(I1248<='Main page'!$F$49,\"Core staff\",\"Senior staff\"))","v":""},{"$f":"IF(D1248=\"\",\" \",'Main page'!$F$21-(D1248))","v":" "},{"$f":"IF(D1248=\"\",\" \",VLOOKUP(R1248,'Main page'!$E$29:'Main page'!$G$41,3,TRUE))","v":" "}]
[null,null,null,null,null,null,null,null,null,null,null,null," "," "," "," ",{"$f":"IF(I1249=\"\",\"\",IF(I1249<='Main page'!$F$49,\"Core staff\",\"Senior staff\"))","v":""},{"$f":"IF(D1249=\"\",\" \",'Main page'!$F$21-(D1249))","v":" "},{"$f":"IF(D1249=\"\",\" \",VLOOKUP(R1249,'Main page'!$E$29:'Main page'!$G$41,3,TRUE))","v":" "}]
[null,null,null,null,null,null,null,null,null,null,null,null," "," "," "," ",{"$f":"IF(I1250=\"\",\"\",IF(I1250<='Main page'!$F$49,\"Core staff\",\"Senior staff\"))","v":""},{"$f":"IF(D1250=\"\",\" \",'Main page'!$F$21-(D1250))","v":" "},{"$f":"IF(D1250=\"\",\" \",VLOOKUP(R1250,'Main page'!$E$29:'Main page'!$G$41,3,TRUE))","v":" "}]
[null,null,null,null,null,null,null,null,null,null,null,null," "," "," "," ",{"$f":"IF(I1251=\"\",\"\",IF(I1251<='Main page'!$F$49,\"Core staff\",\"Senior staff\"))","v":""},{"$f":"IF(D1251=\"\",\" \",'Main page'!$F$21-(D1251))","v":" "},{"$f":"IF(D1251=\"\",\" \",VLOOKUP(R1251,'Main page'!$E$29:'Main page'!$G$41,3,TRUE))","v":" "}]
[null,null,null,null,null,null,null,null,null,null,null,null," "," "," "," ",{"$f":"IF(I1252=\"\",\"\",IF(I1252<='Main page'!$F$49,\"Core staff\",\"Senior staff\"))","v":""},{"$f":"IF(D1252=\"\",\" \",'Main page'!$F$21-(D1252))","v":" "},{"$f":"IF(D1252=\"\",\" \",VLOOKUP(R1252,'Main page'!$E$29:'Main page'!$G$41,3,TRUE))","v":" "}]
[null,null,null,null,null,null,null,null,null,null,null,null," "," "," "," ",{"$f":"IF(I1253=\"\",\"\",IF(I1253<='Main page'!$F$49,\"Core staff\",\"Senior staff\"))","v":""},{"$f":"IF(D1253=\"\",\" \",'Main page'!$F$21-(D1253))","v":" "},{"$f":"IF(D1253=\"\",\" \",VLOOKUP(R1253,'Main page'!$E$29:'Main page'!$G$41,3,TRUE))","v":" "}]
[null,null,null,null,null,null,null,null,null,null,null,null," "," "," "," ",{"$f":"IF(I1254=\"\",\"\",IF(I1254<='Main page'!$F$49,\"Core staff\",\"Senior staff\"))","v":""},{"$f":"IF(D1254=\"\",\" \",'Main page'!$F$21-(D1254))","v":" "},{"$f":"IF(D1254=\"\",\" \",VLOOKUP(R1254,'Main page'!$E$29:'Main page'!$G$41,3,TRUE))","v":" "}]
[null,null,null,null,null,null,null,null,null,null,null,null," "," "," "," ",{"$f":"IF(I1255=\"\",\"\",IF(I1255<='Main page'!$F$49,\"Core staff\",\"Senior staff\"))","v":""},{"$f":"IF(D1255=\"\",\" \",'Main page'!$F$21-(D1255))","v":" "},{"$f":"IF(D1255=\"\",\" \",VLOOKUP(R1255,'Main page'!$E$29:'Main page'!$G$41,3,TRUE))","v":" "}]
[null,null,null,null,null,null,null,null,null,null,null,null," "," "," "," ",{"$f":"IF(I1256=\"\",\"\",IF(I1256<='Main page'!$F$49,\"Core staff\",\"Senior staff\"))","v":""},{"$f":"IF(D1256=\"\",\" \",'Main page'!$F$21-(D1256))","v":" "},{"$f":"IF(D1256=\"\",\" \",VLOOKUP(R1256,'Main page'!$E$29:'Main page'!$G$41,3,TRUE))","v":" "}]
[null,null,null,null,null,null,null,null,null,null,null,null," "," "," "," ",{"$f":"IF(I1257=\"\",\"\",IF(I1257<='Main page'!$F$49,\"Core staff\",\"Senior staff\"))","v":""},{"$f":"IF(D1257=\"\",\" \",'Main page'!$F$21-(D1257))","v":" "},{"$f":"IF(D1257=\"\",\" \",VLOOKUP(R1257,'Main page'!$E$29:'Main page'!$G$41,3,TRUE))","v":" "}]
[null,null,null,null,null,null,null,null,null,null,null,null," "," "," "," ",{"$f":"IF(I1258=\"\",\"\",IF(I1258<='Main page'!$F$49,\"Core staff\",\"Senior staff\"))","v":""},{"$f":"IF(D1258=\"\",\" \",'Main page'!$F$21-(D1258))","v":" "},{"$f":"IF(D1258=\"\",\" \",VLOOKUP(R1258,'Main page'!$E$29:'Main page'!$G$41,3,TRUE))","v":" "}]
[null,null,null,null,null,null,null,null,null,null,null,null," "," "," "," ",{"$f":"IF(I1259=\"\",\"\",IF(I1259<='Main page'!$F$49,\"Core staff\",\"Senior staff\"))","v":""},{"$f":"IF(D1259=\"\",\" \",'Main page'!$F$21-(D1259))","v":" "},{"$f":"IF(D1259=\"\",\" \",VLOOKUP(R1259,'Main page'!$E$29:'Main page'!$G$41,3,TRUE))","v":" "}]
[null,null,null,null,null,null,null,null,null,null,null,null," "," "," "," ",{"$f":"IF(I1260=\"\",\"\",IF(I1260<='Main page'!$F$49,\"Core staff\",\"Senior staff\"))","v":""},{"$f":"IF(D1260=\"\",\" \",'Main page'!$F$21-(D1260))","v":" "},{"$f":"IF(D1260=\"\",\" \",VLOOKUP(R1260,'Main page'!$E$29:'Main page'!$G$41,3,TRUE))","v":" "}]
[null,null,null,null,null,null,null,null,null,null,null,null," "," "," "," ",{"$f":"IF(I1261=\"\",\"\",IF(I1261<='Main page'!$F$49,\"Core staff\",\"Senior staff\"))","v":""},{"$f":"IF(D1261=\"\",\" \",'Main page'!$F$21-(D1261))","v":" "},{"$f":"IF(D1261=\"\",\" \",VLOOKUP(R1261,'Main page'!$E$29:'Main page'!$G$41,3,TRUE))","v":" "}]
[null,null,null,null,null,null,null,null,null,null,null,null," "," "," "," ",{"$f":"IF(I1262=\"\",\"\",IF(I1262<='Main page'!$F$49,\"Core staff\",\"Senior staff\"))","v":""},{"$f":"IF(D1262=\"\",\" \",'Main page'!$F$21-(D1262))","v":" "},{"$f":"IF(D1262=\"\",\" \",VLOOKUP(R1262,'Main page'!$E$29:'Main page'!$G$41,3,TRUE))","v":" "}]
[null,null,null,null,null,null,null,null,null,null,null,null," "," "," "," ",{"$f":"IF(I1263=\"\",\"\",IF(I1263<='Main page'!$F$49,\"Core staff\",\"Senior staff\"))","v":""},{"$f":"IF(D1263=\"\",\" \",'Main page'!$F$21-(D1263))","v":" "},{"$f":"IF(D1263=\"\",\" \",VLOOKUP(R1263,'Main page'!$E$29:'Main page'!$G$41,3,TRUE))","v":" "}]
[null,null,null,null,null,null,null,null,null,null,null,null," "," "," "," ",{"$f":"IF(I1264=\"\",\"\",IF(I1264<='Main page'!$F$49,\"Core staff\",\"Senior staff\"))","v":""},{"$f":"IF(D1264=\"\",\" \",'Main page'!$F$21-(D1264))","v":" "},{"$f":"IF(D1264=\"\",\" \",VLOOKUP(R1264,'Main page'!$E$29:'Main page'!$G$41,3,TRUE))","v":" "}]
[null,null,null,null,null,null,null,null,null,null,null,null," "," "," "," ",{"$f":"IF(I1265=\"\",\"\",IF(I1265<='Main page'!$F$49,\"Core staff\",\"Senior staff\"))","v":""},{"$f":"IF(D1265=\"\",\" \",'Main page'!$F$21-(D1265))","v":" "},{"$f":"IF(D1265=\"\",\" \",VLOOKUP(R1265,'Main page'!$E$29:'Main page'!$G$41,3,TRUE))","v":" "}]
[null,null,null,null,null,null,null,null,null,null,null,null," "," "," "," ",{"$f":"IF(I1266=\"\",\"\",IF(I1266<='Main page'!$F$49,\"Core staff\",\"Senior staff\"))","v":""},{"$f":"IF(D1266=\"\",\" \",'Main page'!$F$21-(D1266))","v":" "},{"$f":"IF(D1266=\"\",\" \",VLOOKUP(R1266,'Main page'!$E$29:'Main page'!$G$41,3,TRUE))","v":" "}]
[null,null,null,null,null,null,null,null,null,null,null,null," "," "," "," ",{"$f":"IF(I1267=\"\",\"\",IF(I1267<='Main page'!$F$49,\"Core staff\",\"Senior staff\"))","v":""},{"$f":"IF(D1267=\"\",\" \",'Main page'!$F$21-(D1267))","v":" "},{"$f":"IF(D1267=\"\",\" \",VLOOKUP(R1267,'Main page'!$E$29:'Main page'!$G$41,3,TRUE))","v":" "}]
[null,null,null,null,null,null,null,null,null,null,null,null," "," "," "," ",{"$f":"IF(I1268=\"\",\"\",IF(I1268<='Main page'!$F$49,\"Core staff\",\"Senior staff\"))","v":""},{"$f":"IF(D1268=\"\",\" \",'Main page'!$F$21-(D1268))","v":" "},{"$f":"IF(D1268=\"\",\" \",VLOOKUP(R1268,'Main page'!$E$29:'Main page'!$G$41,3,TRUE))","v":" "}]
[null,null,null,null,null,null,null,null,null,null,null,null," "," "," "," ",{"$f":"IF(I1269=\"\",\"\",IF(I1269<='Main page'!$F$49,\"Core staff\",\"Senior staff\"))","v":""},{"$f":"IF(D1269=\"\",\" \",'Main page'!$F$21-(D1269))","v":" "},{"$f":"IF(D1269=\"\",\" \",VLOOKUP(R1269,'Main page'!$E$29:'Main page'!$G$41,3,TRUE))","v":" "}]
[null,null,null,null,null,null,null,null,null,null,null,null," "," "," "," ",{"$f":"IF(I1270=\"\",\"\",IF(I1270<='Main page'!$F$49,\"Core staff\",\"Senior staff\"))","v":""},{"$f":"IF(D1270=\"\",\" \",'Main page'!$F$21-(D1270))","v":" "},{"$f":"IF(D1270=\"\",\" \",VLOOKUP(R1270,'Main page'!$E$29:'Main page'!$G$41,3,TRUE))","v":" "}]
[null,null,null,null,null,null,null,null,null,null,null,null," "," "," "," ",{"$f":"IF(I1271=\"\",\"\",IF(I1271<='Main page'!$F$49,\"Core staff\",\"Senior staff\"))","v":""},{"$f":"IF(D1271=\"\",\" \",'Main page'!$F$21-(D1271))","v":" "},{"$f":"IF(D1271=\"\",\" \",VLOOKUP(R1271,'Main page'!$E$29:'Main page'!$G$41,3,TRUE))","v":" "}]
[null,null,null,null,null,null,null,null,null,null,null,null," "," "," "," ",{"$f":"IF(I1272=\"\",\"\",IF(I1272<='Main page'!$F$49,\"Core staff\",\"Senior staff\"))","v":""},{"$f":"IF(D1272=\"\",\" \",'Main page'!$F$21-(D1272))","v":" "},{"$f":"IF(D1272=\"\",\" \",VLOOKUP(R1272,'Main page'!$E$29:'Main page'!$G$41,3,TRUE))","v":" "}]
[null,null,null,null,null,null,null,null,null,null,null,null," "," "," "," ",{"$f":"IF(I1273=\"\",\"\",IF(I1273<='Main page'!$F$49,\"Core staff\",\"Senior staff\"))","v":""},{"$f":"IF(D1273=\"\",\" \",'Main page'!$F$21-(D1273))","v":" "},{"$f":"IF(D1273=\"\",\" \",VLOOKUP(R1273,'Main page'!$E$29:'Main page'!$G$41,3,TRUE))","v":" "}]
[null,null,null,null,null,null,null,null,null,null,null,null," "," "," "," ",{"$f":"IF(I1274=\"\",\"\",IF(I1274<='Main page'!$F$49,\"Core staff\",\"Senior staff\"))","v":""},{"$f":"IF(D1274=\"\",\" \",'Main page'!$F$21-(D1274))","v":" "},{"$f":"IF(D1274=\"\",\" \",VLOOKUP(R1274,'Main page'!$E$29:'Main page'!$G$41,3,TRUE))","v":" "}]
[null,null,null,null,null,null,null,null,null,null,null,null," "," "," "," ",{"$f":"IF(I1275=\"\",\"\",IF(I1275<='Main page'!$F$49,\"Core staff\",\"Senior staff\"))","v":""},{"$f":"IF(D1275=\"\",\" \",'Main page'!$F$21-(D1275))","v":" "},{"$f":"IF(D1275=\"\",\" \",VLOOKUP(R1275,'Main page'!$E$29:'Main page'!$G$41,3,TRUE))","v":" "}]
[null,null,null,null,null,null,null,null,null,null,null,null," "," "," "," ",{"$f":"IF(I1276=\"\",\"\",IF(I1276<='Main page'!$F$49,\"Core staff\",\"Senior staff\"))","v":""},{"$f":"IF(D1276=\"\",\" \",'Main page'!$F$21-(D1276))","v":" "},{"$f":"IF(D1276=\"\",\" \",VLOOKUP(R1276,'Main page'!$E$29:'Main page'!$G$41,3,TRUE))","v":" "}]
[null,null,null,null,null,null,null,null,null,null,null,null," "," "," "," ",{"$f":"IF(I1277=\"\",\"\",IF(I1277<='Main page'!$F$49,\"Core staff\",\"Senior staff\"))","v":""},{"$f":"IF(D1277=\"\",\" \",'Main page'!$F$21-(D1277))","v":" "},{"$f":"IF(D1277=\"\",\" \",VLOOKUP(R1277,'Main page'!$E$29:'Main page'!$G$41,3,TRUE))","v":" "}]
[null,null,null,null,null,null,null,null,null,null,null,null," "," "," "," ",{"$f":"IF(I1278=\"\",\"\",IF(I1278<='Main page'!$F$49,\"Core staff\",\"Senior staff\"))","v":""},{"$f":"IF(D1278=\"\",\" \",'Main page'!$F$21-(D1278))","v":" "},{"$f":"IF(D1278=\"\",\" \",VLOOKUP(R1278,'Main page'!$E$29:'Main page'!$G$41,3,TRUE))","v":" "}]
[null,null,null,null,null,null,null,null,null,null,null,null," "," "," "," ",{"$f":"IF(I1279=\"\",\"\",IF(I1279<='Main page'!$F$49,\"Core staff\",\"Senior staff\"))","v":""},{"$f":"IF(D1279=\"\",\" \",'Main page'!$F$21-(D1279))","v":" "},{"$f":"IF(D1279=\"\",\" \",VLOOKUP(R1279,'Main page'!$E$29:'Main page'!$G$41,3,TRUE))","v":" "}]
[null,null,null,null,null,null,null,null,null,null,null,null," "," "," "," ",{"$f":"IF(I1280=\"\",\"\",IF(I1280<='Main page'!$F$49,\"Core staff\",\"Senior staff\"))","v":""},{"$f":"IF(D1280=\"\",\" \",'Main page'!$F$21-(D1280))","v":" "},{"$f":"IF(D1280=\"\",\" \",VLOOKUP(R1280,'Main page'!$E$29:'Main page'!$G$41,3,TRUE))","v":" "}]
[null,null,null,null,null,null,null,null,null,null,null,null," "," "," "," ",{"$f":"IF(I1281=\"\",\"\",IF(I1281<='Main page'!$F$49,\"Core staff\",\"Senior staff\"))","v":""},{"$f":"IF(D1281=\"\",\" \",'Main page'!$F$21-(D1281))","v":" "},{"$f":"IF(D1281=\"\",\" \",VLOOKUP(R1281,'Main page'!$E$29:'Main page'!$G$41,3,TRUE))","v":" "}]
[null,null,null,null,null,null,null,null,null,null,null,null," "," "," "," ",{"$f":"IF(I1282=\"\",\"\",IF(I1282<='Main page'!$F$49,\"Core staff\",\"Senior staff\"))","v":""},{"$f":"IF(D1282=\"\",\" \",'Main page'!$F$21-(D1282))","v":" "},{"$f":"IF(D1282=\"\",\" \",VLOOKUP(R1282,'Main page'!$E$29:'Main page'!$G$41,3,TRUE))","v":" "}]
[null,null,null,null,null,null,null,null,null,null,null,null," "," "," "," ",{"$f":"IF(I1283=\"\",\"\",IF(I1283<='Main page'!$F$49,\"Core staff\",\"Senior staff\"))","v":""},{"$f":"IF(D1283=\"\",\" \",'Main page'!$F$21-(D1283))","v":" "},{"$f":"IF(D1283=\"\",\" \",VLOOKUP(R1283,'Main page'!$E$29:'Main page'!$G$41,3,TRUE))","v":" "}]
[null,null,null,null,null,null,null,null,null,null,null,null," "," "," "," ",{"$f":"IF(I1284=\"\",\"\",IF(I1284<='Main page'!$F$49,\"Core staff\",\"Senior staff\"))","v":""},{"$f":"IF(D1284=\"\",\" \",'Main page'!$F$21-(D1284))","v":" "},{"$f":"IF(D1284=\"\",\" \",VLOOKUP(R1284,'Main page'!$E$29:'Main page'!$G$41,3,TRUE))","v":" "}]
[null,null,null,null,null,null,null,null,null,null,null,null," "," "," "," ",{"$f":"IF(I1285=\"\",\"\",IF(I1285<='Main page'!$F$49,\"Core staff\",\"Senior staff\"))","v":""},{"$f":"IF(D1285=\"\",\" \",'Main page'!$F$21-(D1285))","v":" "},{"$f":"IF(D1285=\"\",\" \",VLOOKUP(R1285,'Main page'!$E$29:'Main page'!$G$41,3,TRUE))","v":" "}]
[null,null,null,null,null,null,null,null,null,null,null,null," "," "," "," ",{"$f":"IF(I1286=\"\",\"\",IF(I1286<='Main page'!$F$49,\"Core staff\",\"Senior staff\"))","v":""},{"$f":"IF(D1286=\"\",\" \",'Main page'!$F$21-(D1286))","v":" "},{"$f":"IF(D1286=\"\",\" \",VLOOKUP(R1286,'Main page'!$E$29:'Main page'!$G$41,3,TRUE))","v":" "}]
[null,null,null,null,null,null,null,null,null,null,null,null," "," "," "," ",{"$f":"IF(I1287=\"\",\"\",IF(I1287<='Main page'!$F$49,\"Core staff\",\"Senior staff\"))","v":""},{"$f":"IF(D1287=\"\",\" \",'Main page'!$F$21-(D1287))","v":" "},{"$f":"IF(D1287=\"\",\" \",VLOOKUP(R1287,'Main page'!$E$29:'Main page'!$G$41,3,TRUE))","v":" "}]
[null,null,null,null,null,null,null,null,null,null,null,null," "," "," "," ",{"$f":"IF(I1288=\"\",\"\",IF(I1288<='Main page'!$F$49,\"Core staff\",\"Senior staff\"))","v":""},{"$f":"IF(D1288=\"\",\" \",'Main page'!$F$21-(D1288))","v":" "},{"$f":"IF(D1288=\"\",\" \",VLOOKUP(R1288,'Main page'!$E$29:'Main page'!$G$41,3,TRUE))","v":" "}]
[null,null,null,null,null,null,null,null,null,null,null,null," "," "," "," ",{"$f":"IF(I1289=\"\",\"\",IF(I1289<='Main page'!$F$49,\"Core staff\",\"Senior staff\"))","v":""},{"$f":"IF(D1289=\"\",\" \",'Main page'!$F$21-(D1289))","v":" "},{"$f":"IF(D1289=\"\",\" \",VLOOKUP(R1289,'Main page'!$E$29:'Main page'!$G$41,3,TRUE))","v":" "}]
[null,null,null,null,null,null,null,null,null,null,null,null," "," "," "," ",{"$f":"IF(I1290=\"\",\"\",IF(I1290<='Main page'!$F$49,\"Core staff\",\"Senior staff\"))","v":""},{"$f":"IF(D1290=\"\",\" \",'Main page'!$F$21-(D1290))","v":" "},{"$f":"IF(D1290=\"\",\" \",VLOOKUP(R1290,'Main page'!$E$29:'Main page'!$G$41,3,TRUE))","v":" "}]
[null,null,null,null,null,null,null,null,null,null,null,null," "," "," "," ",{"$f":"IF(I1291=\"\",\"\",IF(I1291<='Main page'!$F$49,\"Core staff\",\"Senior staff\"))","v":""},{"$f":"IF(D1291=\"\",\" \",'Main page'!$F$21-(D1291))","v":" "},{"$f":"IF(D1291=\"\",\" \",VLOOKUP(R1291,'Main page'!$E$29:'Main page'!$G$41,3,TRUE))","v":" "}]
[null,null,null,null,null,null,null,null,null,null,null,null," "," "," "," ",{"$f":"IF(I1292=\"\",\"\",IF(I1292<='Main page'!$F$49,\"Core staff\",\"Senior staff\"))","v":""},{"$f":"IF(D1292=\"\",\" \",'Main page'!$F$21-(D1292))","v":" "},{"$f":"IF(D1292=\"\",\" \",VLOOKUP(R1292,'Main page'!$E$29:'Main page'!$G$41,3,TRUE))","v":" "}]
[null,null,null,null,null,null,null,null,null,null,null,null," "," "," "," ",{"$f":"IF(I1293=\"\",\"\",IF(I1293<='Main page'!$F$49,\"Core staff\",\"Senior staff\"))","v":""},{"$f":"IF(D1293=\"\",\" \",'Main page'!$F$21-(D1293))","v":" "},{"$f":"IF(D1293=\"\",\" \",VLOOKUP(R1293,'Main page'!$E$29:'Main page'!$G$41,3,TRUE))","v":" "}]
[null,null,null,null,null,null,null,null,null,null,null,null,{"$f":"IFERROR(J1294/G1294,\" \")","v":" "},{"$f":"IFERROR((M1294/$U$4)/H1294,\" \")","v":" "},{"$f":"IFERROR((N1294*75)*26.083,\" \")","v":" "},{"$f":"IF(G1294=0,\" \",IF(G1294=1,\"Full time\",\"Part time\"))","v":" "},{"$f":"IF(I1294=\"\",\"\",IF(I1294<='Main page'!$F$49,\"Core staff\",\"Senior staff\"))","v":""},{"$f":"IF(D1294=\"\",\" \",'Main page'!$F$21-(D1294))","v":" "},{"$f":"IF(D1294=\"\",\" \",VLOOKUP(R1294,'Main page'!$E$29:'Main page'!$G$41,3,TRUE))","v":" "}]
[null,null,null,null,null,null,null,null,null,null,null,null," "," "," "," ",{"$f":"IF(I1295=\"\",\"\",IF(I1295<='Main page'!$F$49,\"Core staff\",\"Senior staff\"))","v":""},{"$f":"IF(D1295=\"\",\" \",'Main page'!$F$21-(D1295))","v":" "},{"$f":"IF(D1295=\"\",\" \",VLOOKUP(R1295,'Main page'!$E$29:'Main page'!$G$41,3,TRUE))","v":" "}]
[null,null,null,null,null,null,null,null,null,null,null,null," "," "," "," ",{"$f":"IF(I1296=\"\",\"\",IF(I1296<='Main page'!$F$49,\"Core staff\",\"Senior staff\"))","v":""},{"$f":"IF(D1296=\"\",\" \",'Main page'!$F$21-(D1296))","v":" "},{"$f":"IF(D1296=\"\",\" \",VLOOKUP(R1296,'Main page'!$E$29:'Main page'!$G$41,3,TRUE))","v":" "}]
[null,null,null,null,null,null,null,null,null,null,null,null," "," "," "," ",{"$f":"IF(I1297=\"\",\"\",IF(I1297<='Main page'!$F$49,\"Core staff\",\"Senior staff\"))","v":""},{"$f":"IF(D1297=\"\",\" \",'Main page'!$F$21-(D1297))","v":" "},{"$f":"IF(D1297=\"\",\" \",VLOOKUP(R1297,'Main page'!$E$29:'Main page'!$G$41,3,TRUE))","v":" "}]
[null,null,null,null,null,null,null,null,null,null,null,null," "," "," "," ",{"$f":"IF(I1298=\"\",\"\",IF(I1298<='Main page'!$F$49,\"Core staff\",\"Senior staff\"))","v":""},{"$f":"IF(D1298=\"\",\" \",'Main page'!$F$21-(D1298))","v":" "},{"$f":"IF(D1298=\"\",\" \",VLOOKUP(R1298,'Main page'!$E$29:'Main page'!$G$41,3,TRUE))","v":" "}]
[null,null,null,null,null,null,null,null,null,null,null,null," "," "," "," ",{"$f":"IF(I1299=\"\",\"\",IF(I1299<='Main page'!$F$49,\"Core staff\",\"Senior staff\"))","v":""},{"$f":"IF(D1299=\"\",\" \",'Main page'!$F$21-(D1299))","v":" "},{"$f":"IF(D1299=\"\",\" \",VLOOKUP(R1299,'Main page'!$E$29:'Main page'!$G$41,3,TRUE))","v":" "}]
[null,null,null,null,null,null,null,null,null,null,null,null," "," "," "," ",{"$f":"IF(I1300=\"\",\"\",IF(I1300<='Main page'!$F$49,\"Core staff\",\"Senior staff\"))","v":""},{"$f":"IF(D1300=\"\",\" \",'Main page'!$F$21-(D1300))","v":" "},{"$f":"IF(D1300=\"\",\" \",VLOOKUP(R1300,'Main page'!$E$29:'Main page'!$G$41,3,TRUE))","v":" "}]
[null,null,null,null,null,null,null,null,null,null,null,null," "," "," "," ",{"$f":"IF(I1301=\"\",\"\",IF(I1301<='Main page'!$F$49,\"Core staff\",\"Senior staff\"))","v":""},{"$f":"IF(D1301=\"\",\" \",'Main page'!$F$21-(D1301))","v":" "},{"$f":"IF(D1301=\"\",\" \",VLOOKUP(R1301,'Main page'!$E$29:'Main page'!$G$41,3,TRUE))","v":" "}]
[null,null,null,null,null,null,null,null,null,null,null,null," "," "," "," ",{"$f":"IF(I1302=\"\",\"\",IF(I1302<='Main page'!$F$49,\"Core staff\",\"Senior staff\"))","v":""},{"$f":"IF(D1302=\"\",\" \",'Main page'!$F$21-(D1302))","v":" "},{"$f":"IF(D1302=\"\",\" \",VLOOKUP(R1302,'Main page'!$E$29:'Main page'!$G$41,3,TRUE))","v":" "}]
[null,null,null,null,null,null,null,null,null,null,null,null," "," "," "," ",{"$f":"IF(I1303=\"\",\"\",IF(I1303<='Main page'!$F$49,\"Core staff\",\"Senior staff\"))","v":""},{"$f":"IF(D1303=\"\",\" \",'Main page'!$F$21-(D1303))","v":" "},{"$f":"IF(D1303=\"\",\" \",VLOOKUP(R1303,'Main page'!$E$29:'Main page'!$G$41,3,TRUE))","v":" "}]
[null,null,null,null,null,null,null,null,null,null,null,null," "," "," "," ",{"$f":"IF(I1304=\"\",\"\",IF(I1304<='Main page'!$F$49,\"Core staff\",\"Senior staff\"))","v":""},{"$f":"IF(D1304=\"\",\" \",'Main page'!$F$21-(D1304))","v":" "},{"$f":"IF(D1304=\"\",\" \",VLOOKUP(R1304,'Main page'!$E$29:'Main page'!$G$41,3,TRUE))","v":" "}]
[null,null,null,null,null,null,null,null,null,null,null,null," "," "," "," ",{"$f":"IF(I1305=\"\",\"\",IF(I1305<='Main page'!$F$49,\"Core staff\",\"Senior staff\"))","v":""},{"$f":"IF(D1305=\"\",\" \",'Main page'!$F$21-(D1305))","v":" "},{"$f":"IF(D1305=\"\",\" \",VLOOKUP(R1305,'Main page'!$E$29:'Main page'!$G$41,3,TRUE))","v":" "}]
[null,null,null,null,null,null,null,null,null,null,null,null," "," "," "," ",{"$f":"IF(I1306=\"\",\"\",IF(I1306<='Main page'!$F$49,\"Core staff\",\"Senior staff\"))","v":""},{"$f":"IF(D1306=\"\",\" \",'Main page'!$F$21-(D1306))","v":" "},{"$f":"IF(D1306=\"\",\" \",VLOOKUP(R1306,'Main page'!$E$29:'Main page'!$G$41,3,TRUE))","v":" "}]
[null,null,null,null,null,null,null,null,null,null,null,null," "," "," "," ",{"$f":"IF(I1307=\"\",\"\",IF(I1307<='Main page'!$F$49,\"Core staff\",\"Senior staff\"))","v":""},{"$f":"IF(D1307=\"\",\" \",'Main page'!$F$21-(D1307))","v":" "},{"$f":"IF(D1307=\"\",\" \",VLOOKUP(R1307,'Main page'!$E$29:'Main page'!$G$41,3,TRUE))","v":" "}]
[null,null,null,null,null,null,null,null,null,null,null,null," "," "," "," ",{"$f":"IF(I1308=\"\",\"\",IF(I1308<='Main page'!$F$49,\"Core staff\",\"Senior staff\"))","v":""},{"$f":"IF(D1308=\"\",\" \",'Main page'!$F$21-(D1308))","v":" "},{"$f":"IF(D1308=\"\",\" \",VLOOKUP(R1308,'Main page'!$E$29:'Main page'!$G$41,3,TRUE))","v":" "}]
[null,null,null,null,null,null,null,null,null,null,null,null," "," "," "," ",{"$f":"IF(I1309=\"\",\"\",IF(I1309<='Main page'!$F$49,\"Core staff\",\"Senior staff\"))","v":""},{"$f":"IF(D1309=\"\",\" \",'Main page'!$F$21-(D1309))","v":" "},{"$f":"IF(D1309=\"\",\" \",VLOOKUP(R1309,'Main page'!$E$29:'Main page'!$G$41,3,TRUE))","v":" "}]
[null,null,null,null,null,null,null,null,null,null,null,null," "," "," "," ",{"$f":"IF(I1310=\"\",\"\",IF(I1310<='Main page'!$F$49,\"Core staff\",\"Senior staff\"))","v":""},{"$f":"IF(D1310=\"\",\" \",'Main page'!$F$21-(D1310))","v":" "},{"$f":"IF(D1310=\"\",\" \",VLOOKUP(R1310,'Main page'!$E$29:'Main page'!$G$41,3,TRUE))","v":" "}]
[null,null,null,null,null,null,null,null,null,null,null,null," "," "," "," ",{"$f":"IF(I1311=\"\",\"\",IF(I1311<='Main page'!$F$49,\"Core staff\",\"Senior staff\"))","v":""},{"$f":"IF(D1311=\"\",\" \",'Main page'!$F$21-(D1311))","v":" "},{"$f":"IF(D1311=\"\",\" \",VLOOKUP(R1311,'Main page'!$E$29:'Main page'!$G$41,3,TRUE))","v":" "}]
[null,null,null,null,null,null,null,null,null,null,null,null," "," "," "," ",{"$f":"IF(I1312=\"\",\"\",IF(I1312<='Main page'!$F$49,\"Core staff\",\"Senior staff\"))","v":""},{"$f":"IF(D1312=\"\",\" \",'Main page'!$F$21-(D1312))","v":" "},{"$f":"IF(D1312=\"\",\" \",VLOOKUP(R1312,'Main page'!$E$29:'Main page'!$G$41,3,TRUE))","v":" "}]
[null,null,null,null,null,null,null,null,null,null,null,null," "," "," "," ",{"$f":"IF(I1313=\"\",\"\",IF(I1313<='Main page'!$F$49,\"Core staff\",\"Senior staff\"))","v":""},{"$f":"IF(D1313=\"\",\" \",'Main page'!$F$21-(D1313))","v":" "},{"$f":"IF(D1313=\"\",\" \",VLOOKUP(R1313,'Main page'!$E$29:'Main page'!$G$41,3,TRUE))","v":" "}]
[null,null,null,null,null,null,null,null,null,null,null,null," "," "," "," ",{"$f":"IF(I1314=\"\",\"\",IF(I1314<='Main page'!$F$49,\"Core staff\",\"Senior staff\"))","v":""},{"$f":"IF(D1314=\"\",\" \",'Main page'!$F$21-(D1314))","v":" "},{"$f":"IF(D1314=\"\",\" \",VLOOKUP(R1314,'Main page'!$E$29:'Main page'!$G$41,3,TRUE))","v":" "}]
[null,null,null,null,null,null,null,null,null,null,null,null," "," "," "," ",{"$f":"IF(I1315=\"\",\"\",IF(I1315<='Main page'!$F$49,\"Core staff\",\"Senior staff\"))","v":""},{"$f":"IF(D1315=\"\",\" \",'Main page'!$F$21-(D1315))","v":" "},{"$f":"IF(D1315=\"\",\" \",VLOOKUP(R1315,'Main page'!$E$29:'Main page'!$G$41,3,TRUE))","v":" "}]
[null,null,null,null,null,null,null,null,null,null,null,null," "," "," "," ",{"$f":"IF(I1316=\"\",\"\",IF(I1316<='Main page'!$F$49,\"Core staff\",\"Senior staff\"))","v":""},{"$f":"IF(D1316=\"\",\" \",'Main page'!$F$21-(D1316))","v":" "},{"$f":"IF(D1316=\"\",\" \",VLOOKUP(R1316,'Main page'!$E$29:'Main page'!$G$41,3,TRUE))","v":" "}]
[null,null,null,null,null,null,null,null,null,null,null,null," "," "," "," ",{"$f":"IF(I1317=\"\",\"\",IF(I1317<='Main page'!$F$49,\"Core staff\",\"Senior staff\"))","v":""},{"$f":"IF(D1317=\"\",\" \",'Main page'!$F$21-(D1317))","v":" "},{"$f":"IF(D1317=\"\",\" \",VLOOKUP(R1317,'Main page'!$E$29:'Main page'!$G$41,3,TRUE))","v":" "}]
[null,null,null,null,null,null,null,null,null,null,null,null," "," "," "," ",{"$f":"IF(I1318=\"\",\"\",IF(I1318<='Main page'!$F$49,\"Core staff\",\"Senior staff\"))","v":""},{"$f":"IF(D1318=\"\",\" \",'Main page'!$F$21-(D1318))","v":" "},{"$f":"IF(D1318=\"\",\" \",VLOOKUP(R1318,'Main page'!$E$29:'Main page'!$G$41,3,TRUE))","v":" "}]
[null,null,null,null,null,null,null,null,null,null,null,null," "," "," "," ",{"$f":"IF(I1319=\"\",\"\",IF(I1319<='Main page'!$F$49,\"Core staff\",\"Senior staff\"))","v":""},{"$f":"IF(D1319=\"\",\" \",'Main page'!$F$21-(D1319))","v":" "},{"$f":"IF(D1319=\"\",\" \",VLOOKUP(R1319,'Main page'!$E$29:'Main page'!$G$41,3,TRUE))","v":" "}]
[null,null,null,null,null,null,null,null,null,null,null,null," "," "," "," ",{"$f":"IF(I1320=\"\",\"\",IF(I1320<='Main page'!$F$49,\"Core staff\",\"Senior staff\"))","v":""},{"$f":"IF(D1320=\"\",\" \",'Main page'!$F$21-(D1320))","v":" "},{"$f":"IF(D1320=\"\",\" \",VLOOKUP(R1320,'Main page'!$E$29:'Main page'!$G$41,3,TRUE))","v":" "}]
[null,null,null,null,null,null,null,null,null,null,null,null," "," "," "," ",{"$f":"IF(I1321=\"\",\"\",IF(I1321<='Main page'!$F$49,\"Core staff\",\"Senior staff\"))","v":""},{"$f":"IF(D1321=\"\",\" \",'Main page'!$F$21-(D1321))","v":" "},{"$f":"IF(D1321=\"\",\" \",VLOOKUP(R1321,'Main page'!$E$29:'Main page'!$G$41,3,TRUE))","v":" "}]
[null,null,null,null,null,null,null,null,null,null,null,null," "," "," "," ",{"$f":"IF(I1322=\"\",\"\",IF(I1322<='Main page'!$F$49,\"Core staff\",\"Senior staff\"))","v":""},{"$f":"IF(D1322=\"\",\" \",'Main page'!$F$21-(D1322))","v":" "},{"$f":"IF(D1322=\"\",\" \",VLOOKUP(R1322,'Main page'!$E$29:'Main page'!$G$41,3,TRUE))","v":" "}]
[null,null,null,null,null,null,null,null,null,null,null,null," "," "," "," ",{"$f":"IF(I1323=\"\",\"\",IF(I1323<='Main page'!$F$49,\"Core staff\",\"Senior staff\"))","v":""},{"$f":"IF(D1323=\"\",\" \",'Main page'!$F$21-(D1323))","v":" "},{"$f":"IF(D1323=\"\",\" \",VLOOKUP(R1323,'Main page'!$E$29:'Main page'!$G$41,3,TRUE))","v":" "}]
[null,null,null,null,null,null,null,null,null,null,null,null," "," "," "," ",{"$f":"IF(I1324=\"\",\"\",IF(I1324<='Main page'!$F$49,\"Core staff\",\"Senior staff\"))","v":""},{"$f":"IF(D1324=\"\",\" \",'Main page'!$F$21-(D1324))","v":" "},{"$f":"IF(D1324=\"\",\" \",VLOOKUP(R1324,'Main page'!$E$29:'Main page'!$G$41,3,TRUE))","v":" "}]
[null,null,null,null,null,null,null,null,null,null,null,null," "," "," "," ",{"$f":"IF(I1325=\"\",\"\",IF(I1325<='Main page'!$F$49,\"Core staff\",\"Senior staff\"))","v":""},{"$f":"IF(D1325=\"\",\" \",'Main page'!$F$21-(D1325))","v":" "},{"$f":"IF(D1325=\"\",\" \",VLOOKUP(R1325,'Main page'!$E$29:'Main page'!$G$41,3,TRUE))","v":" "}]
[null,null,null,null,null,null,null,null,null,null,null,null," "," "," "," ",{"$f":"IF(I1326=\"\",\"\",IF(I1326<='Main page'!$F$49,\"Core staff\",\"Senior staff\"))","v":""},{"$f":"IF(D1326=\"\",\" \",'Main page'!$F$21-(D1326))","v":" "},{"$f":"IF(D1326=\"\",\" \",VLOOKUP(R1326,'Main page'!$E$29:'Main page'!$G$41,3,TRUE))","v":" "}]
[null,null,null,null,null,null,null,null,null,null,null,null," "," "," "," ",{"$f":"IF(I1327=\"\",\"\",IF(I1327<='Main page'!$F$49,\"Core staff\",\"Senior staff\"))","v":""},{"$f":"IF(D1327=\"\",\" \",'Main page'!$F$21-(D1327))","v":" "},{"$f":"IF(D1327=\"\",\" \",VLOOKUP(R1327,'Main page'!$E$29:'Main page'!$G$41,3,TRUE))","v":" "}]
[null,null,null,null,null,null,null,null,null,null,null,null," "," "," "," ",{"$f":"IF(I1328=\"\",\"\",IF(I1328<='Main page'!$F$49,\"Core staff\",\"Senior staff\"))","v":""},{"$f":"IF(D1328=\"\",\" \",'Main page'!$F$21-(D1328))","v":" "},{"$f":"IF(D1328=\"\",\" \",VLOOKUP(R1328,'Main page'!$E$29:'Main page'!$G$41,3,TRUE))","v":" "}]
[null,null,null,null,null,null,null,null,null,null,null,null," "," "," "," ",{"$f":"IF(I1329=\"\",\"\",IF(I1329<='Main page'!$F$49,\"Core staff\",\"Senior staff\"))","v":""},{"$f":"IF(D1329=\"\",\" \",'Main page'!$F$21-(D1329))","v":" "},{"$f":"IF(D1329=\"\",\" \",VLOOKUP(R1329,'Main page'!$E$29:'Main page'!$G$41,3,TRUE))","v":" "}]
[null,null,null,null,null,null,null,null,null,null,null,null," "," "," "," ",{"$f":"IF(I1330=\"\",\"\",IF(I1330<='Main page'!$F$49,\"Core staff\",\"Senior staff\"))","v":""},{"$f":"IF(D1330=\"\",\" \",'Main page'!$F$21-(D1330))","v":" "},{"$f":"IF(D1330=\"\",\" \",VLOOKUP(R1330,'Main page'!$E$29:'Main page'!$G$41,3,TRUE))","v":" "}]
[null,null,null,null,null,null,null,null,null,null,null,null," "," "," "," ",{"$f":"IF(I1331=\"\",\"\",IF(I1331<='Main page'!$F$49,\"Core staff\",\"Senior staff\"))","v":""},{"$f":"IF(D1331=\"\",\" \",'Main page'!$F$21-(D1331))","v":" "},{"$f":"IF(D1331=\"\",\" \",VLOOKUP(R1331,'Main page'!$E$29:'Main page'!$G$41,3,TRUE))","v":" "}]
[null,null,null,null,null,null,null,null,null,null,null,null," "," "," "," ",{"$f":"IF(I1332=\"\",\"\",IF(I1332<='Main page'!$F$49,\"Core staff\",\"Senior staff\"))","v":""},{"$f":"IF(D1332=\"\",\" \",'Main page'!$F$21-(D1332))","v":" "},{"$f":"IF(D1332=\"\",\" \",VLOOKUP(R1332,'Main page'!$E$29:'Main page'!$G$41,3,TRUE))","v":" "}]
[null,null,null,null,null,null,null,null,null,null,null,null," "," "," "," ",{"$f":"IF(I1333=\"\",\"\",IF(I1333<='Main page'!$F$49,\"Core staff\",\"Senior staff\"))","v":""},{"$f":"IF(D1333=\"\",\" \",'Main page'!$F$21-(D1333))","v":" "},{"$f":"IF(D1333=\"\",\" \",VLOOKUP(R1333,'Main page'!$E$29:'Main page'!$G$41,3,TRUE))","v":" "}]
[null,null,null,null,null,null,null,null,null,null,null,null," "," "," "," ",{"$f":"IF(I1334=\"\",\"\",IF(I1334<='Main page'!$F$49,\"Core staff\",\"Senior staff\"))","v":""},{"$f":"IF(D1334=\"\",\" \",'Main page'!$F$21-(D1334))","v":" "},{"$f":"IF(D1334=\"\",\" \",VLOOKUP(R1334,'Main page'!$E$29:'Main page'!$G$41,3,TRUE))","v":" "}]
[null,null,null,null,null,null,null,null,null,null,null,null," "," "," "," ",{"$f":"IF(I1335=\"\",\"\",IF(I1335<='Main page'!$F$49,\"Core staff\",\"Senior staff\"))","v":""},{"$f":"IF(D1335=\"\",\" \",'Main page'!$F$21-(D1335))","v":" "},{"$f":"IF(D1335=\"\",\" \",VLOOKUP(R1335,'Main page'!$E$29:'Main page'!$G$41,3,TRUE))","v":" "}]
[null,null,null,null,null,null,null,null,null,null,null,null," "," "," "," ",{"$f":"IF(I1336=\"\",\"\",IF(I1336<='Main page'!$F$49,\"Core staff\",\"Senior staff\"))","v":""},{"$f":"IF(D1336=\"\",\" \",'Main page'!$F$21-(D1336))","v":" "},{"$f":"IF(D1336=\"\",\" \",VLOOKUP(R1336,'Main page'!$E$29:'Main page'!$G$41,3,TRUE))","v":" "}]
[null,null,null,null,null,null,null,null,null,null,null,null," "," "," "," ",{"$f":"IF(I1337=\"\",\"\",IF(I1337<='Main page'!$F$49,\"Core staff\",\"Senior staff\"))","v":""},{"$f":"IF(D1337=\"\",\" \",'Main page'!$F$21-(D1337))","v":" "},{"$f":"IF(D1337=\"\",\" \",VLOOKUP(R1337,'Main page'!$E$29:'Main page'!$G$41,3,TRUE))","v":" "}]
[null,null,null,null,null,null,null,null,null,null,null,null," "," "," "," ",{"$f":"IF(I1338=\"\",\"\",IF(I1338<='Main page'!$F$49,\"Core staff\",\"Senior staff\"))","v":""},{"$f":"IF(D1338=\"\",\" \",'Main page'!$F$21-(D1338))","v":" "},{"$f":"IF(D1338=\"\",\" \",VLOOKUP(R1338,'Main page'!$E$29:'Main page'!$G$41,3,TRUE))","v":" "}]
[null,null,null,null,null,null,null,null,null,null,null,null," "," "," "," ",{"$f":"IF(I1339=\"\",\"\",IF(I1339<='Main page'!$F$49,\"Core staff\",\"Senior staff\"))","v":""},{"$f":"IF(D1339=\"\",\" \",'Main page'!$F$21-(D1339))","v":" "},{"$f":"IF(D1339=\"\",\" \",VLOOKUP(R1339,'Main page'!$E$29:'Main page'!$G$41,3,TRUE))","v":" "}]
[null,null,null,null,null,null,null,null,null,null,null,null," "," "," "," ",{"$f":"IF(I1340=\"\",\"\",IF(I1340<='Main page'!$F$49,\"Core staff\",\"Senior staff\"))","v":""},{"$f":"IF(D1340=\"\",\" \",'Main page'!$F$21-(D1340))","v":" "},{"$f":"IF(D1340=\"\",\" \",VLOOKUP(R1340,'Main page'!$E$29:'Main page'!$G$41,3,TRUE))","v":" "}]
[null,null,null,null,null,null,null,null,null,null,null,null," "," "," "," ",{"$f":"IF(I1341=\"\",\"\",IF(I1341<='Main page'!$F$49,\"Core staff\",\"Senior staff\"))","v":""},{"$f":"IF(D1341=\"\",\" \",'Main page'!$F$21-(D1341))","v":" "},{"$f":"IF(D1341=\"\",\" \",VLOOKUP(R1341,'Main page'!$E$29:'Main page'!$G$41,3,TRUE))","v":" "}]
[null,null,null,null,null,null,null,null,null,null,null,null," "," "," "," ",{"$f":"IF(I1342=\"\",\"\",IF(I1342<='Main page'!$F$49,\"Core staff\",\"Senior staff\"))","v":""},{"$f":"IF(D1342=\"\",\" \",'Main page'!$F$21-(D1342))","v":" "},{"$f":"IF(D1342=\"\",\" \",VLOOKUP(R1342,'Main page'!$E$29:'Main page'!$G$41,3,TRUE))","v":" "}]
[null,null,null,null,null,null,null,null,null,null,null,null," "," "," "," ",{"$f":"IF(I1343=\"\",\"\",IF(I1343<='Main page'!$F$49,\"Core staff\",\"Senior staff\"))","v":""},{"$f":"IF(D1343=\"\",\" \",'Main page'!$F$21-(D1343))","v":" "},{"$f":"IF(D1343=\"\",\" \",VLOOKUP(R1343,'Main page'!$E$29:'Main page'!$G$41,3,TRUE))","v":" "}]
[null,null,null,null,null,null,null,null,null,null,null,null," "," "," "," ",{"$f":"IF(I1344=\"\",\"\",IF(I1344<='Main page'!$F$49,\"Core staff\",\"Senior staff\"))","v":""},{"$f":"IF(D1344=\"\",\" \",'Main page'!$F$21-(D1344))","v":" "},{"$f":"IF(D1344=\"\",\" \",VLOOKUP(R1344,'Main page'!$E$29:'Main page'!$G$41,3,TRUE))","v":" "}]
[null,null,null,null,null,null,null,null,null,null,null,null," "," "," "," ",{"$f":"IF(I1345=\"\",\"\",IF(I1345<='Main page'!$F$49,\"Core staff\",\"Senior staff\"))","v":""},{"$f":"IF(D1345=\"\",\" \",'Main page'!$F$21-(D1345))","v":" "},{"$f":"IF(D1345=\"\",\" \",VLOOKUP(R1345,'Main page'!$E$29:'Main page'!$G$41,3,TRUE))","v":" "}]
[null,null,null,null,null,null,null,null,null,null,null,null," "," "," "," ",{"$f":"IF(I1346=\"\",\"\",IF(I1346<='Main page'!$F$49,\"Core staff\",\"Senior staff\"))","v":""},{"$f":"IF(D1346=\"\",\" \",'Main page'!$F$21-(D1346))","v":" "},{"$f":"IF(D1346=\"\",\" \",VLOOKUP(R1346,'Main page'!$E$29:'Main page'!$G$41,3,TRUE))","v":" "}]
[null,null,null,null,null,null,null,null,null,null,null,null," "," "," "," ",{"$f":"IF(I1347=\"\",\"\",IF(I1347<='Main page'!$F$49,\"Core staff\",\"Senior staff\"))","v":""},{"$f":"IF(D1347=\"\",\" \",'Main page'!$F$21-(D1347))","v":" "},{"$f":"IF(D1347=\"\",\" \",VLOOKUP(R1347,'Main page'!$E$29:'Main page'!$G$41,3,TRUE))","v":" "}]
[null,null,null,null,null,null,null,null,null,null,null,null," "," "," "," ",{"$f":"IF(I1348=\"\",\"\",IF(I1348<='Main page'!$F$49,\"Core staff\",\"Senior staff\"))","v":""},{"$f":"IF(D1348=\"\",\" \",'Main page'!$F$21-(D1348))","v":" "},{"$f":"IF(D1348=\"\",\" \",VLOOKUP(R1348,'Main page'!$E$29:'Main page'!$G$41,3,TRUE))","v":" "}]
[null,null,null,null,null,null,null,null,null,null,null,null," "," "," "," ",{"$f":"IF(I1349=\"\",\"\",IF(I1349<='Main page'!$F$49,\"Core staff\",\"Senior staff\"))","v":""},{"$f":"IF(D1349=\"\",\" \",'Main page'!$F$21-(D1349))","v":" "},{"$f":"IF(D1349=\"\",\" \",VLOOKUP(R1349,'Main page'!$E$29:'Main page'!$G$41,3,TRUE))","v":" "}]
[null,null,null,null,null,null,null,null,null,null,null,null," "," "," "," ",{"$f":"IF(I1350=\"\",\"\",IF(I1350<='Main page'!$F$49,\"Core staff\",\"Senior staff\"))","v":""},{"$f":"IF(D1350=\"\",\" \",'Main page'!$F$21-(D1350))","v":" "},{"$f":"IF(D1350=\"\",\" \",VLOOKUP(R1350,'Main page'!$E$29:'Main page'!$G$41,3,TRUE))","v":" "}]
[null,null,null,null,null,null,null,null,null,null,null,null," "," "," "," ",{"$f":"IF(I1351=\"\",\"\",IF(I1351<='Main page'!$F$49,\"Core staff\",\"Senior staff\"))","v":""},{"$f":"IF(D1351=\"\",\" \",'Main page'!$F$21-(D1351))","v":" "},{"$f":"IF(D1351=\"\",\" \",VLOOKUP(R1351,'Main page'!$E$29:'Main page'!$G$41,3,TRUE))","v":" "}]
[null,null,null,null,null,null,null,null,null,null,null,null," "," "," "," ",{"$f":"IF(I1352=\"\",\"\",IF(I1352<='Main page'!$F$49,\"Core staff\",\"Senior staff\"))","v":""},{"$f":"IF(D1352=\"\",\" \",'Main page'!$F$21-(D1352))","v":" "},{"$f":"IF(D1352=\"\",\" \",VLOOKUP(R1352,'Main page'!$E$29:'Main page'!$G$41,3,TRUE))","v":" "}]
[null,null,null,null,null,null,null,null,null,null,null,null," "," "," "," ",{"$f":"IF(I1353=\"\",\"\",IF(I1353<='Main page'!$F$49,\"Core staff\",\"Senior staff\"))","v":""},{"$f":"IF(D1353=\"\",\" \",'Main page'!$F$21-(D1353))","v":" "},{"$f":"IF(D1353=\"\",\" \",VLOOKUP(R1353,'Main page'!$E$29:'Main page'!$G$41,3,TRUE))","v":" "}]
[null,null,null,null,null,null,null,null,null,null,null,null," "," "," "," ",{"$f":"IF(I1354=\"\",\"\",IF(I1354<='Main page'!$F$49,\"Core staff\",\"Senior staff\"))","v":""},{"$f":"IF(D1354=\"\",\" \",'Main page'!$F$21-(D1354))","v":" "},{"$f":"IF(D1354=\"\",\" \",VLOOKUP(R1354,'Main page'!$E$29:'Main page'!$G$41,3,TRUE))","v":" "}]
[null,null,null,null,null,null,null,null,null,null,null,null," "," "," "," ",{"$f":"IF(I1355=\"\",\"\",IF(I1355<='Main page'!$F$49,\"Core staff\",\"Senior staff\"))","v":""},{"$f":"IF(D1355=\"\",\" \",'Main page'!$F$21-(D1355))","v":" "},{"$f":"IF(D1355=\"\",\" \",VLOOKUP(R1355,'Main page'!$E$29:'Main page'!$G$41,3,TRUE))","v":" "}]
[null,null,null,null,null,null,null,null,null,null,null,null," "," "," "," ",{"$f":"IF(I1356=\"\",\"\",IF(I1356<='Main page'!$F$49,\"Core staff\",\"Senior staff\"))","v":""},{"$f":"IF(D1356=\"\",\" \",'Main page'!$F$21-(D1356))","v":" "},{"$f":"IF(D1356=\"\",\" \",VLOOKUP(R1356,'Main page'!$E$29:'Main page'!$G$41,3,TRUE))","v":" "}]
[null,null,null,null,null,null,null,null,null,null,null,null," "," "," "," ",{"$f":"IF(I1357=\"\",\"\",IF(I1357<='Main page'!$F$49,\"Core staff\",\"Senior staff\"))","v":""},{"$f":"IF(D1357=\"\",\" \",'Main page'!$F$21-(D1357))","v":" "},{"$f":"IF(D1357=\"\",\" \",VLOOKUP(R1357,'Main page'!$E$29:'Main page'!$G$41,3,TRUE))","v":" "}]
[null,null,null,null,null,null,null,null,null,null,null,null,{"$f":"IFERROR(J1358/G1358,\" \")","v":" "},{"$f":"IFERROR((M1358/$U$4)/H1358,\" \")","v":" "},{"$f":"IFERROR((N1358*75)*26.083,\" \")","v":" "},{"$f":"IF(G1358=0,\" \",IF(G1358=1,\"Full time\",\"Part time\"))","v":" "},{"$f":"IF(I1358=\"\",\"\",IF(I1358<='Main page'!$F$49,\"Core staff\",\"Senior staff\"))","v":""},{"$f":"IF(D1358=\"\",\" \",'Main page'!$F$21-(D1358))","v":" "},{"$f":"IF(D1358=\"\",\" \",VLOOKUP(R1358,'Main page'!$E$29:'Main page'!$G$41,3,TRUE))","v":" "}]
[null,null,null,null,null,null,null,null,null,null,null,null," "," "," "," ",{"$f":"IF(I1359=\"\",\"\",IF(I1359<='Main page'!$F$49,\"Core staff\",\"Senior staff\"))","v":""},{"$f":"IF(D1359=\"\",\" \",'Main page'!$F$21-(D1359))","v":" "},{"$f":"IF(D1359=\"\",\" \",VLOOKUP(R1359,'Main page'!$E$29:'Main page'!$G$41,3,TRUE))","v":" "}]
[null,null,null,null,null,null,null,null,null,null,null,null," "," "," "," ",{"$f":"IF(I1360=\"\",\"\",IF(I1360<='Main page'!$F$49,\"Core staff\",\"Senior staff\"))","v":""},{"$f":"IF(D1360=\"\",\" \",'Main page'!$F$21-(D1360))","v":" "},{"$f":"IF(D1360=\"\",\" \",VLOOKUP(R1360,'Main page'!$E$29:'Main page'!$G$41,3,TRUE))","v":" "}]
[null,null,null,null,null,null,null,null,null,null,null,null," "," "," "," ",{"$f":"IF(I1361=\"\",\"\",IF(I1361<='Main page'!$F$49,\"Core staff\",\"Senior staff\"))","v":""},{"$f":"IF(D1361=\"\",\" \",'Main page'!$F$21-(D1361))","v":" "},{"$f":"IF(D1361=\"\",\" \",VLOOKUP(R1361,'Main page'!$E$29:'Main page'!$G$41,3,TRUE))","v":" "}]
[null,null,null,null,null,null,null,null,null,null,null,null," "," "," "," ",{"$f":"IF(I1362=\"\",\"\",IF(I1362<='Main page'!$F$49,\"Core staff\",\"Senior staff\"))","v":""},{"$f":"IF(D1362=\"\",\" \",'Main page'!$F$21-(D1362))","v":" "},{"$f":"IF(D1362=\"\",\" \",VLOOKUP(R1362,'Main page'!$E$29:'Main page'!$G$41,3,TRUE))","v":" "}]
[null,null,null,null,null,null,null,null,null,null,null,null," "," "," "," ",{"$f":"IF(I1363=\"\",\"\",IF(I1363<='Main page'!$F$49,\"Core staff\",\"Senior staff\"))","v":""},{"$f":"IF(D1363=\"\",\" \",'Main page'!$F$21-(D1363))","v":" "},{"$f":"IF(D1363=\"\",\" \",VLOOKUP(R1363,'Main page'!$E$29:'Main page'!$G$41,3,TRUE))","v":" "}]
[null,null,null,null,null,null,null,null,null,null,null,null," "," "," "," ",{"$f":"IF(I1364=\"\",\"\",IF(I1364<='Main page'!$F$49,\"Core staff\",\"Senior staff\"))","v":""},{"$f":"IF(D1364=\"\",\" \",'Main page'!$F$21-(D1364))","v":" "},{"$f":"IF(D1364=\"\",\" \",VLOOKUP(R1364,'Main page'!$E$29:'Main page'!$G$41,3,TRUE))","v":" "}]
[null,null,null,null,null,null,null,null,null,null,null,null," "," "," "," ",{"$f":"IF(I1365=\"\",\"\",IF(I1365<='Main page'!$F$49,\"Core staff\",\"Senior staff\"))","v":""},{"$f":"IF(D1365=\"\",\" \",'Main page'!$F$21-(D1365))","v":" "},{"$f":"IF(D1365=\"\",\" \",VLOOKUP(R1365,'Main page'!$E$29:'Main page'!$G$41,3,TRUE))","v":" "}]
[null,null,null,null,null,null,null,null,null,null,null,null," "," "," "," ",{"$f":"IF(I1366=\"\",\"\",IF(I1366<='Main page'!$F$49,\"Core staff\",\"Senior staff\"))","v":""},{"$f":"IF(D1366=\"\",\" \",'Main page'!$F$21-(D1366))","v":" "},{"$f":"IF(D1366=\"\",\" \",VLOOKUP(R1366,'Main page'!$E$29:'Main page'!$G$41,3,TRUE))","v":" "}]
[null,null,null,null,null,null,null,null,null,null,null,null," "," "," "," ",{"$f":"IF(I1367=\"\",\"\",IF(I1367<='Main page'!$F$49,\"Core staff\",\"Senior staff\"))","v":""},{"$f":"IF(D1367=\"\",\" \",'Main page'!$F$21-(D1367))","v":" "},{"$f":"IF(D1367=\"\",\" \",VLOOKUP(R1367,'Main page'!$E$29:'Main page'!$G$41,3,TRUE))","v":" "}]
[null,null,null,null,null,null,null,null,null,null,null,null," "," "," "," ",{"$f":"IF(I1368=\"\",\"\",IF(I1368<='Main page'!$F$49,\"Core staff\",\"Senior staff\"))","v":""},{"$f":"IF(D1368=\"\",\" \",'Main page'!$F$21-(D1368))","v":" "},{"$f":"IF(D1368=\"\",\" \",VLOOKUP(R1368,'Main page'!$E$29:'Main page'!$G$41,3,TRUE))","v":" "}]
[null,null,null,null,null,null,null,null,null,null,null,null," "," "," "," ",{"$f":"IF(I1369=\"\",\"\",IF(I1369<='Main page'!$F$49,\"Core staff\",\"Senior staff\"))","v":""},{"$f":"IF(D1369=\"\",\" \",'Main page'!$F$21-(D1369))","v":" "},{"$f":"IF(D1369=\"\",\" \",VLOOKUP(R1369,'Main page'!$E$29:'Main page'!$G$41,3,TRUE))","v":" "}]
[null,null,null,null,null,null,null,null,null,null,null,null," "," "," "," ",{"$f":"IF(I1370=\"\",\"\",IF(I1370<='Main page'!$F$49,\"Core staff\",\"Senior staff\"))","v":""},{"$f":"IF(D1370=\"\",\" \",'Main page'!$F$21-(D1370))","v":" "},{"$f":"IF(D1370=\"\",\" \",VLOOKUP(R1370,'Main page'!$E$29:'Main page'!$G$41,3,TRUE))","v":" "}]
[null,null,null,null,null,null,null,null,null,null,null,null," "," "," "," ",{"$f":"IF(I1371=\"\",\"\",IF(I1371<='Main page'!$F$49,\"Core staff\",\"Senior staff\"))","v":""},{"$f":"IF(D1371=\"\",\" \",'Main page'!$F$21-(D1371))","v":" "},{"$f":"IF(D1371=\"\",\" \",VLOOKUP(R1371,'Main page'!$E$29:'Main page'!$G$41,3,TRUE))","v":" "}]
[null,null,null,null,null,null,null,null,null,null,null,null," "," "," "," ",{"$f":"IF(I1372=\"\",\"\",IF(I1372<='Main page'!$F$49,\"Core staff\",\"Senior staff\"))","v":""},{"$f":"IF(D1372=\"\",\" \",'Main page'!$F$21-(D1372))","v":" "},{"$f":"IF(D1372=\"\",\" \",VLOOKUP(R1372,'Main page'!$E$29:'Main page'!$G$41,3,TRUE))","v":" "}]
[null,null,null,null,null,null,null,null,null,null,null,null," "," "," "," ",{"$f":"IF(I1373=\"\",\"\",IF(I1373<='Main page'!$F$49,\"Core staff\",\"Senior staff\"))","v":""},{"$f":"IF(D1373=\"\",\" \",'Main page'!$F$21-(D1373))","v":" "},{"$f":"IF(D1373=\"\",\" \",VLOOKUP(R1373,'Main page'!$E$29:'Main page'!$G$41,3,TRUE))","v":" "}]
[null,null,null,null,null,null,null,null,null,null,null,null," "," "," "," ",{"$f":"IF(I1374=\"\",\"\",IF(I1374<='Main page'!$F$49,\"Core staff\",\"Senior staff\"))","v":""},{"$f":"IF(D1374=\"\",\" \",'Main page'!$F$21-(D1374))","v":" "},{"$f":"IF(D1374=\"\",\" \",VLOOKUP(R1374,'Main page'!$E$29:'Main page'!$G$41,3,TRUE))","v":" "}]
[null,null,null,null,null,null,null,null,null,null,null,null," "," "," "," ",{"$f":"IF(I1375=\"\",\"\",IF(I1375<='Main page'!$F$49,\"Core staff\",\"Senior staff\"))","v":""},{"$f":"IF(D1375=\"\",\" \",'Main page'!$F$21-(D1375))","v":" "},{"$f":"IF(D1375=\"\",\" \",VLOOKUP(R1375,'Main page'!$E$29:'Main page'!$G$41,3,TRUE))","v":" "}]
[null,null,null,null,null,null,null,null,null,null,null,null," "," "," "," ",{"$f":"IF(I1376=\"\",\"\",IF(I1376<='Main page'!$F$49,\"Core staff\",\"Senior staff\"))","v":""},{"$f":"IF(D1376=\"\",\" \",'Main page'!$F$21-(D1376))","v":" "},{"$f":"IF(D1376=\"\",\" \",VLOOKUP(R1376,'Main page'!$E$29:'Main page'!$G$41,3,TRUE))","v":" "}]
[null,null,null,null,null,null,null,null,null,null,null,null," "," "," "," ",{"$f":"IF(I1377=\"\",\"\",IF(I1377<='Main page'!$F$49,\"Core staff\",\"Senior staff\"))","v":""},{"$f":"IF(D1377=\"\",\" \",'Main page'!$F$21-(D1377))","v":" "},{"$f":"IF(D1377=\"\",\" \",VLOOKUP(R1377,'Main page'!$E$29:'Main page'!$G$41,3,TRUE))","v":" "}]
[null,null,null,null,null,null,null,null,null,null,null,null," "," "," "," ",{"$f":"IF(I1378=\"\",\"\",IF(I1378<='Main page'!$F$49,\"Core staff\",\"Senior staff\"))","v":""},{"$f":"IF(D1378=\"\",\" \",'Main page'!$F$21-(D1378))","v":" "},{"$f":"IF(D1378=\"\",\" \",VLOOKUP(R1378,'Main page'!$E$29:'Main page'!$G$41,3,TRUE))","v":" "}]
[null,null,null,null,null,null,null,null,null,null,null,null," "," "," "," ",{"$f":"IF(I1379=\"\",\"\",IF(I1379<='Main page'!$F$49,\"Core staff\",\"Senior staff\"))","v":""},{"$f":"IF(D1379=\"\",\" \",'Main page'!$F$21-(D1379))","v":" "},{"$f":"IF(D1379=\"\",\" \",VLOOKUP(R1379,'Main page'!$E$29:'Main page'!$G$41,3,TRUE))","v":" "}]
[null,null,null,null,null,null,null,null,null,null,null,null," "," "," "," ",{"$f":"IF(I1380=\"\",\"\",IF(I1380<='Main page'!$F$49,\"Core staff\",\"Senior staff\"))","v":""},{"$f":"IF(D1380=\"\",\" \",'Main page'!$F$21-(D1380))","v":" "},{"$f":"IF(D1380=\"\",\" \",VLOOKUP(R1380,'Main page'!$E$29:'Main page'!$G$41,3,TRUE))","v":" "}]
[null,null,null,null,null,null,null,null,null,null,null,null," "," "," "," ",{"$f":"IF(I1381=\"\",\"\",IF(I1381<='Main page'!$F$49,\"Core staff\",\"Senior staff\"))","v":""},{"$f":"IF(D1381=\"\",\" \",'Main page'!$F$21-(D1381))","v":" "},{"$f":"IF(D1381=\"\",\" \",VLOOKUP(R1381,'Main page'!$E$29:'Main page'!$G$41,3,TRUE))","v":" "}]
[null,null,null,null,null,null,null,null,null,null,null,null," "," "," "," ",{"$f":"IF(I1382=\"\",\"\",IF(I1382<='Main page'!$F$49,\"Core staff\",\"Senior staff\"))","v":""},{"$f":"IF(D1382=\"\",\" \",'Main page'!$F$21-(D1382))","v":" "},{"$f":"IF(D1382=\"\",\" \",VLOOKUP(R1382,'Main page'!$E$29:'Main page'!$G$41,3,TRUE))","v":" "}]
[null,null,null,null,null,null,null,null,null,null,null,null," "," "," "," ",{"$f":"IF(I1383=\"\",\"\",IF(I1383<='Main page'!$F$49,\"Core staff\",\"Senior staff\"))","v":""},{"$f":"IF(D1383=\"\",\" \",'Main page'!$F$21-(D1383))","v":" "},{"$f":"IF(D1383=\"\",\" \",VLOOKUP(R1383,'Main page'!$E$29:'Main page'!$G$41,3,TRUE))","v":" "}]
[null,null,null,null,null,null,null,null,null,null,null,null," "," "," "," ",{"$f":"IF(I1384=\"\",\"\",IF(I1384<='Main page'!$F$49,\"Core staff\",\"Senior staff\"))","v":""},{"$f":"IF(D1384=\"\",\" \",'Main page'!$F$21-(D1384))","v":" "},{"$f":"IF(D1384=\"\",\" \",VLOOKUP(R1384,'Main page'!$E$29:'Main page'!$G$41,3,TRUE))","v":" "}]
[null,null,null,null,null,null,null,null,null,null,null,null," "," "," "," ",{"$f":"IF(I1385=\"\",\"\",IF(I1385<='Main page'!$F$49,\"Core staff\",\"Senior staff\"))","v":""},{"$f":"IF(D1385=\"\",\" \",'Main page'!$F$21-(D1385))","v":" "},{"$f":"IF(D1385=\"\",\" \",VLOOKUP(R1385,'Main page'!$E$29:'Main page'!$G$41,3,TRUE))","v":" "}]
[null,null,null,null,null,null,null,null,null,null,null,null," "," "," "," ",{"$f":"IF(I1386=\"\",\"\",IF(I1386<='Main page'!$F$49,\"Core staff\",\"Senior staff\"))","v":""},{"$f":"IF(D1386=\"\",\" \",'Main page'!$F$21-(D1386))","v":" "},{"$f":"IF(D1386=\"\",\" \",VLOOKUP(R1386,'Main page'!$E$29:'Main page'!$G$41,3,TRUE))","v":" "}]
[null,null,null,null,null,null,null,null,null,null,null,null," "," "," "," ",{"$f":"IF(I1387=\"\",\"\",IF(I1387<='Main page'!$F$49,\"Core staff\",\"Senior staff\"))","v":""},{"$f":"IF(D1387=\"\",\" \",'Main page'!$F$21-(D1387))","v":" "},{"$f":"IF(D1387=\"\",\" \",VLOOKUP(R1387,'Main page'!$E$29:'Main page'!$G$41,3,TRUE))","v":" "}]
[null,null,null,null,null,null,null,null,null,null,null,null," "," "," "," ",{"$f":"IF(I1388=\"\",\"\",IF(I1388<='Main page'!$F$49,\"Core staff\",\"Senior staff\"))","v":""},{"$f":"IF(D1388=\"\",\" \",'Main page'!$F$21-(D1388))","v":" "},{"$f":"IF(D1388=\"\",\" \",VLOOKUP(R1388,'Main page'!$E$29:'Main page'!$G$41,3,TRUE))","v":" "}]
[null,null,null,null,null,null,null,null,null,null,null,null," "," "," "," ",{"$f":"IF(I1389=\"\",\"\",IF(I1389<='Main page'!$F$49,\"Core staff\",\"Senior staff\"))","v":""},{"$f":"IF(D1389=\"\",\" \",'Main page'!$F$21-(D1389))","v":" "},{"$f":"IF(D1389=\"\",\" \",VLOOKUP(R1389,'Main page'!$E$29:'Main page'!$G$41,3,TRUE))","v":" "}]
[null,null,null,null,null,null,null,null,null,null,null,null," "," "," "," ",{"$f":"IF(I1390=\"\",\"\",IF(I1390<='Main page'!$F$49,\"Core staff\",\"Senior staff\"))","v":""},{"$f":"IF(D1390=\"\",\" \",'Main page'!$F$21-(D1390))","v":" "},{"$f":"IF(D1390=\"\",\" \",VLOOKUP(R1390,'Main page'!$E$29:'Main page'!$G$41,3,TRUE))","v":" "}]
[null,null,null,null,null,null,null,null,null,null,null,null," "," "," "," ",{"$f":"IF(I1391=\"\",\"\",IF(I1391<='Main page'!$F$49,\"Core staff\",\"Senior staff\"))","v":""},{"$f":"IF(D1391=\"\",\" \",'Main page'!$F$21-(D1391))","v":" "},{"$f":"IF(D1391=\"\",\" \",VLOOKUP(R1391,'Main page'!$E$29:'Main page'!$G$41,3,TRUE))","v":" "}]
[null,null,null,null,null,null,null,null,null,null,null,null," "," "," "," ",{"$f":"IF(I1392=\"\",\"\",IF(I1392<='Main page'!$F$49,\"Core staff\",\"Senior staff\"))","v":""},{"$f":"IF(D1392=\"\",\" \",'Main page'!$F$21-(D1392))","v":" "},{"$f":"IF(D1392=\"\",\" \",VLOOKUP(R1392,'Main page'!$E$29:'Main page'!$G$41,3,TRUE))","v":" "}]
[null,null,null,null,null,null,null,null,null,null,null,null," "," "," "," ",{"$f":"IF(I1393=\"\",\"\",IF(I1393<='Main page'!$F$49,\"Core staff\",\"Senior staff\"))","v":""},{"$f":"IF(D1393=\"\",\" \",'Main page'!$F$21-(D1393))","v":" "},{"$f":"IF(D1393=\"\",\" \",VLOOKUP(R1393,'Main page'!$E$29:'Main page'!$G$41,3,TRUE))","v":" "}]
[null,null,null,null,null,null,null,null,null,null,null,null," "," "," "," ",{"$f":"IF(I1394=\"\",\"\",IF(I1394<='Main page'!$F$49,\"Core staff\",\"Senior staff\"))","v":""},{"$f":"IF(D1394=\"\",\" \",'Main page'!$F$21-(D1394))","v":" "},{"$f":"IF(D1394=\"\",\" \",VLOOKUP(R1394,'Main page'!$E$29:'Main page'!$G$41,3,TRUE))","v":" "}]
[null,null,null,null,null,null,null,null,null,null,null,null," "," "," "," ",{"$f":"IF(I1395=\"\",\"\",IF(I1395<='Main page'!$F$49,\"Core staff\",\"Senior staff\"))","v":""},{"$f":"IF(D1395=\"\",\" \",'Main page'!$F$21-(D1395))","v":" "},{"$f":"IF(D1395=\"\",\" \",VLOOKUP(R1395,'Main page'!$E$29:'Main page'!$G$41,3,TRUE))","v":" "}]
[null,null,null,null,null,null,null,null,null,null,null,null," "," "," "," ",{"$f":"IF(I1396=\"\",\"\",IF(I1396<='Main page'!$F$49,\"Core staff\",\"Senior staff\"))","v":""},{"$f":"IF(D1396=\"\",\" \",'Main page'!$F$21-(D1396))","v":" "},{"$f":"IF(D1396=\"\",\" \",VLOOKUP(R1396,'Main page'!$E$29:'Main page'!$G$41,3,TRUE))","v":" "}]
[null,null,null,null,null,null,null,null,null,null,null,null," "," "," "," ",{"$f":"IF(I1397=\"\",\"\",IF(I1397<='Main page'!$F$49,\"Core staff\",\"Senior staff\"))","v":""},{"$f":"IF(D1397=\"\",\" \",'Main page'!$F$21-(D1397))","v":" "},{"$f":"IF(D1397=\"\",\" \",VLOOKUP(R1397,'Main page'!$E$29:'Main page'!$G$41,3,TRUE))","v":" "}]
[null,null,null,null,null,null,null,null,null,null,null,null," "," "," "," ",{"$f":"IF(I1398=\"\",\"\",IF(I1398<='Main page'!$F$49,\"Core staff\",\"Senior staff\"))","v":""},{"$f":"IF(D1398=\"\",\" \",'Main page'!$F$21-(D1398))","v":" "},{"$f":"IF(D1398=\"\",\" \",VLOOKUP(R1398,'Main page'!$E$29:'Main page'!$G$41,3,TRUE))","v":" "}]
[null,null,null,null,null,null,null,null,null,null,null,null," "," "," "," ",{"$f":"IF(I1399=\"\",\"\",IF(I1399<='Main page'!$F$49,\"Core staff\",\"Senior staff\"))","v":""},{"$f":"IF(D1399=\"\",\" \",'Main page'!$F$21-(D1399))","v":" "},{"$f":"IF(D1399=\"\",\" \",VLOOKUP(R1399,'Main page'!$E$29:'Main page'!$G$41,3,TRUE))","v":" "}]
[null,null,null,null,null,null,null,null,null,null,null,null," "," "," "," ",{"$f":"IF(I1400=\"\",\"\",IF(I1400<='Main page'!$F$49,\"Core staff\",\"Senior staff\"))","v":""},{"$f":"IF(D1400=\"\",\" \",'Main page'!$F$21-(D1400))","v":" "},{"$f":"IF(D1400=\"\",\" \",VLOOKUP(R1400,'Main page'!$E$29:'Main page'!$G$41,3,TRUE))","v":" "}]
[null,null,null,null,null,null,null,null,null,null,null,null," "," "," "," ",{"$f":"IF(I1401=\"\",\"\",IF(I1401<='Main page'!$F$49,\"Core staff\",\"Senior staff\"))","v":""},{"$f":"IF(D1401=\"\",\" \",'Main page'!$F$21-(D1401))","v":" "},{"$f":"IF(D1401=\"\",\" \",VLOOKUP(R1401,'Main page'!$E$29:'Main page'!$G$41,3,TRUE))","v":" "}]
[null,null,null,null,null,null,null,null,null,null,null,null," "," "," "," ",{"$f":"IF(I1402=\"\",\"\",IF(I1402<='Main page'!$F$49,\"Core staff\",\"Senior staff\"))","v":""},{"$f":"IF(D1402=\"\",\" \",'Main page'!$F$21-(D1402))","v":" "},{"$f":"IF(D1402=\"\",\" \",VLOOKUP(R1402,'Main page'!$E$29:'Main page'!$G$41,3,TRUE))","v":" "}]
[null,null,null,null,null,null,null,null,null,null,null,null," "," "," "," ",{"$f":"IF(I1403=\"\",\"\",IF(I1403<='Main page'!$F$49,\"Core staff\",\"Senior staff\"))","v":""},{"$f":"IF(D1403=\"\",\" \",'Main page'!$F$21-(D1403))","v":" "},{"$f":"IF(D1403=\"\",\" \",VLOOKUP(R1403,'Main page'!$E$29:'Main page'!$G$41,3,TRUE))","v":" "}]
[null,null,null,null,null,null,null,null,null,null,null,null," "," "," "," ",{"$f":"IF(I1404=\"\",\"\",IF(I1404<='Main page'!$F$49,\"Core staff\",\"Senior staff\"))","v":""},{"$f":"IF(D1404=\"\",\" \",'Main page'!$F$21-(D1404))","v":" "},{"$f":"IF(D1404=\"\",\" \",VLOOKUP(R1404,'Main page'!$E$29:'Main page'!$G$41,3,TRUE))","v":" "}]
[null,null,null,null,null,null,null,null,null,null,null,null," "," "," "," ",{"$f":"IF(I1405=\"\",\"\",IF(I1405<='Main page'!$F$49,\"Core staff\",\"Senior staff\"))","v":""},{"$f":"IF(D1405=\"\",\" \",'Main page'!$F$21-(D1405))","v":" "},{"$f":"IF(D1405=\"\",\" \",VLOOKUP(R1405,'Main page'!$E$29:'Main page'!$G$41,3,TRUE))","v":" "}]
[null,null,null,null,null,null,null,null,null,null,null,null," "," "," "," ",{"$f":"IF(I1406=\"\",\"\",IF(I1406<='Main page'!$F$49,\"Core staff\",\"Senior staff\"))","v":""},{"$f":"IF(D1406=\"\",\" \",'Main page'!$F$21-(D1406))","v":" "},{"$f":"IF(D1406=\"\",\" \",VLOOKUP(R1406,'Main page'!$E$29:'Main page'!$G$41,3,TRUE))","v":" "}]
[null,null,null,null,null,null,null,null,null,null,null,null," "," "," "," ",{"$f":"IF(I1407=\"\",\"\",IF(I1407<='Main page'!$F$49,\"Core staff\",\"Senior staff\"))","v":""},{"$f":"IF(D1407=\"\",\" \",'Main page'!$F$21-(D1407))","v":" "},{"$f":"IF(D1407=\"\",\" \",VLOOKUP(R1407,'Main page'!$E$29:'Main page'!$G$41,3,TRUE))","v":" "}]
[null,null,null,null,null,null,null,null,null,null,null,null," "," "," "," ",{"$f":"IF(I1408=\"\",\"\",IF(I1408<='Main page'!$F$49,\"Core staff\",\"Senior staff\"))","v":""},{"$f":"IF(D1408=\"\",\" \",'Main page'!$F$21-(D1408))","v":" "},{"$f":"IF(D1408=\"\",\" \",VLOOKUP(R1408,'Main page'!$E$29:'Main page'!$G$41,3,TRUE))","v":" "}]
[null,null,null,null,null,null,null,null,null,null,null,null," "," "," "," ",{"$f":"IF(I1409=\"\",\"\",IF(I1409<='Main page'!$F$49,\"Core staff\",\"Senior staff\"))","v":""},{"$f":"IF(D1409=\"\",\" \",'Main page'!$F$21-(D1409))","v":" "},{"$f":"IF(D1409=\"\",\" \",VLOOKUP(R1409,'Main page'!$E$29:'Main page'!$G$41,3,TRUE))","v":" "}]
[null,null,null,null,null,null,null,null,null,null,null,null," "," "," "," ",{"$f":"IF(I1410=\"\",\"\",IF(I1410<='Main page'!$F$49,\"Core staff\",\"Senior staff\"))","v":""},{"$f":"IF(D1410=\"\",\" \",'Main page'!$F$21-(D1410))","v":" "},{"$f":"IF(D1410=\"\",\" \",VLOOKUP(R1410,'Main page'!$E$29:'Main page'!$G$41,3,TRUE))","v":" "}]
[null,null,null,null,null,null,null,null,null,null,null,null," "," "," "," ",{"$f":"IF(I1411=\"\",\"\",IF(I1411<='Main page'!$F$49,\"Core staff\",\"Senior staff\"))","v":""},{"$f":"IF(D1411=\"\",\" \",'Main page'!$F$21-(D1411))","v":" "},{"$f":"IF(D1411=\"\",\" \",VLOOKUP(R1411,'Main page'!$E$29:'Main page'!$G$41,3,TRUE))","v":" "}]
[null,null,null,null,null,null,null,null,null,null,null,null," "," "," "," ",{"$f":"IF(I1412=\"\",\"\",IF(I1412<='Main page'!$F$49,\"Core staff\",\"Senior staff\"))","v":""},{"$f":"IF(D1412=\"\",\" \",'Main page'!$F$21-(D1412))","v":" "},{"$f":"IF(D1412=\"\",\" \",VLOOKUP(R1412,'Main page'!$E$29:'Main page'!$G$41,3,TRUE))","v":" "}]
[null,null,null,null,null,null,null,null,null,null,null,null," "," "," "," ",{"$f":"IF(I1413=\"\",\"\",IF(I1413<='Main page'!$F$49,\"Core staff\",\"Senior staff\"))","v":""},{"$f":"IF(D1413=\"\",\" \",'Main page'!$F$21-(D1413))","v":" "},{"$f":"IF(D1413=\"\",\" \",VLOOKUP(R1413,'Main page'!$E$29:'Main page'!$G$41,3,TRUE))","v":" "}]
[null,null,null,null,null,null,null,null,null,null,null,null," "," "," "," ",{"$f":"IF(I1414=\"\",\"\",IF(I1414<='Main page'!$F$49,\"Core staff\",\"Senior staff\"))","v":""},{"$f":"IF(D1414=\"\",\" \",'Main page'!$F$21-(D1414))","v":" "},{"$f":"IF(D1414=\"\",\" \",VLOOKUP(R1414,'Main page'!$E$29:'Main page'!$G$41,3,TRUE))","v":" "}]
[null,null,null,null,null,null,null,null,null,null,null,null," "," "," "," ",{"$f":"IF(I1415=\"\",\"\",IF(I1415<='Main page'!$F$49,\"Core staff\",\"Senior staff\"))","v":""},{"$f":"IF(D1415=\"\",\" \",'Main page'!$F$21-(D1415))","v":" "},{"$f":"IF(D1415=\"\",\" \",VLOOKUP(R1415,'Main page'!$E$29:'Main page'!$G$41,3,TRUE))","v":" "}]
[null,null,null,null,null,null,null,null,null,null,null,null," "," "," "," ",{"$f":"IF(I1416=\"\",\"\",IF(I1416<='Main page'!$F$49,\"Core staff\",\"Senior staff\"))","v":""},{"$f":"IF(D1416=\"\",\" \",'Main page'!$F$21-(D1416))","v":" "},{"$f":"IF(D1416=\"\",\" \",VLOOKUP(R1416,'Main page'!$E$29:'Main page'!$G$41,3,TRUE))","v":" "}]
[null,null,null,null,null,null,null,null,null,null,null,null," "," "," "," ",{"$f":"IF(I1417=\"\",\"\",IF(I1417<='Main page'!$F$49,\"Core staff\",\"Senior staff\"))","v":""},{"$f":"IF(D1417=\"\",\" \",'Main page'!$F$21-(D1417))","v":" "},{"$f":"IF(D1417=\"\",\" \",VLOOKUP(R1417,'Main page'!$E$29:'Main page'!$G$41,3,TRUE))","v":" "}]
[null,null,null,null,null,null,null,null,null,null,null,null," "," "," "," ",{"$f":"IF(I1418=\"\",\"\",IF(I1418<='Main page'!$F$49,\"Core staff\",\"Senior staff\"))","v":""},{"$f":"IF(D1418=\"\",\" \",'Main page'!$F$21-(D1418))","v":" "},{"$f":"IF(D1418=\"\",\" \",VLOOKUP(R1418,'Main page'!$E$29:'Main page'!$G$41,3,TRUE))","v":" "}]
[null,null,null,null,null,null,null,null,null,null,null,null," "," "," "," ",{"$f":"IF(I1419=\"\",\"\",IF(I1419<='Main page'!$F$49,\"Core staff\",\"Senior staff\"))","v":""},{"$f":"IF(D1419=\"\",\" \",'Main page'!$F$21-(D1419))","v":" "},{"$f":"IF(D1419=\"\",\" \",VLOOKUP(R1419,'Main page'!$E$29:'Main page'!$G$41,3,TRUE))","v":" "}]
[null,null,null,null,null,null,null,null,null,null,null,null," "," "," "," ",{"$f":"IF(I1420=\"\",\"\",IF(I1420<='Main page'!$F$49,\"Core staff\",\"Senior staff\"))","v":""},{"$f":"IF(D1420=\"\",\" \",'Main page'!$F$21-(D1420))","v":" "},{"$f":"IF(D1420=\"\",\" \",VLOOKUP(R1420,'Main page'!$E$29:'Main page'!$G$41,3,TRUE))","v":" "}]
[null,null,null,null,null,null,null,null,null,null,null,null," "," "," "," ",{"$f":"IF(I1421=\"\",\"\",IF(I1421<='Main page'!$F$49,\"Core staff\",\"Senior staff\"))","v":""},{"$f":"IF(D1421=\"\",\" \",'Main page'!$F$21-(D1421))","v":" "},{"$f":"IF(D1421=\"\",\" \",VLOOKUP(R1421,'Main page'!$E$29:'Main page'!$G$41,3,TRUE))","v":" "}]
[null,null,null,null,null,null,null,null,null,null,null,null,{"$f":"IFERROR(J1422/G1422,\" \")","v":" "},{"$f":"IFERROR((M1422/$U$4)/H1422,\" \")","v":" "},{"$f":"IFERROR((N1422*75)*26.083,\" \")","v":" "},{"$f":"IF(G1422=0,\" \",IF(G1422=1,\"Full time\",\"Part time\"))","v":" "},{"$f":"IF(I1422=\"\",\"\",IF(I1422<='Main page'!$F$49,\"Core staff\",\"Senior staff\"))","v":""},{"$f":"IF(D1422=\"\",\" \",'Main page'!$F$21-(D1422))","v":" "},{"$f":"IF(D1422=\"\",\" \",VLOOKUP(R1422,'Main page'!$E$29:'Main page'!$G$41,3,TRUE))","v":" "}]
[null,null,null,null,null,null,null,null,null,null,null,null," "," "," "," ",{"$f":"IF(I1423=\"\",\"\",IF(I1423<='Main page'!$F$49,\"Core staff\",\"Senior staff\"))","v":""},{"$f":"IF(D1423=\"\",\" \",'Main page'!$F$21-(D1423))","v":" "},{"$f":"IF(D1423=\"\",\" \",VLOOKUP(R1423,'Main page'!$E$29:'Main page'!$G$41,3,TRUE))","v":" "}]
[null,null,null,null,null,null,null,null,null,null,null,null," "," "," "," ",{"$f":"IF(I1424=\"\",\"\",IF(I1424<='Main page'!$F$49,\"Core staff\",\"Senior staff\"))","v":""},{"$f":"IF(D1424=\"\",\" \",'Main page'!$F$21-(D1424))","v":" "},{"$f":"IF(D1424=\"\",\" \",VLOOKUP(R1424,'Main page'!$E$29:'Main page'!$G$41,3,TRUE))","v":" "}]
[null,null,null,null,null,null,null,null,null,null,null,null," "," "," "," ",{"$f":"IF(I1425=\"\",\"\",IF(I1425<='Main page'!$F$49,\"Core staff\",\"Senior staff\"))","v":""},{"$f":"IF(D1425=\"\",\" \",'Main page'!$F$21-(D1425))","v":" "},{"$f":"IF(D1425=\"\",\" \",VLOOKUP(R1425,'Main page'!$E$29:'Main page'!$G$41,3,TRUE))","v":" "}]
[null,null,null,null,null,null,null,null,null,null,null,null," "," "," "," ",{"$f":"IF(I1426=\"\",\"\",IF(I1426<='Main page'!$F$49,\"Core staff\",\"Senior staff\"))","v":""},{"$f":"IF(D1426=\"\",\" \",'Main page'!$F$21-(D1426))","v":" "},{"$f":"IF(D1426=\"\",\" \",VLOOKUP(R1426,'Main page'!$E$29:'Main page'!$G$41,3,TRUE))","v":" "}]
[null,null,null,null,null,null,null,null,null,null,null,null," "," "," "," ",{"$f":"IF(I1427=\"\",\"\",IF(I1427<='Main page'!$F$49,\"Core staff\",\"Senior staff\"))","v":""},{"$f":"IF(D1427=\"\",\" \",'Main page'!$F$21-(D1427))","v":" "},{"$f":"IF(D1427=\"\",\" \",VLOOKUP(R1427,'Main page'!$E$29:'Main page'!$G$41,3,TRUE))","v":" "}]
[null,null,null,null,null,null,null,null,null,null,null,null," "," "," "," ",{"$f":"IF(I1428=\"\",\"\",IF(I1428<='Main page'!$F$49,\"Core staff\",\"Senior staff\"))","v":""},{"$f":"IF(D1428=\"\",\" \",'Main page'!$F$21-(D1428))","v":" "},{"$f":"IF(D1428=\"\",\" \",VLOOKUP(R1428,'Main page'!$E$29:'Main page'!$G$41,3,TRUE))","v":" "}]
[null,null,null,null,null,null,null,null,null,null,null,null," "," "," "," ",{"$f":"IF(I1429=\"\",\"\",IF(I1429<='Main page'!$F$49,\"Core staff\",\"Senior staff\"))","v":""},{"$f":"IF(D1429=\"\",\" \",'Main page'!$F$21-(D1429))","v":" "},{"$f":"IF(D1429=\"\",\" \",VLOOKUP(R1429,'Main page'!$E$29:'Main page'!$G$41,3,TRUE))","v":" "}]
[null,null,null,null,null,null,null,null,null,null,null,null," "," "," "," ",{"$f":"IF(I1430=\"\",\"\",IF(I1430<='Main page'!$F$49,\"Core staff\",\"Senior staff\"))","v":""},{"$f":"IF(D1430=\"\",\" \",'Main page'!$F$21-(D1430))","v":" "},{"$f":"IF(D1430=\"\",\" \",VLOOKUP(R1430,'Main page'!$E$29:'Main page'!$G$41,3,TRUE))","v":" "}]
[null,null,null,null,null,null,null,null,null,null,null,null," "," "," "," ",{"$f":"IF(I1431=\"\",\"\",IF(I1431<='Main page'!$F$49,\"Core staff\",\"Senior staff\"))","v":""},{"$f":"IF(D1431=\"\",\" \",'Main page'!$F$21-(D1431))","v":" "},{"$f":"IF(D1431=\"\",\" \",VLOOKUP(R1431,'Main page'!$E$29:'Main page'!$G$41,3,TRUE))","v":" "}]
[null,null,null,null,null,null,null,null,null,null,null,null," "," "," "," ",{"$f":"IF(I1432=\"\",\"\",IF(I1432<='Main page'!$F$49,\"Core staff\",\"Senior staff\"))","v":""},{"$f":"IF(D1432=\"\",\" \",'Main page'!$F$21-(D1432))","v":" "},{"$f":"IF(D1432=\"\",\" \",VLOOKUP(R1432,'Main page'!$E$29:'Main page'!$G$41,3,TRUE))","v":" "}]
[null,null,null,null,null,null,null,null,null,null,null,null," "," "," "," ",{"$f":"IF(I1433=\"\",\"\",IF(I1433<='Main page'!$F$49,\"Core staff\",\"Senior staff\"))","v":""},{"$f":"IF(D1433=\"\",\" \",'Main page'!$F$21-(D1433))","v":" "},{"$f":"IF(D1433=\"\",\" \",VLOOKUP(R1433,'Main page'!$E$29:'Main page'!$G$41,3,TRUE))","v":" "}]
[null,null,null,null,null,null,null,null,null,null,null,null," "," "," "," ",{"$f":"IF(I1434=\"\",\"\",IF(I1434<='Main page'!$F$49,\"Core staff\",\"Senior staff\"))","v":""},{"$f":"IF(D1434=\"\",\" \",'Main page'!$F$21-(D1434))","v":" "},{"$f":"IF(D1434=\"\",\" \",VLOOKUP(R1434,'Main page'!$E$29:'Main page'!$G$41,3,TRUE))","v":" "}]
[null,null,null,null,null,null,null,null,null,null,null,null," "," "," "," ",{"$f":"IF(I1435=\"\",\"\",IF(I1435<='Main page'!$F$49,\"Core staff\",\"Senior staff\"))","v":""},{"$f":"IF(D1435=\"\",\" \",'Main page'!$F$21-(D1435))","v":" "},{"$f":"IF(D1435=\"\",\" \",VLOOKUP(R1435,'Main page'!$E$29:'Main page'!$G$41,3,TRUE))","v":" "}]
[null,null,null,null,null,null,null,null,null,null,null,null," "," "," "," ",{"$f":"IF(I1436=\"\",\"\",IF(I1436<='Main page'!$F$49,\"Core staff\",\"Senior staff\"))","v":""},{"$f":"IF(D1436=\"\",\" \",'Main page'!$F$21-(D1436))","v":" "},{"$f":"IF(D1436=\"\",\" \",VLOOKUP(R1436,'Main page'!$E$29:'Main page'!$G$41,3,TRUE))","v":" "}]
[null,null,null,null,null,null,null,null,null,null,null,null," "," "," "," ",{"$f":"IF(I1437=\"\",\"\",IF(I1437<='Main page'!$F$49,\"Core staff\",\"Senior staff\"))","v":""},{"$f":"IF(D1437=\"\",\" \",'Main page'!$F$21-(D1437))","v":" "},{"$f":"IF(D1437=\"\",\" \",VLOOKUP(R1437,'Main page'!$E$29:'Main page'!$G$41,3,TRUE))","v":" "}]
[null,null,null,null,null,null,null,null,null,null,null,null," "," "," "," ",{"$f":"IF(I1438=\"\",\"\",IF(I1438<='Main page'!$F$49,\"Core staff\",\"Senior staff\"))","v":""},{"$f":"IF(D1438=\"\",\" \",'Main page'!$F$21-(D1438))","v":" "},{"$f":"IF(D1438=\"\",\" \",VLOOKUP(R1438,'Main page'!$E$29:'Main page'!$G$41,3,TRUE))","v":" "}]
[null,null,null,null,null,null,null,null,null,null,null,null," "," "," "," ",{"$f":"IF(I1439=\"\",\"\",IF(I1439<='Main page'!$F$49,\"Core staff\",\"Senior staff\"))","v":""},{"$f":"IF(D1439=\"\",\" \",'Main page'!$F$21-(D1439))","v":" "},{"$f":"IF(D1439=\"\",\" \",VLOOKUP(R1439,'Main page'!$E$29:'Main page'!$G$41,3,TRUE))","v":" "}]
[null,null,null,null,null,null,null,null,null,null,null,null," "," "," "," ",{"$f":"IF(I1440=\"\",\"\",IF(I1440<='Main page'!$F$49,\"Core staff\",\"Senior staff\"))","v":""},{"$f":"IF(D1440=\"\",\" \",'Main page'!$F$21-(D1440))","v":" "},{"$f":"IF(D1440=\"\",\" \",VLOOKUP(R1440,'Main page'!$E$29:'Main page'!$G$41,3,TRUE))","v":" "}]
[null,null,null,null,null,null,null,null,null,null,null,null," "," "," "," ",{"$f":"IF(I1441=\"\",\"\",IF(I1441<='Main page'!$F$49,\"Core staff\",\"Senior staff\"))","v":""},{"$f":"IF(D1441=\"\",\" \",'Main page'!$F$21-(D1441))","v":" "},{"$f":"IF(D1441=\"\",\" \",VLOOKUP(R1441,'Main page'!$E$29:'Main page'!$G$41,3,TRUE))","v":" "}]
[null,null,null,null,null,null,null,null,null,null,null,null," "," "," "," ",{"$f":"IF(I1442=\"\",\"\",IF(I1442<='Main page'!$F$49,\"Core staff\",\"Senior staff\"))","v":""},{"$f":"IF(D1442=\"\",\" \",'Main page'!$F$21-(D1442))","v":" "},{"$f":"IF(D1442=\"\",\" \",VLOOKUP(R1442,'Main page'!$E$29:'Main page'!$G$41,3,TRUE))","v":" "}]
[null,null,null,null,null,null,null,null,null,null,null,null," "," "," "," ",{"$f":"IF(I1443=\"\",\"\",IF(I1443<='Main page'!$F$49,\"Core staff\",\"Senior staff\"))","v":""},{"$f":"IF(D1443=\"\",\" \",'Main page'!$F$21-(D1443))","v":" "},{"$f":"IF(D1443=\"\",\" \",VLOOKUP(R1443,'Main page'!$E$29:'Main page'!$G$41,3,TRUE))","v":" "}]
[null,null,null,null,null,null,null,null,null,null,null,null," "," "," "," ",{"$f":"IF(I1444=\"\",\"\",IF(I1444<='Main page'!$F$49,\"Core staff\",\"Senior staff\"))","v":""},{"$f":"IF(D1444=\"\",\" \",'Main page'!$F$21-(D1444))","v":" "},{"$f":"IF(D1444=\"\",\" \",VLOOKUP(R1444,'Main page'!$E$29:'Main page'!$G$41,3,TRUE))","v":" "}]
[null,null,null,null,null,null,null,null,null,null,null,null," "," "," "," ",{"$f":"IF(I1445=\"\",\"\",IF(I1445<='Main page'!$F$49,\"Core staff\",\"Senior staff\"))","v":""},{"$f":"IF(D1445=\"\",\" \",'Main page'!$F$21-(D1445))","v":" "},{"$f":"IF(D1445=\"\",\" \",VLOOKUP(R1445,'Main page'!$E$29:'Main page'!$G$41,3,TRUE))","v":" "}]
[null,null,null,null,null,null,null,null,null,null,null,null," "," "," "," ",{"$f":"IF(I1446=\"\",\"\",IF(I1446<='Main page'!$F$49,\"Core staff\",\"Senior staff\"))","v":""},{"$f":"IF(D1446=\"\",\" \",'Main page'!$F$21-(D1446))","v":" "},{"$f":"IF(D1446=\"\",\" \",VLOOKUP(R1446,'Main page'!$E$29:'Main page'!$G$41,3,TRUE))","v":" "}]
[null,null,null,null,null,null,null,null,null,null,null,null," "," "," "," ",{"$f":"IF(I1447=\"\",\"\",IF(I1447<='Main page'!$F$49,\"Core staff\",\"Senior staff\"))","v":""},{"$f":"IF(D1447=\"\",\" \",'Main page'!$F$21-(D1447))","v":" "},{"$f":"IF(D1447=\"\",\" \",VLOOKUP(R1447,'Main page'!$E$29:'Main page'!$G$41,3,TRUE))","v":" "}]
[null,null,null,null,null,null,null,null,null,null,null,null," "," "," "," ",{"$f":"IF(I1448=\"\",\"\",IF(I1448<='Main page'!$F$49,\"Core staff\",\"Senior staff\"))","v":""},{"$f":"IF(D1448=\"\",\" \",'Main page'!$F$21-(D1448))","v":" "},{"$f":"IF(D1448=\"\",\" \",VLOOKUP(R1448,'Main page'!$E$29:'Main page'!$G$41,3,TRUE))","v":" "}]
[null,null,null,null,null,null,null,null,null,null,null,null," "," "," "," ",{"$f":"IF(I1449=\"\",\"\",IF(I1449<='Main page'!$F$49,\"Core staff\",\"Senior staff\"))","v":""},{"$f":"IF(D1449=\"\",\" \",'Main page'!$F$21-(D1449))","v":" "},{"$f":"IF(D1449=\"\",\" \",VLOOKUP(R1449,'Main page'!$E$29:'Main page'!$G$41,3,TRUE))","v":" "}]
[null,null,null,null,null,null,null,null,null,null,null,null," "," "," "," ",{"$f":"IF(I1450=\"\",\"\",IF(I1450<='Main page'!$F$49,\"Core staff\",\"Senior staff\"))","v":""},{"$f":"IF(D1450=\"\",\" \",'Main page'!$F$21-(D1450))","v":" "},{"$f":"IF(D1450=\"\",\" \",VLOOKUP(R1450,'Main page'!$E$29:'Main page'!$G$41,3,TRUE))","v":" "}]
[null,null,null,null,null,null,null,null,null,null,null,null," "," "," "," ",{"$f":"IF(I1451=\"\",\"\",IF(I1451<='Main page'!$F$49,\"Core staff\",\"Senior staff\"))","v":""},{"$f":"IF(D1451=\"\",\" \",'Main page'!$F$21-(D1451))","v":" "},{"$f":"IF(D1451=\"\",\" \",VLOOKUP(R1451,'Main page'!$E$29:'Main page'!$G$41,3,TRUE))","v":" "}]
[null,null,null,null,null,null,null,null,null,null,null,null," "," "," "," ",{"$f":"IF(I1452=\"\",\"\",IF(I1452<='Main page'!$F$49,\"Core staff\",\"Senior staff\"))","v":""},{"$f":"IF(D1452=\"\",\" \",'Main page'!$F$21-(D1452))","v":" "},{"$f":"IF(D1452=\"\",\" \",VLOOKUP(R1452,'Main page'!$E$29:'Main page'!$G$41,3,TRUE))","v":" "}]
[null,null,null,null,null,null,null,null,null,null,null,null," "," "," "," ",{"$f":"IF(I1453=\"\",\"\",IF(I1453<='Main page'!$F$49,\"Core staff\",\"Senior staff\"))","v":""},{"$f":"IF(D1453=\"\",\" \",'Main page'!$F$21-(D1453))","v":" "},{"$f":"IF(D1453=\"\",\" \",VLOOKUP(R1453,'Main page'!$E$29:'Main page'!$G$41,3,TRUE))","v":" "}]
[null,null,null,null,null,null,null,null,null,null,null,null," "," "," "," ",{"$f":"IF(I1454=\"\",\"\",IF(I1454<='Main page'!$F$49,\"Core staff\",\"Senior staff\"))","v":""},{"$f":"IF(D1454=\"\",\" \",'Main page'!$F$21-(D1454))","v":" "},{"$f":"IF(D1454=\"\",\" \",VLOOKUP(R1454,'Main page'!$E$29:'Main page'!$G$41,3,TRUE))","v":" "}]
[null,null,null,null,null,null,null,null,null,null,null,null," "," "," "," ",{"$f":"IF(I1455=\"\",\"\",IF(I1455<='Main page'!$F$49,\"Core staff\",\"Senior staff\"))","v":""},{"$f":"IF(D1455=\"\",\" \",'Main page'!$F$21-(D1455))","v":" "},{"$f":"IF(D1455=\"\",\" \",VLOOKUP(R1455,'Main page'!$E$29:'Main page'!$G$41,3,TRUE))","v":" "}]
[null,null,null,null,null,null,null,null,null,null,null,null," "," "," "," ",{"$f":"IF(I1456=\"\",\"\",IF(I1456<='Main page'!$F$49,\"Core staff\",\"Senior staff\"))","v":""},{"$f":"IF(D1456=\"\",\" \",'Main page'!$F$21-(D1456))","v":" "},{"$f":"IF(D1456=\"\",\" \",VLOOKUP(R1456,'Main page'!$E$29:'Main page'!$G$41,3,TRUE))","v":" "}]
[null,null,null,null,null,null,null,null,null,null,null,null," "," "," "," ",{"$f":"IF(I1457=\"\",\"\",IF(I1457<='Main page'!$F$49,\"Core staff\",\"Senior staff\"))","v":""},{"$f":"IF(D1457=\"\",\" \",'Main page'!$F$21-(D1457))","v":" "},{"$f":"IF(D1457=\"\",\" \",VLOOKUP(R1457,'Main page'!$E$29:'Main page'!$G$41,3,TRUE))","v":" "}]
[null,null,null,null,null,null,null,null,null,null,null,null," "," "," "," ",{"$f":"IF(I1458=\"\",\"\",IF(I1458<='Main page'!$F$49,\"Core staff\",\"Senior staff\"))","v":""},{"$f":"IF(D1458=\"\",\" \",'Main page'!$F$21-(D1458))","v":" "},{"$f":"IF(D1458=\"\",\" \",VLOOKUP(R1458,'Main page'!$E$29:'Main page'!$G$41,3,TRUE))","v":" "}]
[null,null,null,null,null,null,null,null,null,null,null,null," "," "," "," ",{"$f":"IF(I1459=\"\",\"\",IF(I1459<='Main page'!$F$49,\"Core staff\",\"Senior staff\"))","v":""},{"$f":"IF(D1459=\"\",\" \",'Main page'!$F$21-(D1459))","v":" "},{"$f":"IF(D1459=\"\",\" \",VLOOKUP(R1459,'Main page'!$E$29:'Main page'!$G$41,3,TRUE))","v":" "}]
[null,null,null,null,null,null,null,null,null,null,null,null," "," "," "," ",{"$f":"IF(I1460=\"\",\"\",IF(I1460<='Main page'!$F$49,\"Core staff\",\"Senior staff\"))","v":""},{"$f":"IF(D1460=\"\",\" \",'Main page'!$F$21-(D1460))","v":" "},{"$f":"IF(D1460=\"\",\" \",VLOOKUP(R1460,'Main page'!$E$29:'Main page'!$G$41,3,TRUE))","v":" "}]
[null,null,null,null,null,null,null,null,null,null,null,null," "," "," "," ",{"$f":"IF(I1461=\"\",\"\",IF(I1461<='Main page'!$F$49,\"Core staff\",\"Senior staff\"))","v":""},{"$f":"IF(D1461=\"\",\" \",'Main page'!$F$21-(D1461))","v":" "},{"$f":"IF(D1461=\"\",\" \",VLOOKUP(R1461,'Main page'!$E$29:'Main page'!$G$41,3,TRUE))","v":" "}]
[null,null,null,null,null,null,null,null,null,null,null,null," "," "," "," ",{"$f":"IF(I1462=\"\",\"\",IF(I1462<='Main page'!$F$49,\"Core staff\",\"Senior staff\"))","v":""},{"$f":"IF(D1462=\"\",\" \",'Main page'!$F$21-(D1462))","v":" "},{"$f":"IF(D1462=\"\",\" \",VLOOKUP(R1462,'Main page'!$E$29:'Main page'!$G$41,3,TRUE))","v":" "}]
[null,null,null,null,null,null,null,null,null,null,null,null," "," "," "," ",{"$f":"IF(I1463=\"\",\"\",IF(I1463<='Main page'!$F$49,\"Core staff\",\"Senior staff\"))","v":""},{"$f":"IF(D1463=\"\",\" \",'Main page'!$F$21-(D1463))","v":" "},{"$f":"IF(D1463=\"\",\" \",VLOOKUP(R1463,'Main page'!$E$29:'Main page'!$G$41,3,TRUE))","v":" "}]
[null,null,null,null,null,null,null,null,null,null,null,null," "," "," "," ",{"$f":"IF(I1464=\"\",\"\",IF(I1464<='Main page'!$F$49,\"Core staff\",\"Senior staff\"))","v":""},{"$f":"IF(D1464=\"\",\" \",'Main page'!$F$21-(D1464))","v":" "},{"$f":"IF(D1464=\"\",\" \",VLOOKUP(R1464,'Main page'!$E$29:'Main page'!$G$41,3,TRUE))","v":" "}]
[null,null,null,null,null,null,null,null,null,null,null,null," "," "," "," ",{"$f":"IF(I1465=\"\",\"\",IF(I1465<='Main page'!$F$49,\"Core staff\",\"Senior staff\"))","v":""},{"$f":"IF(D1465=\"\",\" \",'Main page'!$F$21-(D1465))","v":" "},{"$f":"IF(D1465=\"\",\" \",VLOOKUP(R1465,'Main page'!$E$29:'Main page'!$G$41,3,TRUE))","v":" "}]
[null,null,null,null,null,null,null,null,null,null,null,null," "," "," "," ",{"$f":"IF(I1466=\"\",\"\",IF(I1466<='Main page'!$F$49,\"Core staff\",\"Senior staff\"))","v":""},{"$f":"IF(D1466=\"\",\" \",'Main page'!$F$21-(D1466))","v":" "},{"$f":"IF(D1466=\"\",\" \",VLOOKUP(R1466,'Main page'!$E$29:'Main page'!$G$41,3,TRUE))","v":" "}]
[null,null,null,null,null,null,null,null,null,null,null,null," "," "," "," ",{"$f":"IF(I1467=\"\",\"\",IF(I1467<='Main page'!$F$49,\"Core staff\",\"Senior staff\"))","v":""},{"$f":"IF(D1467=\"\",\" \",'Main page'!$F$21-(D1467))","v":" "},{"$f":"IF(D1467=\"\",\" \",VLOOKUP(R1467,'Main page'!$E$29:'Main page'!$G$41,3,TRUE))","v":" "}]
[null,null,null,null,null,null,null,null,null,null,null,null," "," "," "," ",{"$f":"IF(I1468=\"\",\"\",IF(I1468<='Main page'!$F$49,\"Core staff\",\"Senior staff\"))","v":""},{"$f":"IF(D1468=\"\",\" \",'Main page'!$F$21-(D1468))","v":" "},{"$f":"IF(D1468=\"\",\" \",VLOOKUP(R1468,'Main page'!$E$29:'Main page'!$G$41,3,TRUE))","v":" "}]
[null,null,null,null,null,null,null,null,null,null,null,null," "," "," "," ",{"$f":"IF(I1469=\"\",\"\",IF(I1469<='Main page'!$F$49,\"Core staff\",\"Senior staff\"))","v":""},{"$f":"IF(D1469=\"\",\" \",'Main page'!$F$21-(D1469))","v":" "},{"$f":"IF(D1469=\"\",\" \",VLOOKUP(R1469,'Main page'!$E$29:'Main page'!$G$41,3,TRUE))","v":" "}]
[null,null,null,null,null,null,null,null,null,null,null,null," "," "," "," ",{"$f":"IF(I1470=\"\",\"\",IF(I1470<='Main page'!$F$49,\"Core staff\",\"Senior staff\"))","v":""},{"$f":"IF(D1470=\"\",\" \",'Main page'!$F$21-(D1470))","v":" "},{"$f":"IF(D1470=\"\",\" \",VLOOKUP(R1470,'Main page'!$E$29:'Main page'!$G$41,3,TRUE))","v":" "}]
[null,null,null,null,null,null,null,null,null,null,null,null," "," "," "," ",{"$f":"IF(I1471=\"\",\"\",IF(I1471<='Main page'!$F$49,\"Core staff\",\"Senior staff\"))","v":""},{"$f":"IF(D1471=\"\",\" \",'Main page'!$F$21-(D1471))","v":" "},{"$f":"IF(D1471=\"\",\" \",VLOOKUP(R1471,'Main page'!$E$29:'Main page'!$G$41,3,TRUE))","v":" "}]
[null,null,null,null,null,null,null,null,null,null,null,null," "," "," "," ",{"$f":"IF(I1472=\"\",\"\",IF(I1472<='Main page'!$F$49,\"Core staff\",\"Senior staff\"))","v":""},{"$f":"IF(D1472=\"\",\" \",'Main page'!$F$21-(D1472))","v":" "},{"$f":"IF(D1472=\"\",\" \",VLOOKUP(R1472,'Main page'!$E$29:'Main page'!$G$41,3,TRUE))","v":" "}]
[null,null,null,null,null,null,null,null,null,null,null,null," "," "," "," ",{"$f":"IF(I1473=\"\",\"\",IF(I1473<='Main page'!$F$49,\"Core staff\",\"Senior staff\"))","v":""},{"$f":"IF(D1473=\"\",\" \",'Main page'!$F$21-(D1473))","v":" "},{"$f":"IF(D1473=\"\",\" \",VLOOKUP(R1473,'Main page'!$E$29:'Main page'!$G$41,3,TRUE))","v":" "}]
[null,null,null,null,null,null,null,null,null,null,null,null," "," "," "," ",{"$f":"IF(I1474=\"\",\"\",IF(I1474<='Main page'!$F$49,\"Core staff\",\"Senior staff\"))","v":""},{"$f":"IF(D1474=\"\",\" \",'Main page'!$F$21-(D1474))","v":" "},{"$f":"IF(D1474=\"\",\" \",VLOOKUP(R1474,'Main page'!$E$29:'Main page'!$G$41,3,TRUE))","v":" "}]
[null,null,null,null,null,null,null,null,null,null,null,null," "," "," "," ",{"$f":"IF(I1475=\"\",\"\",IF(I1475<='Main page'!$F$49,\"Core staff\",\"Senior staff\"))","v":""},{"$f":"IF(D1475=\"\",\" \",'Main page'!$F$21-(D1475))","v":" "},{"$f":"IF(D1475=\"\",\" \",VLOOKUP(R1475,'Main page'!$E$29:'Main page'!$G$41,3,TRUE))","v":" "}]
[null,null,null,null,null,null,null,null,null,null,null,null," "," "," "," ",{"$f":"IF(I1476=\"\",\"\",IF(I1476<='Main page'!$F$49,\"Core staff\",\"Senior staff\"))","v":""},{"$f":"IF(D1476=\"\",\" \",'Main page'!$F$21-(D1476))","v":" "},{"$f":"IF(D1476=\"\",\" \",VLOOKUP(R1476,'Main page'!$E$29:'Main page'!$G$41,3,TRUE))","v":" "}]
[null,null,null,null,null,null,null,null,null,null,null,null," "," "," "," ",{"$f":"IF(I1477=\"\",\"\",IF(I1477<='Main page'!$F$49,\"Core staff\",\"Senior staff\"))","v":""},{"$f":"IF(D1477=\"\",\" \",'Main page'!$F$21-(D1477))","v":" "},{"$f":"IF(D1477=\"\",\" \",VLOOKUP(R1477,'Main page'!$E$29:'Main page'!$G$41,3,TRUE))","v":" "}]
[null,null,null,null,null,null,null,null,null,null,null,null," "," "," "," ",{"$f":"IF(I1478=\"\",\"\",IF(I1478<='Main page'!$F$49,\"Core staff\",\"Senior staff\"))","v":""},{"$f":"IF(D1478=\"\",\" \",'Main page'!$F$21-(D1478))","v":" "},{"$f":"IF(D1478=\"\",\" \",VLOOKUP(R1478,'Main page'!$E$29:'Main page'!$G$41,3,TRUE))","v":" "}]
[null,null,null,null,null,null,null,null,null,null,null,null," "," "," "," ",{"$f":"IF(I1479=\"\",\"\",IF(I1479<='Main page'!$F$49,\"Core staff\",\"Senior staff\"))","v":""},{"$f":"IF(D1479=\"\",\" \",'Main page'!$F$21-(D1479))","v":" "},{"$f":"IF(D1479=\"\",\" \",VLOOKUP(R1479,'Main page'!$E$29:'Main page'!$G$41,3,TRUE))","v":" "}]
[null,null,null,null,null,null,null,null,null,null,null,null," "," "," "," ",{"$f":"IF(I1480=\"\",\"\",IF(I1480<='Main page'!$F$49,\"Core staff\",\"Senior staff\"))","v":""},{"$f":"IF(D1480=\"\",\" \",'Main page'!$F$21-(D1480))","v":" "},{"$f":"IF(D1480=\"\",\" \",VLOOKUP(R1480,'Main page'!$E$29:'Main page'!$G$41,3,TRUE))","v":" "}]
[null,null,null,null,null,null,null,null,null,null,null,null," "," "," "," ",{"$f":"IF(I1481=\"\",\"\",IF(I1481<='Main page'!$F$49,\"Core staff\",\"Senior staff\"))","v":""},{"$f":"IF(D1481=\"\",\" \",'Main page'!$F$21-(D1481))","v":" "},{"$f":"IF(D1481=\"\",\" \",VLOOKUP(R1481,'Main page'!$E$29:'Main page'!$G$41,3,TRUE))","v":" "}]
[null,null,null,null,null,null,null,null,null,null,null,null," "," "," "," ",{"$f":"IF(I1482=\"\",\"\",IF(I1482<='Main page'!$F$49,\"Core staff\",\"Senior staff\"))","v":""},{"$f":"IF(D1482=\"\",\" \",'Main page'!$F$21-(D1482))","v":" "},{"$f":"IF(D1482=\"\",\" \",VLOOKUP(R1482,'Main page'!$E$29:'Main page'!$G$41,3,TRUE))","v":" "}]
[null,null,null,null,null,null,null,null,null,null,null,null," "," "," "," ",{"$f":"IF(I1483=\"\",\"\",IF(I1483<='Main page'!$F$49,\"Core staff\",\"Senior staff\"))","v":""},{"$f":"IF(D1483=\"\",\" \",'Main page'!$F$21-(D1483))","v":" "},{"$f":"IF(D1483=\"\",\" \",VLOOKUP(R1483,'Main page'!$E$29:'Main page'!$G$41,3,TRUE))","v":" "}]
[null,null,null,null,null,null,null,null,null,null,null,null," "," "," "," ",{"$f":"IF(I1484=\"\",\"\",IF(I1484<='Main page'!$F$49,\"Core staff\",\"Senior staff\"))","v":""},{"$f":"IF(D1484=\"\",\" \",'Main page'!$F$21-(D1484))","v":" "},{"$f":"IF(D1484=\"\",\" \",VLOOKUP(R1484,'Main page'!$E$29:'Main page'!$G$41,3,TRUE))","v":" "}]
[null,null,null,null,null,null,null,null,null,null,null,null," "," "," "," ",{"$f":"IF(I1485=\"\",\"\",IF(I1485<='Main page'!$F$49,\"Core staff\",\"Senior staff\"))","v":""},{"$f":"IF(D1485=\"\",\" \",'Main page'!$F$21-(D1485))","v":" "},{"$f":"IF(D1485=\"\",\" \",VLOOKUP(R1485,'Main page'!$E$29:'Main page'!$G$41,3,TRUE))","v":" "}]
[null,null,null,null,null,null,null,null,null,null,null,null,{"$f":"IFERROR(J1486/G1486,\" \")","v":" "},{"$f":"IFERROR((M1486/$U$4)/H1486,\" \")","v":" "},{"$f":"IFERROR((N1486*75)*26.083,\" \")","v":" "},{"$f":"IF(G1486=0,\" \",IF(G1486=1,\"Full time\",\"Part time\"))","v":" "},{"$f":"IF(I1486=\"\",\"\",IF(I1486<='Main page'!$F$49,\"Core staff\",\"Senior staff\"))","v":""},{"$f":"IF(D1486=\"\",\" \",'Main page'!$F$21-(D1486))","v":" "},{"$f":"IF(D1486=\"\",\" \",VLOOKUP(R1486,'Main page'!$E$29:'Main page'!$G$41,3,TRUE))","v":" "}]
[null,null,null,null,null,null,null,null,null,null,null,null," "," "," "," ",{"$f":"IF(I1487=\"\",\"\",IF(I1487<='Main page'!$F$49,\"Core staff\",\"Senior staff\"))","v":""},{"$f":"IF(D1487=\"\",\" \",'Main page'!$F$21-(D1487))","v":" "},{"$f":"IF(D1487=\"\",\" \",VLOOKUP(R1487,'Main page'!$E$29:'Main page'!$G$41,3,TRUE))","v":" "}]
[null,null,null,null,null,null,null,null,null,null,null,null," "," "," "," ",{"$f":"IF(I1488=\"\",\"\",IF(I1488<='Main page'!$F$49,\"Core staff\",\"Senior staff\"))","v":""},{"$f":"IF(D1488=\"\",\" \",'Main page'!$F$21-(D1488))","v":" "},{"$f":"IF(D1488=\"\",\" \",VLOOKUP(R1488,'Main page'!$E$29:'Main page'!$G$41,3,TRUE))","v":" "}]
[null,null,null,null,null,null,null,null,null,null,null,null," "," "," "," ",{"$f":"IF(I1489=\"\",\"\",IF(I1489<='Main page'!$F$49,\"Core staff\",\"Senior staff\"))","v":""},{"$f":"IF(D1489=\"\",\" \",'Main page'!$F$21-(D1489))","v":" "},{"$f":"IF(D1489=\"\",\" \",VLOOKUP(R1489,'Main page'!$E$29:'Main page'!$G$41,3,TRUE))","v":" "}]
[null,null,null,null,null,null,null,null,null,null,null,null," "," "," "," ",{"$f":"IF(I1490=\"\",\"\",IF(I1490<='Main page'!$F$49,\"Core staff\",\"Senior staff\"))","v":""},{"$f":"IF(D1490=\"\",\" \",'Main page'!$F$21-(D1490))","v":" "},{"$f":"IF(D1490=\"\",\" \",VLOOKUP(R1490,'Main page'!$E$29:'Main page'!$G$41,3,TRUE))","v":" "}]
[null,null,null,null,null,null,null,null,null,null,null,null," "," "," "," ",{"$f":"IF(I1491=\"\",\"\",IF(I1491<='Main page'!$F$49,\"Core staff\",\"Senior staff\"))","v":""},{"$f":"IF(D1491=\"\",\" \",'Main page'!$F$21-(D1491))","v":" "},{"$f":"IF(D1491=\"\",\" \",VLOOKUP(R1491,'Main page'!$E$29:'Main page'!$G$41,3,TRUE))","v":" "}]
[null,null,null,null,null,null,null,null,null,null,null,null," "," "," "," ",{"$f":"IF(I1492=\"\",\"\",IF(I1492<='Main page'!$F$49,\"Core staff\",\"Senior staff\"))","v":""},{"$f":"IF(D1492=\"\",\" \",'Main page'!$F$21-(D1492))","v":" "},{"$f":"IF(D1492=\"\",\" \",VLOOKUP(R1492,'Main page'!$E$29:'Main page'!$G$41,3,TRUE))","v":" "}]
[null,null,null,null,null,null,null,null,null,null,null,null," "," "," "," ",{"$f":"IF(I1493=\"\",\"\",IF(I1493<='Main page'!$F$49,\"Core staff\",\"Senior staff\"))","v":""},{"$f":"IF(D1493=\"\",\" \",'Main page'!$F$21-(D1493))","v":" "},{"$f":"IF(D1493=\"\",\" \",VLOOKUP(R1493,'Main page'!$E$29:'Main page'!$G$41,3,TRUE))","v":" "}]
[null,null,null,null,null,null,null,null,null,null,null,null," "," "," "," ",{"$f":"IF(I1494=\"\",\"\",IF(I1494<='Main page'!$F$49,\"Core staff\",\"Senior staff\"))","v":""},{"$f":"IF(D1494=\"\",\" \",'Main page'!$F$21-(D1494))","v":" "},{"$f":"IF(D1494=\"\",\" \",VLOOKUP(R1494,'Main page'!$E$29:'Main page'!$G$41,3,TRUE))","v":" "}]
[null,null,null,null,null,null,null,null,null,null,null,null," "," "," "," ",{"$f":"IF(I1495=\"\",\"\",IF(I1495<='Main page'!$F$49,\"Core staff\",\"Senior staff\"))","v":""},{"$f":"IF(D1495=\"\",\" \",'Main page'!$F$21-(D1495))","v":" "},{"$f":"IF(D1495=\"\",\" \",VLOOKUP(R1495,'Main page'!$E$29:'Main page'!$G$41,3,TRUE))","v":" "}]
[null,null,null,null,null,null,null,null,null,null,null,null," "," "," "," ",{"$f":"IF(I1496=\"\",\"\",IF(I1496<='Main page'!$F$49,\"Core staff\",\"Senior staff\"))","v":""},{"$f":"IF(D1496=\"\",\" \",'Main page'!$F$21-(D1496))","v":" "},{"$f":"IF(D1496=\"\",\" \",VLOOKUP(R1496,'Main page'!$E$29:'Main page'!$G$41,3,TRUE))","v":" "}]
[null,null,null,null,null,null,null,null,null,null,null,null," "," "," "," ",{"$f":"IF(I1497=\"\",\"\",IF(I1497<='Main page'!$F$49,\"Core staff\",\"Senior staff\"))","v":""},{"$f":"IF(D1497=\"\",\" \",'Main page'!$F$21-(D1497))","v":" "},{"$f":"IF(D1497=\"\",\" \",VLOOKUP(R1497,'Main page'!$E$29:'Main page'!$G$41,3,TRUE))","v":" "}]
[null,null,null,null,null,null,null,null,null,null,null,null," "," "," "," ",{"$f":"IF(I1498=\"\",\"\",IF(I1498<='Main page'!$F$49,\"Core staff\",\"Senior staff\"))","v":""},{"$f":"IF(D1498=\"\",\" \",'Main page'!$F$21-(D1498))","v":" "},{"$f":"IF(D1498=\"\",\" \",VLOOKUP(R1498,'Main page'!$E$29:'Main page'!$G$41,3,TRUE))","v":" "}]
[null,null,null,null,null,null,null,null,null,null,null,null," "," "," "," ",{"$f":"IF(I1499=\"\",\"\",IF(I1499<='Main page'!$F$49,\"Core staff\",\"Senior staff\"))","v":""},{"$f":"IF(D1499=\"\",\" \",'Main page'!$F$21-(D1499))","v":" "},{"$f":"IF(D1499=\"\",\" \",VLOOKUP(R1499,'Main page'!$E$29:'Main page'!$G$41,3,TRUE))","v":" "}]
[null,null,null,null,null,null,null,null,null,null,null,null," "," "," "," ",{"$f":"IF(I1500=\"\",\"\",IF(I1500<='Main page'!$F$49,\"Core staff\",\"Senior staff\"))","v":""},{"$f":"IF(D1500=\"\",\" \",'Main page'!$F$21-(D1500))","v":" "},{"$f":"IF(D1500=\"\",\" \",VLOOKUP(R1500,'Main page'!$E$29:'Main page'!$G$41,3,TRUE))","v":" "}]
[null,null,null,null,null,null,null,null,null,null,null,null," "," "," "," ",{"$f":"IF(I1501=\"\",\"\",IF(I1501<='Main page'!$F$49,\"Core staff\",\"Senior staff\"))","v":""},{"$f":"IF(D1501=\"\",\" \",'Main page'!$F$21-(D1501))","v":" "},{"$f":"IF(D1501=\"\",\" \",VLOOKUP(R1501,'Main page'!$E$29:'Main page'!$G$41,3,TRUE))","v":" "}]
[null,null,null,null,null,null,null,null,null,null,null,null," "," "," "," ",{"$f":"IF(I1502=\"\",\"\",IF(I1502<='Main page'!$F$49,\"Core staff\",\"Senior staff\"))","v":""},{"$f":"IF(D1502=\"\",\" \",'Main page'!$F$21-(D1502))","v":" "},{"$f":"IF(D1502=\"\",\" \",VLOOKUP(R1502,'Main page'!$E$29:'Main page'!$G$41,3,TRUE))","v":" "}]
[null,null,null,null,null,null,null,null,null,null,null,null," "," "," "," ",{"$f":"IF(I1503=\"\",\"\",IF(I1503<='Main page'!$F$49,\"Core staff\",\"Senior staff\"))","v":""},{"$f":"IF(D1503=\"\",\" \",'Main page'!$F$21-(D1503))","v":" "},{"$f":"IF(D1503=\"\",\" \",VLOOKUP(R1503,'Main page'!$E$29:'Main page'!$G$41,3,TRUE))","v":" "}]
[null,null,null,null,null,null,null,null,null,null,null,null," "," "," "," ",{"$f":"IF(I1504=\"\",\"\",IF(I1504<='Main page'!$F$49,\"Core staff\",\"Senior staff\"))","v":""},{"$f":"IF(D1504=\"\",\" \",'Main page'!$F$21-(D1504))","v":" "},{"$f":"IF(D1504=\"\",\" \",VLOOKUP(R1504,'Main page'!$E$29:'Main page'!$G$41,3,TRUE))","v":" "}]
[null,null,null,null,null,null,null,null,null,null,null,null," "," "," "," ",{"$f":"IF(I1505=\"\",\"\",IF(I1505<='Main page'!$F$49,\"Core staff\",\"Senior staff\"))","v":""},{"$f":"IF(D1505=\"\",\" \",'Main page'!$F$21-(D1505))","v":" "},{"$f":"IF(D1505=\"\",\" \",VLOOKUP(R1505,'Main page'!$E$29:'Main page'!$G$41,3,TRUE))","v":" "}]
[null,null,null,null,null,null,null,null,null,null,null,null," "," "," "," ",{"$f":"IF(I1506=\"\",\"\",IF(I1506<='Main page'!$F$49,\"Core staff\",\"Senior staff\"))","v":""},{"$f":"IF(D1506=\"\",\" \",'Main page'!$F$21-(D1506))","v":" "},{"$f":"IF(D1506=\"\",\" \",VLOOKUP(R1506,'Main page'!$E$29:'Main page'!$G$41,3,TRUE))","v":" "}]
[null,null,null,null,null,null,null,null,null,null,null,null," "," "," "," ",{"$f":"IF(I1507=\"\",\"\",IF(I1507<='Main page'!$F$49,\"Core staff\",\"Senior staff\"))","v":""},{"$f":"IF(D1507=\"\",\" \",'Main page'!$F$21-(D1507))","v":" "},{"$f":"IF(D1507=\"\",\" \",VLOOKUP(R1507,'Main page'!$E$29:'Main page'!$G$41,3,TRUE))","v":" "}]
[null,null,null,null,null,null,null,null,null,null,null,null," "," "," "," ",{"$f":"IF(I1508=\"\",\"\",IF(I1508<='Main page'!$F$49,\"Core staff\",\"Senior staff\"))","v":""},{"$f":"IF(D1508=\"\",\" \",'Main page'!$F$21-(D1508))","v":" "},{"$f":"IF(D1508=\"\",\" \",VLOOKUP(R1508,'Main page'!$E$29:'Main page'!$G$41,3,TRUE))","v":" "}]
[null,null,null,null,null,null,null,null,null,null,null,null," "," "," "," ",{"$f":"IF(I1509=\"\",\"\",IF(I1509<='Main page'!$F$49,\"Core staff\",\"Senior staff\"))","v":""},{"$f":"IF(D1509=\"\",\" \",'Main page'!$F$21-(D1509))","v":" "},{"$f":"IF(D1509=\"\",\" \",VLOOKUP(R1509,'Main page'!$E$29:'Main page'!$G$41,3,TRUE))","v":" "}]
[null,null,null,null,null,null,null,null,null,null,null,null," "," "," "," ",{"$f":"IF(I1510=\"\",\"\",IF(I1510<='Main page'!$F$49,\"Core staff\",\"Senior staff\"))","v":""},{"$f":"IF(D1510=\"\",\" \",'Main page'!$F$21-(D1510))","v":" "},{"$f":"IF(D1510=\"\",\" \",VLOOKUP(R1510,'Main page'!$E$29:'Main page'!$G$41,3,TRUE))","v":" "}]
[null,null,null,null,null,null,null,null,null,null,null,null," "," "," "," ",{"$f":"IF(I1511=\"\",\"\",IF(I1511<='Main page'!$F$49,\"Core staff\",\"Senior staff\"))","v":""},{"$f":"IF(D1511=\"\",\" \",'Main page'!$F$21-(D1511))","v":" "},{"$f":"IF(D1511=\"\",\" \",VLOOKUP(R1511,'Main page'!$E$29:'Main page'!$G$41,3,TRUE))","v":" "}]
[null,null,null,null,null,null,null,null,null,null,null,null," "," "," "," ",{"$f":"IF(I1512=\"\",\"\",IF(I1512<='Main page'!$F$49,\"Core staff\",\"Senior staff\"))","v":""},{"$f":"IF(D1512=\"\",\" \",'Main page'!$F$21-(D1512))","v":" "},{"$f":"IF(D1512=\"\",\" \",VLOOKUP(R1512,'Main page'!$E$29:'Main page'!$G$41,3,TRUE))","v":" "}]
[null,null,null,null,null,null,null,null,null,null,null,null," "," "," "," ",{"$f":"IF(I1513=\"\",\"\",IF(I1513<='Main page'!$F$49,\"Core staff\",\"Senior staff\"))","v":""},{"$f":"IF(D1513=\"\",\" \",'Main page'!$F$21-(D1513))","v":" "},{"$f":"IF(D1513=\"\",\" \",VLOOKUP(R1513,'Main page'!$E$29:'Main page'!$G$41,3,TRUE))","v":" "}]
[null,null,null,null,null,null,null,null,null,null,null,null," "," "," "," ",{"$f":"IF(I1514=\"\",\"\",IF(I1514<='Main page'!$F$49,\"Core staff\",\"Senior staff\"))","v":""},{"$f":"IF(D1514=\"\",\" \",'Main page'!$F$21-(D1514))","v":" "},{"$f":"IF(D1514=\"\",\" \",VLOOKUP(R1514,'Main page'!$E$29:'Main page'!$G$41,3,TRUE))","v":" "}]
[null,null,null,null,null,null,null,null,null,null,null,null," "," "," "," ",{"$f":"IF(I1515=\"\",\"\",IF(I1515<='Main page'!$F$49,\"Core staff\",\"Senior staff\"))","v":""},{"$f":"IF(D1515=\"\",\" \",'Main page'!$F$21-(D1515))","v":" "},{"$f":"IF(D1515=\"\",\" \",VLOOKUP(R1515,'Main page'!$E$29:'Main page'!$G$41,3,TRUE))","v":" "}]
[null,null,null,null,null,null,null,null,null,null,null,null," "," "," "," ",{"$f":"IF(I1516=\"\",\"\",IF(I1516<='Main page'!$F$49,\"Core staff\",\"Senior staff\"))","v":""},{"$f":"IF(D1516=\"\",\" \",'Main page'!$F$21-(D1516))","v":" "},{"$f":"IF(D1516=\"\",\" \",VLOOKUP(R1516,'Main page'!$E$29:'Main page'!$G$41,3,TRUE))","v":" "}]
[null,null,null,null,null,null,null,null,null,null,null,null," "," "," "," ",{"$f":"IF(I1517=\"\",\"\",IF(I1517<='Main page'!$F$49,\"Core staff\",\"Senior staff\"))","v":""},{"$f":"IF(D1517=\"\",\" \",'Main page'!$F$21-(D1517))","v":" "},{"$f":"IF(D1517=\"\",\" \",VLOOKUP(R1517,'Main page'!$E$29:'Main page'!$G$41,3,TRUE))","v":" "}]
[null,null,null,null,null,null,null,null,null,null,null,null," "," "," "," ",{"$f":"IF(I1518=\"\",\"\",IF(I1518<='Main page'!$F$49,\"Core staff\",\"Senior staff\"))","v":""},{"$f":"IF(D1518=\"\",\" \",'Main page'!$F$21-(D1518))","v":" "},{"$f":"IF(D1518=\"\",\" \",VLOOKUP(R1518,'Main page'!$E$29:'Main page'!$G$41,3,TRUE))","v":" "}]
[null,null,null,null,null,null,null,null,null,null,null,null," "," "," "," ",{"$f":"IF(I1519=\"\",\"\",IF(I1519<='Main page'!$F$49,\"Core staff\",\"Senior staff\"))","v":""},{"$f":"IF(D1519=\"\",\" \",'Main page'!$F$21-(D1519))","v":" "},{"$f":"IF(D1519=\"\",\" \",VLOOKUP(R1519,'Main page'!$E$29:'Main page'!$G$41,3,TRUE))","v":" "}]
[null,null,null,null,null,null,null,null,null,null,null,null," "," "," "," ",{"$f":"IF(I1520=\"\",\"\",IF(I1520<='Main page'!$F$49,\"Core staff\",\"Senior staff\"))","v":""},{"$f":"IF(D1520=\"\",\" \",'Main page'!$F$21-(D1520))","v":" "},{"$f":"IF(D1520=\"\",\" \",VLOOKUP(R1520,'Main page'!$E$29:'Main page'!$G$41,3,TRUE))","v":" "}]
[null,null,null,null,null,null,null,null,null,null,null,null," "," "," "," ",{"$f":"IF(I1521=\"\",\"\",IF(I1521<='Main page'!$F$49,\"Core staff\",\"Senior staff\"))","v":""},{"$f":"IF(D1521=\"\",\" \",'Main page'!$F$21-(D1521))","v":" "},{"$f":"IF(D1521=\"\",\" \",VLOOKUP(R1521,'Main page'!$E$29:'Main page'!$G$41,3,TRUE))","v":" "}]
[null,null,null,null,null,null,null,null,null,null,null,null," "," "," "," ",{"$f":"IF(I1522=\"\",\"\",IF(I1522<='Main page'!$F$49,\"Core staff\",\"Senior staff\"))","v":""},{"$f":"IF(D1522=\"\",\" \",'Main page'!$F$21-(D1522))","v":" "},{"$f":"IF(D1522=\"\",\" \",VLOOKUP(R1522,'Main page'!$E$29:'Main page'!$G$41,3,TRUE))","v":" "}]
[null,null,null,null,null,null,null,null,null,null,null,null," "," "," "," ",{"$f":"IF(I1523=\"\",\"\",IF(I1523<='Main page'!$F$49,\"Core staff\",\"Senior staff\"))","v":""},{"$f":"IF(D1523=\"\",\" \",'Main page'!$F$21-(D1523))","v":" "},{"$f":"IF(D1523=\"\",\" \",VLOOKUP(R1523,'Main page'!$E$29:'Main page'!$G$41,3,TRUE))","v":" "}]
[null,null,null,null,null,null,null,null,null,null,null,null," "," "," "," ",{"$f":"IF(I1524=\"\",\"\",IF(I1524<='Main page'!$F$49,\"Core staff\",\"Senior staff\"))","v":""},{"$f":"IF(D1524=\"\",\" \",'Main page'!$F$21-(D1524))","v":" "},{"$f":"IF(D1524=\"\",\" \",VLOOKUP(R1524,'Main page'!$E$29:'Main page'!$G$41,3,TRUE))","v":" "}]
[null,null,null,null,null,null,null,null,null,null,null,null," "," "," "," ",{"$f":"IF(I1525=\"\",\"\",IF(I1525<='Main page'!$F$49,\"Core staff\",\"Senior staff\"))","v":""},{"$f":"IF(D1525=\"\",\" \",'Main page'!$F$21-(D1525))","v":" "},{"$f":"IF(D1525=\"\",\" \",VLOOKUP(R1525,'Main page'!$E$29:'Main page'!$G$41,3,TRUE))","v":" "}]
[null,null,null,null,null,null,null,null,null,null,null,null," "," "," "," ",{"$f":"IF(I1526=\"\",\"\",IF(I1526<='Main page'!$F$49,\"Core staff\",\"Senior staff\"))","v":""},{"$f":"IF(D1526=\"\",\" \",'Main page'!$F$21-(D1526))","v":" "},{"$f":"IF(D1526=\"\",\" \",VLOOKUP(R1526,'Main page'!$E$29:'Main page'!$G$41,3,TRUE))","v":" "}]
[null,null,null,null,null,null,null,null,null,null,null,null," "," "," "," ",{"$f":"IF(I1527=\"\",\"\",IF(I1527<='Main page'!$F$49,\"Core staff\",\"Senior staff\"))","v":""},{"$f":"IF(D1527=\"\",\" \",'Main page'!$F$21-(D1527))","v":" "},{"$f":"IF(D1527=\"\",\" \",VLOOKUP(R1527,'Main page'!$E$29:'Main page'!$G$41,3,TRUE))","v":" "}]
[null,null,null,null,null,null,null,null,null,null,null,null," "," "," "," ",{"$f":"IF(I1528=\"\",\"\",IF(I1528<='Main page'!$F$49,\"Core staff\",\"Senior staff\"))","v":""},{"$f":"IF(D1528=\"\",\" \",'Main page'!$F$21-(D1528))","v":" "},{"$f":"IF(D1528=\"\",\" \",VLOOKUP(R1528,'Main page'!$E$29:'Main page'!$G$41,3,TRUE))","v":" "}]
[null,null,null,null,null,null,null,null,null,null,null,null," "," "," "," ",{"$f":"IF(I1529=\"\",\"\",IF(I1529<='Main page'!$F$49,\"Core staff\",\"Senior staff\"))","v":""},{"$f":"IF(D1529=\"\",\" \",'Main page'!$F$21-(D1529))","v":" "},{"$f":"IF(D1529=\"\",\" \",VLOOKUP(R1529,'Main page'!$E$29:'Main page'!$G$41,3,TRUE))","v":" "}]
[null,null,null,null,null,null,null,null,null,null,null,null," "," "," "," ",{"$f":"IF(I1530=\"\",\"\",IF(I1530<='Main page'!$F$49,\"Core staff\",\"Senior staff\"))","v":""},{"$f":"IF(D1530=\"\",\" \",'Main page'!$F$21-(D1530))","v":" "},{"$f":"IF(D1530=\"\",\" \",VLOOKUP(R1530,'Main page'!$E$29:'Main page'!$G$41,3,TRUE))","v":" "}]
[null,null,null,null,null,null,null,null,null,null,null,null," "," "," "," ",{"$f":"IF(I1531=\"\",\"\",IF(I1531<='Main page'!$F$49,\"Core staff\",\"Senior staff\"))","v":""},{"$f":"IF(D1531=\"\",\" \",'Main page'!$F$21-(D1531))","v":" "},{"$f":"IF(D1531=\"\",\" \",VLOOKUP(R1531,'Main page'!$E$29:'Main page'!$G$41,3,TRUE))","v":" "}]
[null,null,null,null,null,null,null,null,null,null,null,null," "," "," "," ",{"$f":"IF(I1532=\"\",\"\",IF(I1532<='Main page'!$F$49,\"Core staff\",\"Senior staff\"))","v":""},{"$f":"IF(D1532=\"\",\" \",'Main page'!$F$21-(D1532))","v":" "},{"$f":"IF(D1532=\"\",\" \",VLOOKUP(R1532,'Main page'!$E$29:'Main page'!$G$41,3,TRUE))","v":" "}]
[null,null,null,null,null,null,null,null,null,null,null,null," "," "," "," ",{"$f":"IF(I1533=\"\",\"\",IF(I1533<='Main page'!$F$49,\"Core staff\",\"Senior staff\"))","v":""},{"$f":"IF(D1533=\"\",\" \",'Main page'!$F$21-(D1533))","v":" "},{"$f":"IF(D1533=\"\",\" \",VLOOKUP(R1533,'Main page'!$E$29:'Main page'!$G$41,3,TRUE))","v":" "}]
[null,null,null,null,null,null,null,null,null,null,null,null," "," "," "," ",{"$f":"IF(I1534=\"\",\"\",IF(I1534<='Main page'!$F$49,\"Core staff\",\"Senior staff\"))","v":""},{"$f":"IF(D1534=\"\",\" \",'Main page'!$F$21-(D1534))","v":" "},{"$f":"IF(D1534=\"\",\" \",VLOOKUP(R1534,'Main page'!$E$29:'Main page'!$G$41,3,TRUE))","v":" "}]
[null,null,null,null,null,null,null,null,null,null,null,null," "," "," "," ",{"$f":"IF(I1535=\"\",\"\",IF(I1535<='Main page'!$F$49,\"Core staff\",\"Senior staff\"))","v":""},{"$f":"IF(D1535=\"\",\" \",'Main page'!$F$21-(D1535))","v":" "},{"$f":"IF(D1535=\"\",\" \",VLOOKUP(R1535,'Main page'!$E$29:'Main page'!$G$41,3,TRUE))","v":" "}]
[null,null,null,null,null,null,null,null,null,null,null,null," "," "," "," ",{"$f":"IF(I1536=\"\",\"\",IF(I1536<='Main page'!$F$49,\"Core staff\",\"Senior staff\"))","v":""},{"$f":"IF(D1536=\"\",\" \",'Main page'!$F$21-(D1536))","v":" "},{"$f":"IF(D1536=\"\",\" \",VLOOKUP(R1536,'Main page'!$E$29:'Main page'!$G$41,3,TRUE))","v":" "}]
[null,null,null,null,null,null,null,null,null,null,null,null," "," "," "," ",{"$f":"IF(I1537=\"\",\"\",IF(I1537<='Main page'!$F$49,\"Core staff\",\"Senior staff\"))","v":""},{"$f":"IF(D1537=\"\",\" \",'Main page'!$F$21-(D1537))","v":" "},{"$f":"IF(D1537=\"\",\" \",VLOOKUP(R1537,'Main page'!$E$29:'Main page'!$G$41,3,TRUE))","v":" "}]
[null,null,null,null,null,null,null,null,null,null,null,null," "," "," "," ",{"$f":"IF(I1538=\"\",\"\",IF(I1538<='Main page'!$F$49,\"Core staff\",\"Senior staff\"))","v":""},{"$f":"IF(D1538=\"\",\" \",'Main page'!$F$21-(D1538))","v":" "},{"$f":"IF(D1538=\"\",\" \",VLOOKUP(R1538,'Main page'!$E$29:'Main page'!$G$41,3,TRUE))","v":" "}]
[null,null,null,null,null,null,null,null,null,null,null,null," "," "," "," ",{"$f":"IF(I1539=\"\",\"\",IF(I1539<='Main page'!$F$49,\"Core staff\",\"Senior staff\"))","v":""},{"$f":"IF(D1539=\"\",\" \",'Main page'!$F$21-(D1539))","v":" "},{"$f":"IF(D1539=\"\",\" \",VLOOKUP(R1539,'Main page'!$E$29:'Main page'!$G$41,3,TRUE))","v":" "}]
[null,null,null,null,null,null,null,null,null,null,null,null," "," "," "," ",{"$f":"IF(I1540=\"\",\"\",IF(I1540<='Main page'!$F$49,\"Core staff\",\"Senior staff\"))","v":""},{"$f":"IF(D1540=\"\",\" \",'Main page'!$F$21-(D1540))","v":" "},{"$f":"IF(D1540=\"\",\" \",VLOOKUP(R1540,'Main page'!$E$29:'Main page'!$G$41,3,TRUE))","v":" "}]
[null,null,null,null,null,null,null,null,null,null,null,null," "," "," "," ",{"$f":"IF(I1541=\"\",\"\",IF(I1541<='Main page'!$F$49,\"Core staff\",\"Senior staff\"))","v":""},{"$f":"IF(D1541=\"\",\" \",'Main page'!$F$21-(D1541))","v":" "},{"$f":"IF(D1541=\"\",\" \",VLOOKUP(R1541,'Main page'!$E$29:'Main page'!$G$41,3,TRUE))","v":" "}]
[null,null,null,null,null,null,null,null,null,null,null,null," "," "," "," ",{"$f":"IF(I1542=\"\",\"\",IF(I1542<='Main page'!$F$49,\"Core staff\",\"Senior staff\"))","v":""},{"$f":"IF(D1542=\"\",\" \",'Main page'!$F$21-(D1542))","v":" "},{"$f":"IF(D1542=\"\",\" \",VLOOKUP(R1542,'Main page'!$E$29:'Main page'!$G$41,3,TRUE))","v":" "}]
[null,null,null,null,null,null,null,null,null,null,null,null," "," "," "," ",{"$f":"IF(I1543=\"\",\"\",IF(I1543<='Main page'!$F$49,\"Core staff\",\"Senior staff\"))","v":""},{"$f":"IF(D1543=\"\",\" \",'Main page'!$F$21-(D1543))","v":" "},{"$f":"IF(D1543=\"\",\" \",VLOOKUP(R1543,'Main page'!$E$29:'Main page'!$G$41,3,TRUE))","v":" "}]
[null,null,null,null,null,null,null,null,null,null,null,null," "," "," "," ",{"$f":"IF(I1544=\"\",\"\",IF(I1544<='Main page'!$F$49,\"Core staff\",\"Senior staff\"))","v":""},{"$f":"IF(D1544=\"\",\" \",'Main page'!$F$21-(D1544))","v":" "},{"$f":"IF(D1544=\"\",\" \",VLOOKUP(R1544,'Main page'!$E$29:'Main page'!$G$41,3,TRUE))","v":" "}]
[null,null,null,null,null,null,null,null,null,null,null,null," "," "," "," ",{"$f":"IF(I1545=\"\",\"\",IF(I1545<='Main page'!$F$49,\"Core staff\",\"Senior staff\"))","v":""},{"$f":"IF(D1545=\"\",\" \",'Main page'!$F$21-(D1545))","v":" "},{"$f":"IF(D1545=\"\",\" \",VLOOKUP(R1545,'Main page'!$E$29:'Main page'!$G$41,3,TRUE))","v":" "}]
[null,null,null,null,null,null,null,null,null,null,null,null," "," "," "," ",{"$f":"IF(I1546=\"\",\"\",IF(I1546<='Main page'!$F$49,\"Core staff\",\"Senior staff\"))","v":""},{"$f":"IF(D1546=\"\",\" \",'Main page'!$F$21-(D1546))","v":" "},{"$f":"IF(D1546=\"\",\" \",VLOOKUP(R1546,'Main page'!$E$29:'Main page'!$G$41,3,TRUE))","v":" "}]
[null,null,null,null,null,null,null,null,null,null,null,null," "," "," "," ",{"$f":"IF(I1547=\"\",\"\",IF(I1547<='Main page'!$F$49,\"Core staff\",\"Senior staff\"))","v":""},{"$f":"IF(D1547=\"\",\" \",'Main page'!$F$21-(D1547))","v":" "},{"$f":"IF(D1547=\"\",\" \",VLOOKUP(R1547,'Main page'!$E$29:'Main page'!$G$41,3,TRUE))","v":" "}]
[null,null,null,null,null,null,null,null,null,null,null,null," "," "," "," ",{"$f":"IF(I1548=\"\",\"\",IF(I1548<='Main page'!$F$49,\"Core staff\",\"Senior staff\"))","v":""},{"$f":"IF(D1548=\"\",\" \",'Main page'!$F$21-(D1548))","v":" "},{"$f":"IF(D1548=\"\",\" \",VLOOKUP(R1548,'Main page'!$E$29:'Main page'!$G$41,3,TRUE))","v":" "}]
[null,null,null,null,null,null,null,null,null,null,null,null," "," "," "," ",{"$f":"IF(I1549=\"\",\"\",IF(I1549<='Main page'!$F$49,\"Core staff\",\"Senior staff\"))","v":""},{"$f":"IF(D1549=\"\",\" \",'Main page'!$F$21-(D1549))","v":" "},{"$f":"IF(D1549=\"\",\" \",VLOOKUP(R1549,'Main page'!$E$29:'Main page'!$G$41,3,TRUE))","v":" "}]
[null,null,null,null,null,null,null,null,null,null,null,null,{"$f":"IFERROR(J1550/G1550,\" \")","v":" "},{"$f":"IFERROR((M1550/$U$4)/H1550,\" \")","v":" "},{"$f":"IFERROR((N1550*75)*26.083,\" \")","v":" "},{"$f":"IF(G1550=0,\" \",IF(G1550=1,\"Full time\",\"Part time\"))","v":" "},{"$f":"IF(I1550=\"\",\"\",IF(I1550<='Main page'!$F$49,\"Core staff\",\"Senior staff\"))","v":""},{"$f":"IF(D1550=\"\",\" \",'Main page'!$F$21-(D1550))","v":" "},{"$f":"IF(D1550=\"\",\" \",VLOOKUP(R1550,'Main page'!$E$29:'Main page'!$G$41,3,TRUE))","v":" "}]
[null,null,null,null,null,null,null,null,null,null,null,null," "," "," "," ",{"$f":"IF(I1551=\"\",\"\",IF(I1551<='Main page'!$F$49,\"Core staff\",\"Senior staff\"))","v":""},{"$f":"IF(D1551=\"\",\" \",'Main page'!$F$21-(D1551))","v":" "},{"$f":"IF(D1551=\"\",\" \",VLOOKUP(R1551,'Main page'!$E$29:'Main page'!$G$41,3,TRUE))","v":" "}]
[null,null,null,null,null,null,null,null,null,null,null,null," "," "," "," ",{"$f":"IF(I1552=\"\",\"\",IF(I1552<='Main page'!$F$49,\"Core staff\",\"Senior staff\"))","v":""},{"$f":"IF(D1552=\"\",\" \",'Main page'!$F$21-(D1552))","v":" "},{"$f":"IF(D1552=\"\",\" \",VLOOKUP(R1552,'Main page'!$E$29:'Main page'!$G$41,3,TRUE))","v":" "}]
[null,null,null,null,null,null,null,null,null,null,null,null," "," "," "," ",{"$f":"IF(I1553=\"\",\"\",IF(I1553<='Main page'!$F$49,\"Core staff\",\"Senior staff\"))","v":""},{"$f":"IF(D1553=\"\",\" \",'Main page'!$F$21-(D1553))","v":" "},{"$f":"IF(D1553=\"\",\" \",VLOOKUP(R1553,'Main page'!$E$29:'Main page'!$G$41,3,TRUE))","v":" "}]
[null,null,null,null,null,null,null,null,null,null,null,null," "," "," "," ",{"$f":"IF(I1554=\"\",\"\",IF(I1554<='Main page'!$F$49,\"Core staff\",\"Senior staff\"))","v":""},{"$f":"IF(D1554=\"\",\" \",'Main page'!$F$21-(D1554))","v":" "},{"$f":"IF(D1554=\"\",\" \",VLOOKUP(R1554,'Main page'!$E$29:'Main page'!$G$41,3,TRUE))","v":" "}]
[null,null,null,null,null,null,null,null,null,null,null,null," "," "," "," ",{"$f":"IF(I1555=\"\",\"\",IF(I1555<='Main page'!$F$49,\"Core staff\",\"Senior staff\"))","v":""},{"$f":"IF(D1555=\"\",\" \",'Main page'!$F$21-(D1555))","v":" "},{"$f":"IF(D1555=\"\",\" \",VLOOKUP(R1555,'Main page'!$E$29:'Main page'!$G$41,3,TRUE))","v":" "}]
[null,null,null,null,null,null,null,null,null,null,null,null," "," "," "," ",{"$f":"IF(I1556=\"\",\"\",IF(I1556<='Main page'!$F$49,\"Core staff\",\"Senior staff\"))","v":""},{"$f":"IF(D1556=\"\",\" \",'Main page'!$F$21-(D1556))","v":" "},{"$f":"IF(D1556=\"\",\" \",VLOOKUP(R1556,'Main page'!$E$29:'Main page'!$G$41,3,TRUE))","v":" "}]
[null,null,null,null,null,null,null,null,null,null,null,null," "," "," "," ",{"$f":"IF(I1557=\"\",\"\",IF(I1557<='Main page'!$F$49,\"Core staff\",\"Senior staff\"))","v":""},{"$f":"IF(D1557=\"\",\" \",'Main page'!$F$21-(D1557))","v":" "},{"$f":"IF(D1557=\"\",\" \",VLOOKUP(R1557,'Main page'!$E$29:'Main page'!$G$41,3,TRUE))","v":" "}]
[null,null,null,null,null,null,null,null,null,null,null,null," "," "," "," ",{"$f":"IF(I1558=\"\",\"\",IF(I1558<='Main page'!$F$49,\"Core staff\",\"Senior staff\"))","v":""},{"$f":"IF(D1558=\"\",\" \",'Main page'!$F$21-(D1558))","v":" "},{"$f":"IF(D1558=\"\",\" \",VLOOKUP(R1558,'Main page'!$E$29:'Main page'!$G$41,3,TRUE))","v":" "}]
[null,null,null,null,null,null,null,null,null,null,null,null," "," "," "," ",{"$f":"IF(I1559=\"\",\"\",IF(I1559<='Main page'!$F$49,\"Core staff\",\"Senior staff\"))","v":""},{"$f":"IF(D1559=\"\",\" \",'Main page'!$F$21-(D1559))","v":" "},{"$f":"IF(D1559=\"\",\" \",VLOOKUP(R1559,'Main page'!$E$29:'Main page'!$G$41,3,TRUE))","v":" "}]
[null,null,null,null,null,null,null,null,null,null,null,null," "," "," "," ",{"$f":"IF(I1560=\"\",\"\",IF(I1560<='Main page'!$F$49,\"Core staff\",\"Senior staff\"))","v":""},{"$f":"IF(D1560=\"\",\" \",'Main page'!$F$21-(D1560))","v":" "},{"$f":"IF(D1560=\"\",\" \",VLOOKUP(R1560,'Main page'!$E$29:'Main page'!$G$41,3,TRUE))","v":" "}]
[null,null,null,null,null,null,null,null,null,null,null,null," "," "," "," ",{"$f":"IF(I1561=\"\",\"\",IF(I1561<='Main page'!$F$49,\"Core staff\",\"Senior staff\"))","v":""},{"$f":"IF(D1561=\"\",\" \",'Main page'!$F$21-(D1561))","v":" "},{"$f":"IF(D1561=\"\",\" \",VLOOKUP(R1561,'Main page'!$E$29:'Main page'!$G$41,3,TRUE))","v":" "}]
[null,null,null,null,null,null,null,null,null,null,null,null," "," "," "," ",{"$f":"IF(I1562=\"\",\"\",IF(I1562<='Main page'!$F$49,\"Core staff\",\"Senior staff\"))","v":""},{"$f":"IF(D1562=\"\",\" \",'Main page'!$F$21-(D1562))","v":" "},{"$f":"IF(D1562=\"\",\" \",VLOOKUP(R1562,'Main page'!$E$29:'Main page'!$G$41,3,TRUE))","v":" "}]
[null,null,null,null,null,null,null,null,null,null,null,null," "," "," "," ",{"$f":"IF(I1563=\"\",\"\",IF(I1563<='Main page'!$F$49,\"Core staff\",\"Senior staff\"))","v":""},{"$f":"IF(D1563=\"\",\" \",'Main page'!$F$21-(D1563))","v":" "},{"$f":"IF(D1563=\"\",\" \",VLOOKUP(R1563,'Main page'!$E$29:'Main page'!$G$41,3,TRUE))","v":" "}]
[null,null,null,null,null,null,null,null,null,null,null,null," "," "," "," ",{"$f":"IF(I1564=\"\",\"\",IF(I1564<='Main page'!$F$49,\"Core staff\",\"Senior staff\"))","v":""},{"$f":"IF(D1564=\"\",\" \",'Main page'!$F$21-(D1564))","v":" "},{"$f":"IF(D1564=\"\",\" \",VLOOKUP(R1564,'Main page'!$E$29:'Main page'!$G$41,3,TRUE))","v":" "}]
[null,null,null,null,null,null,null,null,null,null,null,null," "," "," "," ",{"$f":"IF(I1565=\"\",\"\",IF(I1565<='Main page'!$F$49,\"Core staff\",\"Senior staff\"))","v":""},{"$f":"IF(D1565=\"\",\" \",'Main page'!$F$21-(D1565))","v":" "},{"$f":"IF(D1565=\"\",\" \",VLOOKUP(R1565,'Main page'!$E$29:'Main page'!$G$41,3,TRUE))","v":" "}]
[null,null,null,null,null,null,null,null,null,null,null,null," "," "," "," ",{"$f":"IF(I1566=\"\",\"\",IF(I1566<='Main page'!$F$49,\"Core staff\",\"Senior staff\"))","v":""},{"$f":"IF(D1566=\"\",\" \",'Main page'!$F$21-(D1566))","v":" "},{"$f":"IF(D1566=\"\",\" \",VLOOKUP(R1566,'Main page'!$E$29:'Main page'!$G$41,3,TRUE))","v":" "}]
[null,null,null,null,null,null,null,null,null,null,null,null," "," "," "," ",{"$f":"IF(I1567=\"\",\"\",IF(I1567<='Main page'!$F$49,\"Core staff\",\"Senior staff\"))","v":""},{"$f":"IF(D1567=\"\",\" \",'Main page'!$F$21-(D1567))","v":" "},{"$f":"IF(D1567=\"\",\" \",VLOOKUP(R1567,'Main page'!$E$29:'Main page'!$G$41,3,TRUE))","v":" "}]
[null,null,null,null,null,null,null,null,null,null,null,null," "," "," "," ",{"$f":"IF(I1568=\"\",\"\",IF(I1568<='Main page'!$F$49,\"Core staff\",\"Senior staff\"))","v":""},{"$f":"IF(D1568=\"\",\" \",'Main page'!$F$21-(D1568))","v":" "},{"$f":"IF(D1568=\"\",\" \",VLOOKUP(R1568,'Main page'!$E$29:'Main page'!$G$41,3,TRUE))","v":" "}]
[null,null,null,null,null,null,null,null,null,null,null,null," "," "," "," ",{"$f":"IF(I1569=\"\",\"\",IF(I1569<='Main page'!$F$49,\"Core staff\",\"Senior staff\"))","v":""},{"$f":"IF(D1569=\"\",\" \",'Main page'!$F$21-(D1569))","v":" "},{"$f":"IF(D1569=\"\",\" \",VLOOKUP(R1569,'Main page'!$E$29:'Main page'!$G$41,3,TRUE))","v":" "}]
[null,null,null,null,null,null,null,null,null,null,null,null," "," "," "," ",{"$f":"IF(I1570=\"\",\"\",IF(I1570<='Main page'!$F$49,\"Core staff\",\"Senior staff\"))","v":""},{"$f":"IF(D1570=\"\",\" \",'Main page'!$F$21-(D1570))","v":" "},{"$f":"IF(D1570=\"\",\" \",VLOOKUP(R1570,'Main page'!$E$29:'Main page'!$G$41,3,TRUE))","v":" "}]
[null,null,null,null,null,null,null,null,null,null,null,null," "," "," "," ",{"$f":"IF(I1571=\"\",\"\",IF(I1571<='Main page'!$F$49,\"Core staff\",\"Senior staff\"))","v":""},{"$f":"IF(D1571=\"\",\" \",'Main page'!$F$21-(D1571))","v":" "},{"$f":"IF(D1571=\"\",\" \",VLOOKUP(R1571,'Main page'!$E$29:'Main page'!$G$41,3,TRUE))","v":" "}]
[null,null,null,null,null,null,null,null,null,null,null,null," "," "," "," ",{"$f":"IF(I1572=\"\",\"\",IF(I1572<='Main page'!$F$49,\"Core staff\",\"Senior staff\"))","v":""},{"$f":"IF(D1572=\"\",\" \",'Main page'!$F$21-(D1572))","v":" "},{"$f":"IF(D1572=\"\",\" \",VLOOKUP(R1572,'Main page'!$E$29:'Main page'!$G$41,3,TRUE))","v":" "}]
[null,null,null,null,null,null,null,null,null,null,null,null," "," "," "," ",{"$f":"IF(I1573=\"\",\"\",IF(I1573<='Main page'!$F$49,\"Core staff\",\"Senior staff\"))","v":""},{"$f":"IF(D1573=\"\",\" \",'Main page'!$F$21-(D1573))","v":" "},{"$f":"IF(D1573=\"\",\" \",VLOOKUP(R1573,'Main page'!$E$29:'Main page'!$G$41,3,TRUE))","v":" "}]
[null,null,null,null,null,null,null,null,null,null,null,null," "," "," "," ",{"$f":"IF(I1574=\"\",\"\",IF(I1574<='Main page'!$F$49,\"Core staff\",\"Senior staff\"))","v":""},{"$f":"IF(D1574=\"\",\" \",'Main page'!$F$21-(D1574))","v":" "},{"$f":"IF(D1574=\"\",\" \",VLOOKUP(R1574,'Main page'!$E$29:'Main page'!$G$41,3,TRUE))","v":" "}]
[null,null,null,null,null,null,null,null,null,null,null,null," "," "," "," ",{"$f":"IF(I1575=\"\",\"\",IF(I1575<='Main page'!$F$49,\"Core staff\",\"Senior staff\"))","v":""},{"$f":"IF(D1575=\"\",\" \",'Main page'!$F$21-(D1575))","v":" "},{"$f":"IF(D1575=\"\",\" \",VLOOKUP(R1575,'Main page'!$E$29:'Main page'!$G$41,3,TRUE))","v":" "}]
[null,null,null,null,null,null,null,null,null,null,null,null," "," "," "," ",{"$f":"IF(I1576=\"\",\"\",IF(I1576<='Main page'!$F$49,\"Core staff\",\"Senior staff\"))","v":""},{"$f":"IF(D1576=\"\",\" \",'Main page'!$F$21-(D1576))","v":" "},{"$f":"IF(D1576=\"\",\" \",VLOOKUP(R1576,'Main page'!$E$29:'Main page'!$G$41,3,TRUE))","v":" "}]
[null,null,null,null,null,null,null,null,null,null,null,null," "," "," "," ",{"$f":"IF(I1577=\"\",\"\",IF(I1577<='Main page'!$F$49,\"Core staff\",\"Senior staff\"))","v":""},{"$f":"IF(D1577=\"\",\" \",'Main page'!$F$21-(D1577))","v":" "},{"$f":"IF(D1577=\"\",\" \",VLOOKUP(R1577,'Main page'!$E$29:'Main page'!$G$41,3,TRUE))","v":" "}]
[null,null,null,null,null,null,null,null,null,null,null,null," "," "," "," ",{"$f":"IF(I1578=\"\",\"\",IF(I1578<='Main page'!$F$49,\"Core staff\",\"Senior staff\"))","v":""},{"$f":"IF(D1578=\"\",\" \",'Main page'!$F$21-(D1578))","v":" "},{"$f":"IF(D1578=\"\",\" \",VLOOKUP(R1578,'Main page'!$E$29:'Main page'!$G$41,3,TRUE))","v":" "}]
[null,null,null,null,null,null,null,null,null,null,null,null," "," "," "," ",{"$f":"IF(I1579=\"\",\"\",IF(I1579<='Main page'!$F$49,\"Core staff\",\"Senior staff\"))","v":""},{"$f":"IF(D1579=\"\",\" \",'Main page'!$F$21-(D1579))","v":" "},{"$f":"IF(D1579=\"\",\" \",VLOOKUP(R1579,'Main page'!$E$29:'Main page'!$G$41,3,TRUE))","v":" "}]
[null,null,null,null,null,null,null,null,null,null,null,null," "," "," "," ",{"$f":"IF(I1580=\"\",\"\",IF(I1580<='Main page'!$F$49,\"Core staff\",\"Senior staff\"))","v":""},{"$f":"IF(D1580=\"\",\" \",'Main page'!$F$21-(D1580))","v":" "},{"$f":"IF(D1580=\"\",\" \",VLOOKUP(R1580,'Main page'!$E$29:'Main page'!$G$41,3,TRUE))","v":" "}]
[null,null,null,null,null,null,null,null,null,null,null,null," "," "," "," ",{"$f":"IF(I1581=\"\",\"\",IF(I1581<='Main page'!$F$49,\"Core staff\",\"Senior staff\"))","v":""},{"$f":"IF(D1581=\"\",\" \",'Main page'!$F$21-(D1581))","v":" "},{"$f":"IF(D1581=\"\",\" \",VLOOKUP(R1581,'Main page'!$E$29:'Main page'!$G$41,3,TRUE))","v":" "}]
[null,null,null,null,null,null,null,null,null,null,null,null," "," "," "," ",{"$f":"IF(I1582=\"\",\"\",IF(I1582<='Main page'!$F$49,\"Core staff\",\"Senior staff\"))","v":""},{"$f":"IF(D1582=\"\",\" \",'Main page'!$F$21-(D1582))","v":" "},{"$f":"IF(D1582=\"\",\" \",VLOOKUP(R1582,'Main page'!$E$29:'Main page'!$G$41,3,TRUE))","v":" "}]
[null,null,null,null,null,null,null,null,null,null,null,null," "," "," "," ",{"$f":"IF(I1583=\"\",\"\",IF(I1583<='Main page'!$F$49,\"Core staff\",\"Senior staff\"))","v":""},{"$f":"IF(D1583=\"\",\" \",'Main page'!$F$21-(D1583))","v":" "},{"$f":"IF(D1583=\"\",\" \",VLOOKUP(R1583,'Main page'!$E$29:'Main page'!$G$41,3,TRUE))","v":" "}]
[null,null,null,null,null,null,null,null,null,null,null,null," "," "," "," ",{"$f":"IF(I1584=\"\",\"\",IF(I1584<='Main page'!$F$49,\"Core staff\",\"Senior staff\"))","v":""},{"$f":"IF(D1584=\"\",\" \",'Main page'!$F$21-(D1584))","v":" "},{"$f":"IF(D1584=\"\",\" \",VLOOKUP(R1584,'Main page'!$E$29:'Main page'!$G$41,3,TRUE))","v":" "}]
[null,null,null,null,null,null,null,null,null,null,null,null," "," "," "," ",{"$f":"IF(I1585=\"\",\"\",IF(I1585<='Main page'!$F$49,\"Core staff\",\"Senior staff\"))","v":""},{"$f":"IF(D1585=\"\",\" \",'Main page'!$F$21-(D1585))","v":" "},{"$f":"IF(D1585=\"\",\" \",VLOOKUP(R1585,'Main page'!$E$29:'Main page'!$G$41,3,TRUE))","v":" "}]
[null,null,null,null,null,null,null,null,null,null,null,null," "," "," "," ",{"$f":"IF(I1586=\"\",\"\",IF(I1586<='Main page'!$F$49,\"Core staff\",\"Senior staff\"))","v":""},{"$f":"IF(D1586=\"\",\" \",'Main page'!$F$21-(D1586))","v":" "},{"$f":"IF(D1586=\"\",\" \",VLOOKUP(R1586,'Main page'!$E$29:'Main page'!$G$41,3,TRUE))","v":" "}]
[null,null,null,null,null,null,null,null,null,null,null,null," "," "," "," ",{"$f":"IF(I1587=\"\",\"\",IF(I1587<='Main page'!$F$49,\"Core staff\",\"Senior staff\"))","v":""},{"$f":"IF(D1587=\"\",\" \",'Main page'!$F$21-(D1587))","v":" "},{"$f":"IF(D1587=\"\",\" \",VLOOKUP(R1587,'Main page'!$E$29:'Main page'!$G$41,3,TRUE))","v":" "}]
[null,null,null,null,null,null,null,null,null,null,null,null," "," "," "," ",{"$f":"IF(I1588=\"\",\"\",IF(I1588<='Main page'!$F$49,\"Core staff\",\"Senior staff\"))","v":""},{"$f":"IF(D1588=\"\",\" \",'Main page'!$F$21-(D1588))","v":" "},{"$f":"IF(D1588=\"\",\" \",VLOOKUP(R1588,'Main page'!$E$29:'Main page'!$G$41,3,TRUE))","v":" "}]
[null,null,null,null,null,null,null,null,null,null,null,null," "," "," "," ",{"$f":"IF(I1589=\"\",\"\",IF(I1589<='Main page'!$F$49,\"Core staff\",\"Senior staff\"))","v":""},{"$f":"IF(D1589=\"\",\" \",'Main page'!$F$21-(D1589))","v":" "},{"$f":"IF(D1589=\"\",\" \",VLOOKUP(R1589,'Main page'!$E$29:'Main page'!$G$41,3,TRUE))","v":" "}]
[null,null,null,null,null,null,null,null,null,null,null,null," "," "," "," ",{"$f":"IF(I1590=\"\",\"\",IF(I1590<='Main page'!$F$49,\"Core staff\",\"Senior staff\"))","v":""},{"$f":"IF(D1590=\"\",\" \",'Main page'!$F$21-(D1590))","v":" "},{"$f":"IF(D1590=\"\",\" \",VLOOKUP(R1590,'Main page'!$E$29:'Main page'!$G$41,3,TRUE))","v":" "}]
[null,null,null,null,null,null,null,null,null,null,null,null," "," "," "," ",{"$f":"IF(I1591=\"\",\"\",IF(I1591<='Main page'!$F$49,\"Core staff\",\"Senior staff\"))","v":""},{"$f":"IF(D1591=\"\",\" \",'Main page'!$F$21-(D1591))","v":" "},{"$f":"IF(D1591=\"\",\" \",VLOOKUP(R1591,'Main page'!$E$29:'Main page'!$G$41,3,TRUE))","v":" "}]
[null,null,null,null,null,null,null,null,null,null,null,null," "," "," "," ",{"$f":"IF(I1592=\"\",\"\",IF(I1592<='Main page'!$F$49,\"Core staff\",\"Senior staff\"))","v":""},{"$f":"IF(D1592=\"\",\" \",'Main page'!$F$21-(D1592))","v":" "},{"$f":"IF(D1592=\"\",\" \",VLOOKUP(R1592,'Main page'!$E$29:'Main page'!$G$41,3,TRUE))","v":" "}]
[null,null,null,null,null,null,null,null,null,null,null,null," "," "," "," ",{"$f":"IF(I1593=\"\",\"\",IF(I1593<='Main page'!$F$49,\"Core staff\",\"Senior staff\"))","v":""},{"$f":"IF(D1593=\"\",\" \",'Main page'!$F$21-(D1593))","v":" "},{"$f":"IF(D1593=\"\",\" \",VLOOKUP(R1593,'Main page'!$E$29:'Main page'!$G$41,3,TRUE))","v":" "}]
[null,null,null,null,null,null,null,null,null,null,null,null," "," "," "," ",{"$f":"IF(I1594=\"\",\"\",IF(I1594<='Main page'!$F$49,\"Core staff\",\"Senior staff\"))","v":""},{"$f":"IF(D1594=\"\",\" \",'Main page'!$F$21-(D1594))","v":" "},{"$f":"IF(D1594=\"\",\" \",VLOOKUP(R1594,'Main page'!$E$29:'Main page'!$G$41,3,TRUE))","v":" "}]
[null,null,null,null,null,null,null,null,null,null,null,null," "," "," "," ",{"$f":"IF(I1595=\"\",\"\",IF(I1595<='Main page'!$F$49,\"Core staff\",\"Senior staff\"))","v":""},{"$f":"IF(D1595=\"\",\" \",'Main page'!$F$21-(D1595))","v":" "},{"$f":"IF(D1595=\"\",\" \",VLOOKUP(R1595,'Main page'!$E$29:'Main page'!$G$41,3,TRUE))","v":" "}]
[null,null,null,null,null,null,null,null,null,null,null,null," "," "," "," ",{"$f":"IF(I1596=\"\",\"\",IF(I1596<='Main page'!$F$49,\"Core staff\",\"Senior staff\"))","v":""},{"$f":"IF(D1596=\"\",\" \",'Main page'!$F$21-(D1596))","v":" "},{"$f":"IF(D1596=\"\",\" \",VLOOKUP(R1596,'Main page'!$E$29:'Main page'!$G$41,3,TRUE))","v":" "}]
[null,null,null,null,null,null,null,null,null,null,null,null," "," "," "," ",{"$f":"IF(I1597=\"\",\"\",IF(I1597<='Main page'!$F$49,\"Core staff\",\"Senior staff\"))","v":""},{"$f":"IF(D1597=\"\",\" \",'Main page'!$F$21-(D1597))","v":" "},{"$f":"IF(D1597=\"\",\" \",VLOOKUP(R1597,'Main page'!$E$29:'Main page'!$G$41,3,TRUE))","v":" "}]
[null,null,null,null,null,null,null,null,null,null,null,null," "," "," "," ",{"$f":"IF(I1598=\"\",\"\",IF(I1598<='Main page'!$F$49,\"Core staff\",\"Senior staff\"))","v":""},{"$f":"IF(D1598=\"\",\" \",'Main page'!$F$21-(D1598))","v":" "},{"$f":"IF(D1598=\"\",\" \",VLOOKUP(R1598,'Main page'!$E$29:'Main page'!$G$41,3,TRUE))","v":" "}]
[null,null,null,null,null,null,null,null,null,null,null,null," "," "," "," ",{"$f":"IF(I1599=\"\",\"\",IF(I1599<='Main page'!$F$49,\"Core staff\",\"Senior staff\"))","v":""},{"$f":"IF(D1599=\"\",\" \",'Main page'!$F$21-(D1599))","v":" "},{"$f":"IF(D1599=\"\",\" \",VLOOKUP(R1599,'Main page'!$E$29:'Main page'!$G$41,3,TRUE))","v":" "}]
[null,null,null,null,null,null,null,null,null,null,null,null," "," "," "," ",{"$f":"IF(I1600=\"\",\"\",IF(I1600<='Main page'!$F$49,\"Core staff\",\"Senior staff\"))","v":""},{"$f":"IF(D1600=\"\",\" \",'Main page'!$F$21-(D1600))","v":" "},{"$f":"IF(D1600=\"\",\" \",VLOOKUP(R1600,'Main page'!$E$29:'Main page'!$G$41,3,TRUE))","v":" "}]
[null,null,null,null,null,null,null,null,null,null,null,null," "," "," "," ",{"$f":"IF(I1601=\"\",\"\",IF(I1601<='Main page'!$F$49,\"Core staff\",\"Senior staff\"))","v":""},{"$f":"IF(D1601=\"\",\" \",'Main page'!$F$21-(D1601))","v":" "},{"$f":"IF(D1601=\"\",\" \",VLOOKUP(R1601,'Main page'!$E$29:'Main page'!$G$41,3,TRUE))","v":" "}]
[null,null,null,null,null,null,null,null,null,null,null,null," "," "," "," ",{"$f":"IF(I1602=\"\",\"\",IF(I1602<='Main page'!$F$49,\"Core staff\",\"Senior staff\"))","v":""},{"$f":"IF(D1602=\"\",\" \",'Main page'!$F$21-(D1602))","v":" "},{"$f":"IF(D1602=\"\",\" \",VLOOKUP(R1602,'Main page'!$E$29:'Main page'!$G$41,3,TRUE))","v":" "}]
[null,null,null,null,null,null,null,null,null,null,null,null," "," "," "," ",{"$f":"IF(I1603=\"\",\"\",IF(I1603<='Main page'!$F$49,\"Core staff\",\"Senior staff\"))","v":""},{"$f":"IF(D1603=\"\",\" \",'Main page'!$F$21-(D1603))","v":" "},{"$f":"IF(D1603=\"\",\" \",VLOOKUP(R1603,'Main page'!$E$29:'Main page'!$G$41,3,TRUE))","v":" "}]
[null,null,null,null,null,null,null,null,null,null,null,null," "," "," "," ",{"$f":"IF(I1604=\"\",\"\",IF(I1604<='Main page'!$F$49,\"Core staff\",\"Senior staff\"))","v":""},{"$f":"IF(D1604=\"\",\" \",'Main page'!$F$21-(D1604))","v":" "},{"$f":"IF(D1604=\"\",\" \",VLOOKUP(R1604,'Main page'!$E$29:'Main page'!$G$41,3,TRUE))","v":" "}]
[null,null,null,null,null,null,null,null,null,null,null,null," "," "," "," ",{"$f":"IF(I1605=\"\",\"\",IF(I1605<='Main page'!$F$49,\"Core staff\",\"Senior staff\"))","v":""},{"$f":"IF(D1605=\"\",\" \",'Main page'!$F$21-(D1605))","v":" "},{"$f":"IF(D1605=\"\",\" \",VLOOKUP(R1605,'Main page'!$E$29:'Main page'!$G$41,3,TRUE))","v":" "}]
[null,null,null,null,null,null,null,null,null,null,null,null," "," "," "," ",{"$f":"IF(I1606=\"\",\"\",IF(I1606<='Main page'!$F$49,\"Core staff\",\"Senior staff\"))","v":""},{"$f":"IF(D1606=\"\",\" \",'Main page'!$F$21-(D1606))","v":" "},{"$f":"IF(D1606=\"\",\" \",VLOOKUP(R1606,'Main page'!$E$29:'Main page'!$G$41,3,TRUE))","v":" "}]
[null,null,null,null,null,null,null,null,null,null,null,null," "," "," "," ",{"$f":"IF(I1607=\"\",\"\",IF(I1607<='Main page'!$F$49,\"Core staff\",\"Senior staff\"))","v":""},{"$f":"IF(D1607=\"\",\" \",'Main page'!$F$21-(D1607))","v":" "},{"$f":"IF(D1607=\"\",\" \",VLOOKUP(R1607,'Main page'!$E$29:'Main page'!$G$41,3,TRUE))","v":" "}]
[null,null,null,null,null,null,null,null,null,null,null,null," "," "," "," ",{"$f":"IF(I1608=\"\",\"\",IF(I1608<='Main page'!$F$49,\"Core staff\",\"Senior staff\"))","v":""},{"$f":"IF(D1608=\"\",\" \",'Main page'!$F$21-(D1608))","v":" "},{"$f":"IF(D1608=\"\",\" \",VLOOKUP(R1608,'Main page'!$E$29:'Main page'!$G$41,3,TRUE))","v":" "}]
[null,null,null,null,null,null,null,null,null,null,null,null," "," "," "," ",{"$f":"IF(I1609=\"\",\"\",IF(I1609<='Main page'!$F$49,\"Core staff\",\"Senior staff\"))","v":""},{"$f":"IF(D1609=\"\",\" \",'Main page'!$F$21-(D1609))","v":" "},{"$f":"IF(D1609=\"\",\" \",VLOOKUP(R1609,'Main page'!$E$29:'Main page'!$G$41,3,TRUE))","v":" "}]
[null,null,null,null,null,null,null,null,null,null,null,null," "," "," "," ",{"$f":"IF(I1610=\"\",\"\",IF(I1610<='Main page'!$F$49,\"Core staff\",\"Senior staff\"))","v":""},{"$f":"IF(D1610=\"\",\" \",'Main page'!$F$21-(D1610))","v":" "},{"$f":"IF(D1610=\"\",\" \",VLOOKUP(R1610,'Main page'!$E$29:'Main page'!$G$41,3,TRUE))","v":" "}]
[null,null,null,null,null,null,null,null,null,null,null,null," "," "," "," ",{"$f":"IF(I1611=\"\",\"\",IF(I1611<='Main page'!$F$49,\"Core staff\",\"Senior staff\"))","v":""},{"$f":"IF(D1611=\"\",\" \",'Main page'!$F$21-(D1611))","v":" "},{"$f":"IF(D1611=\"\",\" \",VLOOKUP(R1611,'Main page'!$E$29:'Main page'!$G$41,3,TRUE))","v":" "}]
[null,null,null,null,null,null,null,null,null,null,null,null," "," "," "," ",{"$f":"IF(I1612=\"\",\"\",IF(I1612<='Main page'!$F$49,\"Core staff\",\"Senior staff\"))","v":""},{"$f":"IF(D1612=\"\",\" \",'Main page'!$F$21-(D1612))","v":" "},{"$f":"IF(D1612=\"\",\" \",VLOOKUP(R1612,'Main page'!$E$29:'Main page'!$G$41,3,TRUE))","v":" "}]
[null,null,null,null,null,null,null,null,null,null,null,null," "," "," "," ",{"$f":"IF(I1613=\"\",\"\",IF(I1613<='Main page'!$F$49,\"Core staff\",\"Senior staff\"))","v":""},{"$f":"IF(D1613=\"\",\" \",'Main page'!$F$21-(D1613))","v":" "},{"$f":"IF(D1613=\"\",\" \",VLOOKUP(R1613,'Main page'!$E$29:'Main page'!$G$41,3,TRUE))","v":" "}]
[null,null,null,null,null,null,null,null,null,null,null,null,{"$f":"IFERROR(J1614/G1614,\" \")","v":" "},{"$f":"IFERROR((M1614/$U$4)/H1614,\" \")","v":" "},{"$f":"IFERROR((N1614*75)*26.083,\" \")","v":" "},{"$f":"IF(G1614=0,\" \",IF(G1614=1,\"Full time\",\"Part time\"))","v":" "},{"$f":"IF(I1614=\"\",\"\",IF(I1614<='Main page'!$F$49,\"Core staff\",\"Senior staff\"))","v":""},{"$f":"IF(D1614=\"\",\" \",'Main page'!$F$21-(D1614))","v":" "},{"$f":"IF(D1614=\"\",\" \",VLOOKUP(R1614,'Main page'!$E$29:'Main page'!$G$41,3,TRUE))","v":" "}]
[null,null,null,null,null,null,null,null,null,null,null,null," "," "," "," ",{"$f":"IF(I1615=\"\",\"\",IF(I1615<='Main page'!$F$49,\"Core staff\",\"Senior staff\"))","v":""},{"$f":"IF(D1615=\"\",\" \",'Main page'!$F$21-(D1615))","v":" "},{"$f":"IF(D1615=\"\",\" \",VLOOKUP(R1615,'Main page'!$E$29:'Main page'!$G$41,3,TRUE))","v":" "}]
[null,null,null,null,null,null,null,null,null,null,null,null," "," "," "," ",{"$f":"IF(I1616=\"\",\"\",IF(I1616<='Main page'!$F$49,\"Core staff\",\"Senior staff\"))","v":""},{"$f":"IF(D1616=\"\",\" \",'Main page'!$F$21-(D1616))","v":" "},{"$f":"IF(D1616=\"\",\" \",VLOOKUP(R1616,'Main page'!$E$29:'Main page'!$G$41,3,TRUE))","v":" "}]
[null,null,null,null,null,null,null,null,null,null,null,null," "," "," "," ",{"$f":"IF(I1617=\"\",\"\",IF(I1617<='Main page'!$F$49,\"Core staff\",\"Senior staff\"))","v":""},{"$f":"IF(D1617=\"\",\" \",'Main page'!$F$21-(D1617))","v":" "},{"$f":"IF(D1617=\"\",\" \",VLOOKUP(R1617,'Main page'!$E$29:'Main page'!$G$41,3,TRUE))","v":" "}]
[null,null,null,null,null,null,null,null,null,null,null,null," "," "," "," ",{"$f":"IF(I1618=\"\",\"\",IF(I1618<='Main page'!$F$49,\"Core staff\",\"Senior staff\"))","v":""},{"$f":"IF(D1618=\"\",\" \",'Main page'!$F$21-(D1618))","v":" "},{"$f":"IF(D1618=\"\",\" \",VLOOKUP(R1618,'Main page'!$E$29:'Main page'!$G$41,3,TRUE))","v":" "}]
[null,null,null,null,null,null,null,null,null,null,null,null," "," "," "," ",{"$f":"IF(I1619=\"\",\"\",IF(I1619<='Main page'!$F$49,\"Core staff\",\"Senior staff\"))","v":""},{"$f":"IF(D1619=\"\",\" \",'Main page'!$F$21-(D1619))","v":" "},{"$f":"IF(D1619=\"\",\" \",VLOOKUP(R1619,'Main page'!$E$29:'Main page'!$G$41,3,TRUE))","v":" "}]
[null,null,null,null,null,null,null,null,null,null,null,null," "," "," "," ",{"$f":"IF(I1620=\"\",\"\",IF(I1620<='Main page'!$F$49,\"Core staff\",\"Senior staff\"))","v":""},{"$f":"IF(D1620=\"\",\" \",'Main page'!$F$21-(D1620))","v":" "},{"$f":"IF(D1620=\"\",\" \",VLOOKUP(R1620,'Main page'!$E$29:'Main page'!$G$41,3,TRUE))","v":" "}]
[null,null,null,null,null,null,null,null,null,null,null,null," "," "," "," ",{"$f":"IF(I1621=\"\",\"\",IF(I1621<='Main page'!$F$49,\"Core staff\",\"Senior staff\"))","v":""},{"$f":"IF(D1621=\"\",\" \",'Main page'!$F$21-(D1621))","v":" "},{"$f":"IF(D1621=\"\",\" \",VLOOKUP(R1621,'Main page'!$E$29:'Main page'!$G$41,3,TRUE))","v":" "}]
[null,null,null,null,null,null,null,null,null,null,null,null," "," "," "," ",{"$f":"IF(I1622=\"\",\"\",IF(I1622<='Main page'!$F$49,\"Core staff\",\"Senior staff\"))","v":""},{"$f":"IF(D1622=\"\",\" \",'Main page'!$F$21-(D1622))","v":" "},{"$f":"IF(D1622=\"\",\" \",VLOOKUP(R1622,'Main page'!$E$29:'Main page'!$G$41,3,TRUE))","v":" "}]
[null,null,null,null,null,null,null,null,null,null,null,null," "," "," "," ",{"$f":"IF(I1623=\"\",\"\",IF(I1623<='Main page'!$F$49,\"Core staff\",\"Senior staff\"))","v":""},{"$f":"IF(D1623=\"\",\" \",'Main page'!$F$21-(D1623))","v":" "},{"$f":"IF(D1623=\"\",\" \",VLOOKUP(R1623,'Main page'!$E$29:'Main page'!$G$41,3,TRUE))","v":" "}]
[null,null,null,null,null,null,null,null,null,null,null,null," "," "," "," ",{"$f":"IF(I1624=\"\",\"\",IF(I1624<='Main page'!$F$49,\"Core staff\",\"Senior staff\"))","v":""},{"$f":"IF(D1624=\"\",\" \",'Main page'!$F$21-(D1624))","v":" "},{"$f":"IF(D1624=\"\",\" \",VLOOKUP(R1624,'Main page'!$E$29:'Main page'!$G$41,3,TRUE))","v":" "}]
[null,null,null,null,null,null,null,null,null,null,null,null," "," "," "," ",{"$f":"IF(I1625=\"\",\"\",IF(I1625<='Main page'!$F$49,\"Core staff\",\"Senior staff\"))","v":""},{"$f":"IF(D1625=\"\",\" \",'Main page'!$F$21-(D1625))","v":" "},{"$f":"IF(D1625=\"\",\" \",VLOOKUP(R1625,'Main page'!$E$29:'Main page'!$G$41,3,TRUE))","v":" "}]
[null,null,null,null,null,null,null,null,null,null,null,null," "," "," "," ",{"$f":"IF(I1626=\"\",\"\",IF(I1626<='Main page'!$F$49,\"Core staff\",\"Senior staff\"))","v":""},{"$f":"IF(D1626=\"\",\" \",'Main page'!$F$21-(D1626))","v":" "},{"$f":"IF(D1626=\"\",\" \",VLOOKUP(R1626,'Main page'!$E$29:'Main page'!$G$41,3,TRUE))","v":" "}]
[null,null,null,null,null,null,null,null,null,null,null,null," "," "," "," ",{"$f":"IF(I1627=\"\",\"\",IF(I1627<='Main page'!$F$49,\"Core staff\",\"Senior staff\"))","v":""},{"$f":"IF(D1627=\"\",\" \",'Main page'!$F$21-(D1627))","v":" "},{"$f":"IF(D1627=\"\",\" \",VLOOKUP(R1627,'Main page'!$E$29:'Main page'!$G$41,3,TRUE))","v":" "}]
[null,null,null,null,null,null,null,null,null,null,null,null," "," "," "," ",{"$f":"IF(I1628=\"\",\"\",IF(I1628<='Main page'!$F$49,\"Core staff\",\"Senior staff\"))","v":""},{"$f":"IF(D1628=\"\",\" \",'Main page'!$F$21-(D1628))","v":" "},{"$f":"IF(D1628=\"\",\" \",VLOOKUP(R1628,'Main page'!$E$29:'Main page'!$G$41,3,TRUE))","v":" "}]
[null,null,null,null,null,null,null,null,null,null,null,null," "," "," "," ",{"$f":"IF(I1629=\"\",\"\",IF(I1629<='Main page'!$F$49,\"Core staff\",\"Senior staff\"))","v":""},{"$f":"IF(D1629=\"\",\" \",'Main page'!$F$21-(D1629))","v":" "},{"$f":"IF(D1629=\"\",\" \",VLOOKUP(R1629,'Main page'!$E$29:'Main page'!$G$41,3,TRUE))","v":" "}]
[null,null,null,null,null,null,null,null,null,null,null,null," "," "," "," ",{"$f":"IF(I1630=\"\",\"\",IF(I1630<='Main page'!$F$49,\"Core staff\",\"Senior staff\"))","v":""},{"$f":"IF(D1630=\"\",\" \",'Main page'!$F$21-(D1630))","v":" "},{"$f":"IF(D1630=\"\",\" \",VLOOKUP(R1630,'Main page'!$E$29:'Main page'!$G$41,3,TRUE))","v":" "}]
[null,null,null,null,null,null,null,null,null,null,null,null," "," "," "," ",{"$f":"IF(I1631=\"\",\"\",IF(I1631<='Main page'!$F$49,\"Core staff\",\"Senior staff\"))","v":""},{"$f":"IF(D1631=\"\",\" \",'Main page'!$F$21-(D1631))","v":" "},{"$f":"IF(D1631=\"\",\" \",VLOOKUP(R1631,'Main page'!$E$29:'Main page'!$G$41,3,TRUE))","v":" "}]
[null,null,null,null,null,null,null,null,null,null,null,null," "," "," "," ",{"$f":"IF(I1632=\"\",\"\",IF(I1632<='Main page'!$F$49,\"Core staff\",\"Senior staff\"))","v":""},{"$f":"IF(D1632=\"\",\" \",'Main page'!$F$21-(D1632))","v":" "},{"$f":"IF(D1632=\"\",\" \",VLOOKUP(R1632,'Main page'!$E$29:'Main page'!$G$41,3,TRUE))","v":" "}]
[null,null,null,null,null,null,null,null,null,null,null,null," "," "," "," ",{"$f":"IF(I1633=\"\",\"\",IF(I1633<='Main page'!$F$49,\"Core staff\",\"Senior staff\"))","v":""},{"$f":"IF(D1633=\"\",\" \",'Main page'!$F$21-(D1633))","v":" "},{"$f":"IF(D1633=\"\",\" \",VLOOKUP(R1633,'Main page'!$E$29:'Main page'!$G$41,3,TRUE))","v":" "}]
[null,null,null,null,null,null,null,null,null,null,null,null," "," "," "," ",{"$f":"IF(I1634=\"\",\"\",IF(I1634<='Main page'!$F$49,\"Core staff\",\"Senior staff\"))","v":""},{"$f":"IF(D1634=\"\",\" \",'Main page'!$F$21-(D1634))","v":" "},{"$f":"IF(D1634=\"\",\" \",VLOOKUP(R1634,'Main page'!$E$29:'Main page'!$G$41,3,TRUE))","v":" "}]
[null,null,null,null,null,null,null,null,null,null,null,null," "," "," "," ",{"$f":"IF(I1635=\"\",\"\",IF(I1635<='Main page'!$F$49,\"Core staff\",\"Senior staff\"))","v":""},{"$f":"IF(D1635=\"\",\" \",'Main page'!$F$21-(D1635))","v":" "},{"$f":"IF(D1635=\"\",\" \",VLOOKUP(R1635,'Main page'!$E$29:'Main page'!$G$41,3,TRUE))","v":" "}]
[null,null,null,null,null,null,null,null,null,null,null,null," "," "," "," ",{"$f":"IF(I1636=\"\",\"\",IF(I1636<='Main page'!$F$49,\"Core staff\",\"Senior staff\"))","v":""},{"$f":"IF(D1636=\"\",\" \",'Main page'!$F$21-(D1636))","v":" "},{"$f":"IF(D1636=\"\",\" \",VLOOKUP(R1636,'Main page'!$E$29:'Main page'!$G$41,3,TRUE))","v":" "}]
[null,null,null,null,null,null,null,null,null,null,null,null," "," "," "," ",{"$f":"IF(I1637=\"\",\"\",IF(I1637<='Main page'!$F$49,\"Core staff\",\"Senior staff\"))","v":""},{"$f":"IF(D1637=\"\",\" \",'Main page'!$F$21-(D1637))","v":" "},{"$f":"IF(D1637=\"\",\" \",VLOOKUP(R1637,'Main page'!$E$29:'Main page'!$G$41,3,TRUE))","v":" "}]
[null,null,null,null,null,null,null,null,null,null,null,null," "," "," "," ",{"$f":"IF(I1638=\"\",\"\",IF(I1638<='Main page'!$F$49,\"Core staff\",\"Senior staff\"))","v":""},{"$f":"IF(D1638=\"\",\" \",'Main page'!$F$21-(D1638))","v":" "},{"$f":"IF(D1638=\"\",\" \",VLOOKUP(R1638,'Main page'!$E$29:'Main page'!$G$41,3,TRUE))","v":" "}]
[null,null,null,null,null,null,null,null,null,null,null,null," "," "," "," ",{"$f":"IF(I1639=\"\",\"\",IF(I1639<='Main page'!$F$49,\"Core staff\",\"Senior staff\"))","v":""},{"$f":"IF(D1639=\"\",\" \",'Main page'!$F$21-(D1639))","v":" "},{"$f":"IF(D1639=\"\",\" \",VLOOKUP(R1639,'Main page'!$E$29:'Main page'!$G$41,3,TRUE))","v":" "}]
[null,null,null,null,null,null,null,null,null,null,null,null," "," "," "," ",{"$f":"IF(I1640=\"\",\"\",IF(I1640<='Main page'!$F$49,\"Core staff\",\"Senior staff\"))","v":""},{"$f":"IF(D1640=\"\",\" \",'Main page'!$F$21-(D1640))","v":" "},{"$f":"IF(D1640=\"\",\" \",VLOOKUP(R1640,'Main page'!$E$29:'Main page'!$G$41,3,TRUE))","v":" "}]
[null,null,null,null,null,null,null,null,null,null,null,null," "," "," "," ",{"$f":"IF(I1641=\"\",\"\",IF(I1641<='Main page'!$F$49,\"Core staff\",\"Senior staff\"))","v":""},{"$f":"IF(D1641=\"\",\" \",'Main page'!$F$21-(D1641))","v":" "},{"$f":"IF(D1641=\"\",\" \",VLOOKUP(R1641,'Main page'!$E$29:'Main page'!$G$41,3,TRUE))","v":" "}]
[null,null,null,null,null,null,null,null,null,null,null,null," "," "," "," ",{"$f":"IF(I1642=\"\",\"\",IF(I1642<='Main page'!$F$49,\"Core staff\",\"Senior staff\"))","v":""},{"$f":"IF(D1642=\"\",\" \",'Main page'!$F$21-(D1642))","v":" "},{"$f":"IF(D1642=\"\",\" \",VLOOKUP(R1642,'Main page'!$E$29:'Main page'!$G$41,3,TRUE))","v":" "}]
[null,null,null,null,null,null,null,null,null,null,null,null," "," "," "," ",{"$f":"IF(I1643=\"\",\"\",IF(I1643<='Main page'!$F$49,\"Core staff\",\"Senior staff\"))","v":""},{"$f":"IF(D1643=\"\",\" \",'Main page'!$F$21-(D1643))","v":" "},{"$f":"IF(D1643=\"\",\" \",VLOOKUP(R1643,'Main page'!$E$29:'Main page'!$G$41,3,TRUE))","v":" "}]
[null,null,null,null,null,null,null,null,null,null,null,null," "," "," "," ",{"$f":"IF(I1644=\"\",\"\",IF(I1644<='Main page'!$F$49,\"Core staff\",\"Senior staff\"))","v":""},{"$f":"IF(D1644=\"\",\" \",'Main page'!$F$21-(D1644))","v":" "},{"$f":"IF(D1644=\"\",\" \",VLOOKUP(R1644,'Main page'!$E$29:'Main page'!$G$41,3,TRUE))","v":" "}]
[null,null,null,null,null,null,null,null,null,null,null,null," "," "," "," ",{"$f":"IF(I1645=\"\",\"\",IF(I1645<='Main page'!$F$49,\"Core staff\",\"Senior staff\"))","v":""},{"$f":"IF(D1645=\"\",\" \",'Main page'!$F$21-(D1645))","v":" "},{"$f":"IF(D1645=\"\",\" \",VLOOKUP(R1645,'Main page'!$E$29:'Main page'!$G$41,3,TRUE))","v":" "}]
[null,null,null,null,null,null,null,null,null,null,null,null," "," "," "," ",{"$f":"IF(I1646=\"\",\"\",IF(I1646<='Main page'!$F$49,\"Core staff\",\"Senior staff\"))","v":""},{"$f":"IF(D1646=\"\",\" \",'Main page'!$F$21-(D1646))","v":" "},{"$f":"IF(D1646=\"\",\" \",VLOOKUP(R1646,'Main page'!$E$29:'Main page'!$G$41,3,TRUE))","v":" "}]
[null,null,null,null,null,null,null,null,null,null,null,null," "," "," "," ",{"$f":"IF(I1647=\"\",\"\",IF(I1647<='Main page'!$F$49,\"Core staff\",\"Senior staff\"))","v":""},{"$f":"IF(D1647=\"\",\" \",'Main page'!$F$21-(D1647))","v":" "},{"$f":"IF(D1647=\"\",\" \",VLOOKUP(R1647,'Main page'!$E$29:'Main page'!$G$41,3,TRUE))","v":" "}]
[null,null,null,null,null,null,null,null,null,null,null,null," "," "," "," ",{"$f":"IF(I1648=\"\",\"\",IF(I1648<='Main page'!$F$49,\"Core staff\",\"Senior staff\"))","v":""},{"$f":"IF(D1648=\"\",\" \",'Main page'!$F$21-(D1648))","v":" "},{"$f":"IF(D1648=\"\",\" \",VLOOKUP(R1648,'Main page'!$E$29:'Main page'!$G$41,3,TRUE))","v":" "}]
[null,null,null,null,null,null,null,null,null,null,null,null," "," "," "," ",{"$f":"IF(I1649=\"\",\"\",IF(I1649<='Main page'!$F$49,\"Core staff\",\"Senior staff\"))","v":""},{"$f":"IF(D1649=\"\",\" \",'Main page'!$F$21-(D1649))","v":" "},{"$f":"IF(D1649=\"\",\" \",VLOOKUP(R1649,'Main page'!$E$29:'Main page'!$G$41,3,TRUE))","v":" "}]
[null,null,null,null,null,null,null,null,null,null,null,null," "," "," "," ",{"$f":"IF(I1650=\"\",\"\",IF(I1650<='Main page'!$F$49,\"Core staff\",\"Senior staff\"))","v":""},{"$f":"IF(D1650=\"\",\" \",'Main page'!$F$21-(D1650))","v":" "},{"$f":"IF(D1650=\"\",\" \",VLOOKUP(R1650,'Main page'!$E$29:'Main page'!$G$41,3,TRUE))","v":" "}]
[null,null,null,null,null,null,null,null,null,null,null,null," "," "," "," ",{"$f":"IF(I1651=\"\",\"\",IF(I1651<='Main page'!$F$49,\"Core staff\",\"Senior staff\"))","v":""},{"$f":"IF(D1651=\"\",\" \",'Main page'!$F$21-(D1651))","v":" "},{"$f":"IF(D1651=\"\",\" \",VLOOKUP(R1651,'Main page'!$E$29:'Main page'!$G$41,3,TRUE))","v":" "}]
[null,null,null,null,null,null,null,null,null,null,null,null," "," "," "," ",{"$f":"IF(I1652=\"\",\"\",IF(I1652<='Main page'!$F$49,\"Core staff\",\"Senior staff\"))","v":""},{"$f":"IF(D1652=\"\",\" \",'Main page'!$F$21-(D1652))","v":" "},{"$f":"IF(D1652=\"\",\" \",VLOOKUP(R1652,'Main page'!$E$29:'Main page'!$G$41,3,TRUE))","v":" "}]
[null,null,null,null,null,null,null,null,null,null,null,null," "," "," "," ",{"$f":"IF(I1653=\"\",\"\",IF(I1653<='Main page'!$F$49,\"Core staff\",\"Senior staff\"))","v":""},{"$f":"IF(D1653=\"\",\" \",'Main page'!$F$21-(D1653))","v":" "},{"$f":"IF(D1653=\"\",\" \",VLOOKUP(R1653,'Main page'!$E$29:'Main page'!$G$41,3,TRUE))","v":" "}]
[null,null,null,null,null,null,null,null,null,null,null,null," "," "," "," ",{"$f":"IF(I1654=\"\",\"\",IF(I1654<='Main page'!$F$49,\"Core staff\",\"Senior staff\"))","v":""},{"$f":"IF(D1654=\"\",\" \",'Main page'!$F$21-(D1654))","v":" "},{"$f":"IF(D1654=\"\",\" \",VLOOKUP(R1654,'Main page'!$E$29:'Main page'!$G$41,3,TRUE))","v":" "}]
[null,null,null,null,null,null,null,null,null,null,null,null," "," "," "," ",{"$f":"IF(I1655=\"\",\"\",IF(I1655<='Main page'!$F$49,\"Core staff\",\"Senior staff\"))","v":""},{"$f":"IF(D1655=\"\",\" \",'Main page'!$F$21-(D1655))","v":" "},{"$f":"IF(D1655=\"\",\" \",VLOOKUP(R1655,'Main page'!$E$29:'Main page'!$G$41,3,TRUE))","v":" "}]
[null,null,null,null,null,null,null,null,null,null,null,null," "," "," "," ",{"$f":"IF(I1656=\"\",\"\",IF(I1656<='Main page'!$F$49,\"Core staff\",\"Senior staff\"))","v":""},{"$f":"IF(D1656=\"\",\" \",'Main page'!$F$21-(D1656))","v":" "},{"$f":"IF(D1656=\"\",\" \",VLOOKUP(R1656,'Main page'!$E$29:'Main page'!$G$41,3,TRUE))","v":" "}]
[null,null,null,null,null,null,null,null,null,null,null,null," "," "," "," ",{"$f":"IF(I1657=\"\",\"\",IF(I1657<='Main page'!$F$49,\"Core staff\",\"Senior staff\"))","v":""},{"$f":"IF(D1657=\"\",\" \",'Main page'!$F$21-(D1657))","v":" "},{"$f":"IF(D1657=\"\",\" \",VLOOKUP(R1657,'Main page'!$E$29:'Main page'!$G$41,3,TRUE))","v":" "}]
[null,null,null,null,null,null,null,null,null,null,null,null," "," "," "," ",{"$f":"IF(I1658=\"\",\"\",IF(I1658<='Main page'!$F$49,\"Core staff\",\"Senior staff\"))","v":""},{"$f":"IF(D1658=\"\",\" \",'Main page'!$F$21-(D1658))","v":" "},{"$f":"IF(D1658=\"\",\" \",VLOOKUP(R1658,'Main page'!$E$29:'Main page'!$G$41,3,TRUE))","v":" "}]
[null,null,null,null,null,null,null,null,null,null,null,null," "," "," "," ",{"$f":"IF(I1659=\"\",\"\",IF(I1659<='Main page'!$F$49,\"Core staff\",\"Senior staff\"))","v":""},{"$f":"IF(D1659=\"\",\" \",'Main page'!$F$21-(D1659))","v":" "},{"$f":"IF(D1659=\"\",\" \",VLOOKUP(R1659,'Main page'!$E$29:'Main page'!$G$41,3,TRUE))","v":" "}]
[null,null,null,null,null,null,null,null,null,null,null,null," "," "," "," ",{"$f":"IF(I1660=\"\",\"\",IF(I1660<='Main page'!$F$49,\"Core staff\",\"Senior staff\"))","v":""},{"$f":"IF(D1660=\"\",\" \",'Main page'!$F$21-(D1660))","v":" "},{"$f":"IF(D1660=\"\",\" \",VLOOKUP(R1660,'Main page'!$E$29:'Main page'!$G$41,3,TRUE))","v":" "}]
[null,null,null,null,null,null,null,null,null,null,null,null," "," "," "," ",{"$f":"IF(I1661=\"\",\"\",IF(I1661<='Main page'!$F$49,\"Core staff\",\"Senior staff\"))","v":""},{"$f":"IF(D1661=\"\",\" \",'Main page'!$F$21-(D1661))","v":" "},{"$f":"IF(D1661=\"\",\" \",VLOOKUP(R1661,'Main page'!$E$29:'Main page'!$G$41,3,TRUE))","v":" "}]
[null,null,null,null,null,null,null,null,null,null,null,null," "," "," "," ",{"$f":"IF(I1662=\"\",\"\",IF(I1662<='Main page'!$F$49,\"Core staff\",\"Senior staff\"))","v":""},{"$f":"IF(D1662=\"\",\" \",'Main page'!$F$21-(D1662))","v":" "},{"$f":"IF(D1662=\"\",\" \",VLOOKUP(R1662,'Main page'!$E$29:'Main page'!$G$41,3,TRUE))","v":" "}]
[null,null,null,null,null,null,null,null,null,null,null,null," "," "," "," ",{"$f":"IF(I1663=\"\",\"\",IF(I1663<='Main page'!$F$49,\"Core staff\",\"Senior staff\"))","v":""},{"$f":"IF(D1663=\"\",\" \",'Main page'!$F$21-(D1663))","v":" "},{"$f":"IF(D1663=\"\",\" \",VLOOKUP(R1663,'Main page'!$E$29:'Main page'!$G$41,3,TRUE))","v":" "}]
[null,null,null,null,null,null,null,null,null,null,null,null," "," "," "," ",{"$f":"IF(I1664=\"\",\"\",IF(I1664<='Main page'!$F$49,\"Core staff\",\"Senior staff\"))","v":""},{"$f":"IF(D1664=\"\",\" \",'Main page'!$F$21-(D1664))","v":" "},{"$f":"IF(D1664=\"\",\" \",VLOOKUP(R1664,'Main page'!$E$29:'Main page'!$G$41,3,TRUE))","v":" "}]
[null,null,null,null,null,null,null,null,null,null,null,null," "," "," "," ",{"$f":"IF(I1665=\"\",\"\",IF(I1665<='Main page'!$F$49,\"Core staff\",\"Senior staff\"))","v":""},{"$f":"IF(D1665=\"\",\" \",'Main page'!$F$21-(D1665))","v":" "},{"$f":"IF(D1665=\"\",\" \",VLOOKUP(R1665,'Main page'!$E$29:'Main page'!$G$41,3,TRUE))","v":" "}]
[null,null,null,null,null,null,null,null,null,null,null,null," "," "," "," ",{"$f":"IF(I1666=\"\",\"\",IF(I1666<='Main page'!$F$49,\"Core staff\",\"Senior staff\"))","v":""},{"$f":"IF(D1666=\"\",\" \",'Main page'!$F$21-(D1666))","v":" "},{"$f":"IF(D1666=\"\",\" \",VLOOKUP(R1666,'Main page'!$E$29:'Main page'!$G$41,3,TRUE))","v":" "}]
[null,null,null,null,null,null,null,null,null,null,null,null," "," "," "," ",{"$f":"IF(I1667=\"\",\"\",IF(I1667<='Main page'!$F$49,\"Core staff\",\"Senior staff\"))","v":""},{"$f":"IF(D1667=\"\",\" \",'Main page'!$F$21-(D1667))","v":" "},{"$f":"IF(D1667=\"\",\" \",VLOOKUP(R1667,'Main page'!$E$29:'Main page'!$G$41,3,TRUE))","v":" "}]
[null,null,null,null,null,null,null,null,null,null,null,null," "," "," "," ",{"$f":"IF(I1668=\"\",\"\",IF(I1668<='Main page'!$F$49,\"Core staff\",\"Senior staff\"))","v":""},{"$f":"IF(D1668=\"\",\" \",'Main page'!$F$21-(D1668))","v":" "},{"$f":"IF(D1668=\"\",\" \",VLOOKUP(R1668,'Main page'!$E$29:'Main page'!$G$41,3,TRUE))","v":" "}]
[null,null,null,null,null,null,null,null,null,null,null,null," "," "," "," ",{"$f":"IF(I1669=\"\",\"\",IF(I1669<='Main page'!$F$49,\"Core staff\",\"Senior staff\"))","v":""},{"$f":"IF(D1669=\"\",\" \",'Main page'!$F$21-(D1669))","v":" "},{"$f":"IF(D1669=\"\",\" \",VLOOKUP(R1669,'Main page'!$E$29:'Main page'!$G$41,3,TRUE))","v":" "}]
[null,null,null,null,null,null,null,null,null,null,null,null," "," "," "," ",{"$f":"IF(I1670=\"\",\"\",IF(I1670<='Main page'!$F$49,\"Core staff\",\"Senior staff\"))","v":""},{"$f":"IF(D1670=\"\",\" \",'Main page'!$F$21-(D1670))","v":" "},{"$f":"IF(D1670=\"\",\" \",VLOOKUP(R1670,'Main page'!$E$29:'Main page'!$G$41,3,TRUE))","v":" "}]
[null,null,null,null,null,null,null,null,null,null,null,null," "," "," "," ",{"$f":"IF(I1671=\"\",\"\",IF(I1671<='Main page'!$F$49,\"Core staff\",\"Senior staff\"))","v":""},{"$f":"IF(D1671=\"\",\" \",'Main page'!$F$21-(D1671))","v":" "},{"$f":"IF(D1671=\"\",\" \",VLOOKUP(R1671,'Main page'!$E$29:'Main page'!$G$41,3,TRUE))","v":" "}]
[null,null,null,null,null,null,null,null,null,null,null,null," "," "," "," ",{"$f":"IF(I1672=\"\",\"\",IF(I1672<='Main page'!$F$49,\"Core staff\",\"Senior staff\"))","v":""},{"$f":"IF(D1672=\"\",\" \",'Main page'!$F$21-(D1672))","v":" "},{"$f":"IF(D1672=\"\",\" \",VLOOKUP(R1672,'Main page'!$E$29:'Main page'!$G$41,3,TRUE))","v":" "}]
[null,null,null,null,null,null,null,null,null,null,null,null," "," "," "," ",{"$f":"IF(I1673=\"\",\"\",IF(I1673<='Main page'!$F$49,\"Core staff\",\"Senior staff\"))","v":""},{"$f":"IF(D1673=\"\",\" \",'Main page'!$F$21-(D1673))","v":" "},{"$f":"IF(D1673=\"\",\" \",VLOOKUP(R1673,'Main page'!$E$29:'Main page'!$G$41,3,TRUE))","v":" "}]
[null,null,null,null,null,null,null,null,null,null,null,null," "," "," "," ",{"$f":"IF(I1674=\"\",\"\",IF(I1674<='Main page'!$F$49,\"Core staff\",\"Senior staff\"))","v":""},{"$f":"IF(D1674=\"\",\" \",'Main page'!$F$21-(D1674))","v":" "},{"$f":"IF(D1674=\"\",\" \",VLOOKUP(R1674,'Main page'!$E$29:'Main page'!$G$41,3,TRUE))","v":" "}]
[null,null,null,null,null,null,null,null,null,null,null,null," "," "," "," ",{"$f":"IF(I1675=\"\",\"\",IF(I1675<='Main page'!$F$49,\"Core staff\",\"Senior staff\"))","v":""},{"$f":"IF(D1675=\"\",\" \",'Main page'!$F$21-(D1675))","v":" "},{"$f":"IF(D1675=\"\",\" \",VLOOKUP(R1675,'Main page'!$E$29:'Main page'!$G$41,3,TRUE))","v":" "}]
[null,null,null,null,null,null,null,null,null,null,null,null," "," "," "," ",{"$f":"IF(I1676=\"\",\"\",IF(I1676<='Main page'!$F$49,\"Core staff\",\"Senior staff\"))","v":""},{"$f":"IF(D1676=\"\",\" \",'Main page'!$F$21-(D1676))","v":" "},{"$f":"IF(D1676=\"\",\" \",VLOOKUP(R1676,'Main page'!$E$29:'Main page'!$G$41,3,TRUE))","v":" "}]
[null,null,null,null,null,null,null,null,null,null,null,null," "," "," "," ",{"$f":"IF(I1677=\"\",\"\",IF(I1677<='Main page'!$F$49,\"Core staff\",\"Senior staff\"))","v":""},{"$f":"IF(D1677=\"\",\" \",'Main page'!$F$21-(D1677))","v":" "},{"$f":"IF(D1677=\"\",\" \",VLOOKUP(R1677,'Main page'!$E$29:'Main page'!$G$41,3,TRUE))","v":" "}]
[null,null,null,null,null,null,null,null,null,null,null,null,{"$f":"IFERROR(J1678/G1678,\" \")","v":" "},{"$f":"IFERROR((M1678/$U$4)/H1678,\" \")","v":" "},{"$f":"IFERROR((N1678*75)*26.083,\" \")","v":" "},{"$f":"IF(G1678=0,\" \",IF(G1678=1,\"Full time\",\"Part time\"))","v":" "},{"$f":"IF(I1678=\"\",\"\",IF(I1678<='Main page'!$F$49,\"Core staff\",\"Senior staff\"))","v":""},{"$f":"IF(D1678=\"\",\" \",'Main page'!$F$21-(D1678))","v":" "},{"$f":"IF(D1678=\"\",\" \",VLOOKUP(R1678,'Main page'!$E$29:'Main page'!$G$41,3,TRUE))","v":" "}]
[null,null,null,null,null,null,null,null,null,null,null,null," "," "," "," ",{"$f":"IF(I1679=\"\",\"\",IF(I1679<='Main page'!$F$49,\"Core staff\",\"Senior staff\"))","v":""},{"$f":"IF(D1679=\"\",\" \",'Main page'!$F$21-(D1679))","v":" "},{"$f":"IF(D1679=\"\",\" \",VLOOKUP(R1679,'Main page'!$E$29:'Main page'!$G$41,3,TRUE))","v":" "}]
[null,null,null,null,null,null,null,null,null,null,null,null," "," "," "," ",{"$f":"IF(I1680=\"\",\"\",IF(I1680<='Main page'!$F$49,\"Core staff\",\"Senior staff\"))","v":""},{"$f":"IF(D1680=\"\",\" \",'Main page'!$F$21-(D1680))","v":" "},{"$f":"IF(D1680=\"\",\" \",VLOOKUP(R1680,'Main page'!$E$29:'Main page'!$G$41,3,TRUE))","v":" "}]
[null,null,null,null,null,null,null,null,null,null,null,null," "," "," "," ",{"$f":"IF(I1681=\"\",\"\",IF(I1681<='Main page'!$F$49,\"Core staff\",\"Senior staff\"))","v":""},{"$f":"IF(D1681=\"\",\" \",'Main page'!$F$21-(D1681))","v":" "},{"$f":"IF(D1681=\"\",\" \",VLOOKUP(R1681,'Main page'!$E$29:'Main page'!$G$41,3,TRUE))","v":" "}]
[null,null,null,null,null,null,null,null,null,null,null,null," "," "," "," ",{"$f":"IF(I1682=\"\",\"\",IF(I1682<='Main page'!$F$49,\"Core staff\",\"Senior staff\"))","v":""},{"$f":"IF(D1682=\"\",\" \",'Main page'!$F$21-(D1682))","v":" "},{"$f":"IF(D1682=\"\",\" \",VLOOKUP(R1682,'Main page'!$E$29:'Main page'!$G$41,3,TRUE))","v":" "}]
[null,null,null,null,null,null,null,null,null,null,null,null," "," "," "," ",{"$f":"IF(I1683=\"\",\"\",IF(I1683<='Main page'!$F$49,\"Core staff\",\"Senior staff\"))","v":""},{"$f":"IF(D1683=\"\",\" \",'Main page'!$F$21-(D1683))","v":" "},{"$f":"IF(D1683=\"\",\" \",VLOOKUP(R1683,'Main page'!$E$29:'Main page'!$G$41,3,TRUE))","v":" "}]
[null,null,null,null,null,null,null,null,null,null,null,null," "," "," "," ",{"$f":"IF(I1684=\"\",\"\",IF(I1684<='Main page'!$F$49,\"Core staff\",\"Senior staff\"))","v":""},{"$f":"IF(D1684=\"\",\" \",'Main page'!$F$21-(D1684))","v":" "},{"$f":"IF(D1684=\"\",\" \",VLOOKUP(R1684,'Main page'!$E$29:'Main page'!$G$41,3,TRUE))","v":" "}]
[null,null,null,null,null,null,null,null,null,null,null,null," "," "," "," ",{"$f":"IF(I1685=\"\",\"\",IF(I1685<='Main page'!$F$49,\"Core staff\",\"Senior staff\"))","v":""},{"$f":"IF(D1685=\"\",\" \",'Main page'!$F$21-(D1685))","v":" "},{"$f":"IF(D1685=\"\",\" \",VLOOKUP(R1685,'Main page'!$E$29:'Main page'!$G$41,3,TRUE))","v":" "}]
[null,null,null,null,null,null,null,null,null,null,null,null," "," "," "," ",{"$f":"IF(I1686=\"\",\"\",IF(I1686<='Main page'!$F$49,\"Core staff\",\"Senior staff\"))","v":""},{"$f":"IF(D1686=\"\",\" \",'Main page'!$F$21-(D1686))","v":" "},{"$f":"IF(D1686=\"\",\" \",VLOOKUP(R1686,'Main page'!$E$29:'Main page'!$G$41,3,TRUE))","v":" "}]
[null,null,null,null,null,null,null,null,null,null,null,null," "," "," "," ",{"$f":"IF(I1687=\"\",\"\",IF(I1687<='Main page'!$F$49,\"Core staff\",\"Senior staff\"))","v":""},{"$f":"IF(D1687=\"\",\" \",'Main page'!$F$21-(D1687))","v":" "},{"$f":"IF(D1687=\"\",\" \",VLOOKUP(R1687,'Main page'!$E$29:'Main page'!$G$41,3,TRUE))","v":" "}]
[null,null,null,null,null,null,null,null,null,null,null,null," "," "," "," ",{"$f":"IF(I1688=\"\",\"\",IF(I1688<='Main page'!$F$49,\"Core staff\",\"Senior staff\"))","v":""},{"$f":"IF(D1688=\"\",\" \",'Main page'!$F$21-(D1688))","v":" "},{"$f":"IF(D1688=\"\",\" \",VLOOKUP(R1688,'Main page'!$E$29:'Main page'!$G$41,3,TRUE))","v":" "}]
[null,null,null,null,null,null,null,null,null,null,null,null," "," "," "," ",{"$f":"IF(I1689=\"\",\"\",IF(I1689<='Main page'!$F$49,\"Core staff\",\"Senior staff\"))","v":""},{"$f":"IF(D1689=\"\",\" \",'Main page'!$F$21-(D1689))","v":" "},{"$f":"IF(D1689=\"\",\" \",VLOOKUP(R1689,'Main page'!$E$29:'Main page'!$G$41,3,TRUE))","v":" "}]
[null,null,null,null,null,null,null,null,null,null,null,null," "," "," "," ",{"$f":"IF(I1690=\"\",\"\",IF(I1690<='Main page'!$F$49,\"Core staff\",\"Senior staff\"))","v":""},{"$f":"IF(D1690=\"\",\" \",'Main page'!$F$21-(D1690))","v":" "},{"$f":"IF(D1690=\"\",\" \",VLOOKUP(R1690,'Main page'!$E$29:'Main page'!$G$41,3,TRUE))","v":" "}]
[null,null,null,null,null,null,null,null,null,null,null,null," "," "," "," ",{"$f":"IF(I1691=\"\",\"\",IF(I1691<='Main page'!$F$49,\"Core staff\",\"Senior staff\"))","v":""},{"$f":"IF(D1691=\"\",\" \",'Main page'!$F$21-(D1691))","v":" "},{"$f":"IF(D1691=\"\",\" \",VLOOKUP(R1691,'Main page'!$E$29:'Main page'!$G$41,3,TRUE))","v":" "}]
[null,null,null,null,null,null,null,null,null,null,null,null," "," "," "," ",{"$f":"IF(I1692=\"\",\"\",IF(I1692<='Main page'!$F$49,\"Core staff\",\"Senior staff\"))","v":""},{"$f":"IF(D1692=\"\",\" \",'Main page'!$F$21-(D1692))","v":" "},{"$f":"IF(D1692=\"\",\" \",VLOOKUP(R1692,'Main page'!$E$29:'Main page'!$G$41,3,TRUE))","v":" "}]
[null,null,null,null,null,null,null,null,null,null,null,null," "," "," "," ",{"$f":"IF(I1693=\"\",\"\",IF(I1693<='Main page'!$F$49,\"Core staff\",\"Senior staff\"))","v":""},{"$f":"IF(D1693=\"\",\" \",'Main page'!$F$21-(D1693))","v":" "},{"$f":"IF(D1693=\"\",\" \",VLOOKUP(R1693,'Main page'!$E$29:'Main page'!$G$41,3,TRUE))","v":" "}]
[null,null,null,null,null,null,null,null,null,null,null,null," "," "," "," ",{"$f":"IF(I1694=\"\",\"\",IF(I1694<='Main page'!$F$49,\"Core staff\",\"Senior staff\"))","v":""},{"$f":"IF(D1694=\"\",\" \",'Main page'!$F$21-(D1694))","v":" "},{"$f":"IF(D1694=\"\",\" \",VLOOKUP(R1694,'Main page'!$E$29:'Main page'!$G$41,3,TRUE))","v":" "}]
[null,null,null,null,null,null,null,null,null,null,null,null," "," "," "," ",{"$f":"IF(I1695=\"\",\"\",IF(I1695<='Main page'!$F$49,\"Core staff\",\"Senior staff\"))","v":""},{"$f":"IF(D1695=\"\",\" \",'Main page'!$F$21-(D1695))","v":" "},{"$f":"IF(D1695=\"\",\" \",VLOOKUP(R1695,'Main page'!$E$29:'Main page'!$G$41,3,TRUE))","v":" "}]
[null,null,null,null,null,null,null,null,null,null,null,null," "," "," "," ",{"$f":"IF(I1696=\"\",\"\",IF(I1696<='Main page'!$F$49,\"Core staff\",\"Senior staff\"))","v":""},{"$f":"IF(D1696=\"\",\" \",'Main page'!$F$21-(D1696))","v":" "},{"$f":"IF(D1696=\"\",\" \",VLOOKUP(R1696,'Main page'!$E$29:'Main page'!$G$41,3,TRUE))","v":" "}]
[null,null,null,null,null,null,null,null,null,null,null,null," "," "," "," ",{"$f":"IF(I1697=\"\",\"\",IF(I1697<='Main page'!$F$49,\"Core staff\",\"Senior staff\"))","v":""},{"$f":"IF(D1697=\"\",\" \",'Main page'!$F$21-(D1697))","v":" "},{"$f":"IF(D1697=\"\",\" \",VLOOKUP(R1697,'Main page'!$E$29:'Main page'!$G$41,3,TRUE))","v":" "}]
[null,null,null,null,null,null,null,null,null,null,null,null," "," "," "," ",{"$f":"IF(I1698=\"\",\"\",IF(I1698<='Main page'!$F$49,\"Core staff\",\"Senior staff\"))","v":""},{"$f":"IF(D1698=\"\",\" \",'Main page'!$F$21-(D1698))","v":" "},{"$f":"IF(D1698=\"\",\" \",VLOOKUP(R1698,'Main page'!$E$29:'Main page'!$G$41,3,TRUE))","v":" "}]
[null,null,null,null,null,null,null,null,null,null,null,null," "," "," "," ",{"$f":"IF(I1699=\"\",\"\",IF(I1699<='Main page'!$F$49,\"Core staff\",\"Senior staff\"))","v":""},{"$f":"IF(D1699=\"\",\" \",'Main page'!$F$21-(D1699))","v":" "},{"$f":"IF(D1699=\"\",\" \",VLOOKUP(R1699,'Main page'!$E$29:'Main page'!$G$41,3,TRUE))","v":" "}]
[null,null,null,null,null,null,null,null,null,null,null,null," "," "," "," ",{"$f":"IF(I1700=\"\",\"\",IF(I1700<='Main page'!$F$49,\"Core staff\",\"Senior staff\"))","v":""},{"$f":"IF(D1700=\"\",\" \",'Main page'!$F$21-(D1700))","v":" "},{"$f":"IF(D1700=\"\",\" \",VLOOKUP(R1700,'Main page'!$E$29:'Main page'!$G$41,3,TRUE))","v":" "}]
[null,null,null,null,null,null,null,null,null,null,null,null," "," "," "," ",{"$f":"IF(I1701=\"\",\"\",IF(I1701<='Main page'!$F$49,\"Core staff\",\"Senior staff\"))","v":""},{"$f":"IF(D1701=\"\",\" \",'Main page'!$F$21-(D1701))","v":" "},{"$f":"IF(D1701=\"\",\" \",VLOOKUP(R1701,'Main page'!$E$29:'Main page'!$G$41,3,TRUE))","v":" "}]
[null,null,null,null,null,null,null,null,null,null,null,null," "," "," "," ",{"$f":"IF(I1702=\"\",\"\",IF(I1702<='Main page'!$F$49,\"Core staff\",\"Senior staff\"))","v":""},{"$f":"IF(D1702=\"\",\" \",'Main page'!$F$21-(D1702))","v":" "},{"$f":"IF(D1702=\"\",\" \",VLOOKUP(R1702,'Main page'!$E$29:'Main page'!$G$41,3,TRUE))","v":" "}]
[null,null,null,null,null,null,null,null,null,null,null,null," "," "," "," ",{"$f":"IF(I1703=\"\",\"\",IF(I1703<='Main page'!$F$49,\"Core staff\",\"Senior staff\"))","v":""},{"$f":"IF(D1703=\"\",\" \",'Main page'!$F$21-(D1703))","v":" "},{"$f":"IF(D1703=\"\",\" \",VLOOKUP(R1703,'Main page'!$E$29:'Main page'!$G$41,3,TRUE))","v":" "}]
[null,null,null,null,null,null,null,null,null,null,null,null," "," "," "," ",{"$f":"IF(I1704=\"\",\"\",IF(I1704<='Main page'!$F$49,\"Core staff\",\"Senior staff\"))","v":""},{"$f":"IF(D1704=\"\",\" \",'Main page'!$F$21-(D1704))","v":" "},{"$f":"IF(D1704=\"\",\" \",VLOOKUP(R1704,'Main page'!$E$29:'Main page'!$G$41,3,TRUE))","v":" "}]
[null,null,null,null,null,null,null,null,null,null,null,null," "," "," "," ",{"$f":"IF(I1705=\"\",\"\",IF(I1705<='Main page'!$F$49,\"Core staff\",\"Senior staff\"))","v":""},{"$f":"IF(D1705=\"\",\" \",'Main page'!$F$21-(D1705))","v":" "},{"$f":"IF(D1705=\"\",\" \",VLOOKUP(R1705,'Main page'!$E$29:'Main page'!$G$41,3,TRUE))","v":" "}]
[null,null,null,null,null,null,null,null,null,null,null,null," "," "," "," ",{"$f":"IF(I1706=\"\",\"\",IF(I1706<='Main page'!$F$49,\"Core staff\",\"Senior staff\"))","v":""},{"$f":"IF(D1706=\"\",\" \",'Main page'!$F$21-(D1706))","v":" "},{"$f":"IF(D1706=\"\",\" \",VLOOKUP(R1706,'Main page'!$E$29:'Main page'!$G$41,3,TRUE))","v":" "}]
[null,null,null,null,null,null,null,null,null,null,null,null," "," "," "," ",{"$f":"IF(I1707=\"\",\"\",IF(I1707<='Main page'!$F$49,\"Core staff\",\"Senior staff\"))","v":""},{"$f":"IF(D1707=\"\",\" \",'Main page'!$F$21-(D1707))","v":" "},{"$f":"IF(D1707=\"\",\" \",VLOOKUP(R1707,'Main page'!$E$29:'Main page'!$G$41,3,TRUE))","v":" "}]
[null,null,null,null,null,null,null,null,null,null,null,null," "," "," "," ",{"$f":"IF(I1708=\"\",\"\",IF(I1708<='Main page'!$F$49,\"Core staff\",\"Senior staff\"))","v":""},{"$f":"IF(D1708=\"\",\" \",'Main page'!$F$21-(D1708))","v":" "},{"$f":"IF(D1708=\"\",\" \",VLOOKUP(R1708,'Main page'!$E$29:'Main page'!$G$41,3,TRUE))","v":" "}]
[null,null,null,null,null,null,null,null,null,null,null,null," "," "," "," ",{"$f":"IF(I1709=\"\",\"\",IF(I1709<='Main page'!$F$49,\"Core staff\",\"Senior staff\"))","v":""},{"$f":"IF(D1709=\"\",\" \",'Main page'!$F$21-(D1709))","v":" "},{"$f":"IF(D1709=\"\",\" \",VLOOKUP(R1709,'Main page'!$E$29:'Main page'!$G$41,3,TRUE))","v":" "}]
[null,null,null,null,null,null,null,null,null,null,null,null," "," "," "," ",{"$f":"IF(I1710=\"\",\"\",IF(I1710<='Main page'!$F$49,\"Core staff\",\"Senior staff\"))","v":""},{"$f":"IF(D1710=\"\",\" \",'Main page'!$F$21-(D1710))","v":" "},{"$f":"IF(D1710=\"\",\" \",VLOOKUP(R1710,'Main page'!$E$29:'Main page'!$G$41,3,TRUE))","v":" "}]
[null,null,null,null,null,null,null,null,null,null,null,null," "," "," "," ",{"$f":"IF(I1711=\"\",\"\",IF(I1711<='Main page'!$F$49,\"Core staff\",\"Senior staff\"))","v":""},{"$f":"IF(D1711=\"\",\" \",'Main page'!$F$21-(D1711))","v":" "},{"$f":"IF(D1711=\"\",\" \",VLOOKUP(R1711,'Main page'!$E$29:'Main page'!$G$41,3,TRUE))","v":" "}]
[null,null,null,null,null,null,null,null,null,null,null,null," "," "," "," ",{"$f":"IF(I1712=\"\",\"\",IF(I1712<='Main page'!$F$49,\"Core staff\",\"Senior staff\"))","v":""},{"$f":"IF(D1712=\"\",\" \",'Main page'!$F$21-(D1712))","v":" "},{"$f":"IF(D1712=\"\",\" \",VLOOKUP(R1712,'Main page'!$E$29:'Main page'!$G$41,3,TRUE))","v":" "}]
[null,null,null,null,null,null,null,null,null,null,null,null," "," "," "," ",{"$f":"IF(I1713=\"\",\"\",IF(I1713<='Main page'!$F$49,\"Core staff\",\"Senior staff\"))","v":""},{"$f":"IF(D1713=\"\",\" \",'Main page'!$F$21-(D1713))","v":" "},{"$f":"IF(D1713=\"\",\" \",VLOOKUP(R1713,'Main page'!$E$29:'Main page'!$G$41,3,TRUE))","v":" "}]
[null,null,null,null,null,null,null,null,null,null,null,null," "," "," "," ",{"$f":"IF(I1714=\"\",\"\",IF(I1714<='Main page'!$F$49,\"Core staff\",\"Senior staff\"))","v":""},{"$f":"IF(D1714=\"\",\" \",'Main page'!$F$21-(D1714))","v":" "},{"$f":"IF(D1714=\"\",\" \",VLOOKUP(R1714,'Main page'!$E$29:'Main page'!$G$41,3,TRUE))","v":" "}]
[null,null,null,null,null,null,null,null,null,null,null,null," "," "," "," ",{"$f":"IF(I1715=\"\",\"\",IF(I1715<='Main page'!$F$49,\"Core staff\",\"Senior staff\"))","v":""},{"$f":"IF(D1715=\"\",\" \",'Main page'!$F$21-(D1715))","v":" "},{"$f":"IF(D1715=\"\",\" \",VLOOKUP(R1715,'Main page'!$E$29:'Main page'!$G$41,3,TRUE))","v":" "}]
[null,null,null,null,null,null,null,null,null,null,null,null," "," "," "," ",{"$f":"IF(I1716=\"\",\"\",IF(I1716<='Main page'!$F$49,\"Core staff\",\"Senior staff\"))","v":""},{"$f":"IF(D1716=\"\",\" \",'Main page'!$F$21-(D1716))","v":" "},{"$f":"IF(D1716=\"\",\" \",VLOOKUP(R1716,'Main page'!$E$29:'Main page'!$G$41,3,TRUE))","v":" "}]
[null,null,null,null,null,null,null,null,null,null,null,null," "," "," "," ",{"$f":"IF(I1717=\"\",\"\",IF(I1717<='Main page'!$F$49,\"Core staff\",\"Senior staff\"))","v":""},{"$f":"IF(D1717=\"\",\" \",'Main page'!$F$21-(D1717))","v":" "},{"$f":"IF(D1717=\"\",\" \",VLOOKUP(R1717,'Main page'!$E$29:'Main page'!$G$41,3,TRUE))","v":" "}]
[null,null,null,null,null,null,null,null,null,null,null,null," "," "," "," ",{"$f":"IF(I1718=\"\",\"\",IF(I1718<='Main page'!$F$49,\"Core staff\",\"Senior staff\"))","v":""},{"$f":"IF(D1718=\"\",\" \",'Main page'!$F$21-(D1718))","v":" "},{"$f":"IF(D1718=\"\",\" \",VLOOKUP(R1718,'Main page'!$E$29:'Main page'!$G$41,3,TRUE))","v":" "}]
[null,null,null,null,null,null,null,null,null,null,null,null," "," "," "," ",{"$f":"IF(I1719=\"\",\"\",IF(I1719<='Main page'!$F$49,\"Core staff\",\"Senior staff\"))","v":""},{"$f":"IF(D1719=\"\",\" \",'Main page'!$F$21-(D1719))","v":" "},{"$f":"IF(D1719=\"\",\" \",VLOOKUP(R1719,'Main page'!$E$29:'Main page'!$G$41,3,TRUE))","v":" "}]
[null,null,null,null,null,null,null,null,null,null,null,null," "," "," "," ",{"$f":"IF(I1720=\"\",\"\",IF(I1720<='Main page'!$F$49,\"Core staff\",\"Senior staff\"))","v":""},{"$f":"IF(D1720=\"\",\" \",'Main page'!$F$21-(D1720))","v":" "},{"$f":"IF(D1720=\"\",\" \",VLOOKUP(R1720,'Main page'!$E$29:'Main page'!$G$41,3,TRUE))","v":" "}]
[null,null,null,null,null,null,null,null,null,null,null,null," "," "," "," ",{"$f":"IF(I1721=\"\",\"\",IF(I1721<='Main page'!$F$49,\"Core staff\",\"Senior staff\"))","v":""},{"$f":"IF(D1721=\"\",\" \",'Main page'!$F$21-(D1721))","v":" "},{"$f":"IF(D1721=\"\",\" \",VLOOKUP(R1721,'Main page'!$E$29:'Main page'!$G$41,3,TRUE))","v":" "}]
[null,null,null,null,null,null,null,null,null,null,null,null," "," "," "," ",{"$f":"IF(I1722=\"\",\"\",IF(I1722<='Main page'!$F$49,\"Core staff\",\"Senior staff\"))","v":""},{"$f":"IF(D1722=\"\",\" \",'Main page'!$F$21-(D1722))","v":" "},{"$f":"IF(D1722=\"\",\" \",VLOOKUP(R1722,'Main page'!$E$29:'Main page'!$G$41,3,TRUE))","v":" "}]
[null,null,null,null,null,null,null,null,null,null,null,null," "," "," "," ",{"$f":"IF(I1723=\"\",\"\",IF(I1723<='Main page'!$F$49,\"Core staff\",\"Senior staff\"))","v":""},{"$f":"IF(D1723=\"\",\" \",'Main page'!$F$21-(D1723))","v":" "},{"$f":"IF(D1723=\"\",\" \",VLOOKUP(R1723,'Main page'!$E$29:'Main page'!$G$41,3,TRUE))","v":" "}]
[null,null,null,null,null,null,null,null,null,null,null,null," "," "," "," ",{"$f":"IF(I1724=\"\",\"\",IF(I1724<='Main page'!$F$49,\"Core staff\",\"Senior staff\"))","v":""},{"$f":"IF(D1724=\"\",\" \",'Main page'!$F$21-(D1724))","v":" "},{"$f":"IF(D1724=\"\",\" \",VLOOKUP(R1724,'Main page'!$E$29:'Main page'!$G$41,3,TRUE))","v":" "}]
[null,null,null,null,null,null,null,null,null,null,null,null," "," "," "," ",{"$f":"IF(I1725=\"\",\"\",IF(I1725<='Main page'!$F$49,\"Core staff\",\"Senior staff\"))","v":""},{"$f":"IF(D1725=\"\",\" \",'Main page'!$F$21-(D1725))","v":" "},{"$f":"IF(D1725=\"\",\" \",VLOOKUP(R1725,'Main page'!$E$29:'Main page'!$G$41,3,TRUE))","v":" "}]
[null,null,null,null,null,null,null,null,null,null,null,null," "," "," "," ",{"$f":"IF(I1726=\"\",\"\",IF(I1726<='Main page'!$F$49,\"Core staff\",\"Senior staff\"))","v":""},{"$f":"IF(D1726=\"\",\" \",'Main page'!$F$21-(D1726))","v":" "},{"$f":"IF(D1726=\"\",\" \",VLOOKUP(R1726,'Main page'!$E$29:'Main page'!$G$41,3,TRUE))","v":" "}]
[null,null,null,null,null,null,null,null,null,null,null,null," "," "," "," ",{"$f":"IF(I1727=\"\",\"\",IF(I1727<='Main page'!$F$49,\"Core staff\",\"Senior staff\"))","v":""},{"$f":"IF(D1727=\"\",\" \",'Main page'!$F$21-(D1727))","v":" "},{"$f":"IF(D1727=\"\",\" \",VLOOKUP(R1727,'Main page'!$E$29:'Main page'!$G$41,3,TRUE))","v":" "}]
[null,null,null,null,null,null,null,null,null,null,null,null," "," "," "," ",{"$f":"IF(I1728=\"\",\"\",IF(I1728<='Main page'!$F$49,\"Core staff\",\"Senior staff\"))","v":""},{"$f":"IF(D1728=\"\",\" \",'Main page'!$F$21-(D1728))","v":" "},{"$f":"IF(D1728=\"\",\" \",VLOOKUP(R1728,'Main page'!$E$29:'Main page'!$G$41,3,TRUE))","v":" "}]
[null,null,null,null,null,null,null,null,null,null,null,null," "," "," "," ",{"$f":"IF(I1729=\"\",\"\",IF(I1729<='Main page'!$F$49,\"Core staff\",\"Senior staff\"))","v":""},{"$f":"IF(D1729=\"\",\" \",'Main page'!$F$21-(D1729))","v":" "},{"$f":"IF(D1729=\"\",\" \",VLOOKUP(R1729,'Main page'!$E$29:'Main page'!$G$41,3,TRUE))","v":" "}]
[null,null,null,null,null,null,null,null,null,null,null,null," "," "," "," ",{"$f":"IF(I1730=\"\",\"\",IF(I1730<='Main page'!$F$49,\"Core staff\",\"Senior staff\"))","v":""},{"$f":"IF(D1730=\"\",\" \",'Main page'!$F$21-(D1730))","v":" "},{"$f":"IF(D1730=\"\",\" \",VLOOKUP(R1730,'Main page'!$E$29:'Main page'!$G$41,3,TRUE))","v":" "}]
[null,null,null,null,null,null,null,null,null,null,null,null," "," "," "," ",{"$f":"IF(I1731=\"\",\"\",IF(I1731<='Main page'!$F$49,\"Core staff\",\"Senior staff\"))","v":""},{"$f":"IF(D1731=\"\",\" \",'Main page'!$F$21-(D1731))","v":" "},{"$f":"IF(D1731=\"\",\" \",VLOOKUP(R1731,'Main page'!$E$29:'Main page'!$G$41,3,TRUE))","v":" "}]
[null,null,null,null,null,null,null,null,null,null,null,null," "," "," "," ",{"$f":"IF(I1732=\"\",\"\",IF(I1732<='Main page'!$F$49,\"Core staff\",\"Senior staff\"))","v":""},{"$f":"IF(D1732=\"\",\" \",'Main page'!$F$21-(D1732))","v":" "},{"$f":"IF(D1732=\"\",\" \",VLOOKUP(R1732,'Main page'!$E$29:'Main page'!$G$41,3,TRUE))","v":" "}]
[null,null,null,null,null,null,null,null,null,null,null,null," "," "," "," ",{"$f":"IF(I1733=\"\",\"\",IF(I1733<='Main page'!$F$49,\"Core staff\",\"Senior staff\"))","v":""},{"$f":"IF(D1733=\"\",\" \",'Main page'!$F$21-(D1733))","v":" "},{"$f":"IF(D1733=\"\",\" \",VLOOKUP(R1733,'Main page'!$E$29:'Main page'!$G$41,3,TRUE))","v":" "}]
[null,null,null,null,null,null,null,null,null,null,null,null," "," "," "," ",{"$f":"IF(I1734=\"\",\"\",IF(I1734<='Main page'!$F$49,\"Core staff\",\"Senior staff\"))","v":""},{"$f":"IF(D1734=\"\",\" \",'Main page'!$F$21-(D1734))","v":" "},{"$f":"IF(D1734=\"\",\" \",VLOOKUP(R1734,'Main page'!$E$29:'Main page'!$G$41,3,TRUE))","v":" "}]
[null,null,null,null,null,null,null,null,null,null,null,null," "," "," "," ",{"$f":"IF(I1735=\"\",\"\",IF(I1735<='Main page'!$F$49,\"Core staff\",\"Senior staff\"))","v":""},{"$f":"IF(D1735=\"\",\" \",'Main page'!$F$21-(D1735))","v":" "},{"$f":"IF(D1735=\"\",\" \",VLOOKUP(R1735,'Main page'!$E$29:'Main page'!$G$41,3,TRUE))","v":" "}]
[null,null,null,null,null,null,null,null,null,null,null,null," "," "," "," ",{"$f":"IF(I1736=\"\",\"\",IF(I1736<='Main page'!$F$49,\"Core staff\",\"Senior staff\"))","v":""},{"$f":"IF(D1736=\"\",\" \",'Main page'!$F$21-(D1736))","v":" "},{"$f":"IF(D1736=\"\",\" \",VLOOKUP(R1736,'Main page'!$E$29:'Main page'!$G$41,3,TRUE))","v":" "}]
[null,null,null,null,null,null,null,null,null,null,null,null," "," "," "," ",{"$f":"IF(I1737=\"\",\"\",IF(I1737<='Main page'!$F$49,\"Core staff\",\"Senior staff\"))","v":""},{"$f":"IF(D1737=\"\",\" \",'Main page'!$F$21-(D1737))","v":" "},{"$f":"IF(D1737=\"\",\" \",VLOOKUP(R1737,'Main page'!$E$29:'Main page'!$G$41,3,TRUE))","v":" "}]
[null,null,null,null,null,null,null,null,null,null,null,null," "," "," "," ",{"$f":"IF(I1738=\"\",\"\",IF(I1738<='Main page'!$F$49,\"Core staff\",\"Senior staff\"))","v":""},{"$f":"IF(D1738=\"\",\" \",'Main page'!$F$21-(D1738))","v":" "},{"$f":"IF(D1738=\"\",\" \",VLOOKUP(R1738,'Main page'!$E$29:'Main page'!$G$41,3,TRUE))","v":" "}]
[null,null,null,null,null,null,null,null,null,null,null,null," "," "," "," ",{"$f":"IF(I1739=\"\",\"\",IF(I1739<='Main page'!$F$49,\"Core staff\",\"Senior staff\"))","v":""},{"$f":"IF(D1739=\"\",\" \",'Main page'!$F$21-(D1739))","v":" "},{"$f":"IF(D1739=\"\",\" \",VLOOKUP(R1739,'Main page'!$E$29:'Main page'!$G$41,3,TRUE))","v":" "}]
[null,null,null,null,null,null,null,null,null,null,null,null," "," "," "," ",{"$f":"IF(I1740=\"\",\"\",IF(I1740<='Main page'!$F$49,\"Core staff\",\"Senior staff\"))","v":""},{"$f":"IF(D1740=\"\",\" \",'Main page'!$F$21-(D1740))","v":" "},{"$f":"IF(D1740=\"\",\" \",VLOOKUP(R1740,'Main page'!$E$29:'Main page'!$G$41,3,TRUE))","v":" "}]
[null,null,null,null,null,null,null,null,null,null,null,null," "," "," "," ",{"$f":"IF(I1741=\"\",\"\",IF(I1741<='Main page'!$F$49,\"Core staff\",\"Senior staff\"))","v":""},{"$f":"IF(D1741=\"\",\" \",'Main page'!$F$21-(D1741))","v":" "},{"$f":"IF(D1741=\"\",\" \",VLOOKUP(R1741,'Main page'!$E$29:'Main page'!$G$41,3,TRUE))","v":" "}]
[null,null,null,null,null,null,null,null,null,null,null,null,{"$f":"IFERROR(J1742/G1742,\" \")","v":" "},{"$f":"IFERROR((M1742/$U$4)/H1742,\" \")","v":" "},{"$f":"IFERROR((N1742*75)*26.083,\" \")","v":" "},{"$f":"IF(G1742=0,\" \",IF(G1742=1,\"Full time\",\"Part time\"))","v":" "},{"$f":"IF(I1742=\"\",\"\",IF(I1742<='Main page'!$F$49,\"Core staff\",\"Senior staff\"))","v":""},{"$f":"IF(D1742=\"\",\" \",'Main page'!$F$21-(D1742))","v":" "},{"$f":"IF(D1742=\"\",\" \",VLOOKUP(R1742,'Main page'!$E$29:'Main page'!$G$41,3,TRUE))","v":" "}]
[null,null,null,null,null,null,null,null,null,null,null,null," "," "," "," ",{"$f":"IF(I1743=\"\",\"\",IF(I1743<='Main page'!$F$49,\"Core staff\",\"Senior staff\"))","v":""},{"$f":"IF(D1743=\"\",\" \",'Main page'!$F$21-(D1743))","v":" "},{"$f":"IF(D1743=\"\",\" \",VLOOKUP(R1743,'Main page'!$E$29:'Main page'!$G$41,3,TRUE))","v":" "}]
[null,null,null,null,null,null,null,null,null,null,null,null," "," "," "," ",{"$f":"IF(I1744=\"\",\"\",IF(I1744<='Main page'!$F$49,\"Core staff\",\"Senior staff\"))","v":""},{"$f":"IF(D1744=\"\",\" \",'Main page'!$F$21-(D1744))","v":" "},{"$f":"IF(D1744=\"\",\" \",VLOOKUP(R1744,'Main page'!$E$29:'Main page'!$G$41,3,TRUE))","v":" "}]
[null,null,null,null,null,null,null,null,null,null,null,null," "," "," "," ",{"$f":"IF(I1745=\"\",\"\",IF(I1745<='Main page'!$F$49,\"Core staff\",\"Senior staff\"))","v":""},{"$f":"IF(D1745=\"\",\" \",'Main page'!$F$21-(D1745))","v":" "},{"$f":"IF(D1745=\"\",\" \",VLOOKUP(R1745,'Main page'!$E$29:'Main page'!$G$41,3,TRUE))","v":" "}]
[null,null,null,null,null,null,null,null,null,null,null,null," "," "," "," ",{"$f":"IF(I1746=\"\",\"\",IF(I1746<='Main page'!$F$49,\"Core staff\",\"Senior staff\"))","v":""},{"$f":"IF(D1746=\"\",\" \",'Main page'!$F$21-(D1746))","v":" "},{"$f":"IF(D1746=\"\",\" \",VLOOKUP(R1746,'Main page'!$E$29:'Main page'!$G$41,3,TRUE))","v":" "}]
[null,null,null,null,null,null,null,null,null,null,null,null," "," "," "," ",{"$f":"IF(I1747=\"\",\"\",IF(I1747<='Main page'!$F$49,\"Core staff\",\"Senior staff\"))","v":""},{"$f":"IF(D1747=\"\",\" \",'Main page'!$F$21-(D1747))","v":" "},{"$f":"IF(D1747=\"\",\" \",VLOOKUP(R1747,'Main page'!$E$29:'Main page'!$G$41,3,TRUE))","v":" "}]
[null,null,null,null,null,null,null,null,null,null,null,null," "," "," "," ",{"$f":"IF(I1748=\"\",\"\",IF(I1748<='Main page'!$F$49,\"Core staff\",\"Senior staff\"))","v":""},{"$f":"IF(D1748=\"\",\" \",'Main page'!$F$21-(D1748))","v":" "},{"$f":"IF(D1748=\"\",\" \",VLOOKUP(R1748,'Main page'!$E$29:'Main page'!$G$41,3,TRUE))","v":" "}]
[null,null,null,null,null,null,null,null,null,null,null,null," "," "," "," ",{"$f":"IF(I1749=\"\",\"\",IF(I1749<='Main page'!$F$49,\"Core staff\",\"Senior staff\"))","v":""},{"$f":"IF(D1749=\"\",\" \",'Main page'!$F$21-(D1749))","v":" "},{"$f":"IF(D1749=\"\",\" \",VLOOKUP(R1749,'Main page'!$E$29:'Main page'!$G$41,3,TRUE))","v":" "}]
[null,null,null,null,null,null,null,null,null,null,null,null," "," "," "," ",{"$f":"IF(I1750=\"\",\"\",IF(I1750<='Main page'!$F$49,\"Core staff\",\"Senior staff\"))","v":""},{"$f":"IF(D1750=\"\",\" \",'Main page'!$F$21-(D1750))","v":" "},{"$f":"IF(D1750=\"\",\" \",VLOOKUP(R1750,'Main page'!$E$29:'Main page'!$G$41,3,TRUE))","v":" "}]
[null,null,null,null,null,null,null,null,null,null,null,null," "," "," "," ",{"$f":"IF(I1751=\"\",\"\",IF(I1751<='Main page'!$F$49,\"Core staff\",\"Senior staff\"))","v":""},{"$f":"IF(D1751=\"\",\" \",'Main page'!$F$21-(D1751))","v":" "},{"$f":"IF(D1751=\"\",\" \",VLOOKUP(R1751,'Main page'!$E$29:'Main page'!$G$41,3,TRUE))","v":" "}]
[null,null,null,null,null,null,null,null,null,null,null,null," "," "," "," ",{"$f":"IF(I1752=\"\",\"\",IF(I1752<='Main page'!$F$49,\"Core staff\",\"Senior staff\"))","v":""},{"$f":"IF(D1752=\"\",\" \",'Main page'!$F$21-(D1752))","v":" "},{"$f":"IF(D1752=\"\",\" \",VLOOKUP(R1752,'Main page'!$E$29:'Main page'!$G$41,3,TRUE))","v":" "}]
[null,null,null,null,null,null,null,null,null,null,null,null," "," "," "," ",{"$f":"IF(I1753=\"\",\"\",IF(I1753<='Main page'!$F$49,\"Core staff\",\"Senior staff\"))","v":""},{"$f":"IF(D1753=\"\",\" \",'Main page'!$F$21-(D1753))","v":" "},{"$f":"IF(D1753=\"\",\" \",VLOOKUP(R1753,'Main page'!$E$29:'Main page'!$G$41,3,TRUE))","v":" "}]
[null,null,null,null,null,null,null,null,null,null,null,null," "," "," "," ",{"$f":"IF(I1754=\"\",\"\",IF(I1754<='Main page'!$F$49,\"Core staff\",\"Senior staff\"))","v":""},{"$f":"IF(D1754=\"\",\" \",'Main page'!$F$21-(D1754))","v":" "},{"$f":"IF(D1754=\"\",\" \",VLOOKUP(R1754,'Main page'!$E$29:'Main page'!$G$41,3,TRUE))","v":" "}]
[null,null,null,null,null,null,null,null,null,null,null,null," "," "," "," ",{"$f":"IF(I1755=\"\",\"\",IF(I1755<='Main page'!$F$49,\"Core staff\",\"Senior staff\"))","v":""},{"$f":"IF(D1755=\"\",\" \",'Main page'!$F$21-(D1755))","v":" "},{"$f":"IF(D1755=\"\",\" \",VLOOKUP(R1755,'Main page'!$E$29:'Main page'!$G$41,3,TRUE))","v":" "}]
[null,null,null,null,null,null,null,null,null,null,null,null," "," "," "," ",{"$f":"IF(I1756=\"\",\"\",IF(I1756<='Main page'!$F$49,\"Core staff\",\"Senior staff\"))","v":""},{"$f":"IF(D1756=\"\",\" \",'Main page'!$F$21-(D1756))","v":" "},{"$f":"IF(D1756=\"\",\" \",VLOOKUP(R1756,'Main page'!$E$29:'Main page'!$G$41,3,TRUE))","v":" "}]
[null,null,null,null,null,null,null,null,null,null,null,null," "," "," "," ",{"$f":"IF(I1757=\"\",\"\",IF(I1757<='Main page'!$F$49,\"Core staff\",\"Senior staff\"))","v":""},{"$f":"IF(D1757=\"\",\" \",'Main page'!$F$21-(D1757))","v":" "},{"$f":"IF(D1757=\"\",\" \",VLOOKUP(R1757,'Main page'!$E$29:'Main page'!$G$41,3,TRUE))","v":" "}]
[null,null,null,null,null,null,null,null,null,null,null,null," "," "," "," ",{"$f":"IF(I1758=\"\",\"\",IF(I1758<='Main page'!$F$49,\"Core staff\",\"Senior staff\"))","v":""},{"$f":"IF(D1758=\"\",\" \",'Main page'!$F$21-(D1758))","v":" "},{"$f":"IF(D1758=\"\",\" \",VLOOKUP(R1758,'Main page'!$E$29:'Main page'!$G$41,3,TRUE))","v":" "}]
[null,null,null,null,null,null,null,null,null,null,null,null," "," "," "," ",{"$f":"IF(I1759=\"\",\"\",IF(I1759<='Main page'!$F$49,\"Core staff\",\"Senior staff\"))","v":""},{"$f":"IF(D1759=\"\",\" \",'Main page'!$F$21-(D1759))","v":" "},{"$f":"IF(D1759=\"\",\" \",VLOOKUP(R1759,'Main page'!$E$29:'Main page'!$G$41,3,TRUE))","v":" "}]
[null,null,null,null,null,null,null,null,null,null,null,null," "," "," "," ",{"$f":"IF(I1760=\"\",\"\",IF(I1760<='Main page'!$F$49,\"Core staff\",\"Senior staff\"))","v":""},{"$f":"IF(D1760=\"\",\" \",'Main page'!$F$21-(D1760))","v":" "},{"$f":"IF(D1760=\"\",\" \",VLOOKUP(R1760,'Main page'!$E$29:'Main page'!$G$41,3,TRUE))","v":" "}]
[null,null,null,null,null,null,null,null,null,null,null,null," "," "," "," ",{"$f":"IF(I1761=\"\",\"\",IF(I1761<='Main page'!$F$49,\"Core staff\",\"Senior staff\"))","v":""},{"$f":"IF(D1761=\"\",\" \",'Main page'!$F$21-(D1761))","v":" "},{"$f":"IF(D1761=\"\",\" \",VLOOKUP(R1761,'Main page'!$E$29:'Main page'!$G$41,3,TRUE))","v":" "}]
[null,null,null,null,null,null,null,null,null,null,null,null," "," "," "," ",{"$f":"IF(I1762=\"\",\"\",IF(I1762<='Main page'!$F$49,\"Core staff\",\"Senior staff\"))","v":""},{"$f":"IF(D1762=\"\",\" \",'Main page'!$F$21-(D1762))","v":" "},{"$f":"IF(D1762=\"\",\" \",VLOOKUP(R1762,'Main page'!$E$29:'Main page'!$G$41,3,TRUE))","v":" "}]
[null,null,null,null,null,null,null,null,null,null,null,null," "," "," "," ",{"$f":"IF(I1763=\"\",\"\",IF(I1763<='Main page'!$F$49,\"Core staff\",\"Senior staff\"))","v":""},{"$f":"IF(D1763=\"\",\" \",'Main page'!$F$21-(D1763))","v":" "},{"$f":"IF(D1763=\"\",\" \",VLOOKUP(R1763,'Main page'!$E$29:'Main page'!$G$41,3,TRUE))","v":" "}]
[null,null,null,null,null,null,null,null,null,null,null,null," "," "," "," ",{"$f":"IF(I1764=\"\",\"\",IF(I1764<='Main page'!$F$49,\"Core staff\",\"Senior staff\"))","v":""},{"$f":"IF(D1764=\"\",\" \",'Main page'!$F$21-(D1764))","v":" "},{"$f":"IF(D1764=\"\",\" \",VLOOKUP(R1764,'Main page'!$E$29:'Main page'!$G$41,3,TRUE))","v":" "}]
[null,null,null,null,null,null,null,null,null,null,null,null," "," "," "," ",{"$f":"IF(I1765=\"\",\"\",IF(I1765<='Main page'!$F$49,\"Core staff\",\"Senior staff\"))","v":""},{"$f":"IF(D1765=\"\",\" \",'Main page'!$F$21-(D1765))","v":" "},{"$f":"IF(D1765=\"\",\" \",VLOOKUP(R1765,'Main page'!$E$29:'Main page'!$G$41,3,TRUE))","v":" "}]
[null,null,null,null,null,null,null,null,null,null,null,null," "," "," "," ",{"$f":"IF(I1766=\"\",\"\",IF(I1766<='Main page'!$F$49,\"Core staff\",\"Senior staff\"))","v":""},{"$f":"IF(D1766=\"\",\" \",'Main page'!$F$21-(D1766))","v":" "},{"$f":"IF(D1766=\"\",\" \",VLOOKUP(R1766,'Main page'!$E$29:'Main page'!$G$41,3,TRUE))","v":" "}]
[null,null,null,null,null,null,null,null,null,null,null,null," "," "," "," ",{"$f":"IF(I1767=\"\",\"\",IF(I1767<='Main page'!$F$49,\"Core staff\",\"Senior staff\"))","v":""},{"$f":"IF(D1767=\"\",\" \",'Main page'!$F$21-(D1767))","v":" "},{"$f":"IF(D1767=\"\",\" \",VLOOKUP(R1767,'Main page'!$E$29:'Main page'!$G$41,3,TRUE))","v":" "}]
[null,null,null,null,null,null,null,null,null,null,null,null," "," "," "," ",{"$f":"IF(I1768=\"\",\"\",IF(I1768<='Main page'!$F$49,\"Core staff\",\"Senior staff\"))","v":""},{"$f":"IF(D1768=\"\",\" \",'Main page'!$F$21-(D1768))","v":" "},{"$f":"IF(D1768=\"\",\" \",VLOOKUP(R1768,'Main page'!$E$29:'Main page'!$G$41,3,TRUE))","v":" "}]
[null,null,null,null,null,null,null,null,null,null,null,null," "," "," "," ",{"$f":"IF(I1769=\"\",\"\",IF(I1769<='Main page'!$F$49,\"Core staff\",\"Senior staff\"))","v":""},{"$f":"IF(D1769=\"\",\" \",'Main page'!$F$21-(D1769))","v":" "},{"$f":"IF(D1769=\"\",\" \",VLOOKUP(R1769,'Main page'!$E$29:'Main page'!$G$41,3,TRUE))","v":" "}]
[null,null,null,null,null,null,null,null,null,null,null,null," "," "," "," ",{"$f":"IF(I1770=\"\",\"\",IF(I1770<='Main page'!$F$49,\"Core staff\",\"Senior staff\"))","v":""},{"$f":"IF(D1770=\"\",\" \",'Main page'!$F$21-(D1770))","v":" "},{"$f":"IF(D1770=\"\",\" \",VLOOKUP(R1770,'Main page'!$E$29:'Main page'!$G$41,3,TRUE))","v":" "}]
[null,null,null,null,null,null,null,null,null,null,null,null," "," "," "," ",{"$f":"IF(I1771=\"\",\"\",IF(I1771<='Main page'!$F$49,\"Core staff\",\"Senior staff\"))","v":""},{"$f":"IF(D1771=\"\",\" \",'Main page'!$F$21-(D1771))","v":" "},{"$f":"IF(D1771=\"\",\" \",VLOOKUP(R1771,'Main page'!$E$29:'Main page'!$G$41,3,TRUE))","v":" "}]
[null,null,null,null,null,null,null,null,null,null,null,null," "," "," "," ",{"$f":"IF(I1772=\"\",\"\",IF(I1772<='Main page'!$F$49,\"Core staff\",\"Senior staff\"))","v":""},{"$f":"IF(D1772=\"\",\" \",'Main page'!$F$21-(D1772))","v":" "},{"$f":"IF(D1772=\"\",\" \",VLOOKUP(R1772,'Main page'!$E$29:'Main page'!$G$41,3,TRUE))","v":" "}]
[null,null,null,null,null,null,null,null,null,null,null,null," "," "," "," ",{"$f":"IF(I1773=\"\",\"\",IF(I1773<='Main page'!$F$49,\"Core staff\",\"Senior staff\"))","v":""},{"$f":"IF(D1773=\"\",\" \",'Main page'!$F$21-(D1773))","v":" "},{"$f":"IF(D1773=\"\",\" \",VLOOKUP(R1773,'Main page'!$E$29:'Main page'!$G$41,3,TRUE))","v":" "}]
[null,null,null,null,null,null,null,null,null,null,null,null," "," "," "," ",{"$f":"IF(I1774=\"\",\"\",IF(I1774<='Main page'!$F$49,\"Core staff\",\"Senior staff\"))","v":""},{"$f":"IF(D1774=\"\",\" \",'Main page'!$F$21-(D1774))","v":" "},{"$f":"IF(D1774=\"\",\" \",VLOOKUP(R1774,'Main page'!$E$29:'Main page'!$G$41,3,TRUE))","v":" "}]
[null,null,null,null,null,null,null,null,null,null,null,null," "," "," "," ",{"$f":"IF(I1775=\"\",\"\",IF(I1775<='Main page'!$F$49,\"Core staff\",\"Senior staff\"))","v":""},{"$f":"IF(D1775=\"\",\" \",'Main page'!$F$21-(D1775))","v":" "},{"$f":"IF(D1775=\"\",\" \",VLOOKUP(R1775,'Main page'!$E$29:'Main page'!$G$41,3,TRUE))","v":" "}]
[null,null,null,null,null,null,null,null,null,null,null,null," "," "," "," ",{"$f":"IF(I1776=\"\",\"\",IF(I1776<='Main page'!$F$49,\"Core staff\",\"Senior staff\"))","v":""},{"$f":"IF(D1776=\"\",\" \",'Main page'!$F$21-(D1776))","v":" "},{"$f":"IF(D1776=\"\",\" \",VLOOKUP(R1776,'Main page'!$E$29:'Main page'!$G$41,3,TRUE))","v":" "}]
[null,null,null,null,null,null,null,null,null,null,null,null," "," "," "," ",{"$f":"IF(I1777=\"\",\"\",IF(I1777<='Main page'!$F$49,\"Core staff\",\"Senior staff\"))","v":""},{"$f":"IF(D1777=\"\",\" \",'Main page'!$F$21-(D1777))","v":" "},{"$f":"IF(D1777=\"\",\" \",VLOOKUP(R1777,'Main page'!$E$29:'Main page'!$G$41,3,TRUE))","v":" "}]
[null,null,null,null,null,null,null,null,null,null,null,null," "," "," "," ",{"$f":"IF(I1778=\"\",\"\",IF(I1778<='Main page'!$F$49,\"Core staff\",\"Senior staff\"))","v":""},{"$f":"IF(D1778=\"\",\" \",'Main page'!$F$21-(D1778))","v":" "},{"$f":"IF(D1778=\"\",\" \",VLOOKUP(R1778,'Main page'!$E$29:'Main page'!$G$41,3,TRUE))","v":" "}]
[null,null,null,null,null,null,null,null,null,null,null,null," "," "," "," ",{"$f":"IF(I1779=\"\",\"\",IF(I1779<='Main page'!$F$49,\"Core staff\",\"Senior staff\"))","v":""},{"$f":"IF(D1779=\"\",\" \",'Main page'!$F$21-(D1779))","v":" "},{"$f":"IF(D1779=\"\",\" \",VLOOKUP(R1779,'Main page'!$E$29:'Main page'!$G$41,3,TRUE))","v":" "}]
[null,null,null,null,null,null,null,null,null,null,null,null," "," "," "," ",{"$f":"IF(I1780=\"\",\"\",IF(I1780<='Main page'!$F$49,\"Core staff\",\"Senior staff\"))","v":""},{"$f":"IF(D1780=\"\",\" \",'Main page'!$F$21-(D1780))","v":" "},{"$f":"IF(D1780=\"\",\" \",VLOOKUP(R1780,'Main page'!$E$29:'Main page'!$G$41,3,TRUE))","v":" "}]
[null,null,null,null,null,null,null,null,null,null,null,null," "," "," "," ",{"$f":"IF(I1781=\"\",\"\",IF(I1781<='Main page'!$F$49,\"Core staff\",\"Senior staff\"))","v":""},{"$f":"IF(D1781=\"\",\" \",'Main page'!$F$21-(D1781))","v":" "},{"$f":"IF(D1781=\"\",\" \",VLOOKUP(R1781,'Main page'!$E$29:'Main page'!$G$41,3,TRUE))","v":" "}]
[null,null,null,null,null,null,null,null,null,null,null,null," "," "," "," ",{"$f":"IF(I1782=\"\",\"\",IF(I1782<='Main page'!$F$49,\"Core staff\",\"Senior staff\"))","v":""},{"$f":"IF(D1782=\"\",\" \",'Main page'!$F$21-(D1782))","v":" "},{"$f":"IF(D1782=\"\",\" \",VLOOKUP(R1782,'Main page'!$E$29:'Main page'!$G$41,3,TRUE))","v":" "}]
[null,null,null,null,null,null,null,null,null,null,null,null," "," "," "," ",{"$f":"IF(I1783=\"\",\"\",IF(I1783<='Main page'!$F$49,\"Core staff\",\"Senior staff\"))","v":""},{"$f":"IF(D1783=\"\",\" \",'Main page'!$F$21-(D1783))","v":" "},{"$f":"IF(D1783=\"\",\" \",VLOOKUP(R1783,'Main page'!$E$29:'Main page'!$G$41,3,TRUE))","v":" "}]
[null,null,null,null,null,null,null,null,null,null,null,null," "," "," "," ",{"$f":"IF(I1784=\"\",\"\",IF(I1784<='Main page'!$F$49,\"Core staff\",\"Senior staff\"))","v":""},{"$f":"IF(D1784=\"\",\" \",'Main page'!$F$21-(D1784))","v":" "},{"$f":"IF(D1784=\"\",\" \",VLOOKUP(R1784,'Main page'!$E$29:'Main page'!$G$41,3,TRUE))","v":" "}]
[null,null,null,null,null,null,null,null,null,null,null,null," "," "," "," ",{"$f":"IF(I1785=\"\",\"\",IF(I1785<='Main page'!$F$49,\"Core staff\",\"Senior staff\"))","v":""},{"$f":"IF(D1785=\"\",\" \",'Main page'!$F$21-(D1785))","v":" "},{"$f":"IF(D1785=\"\",\" \",VLOOKUP(R1785,'Main page'!$E$29:'Main page'!$G$41,3,TRUE))","v":" "}]
[null,null,null,null,null,null,null,null,null,null,null,null," "," "," "," ",{"$f":"IF(I1786=\"\",\"\",IF(I1786<='Main page'!$F$49,\"Core staff\",\"Senior staff\"))","v":""},{"$f":"IF(D1786=\"\",\" \",'Main page'!$F$21-(D1786))","v":" "},{"$f":"IF(D1786=\"\",\" \",VLOOKUP(R1786,'Main page'!$E$29:'Main page'!$G$41,3,TRUE))","v":" "}]
[null,null,null,null,null,null,null,null,null,null,null,null," "," "," "," ",{"$f":"IF(I1787=\"\",\"\",IF(I1787<='Main page'!$F$49,\"Core staff\",\"Senior staff\"))","v":""},{"$f":"IF(D1787=\"\",\" \",'Main page'!$F$21-(D1787))","v":" "},{"$f":"IF(D1787=\"\",\" \",VLOOKUP(R1787,'Main page'!$E$29:'Main page'!$G$41,3,TRUE))","v":" "}]
[null,null,null,null,null,null,null,null,null,null,null,null," "," "," "," ",{"$f":"IF(I1788=\"\",\"\",IF(I1788<='Main page'!$F$49,\"Core staff\",\"Senior staff\"))","v":""},{"$f":"IF(D1788=\"\",\" \",'Main page'!$F$21-(D1788))","v":" "},{"$f":"IF(D1788=\"\",\" \",VLOOKUP(R1788,'Main page'!$E$29:'Main page'!$G$41,3,TRUE))","v":" "}]
[null,null,null,null,null,null,null,null,null,null,null,null," "," "," "," ",{"$f":"IF(I1789=\"\",\"\",IF(I1789<='Main page'!$F$49,\"Core staff\",\"Senior staff\"))","v":""},{"$f":"IF(D1789=\"\",\" \",'Main page'!$F$21-(D1789))","v":" "},{"$f":"IF(D1789=\"\",\" \",VLOOKUP(R1789,'Main page'!$E$29:'Main page'!$G$41,3,TRUE))","v":" "}]
[null,null,null,null,null,null,null,null,null,null,null,null," "," "," "," ",{"$f":"IF(I1790=\"\",\"\",IF(I1790<='Main page'!$F$49,\"Core staff\",\"Senior staff\"))","v":""},{"$f":"IF(D1790=\"\",\" \",'Main page'!$F$21-(D1790))","v":" "},{"$f":"IF(D1790=\"\",\" \",VLOOKUP(R1790,'Main page'!$E$29:'Main page'!$G$41,3,TRUE))","v":" "}]
[null,null,null,null,null,null,null,null,null,null,null,null," "," "," "," ",{"$f":"IF(I1791=\"\",\"\",IF(I1791<='Main page'!$F$49,\"Core staff\",\"Senior staff\"))","v":""},{"$f":"IF(D1791=\"\",\" \",'Main page'!$F$21-(D1791))","v":" "},{"$f":"IF(D1791=\"\",\" \",VLOOKUP(R1791,'Main page'!$E$29:'Main page'!$G$41,3,TRUE))","v":" "}]
[null,null,null,null,null,null,null,null,null,null,null,null," "," "," "," ",{"$f":"IF(I1792=\"\",\"\",IF(I1792<='Main page'!$F$49,\"Core staff\",\"Senior staff\"))","v":""},{"$f":"IF(D1792=\"\",\" \",'Main page'!$F$21-(D1792))","v":" "},{"$f":"IF(D1792=\"\",\" \",VLOOKUP(R1792,'Main page'!$E$29:'Main page'!$G$41,3,TRUE))","v":" "}]
[null,null,null,null,null,null,null,null,null,null,null,null," "," "," "," ",{"$f":"IF(I1793=\"\",\"\",IF(I1793<='Main page'!$F$49,\"Core staff\",\"Senior staff\"))","v":""},{"$f":"IF(D1793=\"\",\" \",'Main page'!$F$21-(D1793))","v":" "},{"$f":"IF(D1793=\"\",\" \",VLOOKUP(R1793,'Main page'!$E$29:'Main page'!$G$41,3,TRUE))","v":" "}]
[null,null,null,null,null,null,null,null,null,null,null,null," "," "," "," ",{"$f":"IF(I1794=\"\",\"\",IF(I1794<='Main page'!$F$49,\"Core staff\",\"Senior staff\"))","v":""},{"$f":"IF(D1794=\"\",\" \",'Main page'!$F$21-(D1794))","v":" "},{"$f":"IF(D1794=\"\",\" \",VLOOKUP(R1794,'Main page'!$E$29:'Main page'!$G$41,3,TRUE))","v":" "}]
[null,null,null,null,null,null,null,null,null,null,null,null," "," "," "," ",{"$f":"IF(I1795=\"\",\"\",IF(I1795<='Main page'!$F$49,\"Core staff\",\"Senior staff\"))","v":""},{"$f":"IF(D1795=\"\",\" \",'Main page'!$F$21-(D1795))","v":" "},{"$f":"IF(D1795=\"\",\" \",VLOOKUP(R1795,'Main page'!$E$29:'Main page'!$G$41,3,TRUE))","v":" "}]
[null,null,null,null,null,null,null,null,null,null,null,null," "," "," "," ",{"$f":"IF(I1796=\"\",\"\",IF(I1796<='Main page'!$F$49,\"Core staff\",\"Senior staff\"))","v":""},{"$f":"IF(D1796=\"\",\" \",'Main page'!$F$21-(D1796))","v":" "},{"$f":"IF(D1796=\"\",\" \",VLOOKUP(R1796,'Main page'!$E$29:'Main page'!$G$41,3,TRUE))","v":" "}]
[null,null,null,null,null,null,null,null,null,null,null,null," "," "," "," ",{"$f":"IF(I1797=\"\",\"\",IF(I1797<='Main page'!$F$49,\"Core staff\",\"Senior staff\"))","v":""},{"$f":"IF(D1797=\"\",\" \",'Main page'!$F$21-(D1797))","v":" "},{"$f":"IF(D1797=\"\",\" \",VLOOKUP(R1797,'Main page'!$E$29:'Main page'!$G$41,3,TRUE))","v":" "}]
[null,null,null,null,null,null,null,null,null,null,null,null," "," "," "," ",{"$f":"IF(I1798=\"\",\"\",IF(I1798<='Main page'!$F$49,\"Core staff\",\"Senior staff\"))","v":""},{"$f":"IF(D1798=\"\",\" \",'Main page'!$F$21-(D1798))","v":" "},{"$f":"IF(D1798=\"\",\" \",VLOOKUP(R1798,'Main page'!$E$29:'Main page'!$G$41,3,TRUE))","v":" "}]
[null,null,null,null,null,null,null,null,null,null,null,null," "," "," "," ",{"$f":"IF(I1799=\"\",\"\",IF(I1799<='Main page'!$F$49,\"Core staff\",\"Senior staff\"))","v":""},{"$f":"IF(D1799=\"\",\" \",'Main page'!$F$21-(D1799))","v":" "},{"$f":"IF(D1799=\"\",\" \",VLOOKUP(R1799,'Main page'!$E$29:'Main page'!$G$41,3,TRUE))","v":" "}]
[null,null,null,null,null,null,null,null,null,null,null,null," "," "," "," ",{"$f":"IF(I1800=\"\",\"\",IF(I1800<='Main page'!$F$49,\"Core staff\",\"Senior staff\"))","v":""},{"$f":"IF(D1800=\"\",\" \",'Main page'!$F$21-(D1800))","v":" "},{"$f":"IF(D1800=\"\",\" \",VLOOKUP(R1800,'Main page'!$E$29:'Main page'!$G$41,3,TRUE))","v":" "}]
[null,null,null,null,null,null,null,null,null,null,null,null," "," "," "," ",{"$f":"IF(I1801=\"\",\"\",IF(I1801<='Main page'!$F$49,\"Core staff\",\"Senior staff\"))","v":""},{"$f":"IF(D1801=\"\",\" \",'Main page'!$F$21-(D1801))","v":" "},{"$f":"IF(D1801=\"\",\" \",VLOOKUP(R1801,'Main page'!$E$29:'Main page'!$G$41,3,TRUE))","v":" "}]
[null,null,null,null,null,null,null,null,null,null,null,null," "," "," "," ",{"$f":"IF(I1802=\"\",\"\",IF(I1802<='Main page'!$F$49,\"Core staff\",\"Senior staff\"))","v":""},{"$f":"IF(D1802=\"\",\" \",'Main page'!$F$21-(D1802))","v":" "},{"$f":"IF(D1802=\"\",\" \",VLOOKUP(R1802,'Main page'!$E$29:'Main page'!$G$41,3,TRUE))","v":" "}]
[null,null,null,null,null,null,null,null,null,null,null,null," "," "," "," ",{"$f":"IF(I1803=\"\",\"\",IF(I1803<='Main page'!$F$49,\"Core staff\",\"Senior staff\"))","v":""},{"$f":"IF(D1803=\"\",\" \",'Main page'!$F$21-(D1803))","v":" "},{"$f":"IF(D1803=\"\",\" \",VLOOKUP(R1803,'Main page'!$E$29:'Main page'!$G$41,3,TRUE))","v":" "}]
[null,null,null,null,null,null,null,null,null,null,null,null," "," "," "," ",{"$f":"IF(I1804=\"\",\"\",IF(I1804<='Main page'!$F$49,\"Core staff\",\"Senior staff\"))","v":""},{"$f":"IF(D1804=\"\",\" \",'Main page'!$F$21-(D1804))","v":" "},{"$f":"IF(D1804=\"\",\" \",VLOOKUP(R1804,'Main page'!$E$29:'Main page'!$G$41,3,TRUE))","v":" "}]
[null,null,null,null,null,null,null,null,null,null,null,null," "," "," "," ",{"$f":"IF(I1805=\"\",\"\",IF(I1805<='Main page'!$F$49,\"Core staff\",\"Senior staff\"))","v":""},{"$f":"IF(D1805=\"\",\" \",'Main page'!$F$21-(D1805))","v":" "},{"$f":"IF(D1805=\"\",\" \",VLOOKUP(R1805,'Main page'!$E$29:'Main page'!$G$41,3,TRUE))","v":" "}]
[null,null,null,null,null,null,null,null,null,null,null,null,{"$f":"IFERROR(J1806/G1806,\" \")","v":" "},{"$f":"IFERROR((M1806/$U$4)/H1806,\" \")","v":" "},{"$f":"IFERROR((N1806*75)*26.083,\" \")","v":" "},{"$f":"IF(G1806=0,\" \",IF(G1806=1,\"Full time\",\"Part time\"))","v":" "},{"$f":"IF(I1806=\"\",\"\",IF(I1806<='Main page'!$F$49,\"Core staff\",\"Senior staff\"))","v":""},{"$f":"IF(D1806=\"\",\" \",'Main page'!$F$21-(D1806))","v":" "},{"$f":"IF(D1806=\"\",\" \",VLOOKUP(R1806,'Main page'!$E$29:'Main page'!$G$41,3,TRUE))","v":" "}]
[null,null,null,null,null,null,null,null,null,null,null,null," "," "," "," ",{"$f":"IF(I1807=\"\",\"\",IF(I1807<='Main page'!$F$49,\"Core staff\",\"Senior staff\"))","v":""},{"$f":"IF(D1807=\"\",\" \",'Main page'!$F$21-(D1807))","v":" "},{"$f":"IF(D1807=\"\",\" \",VLOOKUP(R1807,'Main page'!$E$29:'Main page'!$G$41,3,TRUE))","v":" "}]
[null,null,null,null,null,null,null,null,null,null,null,null," "," "," "," ",{"$f":"IF(I1808=\"\",\"\",IF(I1808<='Main page'!$F$49,\"Core staff\",\"Senior staff\"))","v":""},{"$f":"IF(D1808=\"\",\" \",'Main page'!$F$21-(D1808))","v":" "},{"$f":"IF(D1808=\"\",\" \",VLOOKUP(R1808,'Main page'!$E$29:'Main page'!$G$41,3,TRUE))","v":" "}]
[null,null,null,null,null,null,null,null,null,null,null,null," "," "," "," ",{"$f":"IF(I1809=\"\",\"\",IF(I1809<='Main page'!$F$49,\"Core staff\",\"Senior staff\"))","v":""},{"$f":"IF(D1809=\"\",\" \",'Main page'!$F$21-(D1809))","v":" "},{"$f":"IF(D1809=\"\",\" \",VLOOKUP(R1809,'Main page'!$E$29:'Main page'!$G$41,3,TRUE))","v":" "}]
[null,null,null,null,null,null,null,null,null,null,null,null," "," "," "," ",{"$f":"IF(I1810=\"\",\"\",IF(I1810<='Main page'!$F$49,\"Core staff\",\"Senior staff\"))","v":""},{"$f":"IF(D1810=\"\",\" \",'Main page'!$F$21-(D1810))","v":" "},{"$f":"IF(D1810=\"\",\" \",VLOOKUP(R1810,'Main page'!$E$29:'Main page'!$G$41,3,TRUE))","v":" "}]
[null,null,null,null,null,null,null,null,null,null,null,null," "," "," "," ",{"$f":"IF(I1811=\"\",\"\",IF(I1811<='Main page'!$F$49,\"Core staff\",\"Senior staff\"))","v":""},{"$f":"IF(D1811=\"\",\" \",'Main page'!$F$21-(D1811))","v":" "},{"$f":"IF(D1811=\"\",\" \",VLOOKUP(R1811,'Main page'!$E$29:'Main page'!$G$41,3,TRUE))","v":" "}]
[null,null,null,null,null,null,null,null,null,null,null,null," "," "," "," ",{"$f":"IF(I1812=\"\",\"\",IF(I1812<='Main page'!$F$49,\"Core staff\",\"Senior staff\"))","v":""},{"$f":"IF(D1812=\"\",\" \",'Main page'!$F$21-(D1812))","v":" "},{"$f":"IF(D1812=\"\",\" \",VLOOKUP(R1812,'Main page'!$E$29:'Main page'!$G$41,3,TRUE))","v":" "}]
[null,null,null,null,null,null,null,null,null,null,null,null," "," "," "," ",{"$f":"IF(I1813=\"\",\"\",IF(I1813<='Main page'!$F$49,\"Core staff\",\"Senior staff\"))","v":""},{"$f":"IF(D1813=\"\",\" \",'Main page'!$F$21-(D1813))","v":" "},{"$f":"IF(D1813=\"\",\" \",VLOOKUP(R1813,'Main page'!$E$29:'Main page'!$G$41,3,TRUE))","v":" "}]
[null,null,null,null,null,null,null,null,null,null,null,null," "," "," "," ",{"$f":"IF(I1814=\"\",\"\",IF(I1814<='Main page'!$F$49,\"Core staff\",\"Senior staff\"))","v":""},{"$f":"IF(D1814=\"\",\" \",'Main page'!$F$21-(D1814))","v":" "},{"$f":"IF(D1814=\"\",\" \",VLOOKUP(R1814,'Main page'!$E$29:'Main page'!$G$41,3,TRUE))","v":" "}]
[null,null,null,null,null,null,null,null,null,null,null,null," "," "," "," ",{"$f":"IF(I1815=\"\",\"\",IF(I1815<='Main page'!$F$49,\"Core staff\",\"Senior staff\"))","v":""},{"$f":"IF(D1815=\"\",\" \",'Main page'!$F$21-(D1815))","v":" "},{"$f":"IF(D1815=\"\",\" \",VLOOKUP(R1815,'Main page'!$E$29:'Main page'!$G$41,3,TRUE))","v":" "}]
[null,null,null,null,null,null,null,null,null,null,null,null," "," "," "," ",{"$f":"IF(I1816=\"\",\"\",IF(I1816<='Main page'!$F$49,\"Core staff\",\"Senior staff\"))","v":""},{"$f":"IF(D1816=\"\",\" \",'Main page'!$F$21-(D1816))","v":" "},{"$f":"IF(D1816=\"\",\" \",VLOOKUP(R1816,'Main page'!$E$29:'Main page'!$G$41,3,TRUE))","v":" "}]
[null,null,null,null,null,null,null,null,null,null,null,null," "," "," "," ",{"$f":"IF(I1817=\"\",\"\",IF(I1817<='Main page'!$F$49,\"Core staff\",\"Senior staff\"))","v":""},{"$f":"IF(D1817=\"\",\" \",'Main page'!$F$21-(D1817))","v":" "},{"$f":"IF(D1817=\"\",\" \",VLOOKUP(R1817,'Main page'!$E$29:'Main page'!$G$41,3,TRUE))","v":" "}]
[null,null,null,null,null,null,null,null,null,null,null,null," "," "," "," ",{"$f":"IF(I1818=\"\",\"\",IF(I1818<='Main page'!$F$49,\"Core staff\",\"Senior staff\"))","v":""},{"$f":"IF(D1818=\"\",\" \",'Main page'!$F$21-(D1818))","v":" "},{"$f":"IF(D1818=\"\",\" \",VLOOKUP(R1818,'Main page'!$E$29:'Main page'!$G$41,3,TRUE))","v":" "}]
[null,null,null,null,null,null,null,null,null,null,null,null," "," "," "," ",{"$f":"IF(I1819=\"\",\"\",IF(I1819<='Main page'!$F$49,\"Core staff\",\"Senior staff\"))","v":""},{"$f":"IF(D1819=\"\",\" \",'Main page'!$F$21-(D1819))","v":" "},{"$f":"IF(D1819=\"\",\" \",VLOOKUP(R1819,'Main page'!$E$29:'Main page'!$G$41,3,TRUE))","v":" "}]
[null,null,null,null,null,null,null,null,null,null,null,null," "," "," "," ",{"$f":"IF(I1820=\"\",\"\",IF(I1820<='Main page'!$F$49,\"Core staff\",\"Senior staff\"))","v":""},{"$f":"IF(D1820=\"\",\" \",'Main page'!$F$21-(D1820))","v":" "},{"$f":"IF(D1820=\"\",\" \",VLOOKUP(R1820,'Main page'!$E$29:'Main page'!$G$41,3,TRUE))","v":" "}]
[null,null,null,null,null,null,null,null,null,null,null,null," "," "," "," ",{"$f":"IF(I1821=\"\",\"\",IF(I1821<='Main page'!$F$49,\"Core staff\",\"Senior staff\"))","v":""},{"$f":"IF(D1821=\"\",\" \",'Main page'!$F$21-(D1821))","v":" "},{"$f":"IF(D1821=\"\",\" \",VLOOKUP(R1821,'Main page'!$E$29:'Main page'!$G$41,3,TRUE))","v":" "}]
[null,null,null,null,null,null,null,null,null,null,null,null," "," "," "," ",{"$f":"IF(I1822=\"\",\"\",IF(I1822<='Main page'!$F$49,\"Core staff\",\"Senior staff\"))","v":""},{"$f":"IF(D1822=\"\",\" \",'Main page'!$F$21-(D1822))","v":" "},{"$f":"IF(D1822=\"\",\" \",VLOOKUP(R1822,'Main page'!$E$29:'Main page'!$G$41,3,TRUE))","v":" "}]
[null,null,null,null,null,null,null,null,null,null,null,null," "," "," "," ",{"$f":"IF(I1823=\"\",\"\",IF(I1823<='Main page'!$F$49,\"Core staff\",\"Senior staff\"))","v":""},{"$f":"IF(D1823=\"\",\" \",'Main page'!$F$21-(D1823))","v":" "},{"$f":"IF(D1823=\"\",\" \",VLOOKUP(R1823,'Main page'!$E$29:'Main page'!$G$41,3,TRUE))","v":" "}]
[null,null,null,null,null,null,null,null,null,null,null,null," "," "," "," ",{"$f":"IF(I1824=\"\",\"\",IF(I1824<='Main page'!$F$49,\"Core staff\",\"Senior staff\"))","v":""},{"$f":"IF(D1824=\"\",\" \",'Main page'!$F$21-(D1824))","v":" "},{"$f":"IF(D1824=\"\",\" \",VLOOKUP(R1824,'Main page'!$E$29:'Main page'!$G$41,3,TRUE))","v":" "}]
[null,null,null,null,null,null,null,null,null,null,null,null," "," "," "," ",{"$f":"IF(I1825=\"\",\"\",IF(I1825<='Main page'!$F$49,\"Core staff\",\"Senior staff\"))","v":""},{"$f":"IF(D1825=\"\",\" \",'Main page'!$F$21-(D1825))","v":" "},{"$f":"IF(D1825=\"\",\" \",VLOOKUP(R1825,'Main page'!$E$29:'Main page'!$G$41,3,TRUE))","v":" "}]
[null,null,null,null,null,null,null,null,null,null,null,null," "," "," "," ",{"$f":"IF(I1826=\"\",\"\",IF(I1826<='Main page'!$F$49,\"Core staff\",\"Senior staff\"))","v":""},{"$f":"IF(D1826=\"\",\" \",'Main page'!$F$21-(D1826))","v":" "},{"$f":"IF(D1826=\"\",\" \",VLOOKUP(R1826,'Main page'!$E$29:'Main page'!$G$41,3,TRUE))","v":" "}]
[null,null,null,null,null,null,null,null,null,null,null,null," "," "," "," ",{"$f":"IF(I1827=\"\",\"\",IF(I1827<='Main page'!$F$49,\"Core staff\",\"Senior staff\"))","v":""},{"$f":"IF(D1827=\"\",\" \",'Main page'!$F$21-(D1827))","v":" "},{"$f":"IF(D1827=\"\",\" \",VLOOKUP(R1827,'Main page'!$E$29:'Main page'!$G$41,3,TRUE))","v":" "}]
[null,null,null,null,null,null,null,null,null,null,null,null," "," "," "," ",{"$f":"IF(I1828=\"\",\"\",IF(I1828<='Main page'!$F$49,\"Core staff\",\"Senior staff\"))","v":""},{"$f":"IF(D1828=\"\",\" \",'Main page'!$F$21-(D1828))","v":" "},{"$f":"IF(D1828=\"\",\" \",VLOOKUP(R1828,'Main page'!$E$29:'Main page'!$G$41,3,TRUE))","v":" "}]
[null,null,null,null,null,null,null,null,null,null,null,null," "," "," "," ",{"$f":"IF(I1829=\"\",\"\",IF(I1829<='Main page'!$F$49,\"Core staff\",\"Senior staff\"))","v":""},{"$f":"IF(D1829=\"\",\" \",'Main page'!$F$21-(D1829))","v":" "},{"$f":"IF(D1829=\"\",\" \",VLOOKUP(R1829,'Main page'!$E$29:'Main page'!$G$41,3,TRUE))","v":" "}]
[null,null,null,null,null,null,null,null,null,null,null,null," "," "," "," ",{"$f":"IF(I1830=\"\",\"\",IF(I1830<='Main page'!$F$49,\"Core staff\",\"Senior staff\"))","v":""},{"$f":"IF(D1830=\"\",\" \",'Main page'!$F$21-(D1830))","v":" "},{"$f":"IF(D1830=\"\",\" \",VLOOKUP(R1830,'Main page'!$E$29:'Main page'!$G$41,3,TRUE))","v":" "}]
[null,null,null,null,null,null,null,null,null,null,null,null," "," "," "," ",{"$f":"IF(I1831=\"\",\"\",IF(I1831<='Main page'!$F$49,\"Core staff\",\"Senior staff\"))","v":""},{"$f":"IF(D1831=\"\",\" \",'Main page'!$F$21-(D1831))","v":" "},{"$f":"IF(D1831=\"\",\" \",VLOOKUP(R1831,'Main page'!$E$29:'Main page'!$G$41,3,TRUE))","v":" "}]
[null,null,null,null,null,null,null,null,null,null,null,null," "," "," "," ",{"$f":"IF(I1832=\"\",\"\",IF(I1832<='Main page'!$F$49,\"Core staff\",\"Senior staff\"))","v":""},{"$f":"IF(D1832=\"\",\" \",'Main page'!$F$21-(D1832))","v":" "},{"$f":"IF(D1832=\"\",\" \",VLOOKUP(R1832,'Main page'!$E$29:'Main page'!$G$41,3,TRUE))","v":" "}]
[null,null,null,null,null,null,null,null,null,null,null,null," "," "," "," ",{"$f":"IF(I1833=\"\",\"\",IF(I1833<='Main page'!$F$49,\"Core staff\",\"Senior staff\"))","v":""},{"$f":"IF(D1833=\"\",\" \",'Main page'!$F$21-(D1833))","v":" "},{"$f":"IF(D1833=\"\",\" \",VLOOKUP(R1833,'Main page'!$E$29:'Main page'!$G$41,3,TRUE))","v":" "}]
[null,null,null,null,null,null,null,null,null,null,null,null," "," "," "," ",{"$f":"IF(I1834=\"\",\"\",IF(I1834<='Main page'!$F$49,\"Core staff\",\"Senior staff\"))","v":""},{"$f":"IF(D1834=\"\",\" \",'Main page'!$F$21-(D1834))","v":" "},{"$f":"IF(D1834=\"\",\" \",VLOOKUP(R1834,'Main page'!$E$29:'Main page'!$G$41,3,TRUE))","v":" "}]
[null,null,null,null,null,null,null,null,null,null,null,null," "," "," "," ",{"$f":"IF(I1835=\"\",\"\",IF(I1835<='Main page'!$F$49,\"Core staff\",\"Senior staff\"))","v":""},{"$f":"IF(D1835=\"\",\" \",'Main page'!$F$21-(D1835))","v":" "},{"$f":"IF(D1835=\"\",\" \",VLOOKUP(R1835,'Main page'!$E$29:'Main page'!$G$41,3,TRUE))","v":" "}]
[null,null,null,null,null,null,null,null,null,null,null,null," "," "," "," ",{"$f":"IF(I1836=\"\",\"\",IF(I1836<='Main page'!$F$49,\"Core staff\",\"Senior staff\"))","v":""},{"$f":"IF(D1836=\"\",\" \",'Main page'!$F$21-(D1836))","v":" "},{"$f":"IF(D1836=\"\",\" \",VLOOKUP(R1836,'Main page'!$E$29:'Main page'!$G$41,3,TRUE))","v":" "}]
[null,null,null,null,null,null,null,null,null,null,null,null," "," "," "," ",{"$f":"IF(I1837=\"\",\"\",IF(I1837<='Main page'!$F$49,\"Core staff\",\"Senior staff\"))","v":""},{"$f":"IF(D1837=\"\",\" \",'Main page'!$F$21-(D1837))","v":" "},{"$f":"IF(D1837=\"\",\" \",VLOOKUP(R1837,'Main page'!$E$29:'Main page'!$G$41,3,TRUE))","v":" "}]
[null,null,null,null,null,null,null,null,null,null,null,null," "," "," "," ",{"$f":"IF(I1838=\"\",\"\",IF(I1838<='Main page'!$F$49,\"Core staff\",\"Senior staff\"))","v":""},{"$f":"IF(D1838=\"\",\" \",'Main page'!$F$21-(D1838))","v":" "},{"$f":"IF(D1838=\"\",\" \",VLOOKUP(R1838,'Main page'!$E$29:'Main page'!$G$41,3,TRUE))","v":" "}]
[null,null,null,null,null,null,null,null,null,null,null,null," "," "," "," ",{"$f":"IF(I1839=\"\",\"\",IF(I1839<='Main page'!$F$49,\"Core staff\",\"Senior staff\"))","v":""},{"$f":"IF(D1839=\"\",\" \",'Main page'!$F$21-(D1839))","v":" "},{"$f":"IF(D1839=\"\",\" \",VLOOKUP(R1839,'Main page'!$E$29:'Main page'!$G$41,3,TRUE))","v":" "}]
[null,null,null,null,null,null,null,null,null,null,null,null," "," "," "," ",{"$f":"IF(I1840=\"\",\"\",IF(I1840<='Main page'!$F$49,\"Core staff\",\"Senior staff\"))","v":""},{"$f":"IF(D1840=\"\",\" \",'Main page'!$F$21-(D1840))","v":" "},{"$f":"IF(D1840=\"\",\" \",VLOOKUP(R1840,'Main page'!$E$29:'Main page'!$G$41,3,TRUE))","v":" "}]
[null,null,null,null,null,null,null,null,null,null,null,null," "," "," "," ",{"$f":"IF(I1841=\"\",\"\",IF(I1841<='Main page'!$F$49,\"Core staff\",\"Senior staff\"))","v":""},{"$f":"IF(D1841=\"\",\" \",'Main page'!$F$21-(D1841))","v":" "},{"$f":"IF(D1841=\"\",\" \",VLOOKUP(R1841,'Main page'!$E$29:'Main page'!$G$41,3,TRUE))","v":" "}]
[null,null,null,null,null,null,null,null,null,null,null,null," "," "," "," ",{"$f":"IF(I1842=\"\",\"\",IF(I1842<='Main page'!$F$49,\"Core staff\",\"Senior staff\"))","v":""},{"$f":"IF(D1842=\"\",\" \",'Main page'!$F$21-(D1842))","v":" "},{"$f":"IF(D1842=\"\",\" \",VLOOKUP(R1842,'Main page'!$E$29:'Main page'!$G$41,3,TRUE))","v":" "}]
[null,null,null,null,null,null,null,null,null,null,null,null," "," "," "," ",{"$f":"IF(I1843=\"\",\"\",IF(I1843<='Main page'!$F$49,\"Core staff\",\"Senior staff\"))","v":""},{"$f":"IF(D1843=\"\",\" \",'Main page'!$F$21-(D1843))","v":" "},{"$f":"IF(D1843=\"\",\" \",VLOOKUP(R1843,'Main page'!$E$29:'Main page'!$G$41,3,TRUE))","v":" "}]
[null,null,null,null,null,null,null,null,null,null,null,null," "," "," "," ",{"$f":"IF(I1844=\"\",\"\",IF(I1844<='Main page'!$F$49,\"Core staff\",\"Senior staff\"))","v":""},{"$f":"IF(D1844=\"\",\" \",'Main page'!$F$21-(D1844))","v":" "},{"$f":"IF(D1844=\"\",\" \",VLOOKUP(R1844,'Main page'!$E$29:'Main page'!$G$41,3,TRUE))","v":" "}]
[null,null,null,null,null,null,null,null,null,null,null,null," "," "," "," ",{"$f":"IF(I1845=\"\",\"\",IF(I1845<='Main page'!$F$49,\"Core staff\",\"Senior staff\"))","v":""},{"$f":"IF(D1845=\"\",\" \",'Main page'!$F$21-(D1845))","v":" "},{"$f":"IF(D1845=\"\",\" \",VLOOKUP(R1845,'Main page'!$E$29:'Main page'!$G$41,3,TRUE))","v":" "}]
[null,null,null,null,null,null,null,null,null,null,null,null," "," "," "," ",{"$f":"IF(I1846=\"\",\"\",IF(I1846<='Main page'!$F$49,\"Core staff\",\"Senior staff\"))","v":""},{"$f":"IF(D1846=\"\",\" \",'Main page'!$F$21-(D1846))","v":" "},{"$f":"IF(D1846=\"\",\" \",VLOOKUP(R1846,'Main page'!$E$29:'Main page'!$G$41,3,TRUE))","v":" "}]
[null,null,null,null,null,null,null,null,null,null,null,null," "," "," "," ",{"$f":"IF(I1847=\"\",\"\",IF(I1847<='Main page'!$F$49,\"Core staff\",\"Senior staff\"))","v":""},{"$f":"IF(D1847=\"\",\" \",'Main page'!$F$21-(D1847))","v":" "},{"$f":"IF(D1847=\"\",\" \",VLOOKUP(R1847,'Main page'!$E$29:'Main page'!$G$41,3,TRUE))","v":" "}]
[null,null,null,null,null,null,null,null,null,null,null,null," "," "," "," ",{"$f":"IF(I1848=\"\",\"\",IF(I1848<='Main page'!$F$49,\"Core staff\",\"Senior staff\"))","v":""},{"$f":"IF(D1848=\"\",\" \",'Main page'!$F$21-(D1848))","v":" "},{"$f":"IF(D1848=\"\",\" \",VLOOKUP(R1848,'Main page'!$E$29:'Main page'!$G$41,3,TRUE))","v":" "}]
[null,null,null,null,null,null,null,null,null,null,null,null," "," "," "," ",{"$f":"IF(I1849=\"\",\"\",IF(I1849<='Main page'!$F$49,\"Core staff\",\"Senior staff\"))","v":""},{"$f":"IF(D1849=\"\",\" \",'Main page'!$F$21-(D1849))","v":" "},{"$f":"IF(D1849=\"\",\" \",VLOOKUP(R1849,'Main page'!$E$29:'Main page'!$G$41,3,TRUE))","v":" "}]
[null,null,null,null,null,null,null,null,null,null,null,null," "," "," "," ",{"$f":"IF(I1850=\"\",\"\",IF(I1850<='Main page'!$F$49,\"Core staff\",\"Senior staff\"))","v":""},{"$f":"IF(D1850=\"\",\" \",'Main page'!$F$21-(D1850))","v":" "},{"$f":"IF(D1850=\"\",\" \",VLOOKUP(R1850,'Main page'!$E$29:'Main page'!$G$41,3,TRUE))","v":" "}]
[null,null,null,null,null,null,null,null,null,null,null,null," "," "," "," ",{"$f":"IF(I1851=\"\",\"\",IF(I1851<='Main page'!$F$49,\"Core staff\",\"Senior staff\"))","v":""},{"$f":"IF(D1851=\"\",\" \",'Main page'!$F$21-(D1851))","v":" "},{"$f":"IF(D1851=\"\",\" \",VLOOKUP(R1851,'Main page'!$E$29:'Main page'!$G$41,3,TRUE))","v":" "}]
[null,null,null,null,null,null,null,null,null,null,null,null," "," "," "," ",{"$f":"IF(I1852=\"\",\"\",IF(I1852<='Main page'!$F$49,\"Core staff\",\"Senior staff\"))","v":""},{"$f":"IF(D1852=\"\",\" \",'Main page'!$F$21-(D1852))","v":" "},{"$f":"IF(D1852=\"\",\" \",VLOOKUP(R1852,'Main page'!$E$29:'Main page'!$G$41,3,TRUE))","v":" "}]
[null,null,null,null,null,null,null,null,null,null,null,null," "," "," "," ",{"$f":"IF(I1853=\"\",\"\",IF(I1853<='Main page'!$F$49,\"Core staff\",\"Senior staff\"))","v":""},{"$f":"IF(D1853=\"\",\" \",'Main page'!$F$21-(D1853))","v":" "},{"$f":"IF(D1853=\"\",\" \",VLOOKUP(R1853,'Main page'!$E$29:'Main page'!$G$41,3,TRUE))","v":" "}]
[null,null,null,null,null,null,null,null,null,null,null,null," "," "," "," ",{"$f":"IF(I1854=\"\",\"\",IF(I1854<='Main page'!$F$49,\"Core staff\",\"Senior staff\"))","v":""},{"$f":"IF(D1854=\"\",\" \",'Main page'!$F$21-(D1854))","v":" "},{"$f":"IF(D1854=\"\",\" \",VLOOKUP(R1854,'Main page'!$E$29:'Main page'!$G$41,3,TRUE))","v":" "}]
[null,null,null,null,null,null,null,null,null,null,null,null," "," "," "," ",{"$f":"IF(I1855=\"\",\"\",IF(I1855<='Main page'!$F$49,\"Core staff\",\"Senior staff\"))","v":""},{"$f":"IF(D1855=\"\",\" \",'Main page'!$F$21-(D1855))","v":" "},{"$f":"IF(D1855=\"\",\" \",VLOOKUP(R1855,'Main page'!$E$29:'Main page'!$G$41,3,TRUE))","v":" "}]
[null,null,null,null,null,null,null,null,null,null,null,null," "," "," "," ",{"$f":"IF(I1856=\"\",\"\",IF(I1856<='Main page'!$F$49,\"Core staff\",\"Senior staff\"))","v":""},{"$f":"IF(D1856=\"\",\" \",'Main page'!$F$21-(D1856))","v":" "},{"$f":"IF(D1856=\"\",\" \",VLOOKUP(R1856,'Main page'!$E$29:'Main page'!$G$41,3,TRUE))","v":" "}]
[null,null,null,null,null,null,null,null,null,null,null,null," "," "," "," ",{"$f":"IF(I1857=\"\",\"\",IF(I1857<='Main page'!$F$49,\"Core staff\",\"Senior staff\"))","v":""},{"$f":"IF(D1857=\"\",\" \",'Main page'!$F$21-(D1857))","v":" "},{"$f":"IF(D1857=\"\",\" \",VLOOKUP(R1857,'Main page'!$E$29:'Main page'!$G$41,3,TRUE))","v":" "}]
[null,null,null,null,null,null,null,null,null,null,null,null," "," "," "," ",{"$f":"IF(I1858=\"\",\"\",IF(I1858<='Main page'!$F$49,\"Core staff\",\"Senior staff\"))","v":""},{"$f":"IF(D1858=\"\",\" \",'Main page'!$F$21-(D1858))","v":" "},{"$f":"IF(D1858=\"\",\" \",VLOOKUP(R1858,'Main page'!$E$29:'Main page'!$G$41,3,TRUE))","v":" "}]
[null,null,null,null,null,null,null,null,null,null,null,null," "," "," "," ",{"$f":"IF(I1859=\"\",\"\",IF(I1859<='Main page'!$F$49,\"Core staff\",\"Senior staff\"))","v":""},{"$f":"IF(D1859=\"\",\" \",'Main page'!$F$21-(D1859))","v":" "},{"$f":"IF(D1859=\"\",\" \",VLOOKUP(R1859,'Main page'!$E$29:'Main page'!$G$41,3,TRUE))","v":" "}]
[null,null,null,null,null,null,null,null,null,null,null,null," "," "," "," ",{"$f":"IF(I1860=\"\",\"\",IF(I1860<='Main page'!$F$49,\"Core staff\",\"Senior staff\"))","v":""},{"$f":"IF(D1860=\"\",\" \",'Main page'!$F$21-(D1860))","v":" "},{"$f":"IF(D1860=\"\",\" \",VLOOKUP(R1860,'Main page'!$E$29:'Main page'!$G$41,3,TRUE))","v":" "}]
[null,null,null,null,null,null,null,null,null,null,null,null," "," "," "," ",{"$f":"IF(I1861=\"\",\"\",IF(I1861<='Main page'!$F$49,\"Core staff\",\"Senior staff\"))","v":""},{"$f":"IF(D1861=\"\",\" \",'Main page'!$F$21-(D1861))","v":" "},{"$f":"IF(D1861=\"\",\" \",VLOOKUP(R1861,'Main page'!$E$29:'Main page'!$G$41,3,TRUE))","v":" "}]
[null,null,null,null,null,null,null,null,null,null,null,null," "," "," "," ",{"$f":"IF(I1862=\"\",\"\",IF(I1862<='Main page'!$F$49,\"Core staff\",\"Senior staff\"))","v":""},{"$f":"IF(D1862=\"\",\" \",'Main page'!$F$21-(D1862))","v":" "},{"$f":"IF(D1862=\"\",\" \",VLOOKUP(R1862,'Main page'!$E$29:'Main page'!$G$41,3,TRUE))","v":" "}]
[null,null,null,null,null,null,null,null,null,null,null,null," "," "," "," ",{"$f":"IF(I1863=\"\",\"\",IF(I1863<='Main page'!$F$49,\"Core staff\",\"Senior staff\"))","v":""},{"$f":"IF(D1863=\"\",\" \",'Main page'!$F$21-(D1863))","v":" "},{"$f":"IF(D1863=\"\",\" \",VLOOKUP(R1863,'Main page'!$E$29:'Main page'!$G$41,3,TRUE))","v":" "}]
[null,null,null,null,null,null,null,null,null,null,null,null," "," "," "," ",{"$f":"IF(I1864=\"\",\"\",IF(I1864<='Main page'!$F$49,\"Core staff\",\"Senior staff\"))","v":""},{"$f":"IF(D1864=\"\",\" \",'Main page'!$F$21-(D1864))","v":" "},{"$f":"IF(D1864=\"\",\" \",VLOOKUP(R1864,'Main page'!$E$29:'Main page'!$G$41,3,TRUE))","v":" "}]
[null,null,null,null,null,null,null,null,null,null,null,null," "," "," "," ",{"$f":"IF(I1865=\"\",\"\",IF(I1865<='Main page'!$F$49,\"Core staff\",\"Senior staff\"))","v":""},{"$f":"IF(D1865=\"\",\" \",'Main page'!$F$21-(D1865))","v":" "},{"$f":"IF(D1865=\"\",\" \",VLOOKUP(R1865,'Main page'!$E$29:'Main page'!$G$41,3,TRUE))","v":" "}]
[null,null,null,null,null,null,null,null,null,null,null,null," "," "," "," ",{"$f":"IF(I1866=\"\",\"\",IF(I1866<='Main page'!$F$49,\"Core staff\",\"Senior staff\"))","v":""},{"$f":"IF(D1866=\"\",\" \",'Main page'!$F$21-(D1866))","v":" "},{"$f":"IF(D1866=\"\",\" \",VLOOKUP(R1866,'Main page'!$E$29:'Main page'!$G$41,3,TRUE))","v":" "}]
[null,null,null,null,null,null,null,null,null,null,null,null," "," "," "," ",{"$f":"IF(I1867=\"\",\"\",IF(I1867<='Main page'!$F$49,\"Core staff\",\"Senior staff\"))","v":""},{"$f":"IF(D1867=\"\",\" \",'Main page'!$F$21-(D1867))","v":" "},{"$f":"IF(D1867=\"\",\" \",VLOOKUP(R1867,'Main page'!$E$29:'Main page'!$G$41,3,TRUE))","v":" "}]
[null,null,null,null,null,null,null,null,null,null,null,null," "," "," "," ",{"$f":"IF(I1868=\"\",\"\",IF(I1868<='Main page'!$F$49,\"Core staff\",\"Senior staff\"))","v":""},{"$f":"IF(D1868=\"\",\" \",'Main page'!$F$21-(D1868))","v":" "},{"$f":"IF(D1868=\"\",\" \",VLOOKUP(R1868,'Main page'!$E$29:'Main page'!$G$41,3,TRUE))","v":" "}]
[null,null,null,null,null,null,null,null,null,null,null,null," "," "," "," ",{"$f":"IF(I1869=\"\",\"\",IF(I1869<='Main page'!$F$49,\"Core staff\",\"Senior staff\"))","v":""},{"$f":"IF(D1869=\"\",\" \",'Main page'!$F$21-(D1869))","v":" "},{"$f":"IF(D1869=\"\",\" \",VLOOKUP(R1869,'Main page'!$E$29:'Main page'!$G$41,3,TRUE))","v":" "}]
[null,null,null,null,null,null,null,null,null,null,null,null,{"$f":"IFERROR(J1870/G1870,\" \")","v":" "},{"$f":"IFERROR((M1870/$U$4)/H1870,\" \")","v":" "},{"$f":"IFERROR((N1870*75)*26.083,\" \")","v":" "},{"$f":"IF(G1870=0,\" \",IF(G1870=1,\"Full time\",\"Part time\"))","v":" "},{"$f":"IF(I1870=\"\",\"\",IF(I1870<='Main page'!$F$49,\"Core staff\",\"Senior staff\"))","v":""},{"$f":"IF(D1870=\"\",\" \",'Main page'!$F$21-(D1870))","v":" "},{"$f":"IF(D1870=\"\",\" \",VLOOKUP(R1870,'Main page'!$E$29:'Main page'!$G$41,3,TRUE))","v":" "}]
[null,null,null,null,null,null,null,null,null,null,null,null," "," "," "," ",{"$f":"IF(I1871=\"\",\"\",IF(I1871<='Main page'!$F$49,\"Core staff\",\"Senior staff\"))","v":""},{"$f":"IF(D1871=\"\",\" \",'Main page'!$F$21-(D1871))","v":" "},{"$f":"IF(D1871=\"\",\" \",VLOOKUP(R1871,'Main page'!$E$29:'Main page'!$G$41,3,TRUE))","v":" "}]
[null,null,null,null,null,null,null,null,null,null,null,null," "," "," "," ",{"$f":"IF(I1872=\"\",\"\",IF(I1872<='Main page'!$F$49,\"Core staff\",\"Senior staff\"))","v":""},{"$f":"IF(D1872=\"\",\" \",'Main page'!$F$21-(D1872))","v":" "},{"$f":"IF(D1872=\"\",\" \",VLOOKUP(R1872,'Main page'!$E$29:'Main page'!$G$41,3,TRUE))","v":" "}]
[null,null,null,null,null,null,null,null,null,null,null,null," "," "," "," ",{"$f":"IF(I1873=\"\",\"\",IF(I1873<='Main page'!$F$49,\"Core staff\",\"Senior staff\"))","v":""},{"$f":"IF(D1873=\"\",\" \",'Main page'!$F$21-(D1873))","v":" "},{"$f":"IF(D1873=\"\",\" \",VLOOKUP(R1873,'Main page'!$E$29:'Main page'!$G$41,3,TRUE))","v":" "}]
[null,null,null,null,null,null,null,null,null,null,null,null," "," "," "," ",{"$f":"IF(I1874=\"\",\"\",IF(I1874<='Main page'!$F$49,\"Core staff\",\"Senior staff\"))","v":""},{"$f":"IF(D1874=\"\",\" \",'Main page'!$F$21-(D1874))","v":" "},{"$f":"IF(D1874=\"\",\" \",VLOOKUP(R1874,'Main page'!$E$29:'Main page'!$G$41,3,TRUE))","v":" "}]
[null,null,null,null,null,null,null,null,null,null,null,null," "," "," "," ",{"$f":"IF(I1875=\"\",\"\",IF(I1875<='Main page'!$F$49,\"Core staff\",\"Senior staff\"))","v":""},{"$f":"IF(D1875=\"\",\" \",'Main page'!$F$21-(D1875))","v":" "},{"$f":"IF(D1875=\"\",\" \",VLOOKUP(R1875,'Main page'!$E$29:'Main page'!$G$41,3,TRUE))","v":" "}]
[null,null,null,null,null,null,null,null,null,null,null,null," "," "," "," ",{"$f":"IF(I1876=\"\",\"\",IF(I1876<='Main page'!$F$49,\"Core staff\",\"Senior staff\"))","v":""},{"$f":"IF(D1876=\"\",\" \",'Main page'!$F$21-(D1876))","v":" "},{"$f":"IF(D1876=\"\",\" \",VLOOKUP(R1876,'Main page'!$E$29:'Main page'!$G$41,3,TRUE))","v":" "}]
[null,null,null,null,null,null,null,null,null,null,null,null," "," "," "," ",{"$f":"IF(I1877=\"\",\"\",IF(I1877<='Main page'!$F$49,\"Core staff\",\"Senior staff\"))","v":""},{"$f":"IF(D1877=\"\",\" \",'Main page'!$F$21-(D1877))","v":" "},{"$f":"IF(D1877=\"\",\" \",VLOOKUP(R1877,'Main page'!$E$29:'Main page'!$G$41,3,TRUE))","v":" "}]
[null,null,null,null,null,null,null,null,null,null,null,null," "," "," "," ",{"$f":"IF(I1878=\"\",\"\",IF(I1878<='Main page'!$F$49,\"Core staff\",\"Senior staff\"))","v":""},{"$f":"IF(D1878=\"\",\" \",'Main page'!$F$21-(D1878))","v":" "},{"$f":"IF(D1878=\"\",\" \",VLOOKUP(R1878,'Main page'!$E$29:'Main page'!$G$41,3,TRUE))","v":" "}]
[null,null,null,null,null,null,null,null,null,null,null,null," "," "," "," ",{"$f":"IF(I1879=\"\",\"\",IF(I1879<='Main page'!$F$49,\"Core staff\",\"Senior staff\"))","v":""},{"$f":"IF(D1879=\"\",\" \",'Main page'!$F$21-(D1879))","v":" "},{"$f":"IF(D1879=\"\",\" \",VLOOKUP(R1879,'Main page'!$E$29:'Main page'!$G$41,3,TRUE))","v":" "}]
[null,null,null,null,null,null,null,null,null,null,null,null," "," "," "," ",{"$f":"IF(I1880=\"\",\"\",IF(I1880<='Main page'!$F$49,\"Core staff\",\"Senior staff\"))","v":""},{"$f":"IF(D1880=\"\",\" \",'Main page'!$F$21-(D1880))","v":" "},{"$f":"IF(D1880=\"\",\" \",VLOOKUP(R1880,'Main page'!$E$29:'Main page'!$G$41,3,TRUE))","v":" "}]
[null,null,null,null,null,null,null,null,null,null,null,null," "," "," "," ",{"$f":"IF(I1881=\"\",\"\",IF(I1881<='Main page'!$F$49,\"Core staff\",\"Senior staff\"))","v":""},{"$f":"IF(D1881=\"\",\" \",'Main page'!$F$21-(D1881))","v":" "},{"$f":"IF(D1881=\"\",\" \",VLOOKUP(R1881,'Main page'!$E$29:'Main page'!$G$41,3,TRUE))","v":" "}]
[null,null,null,null,null,null,null,null,null,null,null,null," "," "," "," ",{"$f":"IF(I1882=\"\",\"\",IF(I1882<='Main page'!$F$49,\"Core staff\",\"Senior staff\"))","v":""},{"$f":"IF(D1882=\"\",\" \",'Main page'!$F$21-(D1882))","v":" "},{"$f":"IF(D1882=\"\",\" \",VLOOKUP(R1882,'Main page'!$E$29:'Main page'!$G$41,3,TRUE))","v":" "}]
[null,null,null,null,null,null,null,null,null,null,null,null," "," "," "," ",{"$f":"IF(I1883=\"\",\"\",IF(I1883<='Main page'!$F$49,\"Core staff\",\"Senior staff\"))","v":""},{"$f":"IF(D1883=\"\",\" \",'Main page'!$F$21-(D1883))","v":" "},{"$f":"IF(D1883=\"\",\" \",VLOOKUP(R1883,'Main page'!$E$29:'Main page'!$G$41,3,TRUE))","v":" "}]
[null,null,null,null,null,null,null,null,null,null,null,null," "," "," "," ",{"$f":"IF(I1884=\"\",\"\",IF(I1884<='Main page'!$F$49,\"Core staff\",\"Senior staff\"))","v":""},{"$f":"IF(D1884=\"\",\" \",'Main page'!$F$21-(D1884))","v":" "},{"$f":"IF(D1884=\"\",\" \",VLOOKUP(R1884,'Main page'!$E$29:'Main page'!$G$41,3,TRUE))","v":" "}]
[null,null,null,null,null,null,null,null,null,null,null,null," "," "," "," ",{"$f":"IF(I1885=\"\",\"\",IF(I1885<='Main page'!$F$49,\"Core staff\",\"Senior staff\"))","v":""},{"$f":"IF(D1885=\"\",\" \",'Main page'!$F$21-(D1885))","v":" "},{"$f":"IF(D1885=\"\",\" \",VLOOKUP(R1885,'Main page'!$E$29:'Main page'!$G$41,3,TRUE))","v":" "}]
[null,null,null,null,null,null,null,null,null,null,null,null," "," "," "," ",{"$f":"IF(I1886=\"\",\"\",IF(I1886<='Main page'!$F$49,\"Core staff\",\"Senior staff\"))","v":""},{"$f":"IF(D1886=\"\",\" \",'Main page'!$F$21-(D1886))","v":" "},{"$f":"IF(D1886=\"\",\" \",VLOOKUP(R1886,'Main page'!$E$29:'Main page'!$G$41,3,TRUE))","v":" "}]
[null,null,null,null,null,null,null,null,null,null,null,null," "," "," "," ",{"$f":"IF(I1887=\"\",\"\",IF(I1887<='Main page'!$F$49,\"Core staff\",\"Senior staff\"))","v":""},{"$f":"IF(D1887=\"\",\" \",'Main page'!$F$21-(D1887))","v":" "},{"$f":"IF(D1887=\"\",\" \",VLOOKUP(R1887,'Main page'!$E$29:'Main page'!$G$41,3,TRUE))","v":" "}]
[null,null,null,null,null,null,null,null,null,null,null,null," "," "," "," ",{"$f":"IF(I1888=\"\",\"\",IF(I1888<='Main page'!$F$49,\"Core staff\",\"Senior staff\"))","v":""},{"$f":"IF(D1888=\"\",\" \",'Main page'!$F$21-(D1888))","v":" "},{"$f":"IF(D1888=\"\",\" \",VLOOKUP(R1888,'Main page'!$E$29:'Main page'!$G$41,3,TRUE))","v":" "}]
[null,null,null,null,null,null,null,null,null,null,null,null," "," "," "," ",{"$f":"IF(I1889=\"\",\"\",IF(I1889<='Main page'!$F$49,\"Core staff\",\"Senior staff\"))","v":""},{"$f":"IF(D1889=\"\",\" \",'Main page'!$F$21-(D1889))","v":" "},{"$f":"IF(D1889=\"\",\" \",VLOOKUP(R1889,'Main page'!$E$29:'Main page'!$G$41,3,TRUE))","v":" "}]
[null,null,null,null,null,null,null,null,null,null,null,null," "," "," "," ",{"$f":"IF(I1890=\"\",\"\",IF(I1890<='Main page'!$F$49,\"Core staff\",\"Senior staff\"))","v":""},{"$f":"IF(D1890=\"\",\" \",'Main page'!$F$21-(D1890))","v":" "},{"$f":"IF(D1890=\"\",\" \",VLOOKUP(R1890,'Main page'!$E$29:'Main page'!$G$41,3,TRUE))","v":" "}]
[null,null,null,null,null,null,null,null,null,null,null,null," "," "," "," ",{"$f":"IF(I1891=\"\",\"\",IF(I1891<='Main page'!$F$49,\"Core staff\",\"Senior staff\"))","v":""},{"$f":"IF(D1891=\"\",\" \",'Main page'!$F$21-(D1891))","v":" "},{"$f":"IF(D1891=\"\",\" \",VLOOKUP(R1891,'Main page'!$E$29:'Main page'!$G$41,3,TRUE))","v":" "}]
[null,null,null,null,null,null,null,null,null,null,null,null," "," "," "," ",{"$f":"IF(I1892=\"\",\"\",IF(I1892<='Main page'!$F$49,\"Core staff\",\"Senior staff\"))","v":""},{"$f":"IF(D1892=\"\",\" \",'Main page'!$F$21-(D1892))","v":" "},{"$f":"IF(D1892=\"\",\" \",VLOOKUP(R1892,'Main page'!$E$29:'Main page'!$G$41,3,TRUE))","v":" "}]
[null,null,null,null,null,null,null,null,null,null,null,null," "," "," "," ",{"$f":"IF(I1893=\"\",\"\",IF(I1893<='Main page'!$F$49,\"Core staff\",\"Senior staff\"))","v":""},{"$f":"IF(D1893=\"\",\" \",'Main page'!$F$21-(D1893))","v":" "},{"$f":"IF(D1893=\"\",\" \",VLOOKUP(R1893,'Main page'!$E$29:'Main page'!$G$41,3,TRUE))","v":" "}]
[null,null,null,null,null,null,null,null,null,null,null,null," "," "," "," ",{"$f":"IF(I1894=\"\",\"\",IF(I1894<='Main page'!$F$49,\"Core staff\",\"Senior staff\"))","v":""},{"$f":"IF(D1894=\"\",\" \",'Main page'!$F$21-(D1894))","v":" "},{"$f":"IF(D1894=\"\",\" \",VLOOKUP(R1894,'Main page'!$E$29:'Main page'!$G$41,3,TRUE))","v":" "}]
[null,null,null,null,null,null,null,null,null,null,null,null," "," "," "," ",{"$f":"IF(I1895=\"\",\"\",IF(I1895<='Main page'!$F$49,\"Core staff\",\"Senior staff\"))","v":""},{"$f":"IF(D1895=\"\",\" \",'Main page'!$F$21-(D1895))","v":" "},{"$f":"IF(D1895=\"\",\" \",VLOOKUP(R1895,'Main page'!$E$29:'Main page'!$G$41,3,TRUE))","v":" "}]
[null,null,null,null,null,null,null,null,null,null,null,null," "," "," "," ",{"$f":"IF(I1896=\"\",\"\",IF(I1896<='Main page'!$F$49,\"Core staff\",\"Senior staff\"))","v":""},{"$f":"IF(D1896=\"\",\" \",'Main page'!$F$21-(D1896))","v":" "},{"$f":"IF(D1896=\"\",\" \",VLOOKUP(R1896,'Main page'!$E$29:'Main page'!$G$41,3,TRUE))","v":" "}]
[null,null,null,null,null,null,null,null,null,null,null,null," "," "," "," ",{"$f":"IF(I1897=\"\",\"\",IF(I1897<='Main page'!$F$49,\"Core staff\",\"Senior staff\"))","v":""},{"$f":"IF(D1897=\"\",\" \",'Main page'!$F$21-(D1897))","v":" "},{"$f":"IF(D1897=\"\",\" \",VLOOKUP(R1897,'Main page'!$E$29:'Main page'!$G$41,3,TRUE))","v":" "}]
[null,null,null,null,null,null,null,null,null,null,null,null," "," "," "," ",{"$f":"IF(I1898=\"\",\"\",IF(I1898<='Main page'!$F$49,\"Core staff\",\"Senior staff\"))","v":""},{"$f":"IF(D1898=\"\",\" \",'Main page'!$F$21-(D1898))","v":" "},{"$f":"IF(D1898=\"\",\" \",VLOOKUP(R1898,'Main page'!$E$29:'Main page'!$G$41,3,TRUE))","v":" "}]
[null,null,null,null,null,null,null,null,null,null,null,null," "," "," "," ",{"$f":"IF(I1899=\"\",\"\",IF(I1899<='Main page'!$F$49,\"Core staff\",\"Senior staff\"))","v":""},{"$f":"IF(D1899=\"\",\" \",'Main page'!$F$21-(D1899))","v":" "},{"$f":"IF(D1899=\"\",\" \",VLOOKUP(R1899,'Main page'!$E$29:'Main page'!$G$41,3,TRUE))","v":" "}]
[null,null,null,null,null,null,null,null,null,null,null,null," "," "," "," ",{"$f":"IF(I1900=\"\",\"\",IF(I1900<='Main page'!$F$49,\"Core staff\",\"Senior staff\"))","v":""},{"$f":"IF(D1900=\"\",\" \",'Main page'!$F$21-(D1900))","v":" "},{"$f":"IF(D1900=\"\",\" \",VLOOKUP(R1900,'Main page'!$E$29:'Main page'!$G$41,3,TRUE))","v":" "}]
[null,null,null,null,null,null,null,null,null,null,null,null," "," "," "," ",{"$f":"IF(I1901=\"\",\"\",IF(I1901<='Main page'!$F$49,\"Core staff\",\"Senior staff\"))","v":""},{"$f":"IF(D1901=\"\",\" \",'Main page'!$F$21-(D1901))","v":" "},{"$f":"IF(D1901=\"\",\" \",VLOOKUP(R1901,'Main page'!$E$29:'Main page'!$G$41,3,TRUE))","v":" "}]
[null,null,null,null,null,null,null,null,null,null,null,null," "," "," "," ",{"$f":"IF(I1902=\"\",\"\",IF(I1902<='Main page'!$F$49,\"Core staff\",\"Senior staff\"))","v":""},{"$f":"IF(D1902=\"\",\" \",'Main page'!$F$21-(D1902))","v":" "},{"$f":"IF(D1902=\"\",\" \",VLOOKUP(R1902,'Main page'!$E$29:'Main page'!$G$41,3,TRUE))","v":" "}]
[null,null,null,null,null,null,null,null,null,null,null,null," "," "," "," ",{"$f":"IF(I1903=\"\",\"\",IF(I1903<='Main page'!$F$49,\"Core staff\",\"Senior staff\"))","v":""},{"$f":"IF(D1903=\"\",\" \",'Main page'!$F$21-(D1903))","v":" "},{"$f":"IF(D1903=\"\",\" \",VLOOKUP(R1903,'Main page'!$E$29:'Main page'!$G$41,3,TRUE))","v":" "}]
[null,null,null,null,null,null,null,null,null,null,null,null," "," "," "," ",{"$f":"IF(I1904=\"\",\"\",IF(I1904<='Main page'!$F$49,\"Core staff\",\"Senior staff\"))","v":""},{"$f":"IF(D1904=\"\",\" \",'Main page'!$F$21-(D1904))","v":" "},{"$f":"IF(D1904=\"\",\" \",VLOOKUP(R1904,'Main page'!$E$29:'Main page'!$G$41,3,TRUE))","v":" "}]
[null,null,null,null,null,null,null,null,null,null,null,null," "," "," "," ",{"$f":"IF(I1905=\"\",\"\",IF(I1905<='Main page'!$F$49,\"Core staff\",\"Senior staff\"))","v":""},{"$f":"IF(D1905=\"\",\" \",'Main page'!$F$21-(D1905))","v":" "},{"$f":"IF(D1905=\"\",\" \",VLOOKUP(R1905,'Main page'!$E$29:'Main page'!$G$41,3,TRUE))","v":" "}]
[null,null,null,null,null,null,null,null,null,null,null,null," "," "," "," ",{"$f":"IF(I1906=\"\",\"\",IF(I1906<='Main page'!$F$49,\"Core staff\",\"Senior staff\"))","v":""},{"$f":"IF(D1906=\"\",\" \",'Main page'!$F$21-(D1906))","v":" "},{"$f":"IF(D1906=\"\",\" \",VLOOKUP(R1906,'Main page'!$E$29:'Main page'!$G$41,3,TRUE))","v":" "}]
[null,null,null,null,null,null,null,null,null,null,null,null," "," "," "," ",{"$f":"IF(I1907=\"\",\"\",IF(I1907<='Main page'!$F$49,\"Core staff\",\"Senior staff\"))","v":""},{"$f":"IF(D1907=\"\",\" \",'Main page'!$F$21-(D1907))","v":" "},{"$f":"IF(D1907=\"\",\" \",VLOOKUP(R1907,'Main page'!$E$29:'Main page'!$G$41,3,TRUE))","v":" "}]
[null,null,null,null,null,null,null,null,null,null,null,null," "," "," "," ",{"$f":"IF(I1908=\"\",\"\",IF(I1908<='Main page'!$F$49,\"Core staff\",\"Senior staff\"))","v":""},{"$f":"IF(D1908=\"\",\" \",'Main page'!$F$21-(D1908))","v":" "},{"$f":"IF(D1908=\"\",\" \",VLOOKUP(R1908,'Main page'!$E$29:'Main page'!$G$41,3,TRUE))","v":" "}]
[null,null,null,null,null,null,null,null,null,null,null,null," "," "," "," ",{"$f":"IF(I1909=\"\",\"\",IF(I1909<='Main page'!$F$49,\"Core staff\",\"Senior staff\"))","v":""},{"$f":"IF(D1909=\"\",\" \",'Main page'!$F$21-(D1909))","v":" "},{"$f":"IF(D1909=\"\",\" \",VLOOKUP(R1909,'Main page'!$E$29:'Main page'!$G$41,3,TRUE))","v":" "}]
[null,null,null,null,null,null,null,null,null,null,null,null," "," "," "," ",{"$f":"IF(I1910=\"\",\"\",IF(I1910<='Main page'!$F$49,\"Core staff\",\"Senior staff\"))","v":""},{"$f":"IF(D1910=\"\",\" \",'Main page'!$F$21-(D1910))","v":" "},{"$f":"IF(D1910=\"\",\" \",VLOOKUP(R1910,'Main page'!$E$29:'Main page'!$G$41,3,TRUE))","v":" "}]
[null,null,null,null,null,null,null,null,null,null,null,null," "," "," "," ",{"$f":"IF(I1911=\"\",\"\",IF(I1911<='Main page'!$F$49,\"Core staff\",\"Senior staff\"))","v":""},{"$f":"IF(D1911=\"\",\" \",'Main page'!$F$21-(D1911))","v":" "},{"$f":"IF(D1911=\"\",\" \",VLOOKUP(R1911,'Main page'!$E$29:'Main page'!$G$41,3,TRUE))","v":" "}]
[null,null,null,null,null,null,null,null,null,null,null,null," "," "," "," ",{"$f":"IF(I1912=\"\",\"\",IF(I1912<='Main page'!$F$49,\"Core staff\",\"Senior staff\"))","v":""},{"$f":"IF(D1912=\"\",\" \",'Main page'!$F$21-(D1912))","v":" "},{"$f":"IF(D1912=\"\",\" \",VLOOKUP(R1912,'Main page'!$E$29:'Main page'!$G$41,3,TRUE))","v":" "}]
[null,null,null,null,null,null,null,null,null,null,null,null," "," "," "," ",{"$f":"IF(I1913=\"\",\"\",IF(I1913<='Main page'!$F$49,\"Core staff\",\"Senior staff\"))","v":""},{"$f":"IF(D1913=\"\",\" \",'Main page'!$F$21-(D1913))","v":" "},{"$f":"IF(D1913=\"\",\" \",VLOOKUP(R1913,'Main page'!$E$29:'Main page'!$G$41,3,TRUE))","v":" "}]
[null,null,null,null,null,null,null,null,null,null,null,null," "," "," "," ",{"$f":"IF(I1914=\"\",\"\",IF(I1914<='Main page'!$F$49,\"Core staff\",\"Senior staff\"))","v":""},{"$f":"IF(D1914=\"\",\" \",'Main page'!$F$21-(D1914))","v":" "},{"$f":"IF(D1914=\"\",\" \",VLOOKUP(R1914,'Main page'!$E$29:'Main page'!$G$41,3,TRUE))","v":" "}]
[null,null,null,null,null,null,null,null,null,null,null,null," "," "," "," ",{"$f":"IF(I1915=\"\",\"\",IF(I1915<='Main page'!$F$49,\"Core staff\",\"Senior staff\"))","v":""},{"$f":"IF(D1915=\"\",\" \",'Main page'!$F$21-(D1915))","v":" "},{"$f":"IF(D1915=\"\",\" \",VLOOKUP(R1915,'Main page'!$E$29:'Main page'!$G$41,3,TRUE))","v":" "}]
[null,null,null,null,null,null,null,null,null,null,null,null," "," "," "," ",{"$f":"IF(I1916=\"\",\"\",IF(I1916<='Main page'!$F$49,\"Core staff\",\"Senior staff\"))","v":""},{"$f":"IF(D1916=\"\",\" \",'Main page'!$F$21-(D1916))","v":" "},{"$f":"IF(D1916=\"\",\" \",VLOOKUP(R1916,'Main page'!$E$29:'Main page'!$G$41,3,TRUE))","v":" "}]
[null,null,null,null,null,null,null,null,null,null,null,null," "," "," "," ",{"$f":"IF(I1917=\"\",\"\",IF(I1917<='Main page'!$F$49,\"Core staff\",\"Senior staff\"))","v":""},{"$f":"IF(D1917=\"\",\" \",'Main page'!$F$21-(D1917))","v":" "},{"$f":"IF(D1917=\"\",\" \",VLOOKUP(R1917,'Main page'!$E$29:'Main page'!$G$41,3,TRUE))","v":" "}]
[null,null,null,null,null,null,null,null,null,null,null,null," "," "," "," ",{"$f":"IF(I1918=\"\",\"\",IF(I1918<='Main page'!$F$49,\"Core staff\",\"Senior staff\"))","v":""},{"$f":"IF(D1918=\"\",\" \",'Main page'!$F$21-(D1918))","v":" "},{"$f":"IF(D1918=\"\",\" \",VLOOKUP(R1918,'Main page'!$E$29:'Main page'!$G$41,3,TRUE))","v":" "}]
[null,null,null,null,null,null,null,null,null,null,null,null," "," "," "," ",{"$f":"IF(I1919=\"\",\"\",IF(I1919<='Main page'!$F$49,\"Core staff\",\"Senior staff\"))","v":""},{"$f":"IF(D1919=\"\",\" \",'Main page'!$F$21-(D1919))","v":" "},{"$f":"IF(D1919=\"\",\" \",VLOOKUP(R1919,'Main page'!$E$29:'Main page'!$G$41,3,TRUE))","v":" "}]
[null,null,null,null,null,null,null,null,null,null,null,null," "," "," "," ",{"$f":"IF(I1920=\"\",\"\",IF(I1920<='Main page'!$F$49,\"Core staff\",\"Senior staff\"))","v":""},{"$f":"IF(D1920=\"\",\" \",'Main page'!$F$21-(D1920))","v":" "},{"$f":"IF(D1920=\"\",\" \",VLOOKUP(R1920,'Main page'!$E$29:'Main page'!$G$41,3,TRUE))","v":" "}]
[null,null,null,null,null,null,null,null,null,null,null,null," "," "," "," ",{"$f":"IF(I1921=\"\",\"\",IF(I1921<='Main page'!$F$49,\"Core staff\",\"Senior staff\"))","v":""},{"$f":"IF(D1921=\"\",\" \",'Main page'!$F$21-(D1921))","v":" "},{"$f":"IF(D1921=\"\",\" \",VLOOKUP(R1921,'Main page'!$E$29:'Main page'!$G$41,3,TRUE))","v":" "}]
[null,null,null,null,null,null,null,null,null,null,null,null," "," "," "," ",{"$f":"IF(I1922=\"\",\"\",IF(I1922<='Main page'!$F$49,\"Core staff\",\"Senior staff\"))","v":""},{"$f":"IF(D1922=\"\",\" \",'Main page'!$F$21-(D1922))","v":" "},{"$f":"IF(D1922=\"\",\" \",VLOOKUP(R1922,'Main page'!$E$29:'Main page'!$G$41,3,TRUE))","v":" "}]
[null,null,null,null,null,null,null,null,null,null,null,null," "," "," "," ",{"$f":"IF(I1923=\"\",\"\",IF(I1923<='Main page'!$F$49,\"Core staff\",\"Senior staff\"))","v":""},{"$f":"IF(D1923=\"\",\" \",'Main page'!$F$21-(D1923))","v":" "},{"$f":"IF(D1923=\"\",\" \",VLOOKUP(R1923,'Main page'!$E$29:'Main page'!$G$41,3,TRUE))","v":" "}]
[null,null,null,null,null,null,null,null,null,null,null,null," "," "," "," ",{"$f":"IF(I1924=\"\",\"\",IF(I1924<='Main page'!$F$49,\"Core staff\",\"Senior staff\"))","v":""},{"$f":"IF(D1924=\"\",\" \",'Main page'!$F$21-(D1924))","v":" "},{"$f":"IF(D1924=\"\",\" \",VLOOKUP(R1924,'Main page'!$E$29:'Main page'!$G$41,3,TRUE))","v":" "}]
[null,null,null,null,null,null,null,null,null,null,null,null," "," "," "," ",{"$f":"IF(I1925=\"\",\"\",IF(I1925<='Main page'!$F$49,\"Core staff\",\"Senior staff\"))","v":""},{"$f":"IF(D1925=\"\",\" \",'Main page'!$F$21-(D1925))","v":" "},{"$f":"IF(D1925=\"\",\" \",VLOOKUP(R1925,'Main page'!$E$29:'Main page'!$G$41,3,TRUE))","v":" "}]
[null,null,null,null,null,null,null,null,null,null,null,null," "," "," "," ",{"$f":"IF(I1926=\"\",\"\",IF(I1926<='Main page'!$F$49,\"Core staff\",\"Senior staff\"))","v":""},{"$f":"IF(D1926=\"\",\" \",'Main page'!$F$21-(D1926))","v":" "},{"$f":"IF(D1926=\"\",\" \",VLOOKUP(R1926,'Main page'!$E$29:'Main page'!$G$41,3,TRUE))","v":" "}]
[null,null,null,null,null,null,null,null,null,null,null,null," "," "," "," ",{"$f":"IF(I1927=\"\",\"\",IF(I1927<='Main page'!$F$49,\"Core staff\",\"Senior staff\"))","v":""},{"$f":"IF(D1927=\"\",\" \",'Main page'!$F$21-(D1927))","v":" "},{"$f":"IF(D1927=\"\",\" \",VLOOKUP(R1927,'Main page'!$E$29:'Main page'!$G$41,3,TRUE))","v":" "}]
[null,null,null,null,null,null,null,null,null,null,null,null," "," "," "," ",{"$f":"IF(I1928=\"\",\"\",IF(I1928<='Main page'!$F$49,\"Core staff\",\"Senior staff\"))","v":""},{"$f":"IF(D1928=\"\",\" \",'Main page'!$F$21-(D1928))","v":" "},{"$f":"IF(D1928=\"\",\" \",VLOOKUP(R1928,'Main page'!$E$29:'Main page'!$G$41,3,TRUE))","v":" "}]
[null,null,null,null,null,null,null,null,null,null,null,null," "," "," "," ",{"$f":"IF(I1929=\"\",\"\",IF(I1929<='Main page'!$F$49,\"Core staff\",\"Senior staff\"))","v":""},{"$f":"IF(D1929=\"\",\" \",'Main page'!$F$21-(D1929))","v":" "},{"$f":"IF(D1929=\"\",\" \",VLOOKUP(R1929,'Main page'!$E$29:'Main page'!$G$41,3,TRUE))","v":" "}]
[null,null,null,null,null,null,null,null,null,null,null,null," "," "," "," ",{"$f":"IF(I1930=\"\",\"\",IF(I1930<='Main page'!$F$49,\"Core staff\",\"Senior staff\"))","v":""},{"$f":"IF(D1930=\"\",\" \",'Main page'!$F$21-(D1930))","v":" "},{"$f":"IF(D1930=\"\",\" \",VLOOKUP(R1930,'Main page'!$E$29:'Main page'!$G$41,3,TRUE))","v":" "}]
[null,null,null,null,null,null,null,null,null,null,null,null," "," "," "," ",{"$f":"IF(I1931=\"\",\"\",IF(I1931<='Main page'!$F$49,\"Core staff\",\"Senior staff\"))","v":""},{"$f":"IF(D1931=\"\",\" \",'Main page'!$F$21-(D1931))","v":" "},{"$f":"IF(D1931=\"\",\" \",VLOOKUP(R1931,'Main page'!$E$29:'Main page'!$G$41,3,TRUE))","v":" "}]
[null,null,null,null,null,null,null,null,null,null,null,null," "," "," "," ",{"$f":"IF(I1932=\"\",\"\",IF(I1932<='Main page'!$F$49,\"Core staff\",\"Senior staff\"))","v":""},{"$f":"IF(D1932=\"\",\" \",'Main page'!$F$21-(D1932))","v":" "},{"$f":"IF(D1932=\"\",\" \",VLOOKUP(R1932,'Main page'!$E$29:'Main page'!$G$41,3,TRUE))","v":" "}]
[null,null,null,null,null,null,null,null,null,null,null,null," "," "," "," ",{"$f":"IF(I1933=\"\",\"\",IF(I1933<='Main page'!$F$49,\"Core staff\",\"Senior staff\"))","v":""},{"$f":"IF(D1933=\"\",\" \",'Main page'!$F$21-(D1933))","v":" "},{"$f":"IF(D1933=\"\",\" \",VLOOKUP(R1933,'Main page'!$E$29:'Main page'!$G$41,3,TRUE))","v":" "}]
[null,null,null,null,null,null,null,null,null,null,null,null,{"$f":"IFERROR(J1934/G1934,\" \")","v":" "},{"$f":"IFERROR((M1934/$U$4)/H1934,\" \")","v":" "},{"$f":"IFERROR((N1934*75)*26.083,\" \")","v":" "},{"$f":"IF(G1934=0,\" \",IF(G1934=1,\"Full time\",\"Part time\"))","v":" "},{"$f":"IF(I1934=\"\",\"\",IF(I1934<='Main page'!$F$49,\"Core staff\",\"Senior staff\"))","v":""},{"$f":"IF(D1934=\"\",\" \",'Main page'!$F$21-(D1934))","v":" "},{"$f":"IF(D1934=\"\",\" \",VLOOKUP(R1934,'Main page'!$E$29:'Main page'!$G$41,3,TRUE))","v":" "}]
[null,null,null,null,null,null,null,null,null,null,null,null," "," "," "," ",{"$f":"IF(I1935=\"\",\"\",IF(I1935<='Main page'!$F$49,\"Core staff\",\"Senior staff\"))","v":""},{"$f":"IF(D1935=\"\",\" \",'Main page'!$F$21-(D1935))","v":" "},{"$f":"IF(D1935=\"\",\" \",VLOOKUP(R1935,'Main page'!$E$29:'Main page'!$G$41,3,TRUE))","v":" "}]
[null,null,null,null,null,null,null,null,null,null,null,null," "," "," "," ",{"$f":"IF(I1936=\"\",\"\",IF(I1936<='Main page'!$F$49,\"Core staff\",\"Senior staff\"))","v":""},{"$f":"IF(D1936=\"\",\" \",'Main page'!$F$21-(D1936))","v":" "},{"$f":"IF(D1936=\"\",\" \",VLOOKUP(R1936,'Main page'!$E$29:'Main page'!$G$41,3,TRUE))","v":" "}]
[null,null,null,null,null,null,null,null,null,null,null,null," "," "," "," ",{"$f":"IF(I1937=\"\",\"\",IF(I1937<='Main page'!$F$49,\"Core staff\",\"Senior staff\"))","v":""},{"$f":"IF(D1937=\"\",\" \",'Main page'!$F$21-(D1937))","v":" "},{"$f":"IF(D1937=\"\",\" \",VLOOKUP(R1937,'Main page'!$E$29:'Main page'!$G$41,3,TRUE))","v":" "}]
[null,null,null,null,null,null,null,null,null,null,null,null," "," "," "," ",{"$f":"IF(I1938=\"\",\"\",IF(I1938<='Main page'!$F$49,\"Core staff\",\"Senior staff\"))","v":""},{"$f":"IF(D1938=\"\",\" \",'Main page'!$F$21-(D1938))","v":" "},{"$f":"IF(D1938=\"\",\" \",VLOOKUP(R1938,'Main page'!$E$29:'Main page'!$G$41,3,TRUE))","v":" "}]
[null,null,null,null,null,null,null,null,null,null,null,null," "," "," "," ",{"$f":"IF(I1939=\"\",\"\",IF(I1939<='Main page'!$F$49,\"Core staff\",\"Senior staff\"))","v":""},{"$f":"IF(D1939=\"\",\" \",'Main page'!$F$21-(D1939))","v":" "},{"$f":"IF(D1939=\"\",\" \",VLOOKUP(R1939,'Main page'!$E$29:'Main page'!$G$41,3,TRUE))","v":" "}]
[null,null,null,null,null,null,null,null,null,null,null,null," "," "," "," ",{"$f":"IF(I1940=\"\",\"\",IF(I1940<='Main page'!$F$49,\"Core staff\",\"Senior staff\"))","v":""},{"$f":"IF(D1940=\"\",\" \",'Main page'!$F$21-(D1940))","v":" "},{"$f":"IF(D1940=\"\",\" \",VLOOKUP(R1940,'Main page'!$E$29:'Main page'!$G$41,3,TRUE))","v":" "}]
[null,null,null,null,null,null,null,null,null,null,null,null," "," "," "," ",{"$f":"IF(I1941=\"\",\"\",IF(I1941<='Main page'!$F$49,\"Core staff\",\"Senior staff\"))","v":""},{"$f":"IF(D1941=\"\",\" \",'Main page'!$F$21-(D1941))","v":" "},{"$f":"IF(D1941=\"\",\" \",VLOOKUP(R1941,'Main page'!$E$29:'Main page'!$G$41,3,TRUE))","v":" "}]
[null,null,null,null,null,null,null,null,null,null,null,null," "," "," "," ",{"$f":"IF(I1942=\"\",\"\",IF(I1942<='Main page'!$F$49,\"Core staff\",\"Senior staff\"))","v":""},{"$f":"IF(D1942=\"\",\" \",'Main page'!$F$21-(D1942))","v":" "},{"$f":"IF(D1942=\"\",\" \",VLOOKUP(R1942,'Main page'!$E$29:'Main page'!$G$41,3,TRUE))","v":" "}]
[null,null,null,null,null,null,null,null,null,null,null,null," "," "," "," ",{"$f":"IF(I1943=\"\",\"\",IF(I1943<='Main page'!$F$49,\"Core staff\",\"Senior staff\"))","v":""},{"$f":"IF(D1943=\"\",\" \",'Main page'!$F$21-(D1943))","v":" "},{"$f":"IF(D1943=\"\",\" \",VLOOKUP(R1943,'Main page'!$E$29:'Main page'!$G$41,3,TRUE))","v":" "}]
[null,null,null,null,null,null,null,null,null,null,null,null," "," "," "," ",{"$f":"IF(I1944=\"\",\"\",IF(I1944<='Main page'!$F$49,\"Core staff\",\"Senior staff\"))","v":""},{"$f":"IF(D1944=\"\",\" \",'Main page'!$F$21-(D1944))","v":" "},{"$f":"IF(D1944=\"\",\" \",VLOOKUP(R1944,'Main page'!$E$29:'Main page'!$G$41,3,TRUE))","v":" "}]
[null,null,null,null,null,null,null,null,null,null,null,null," "," "," "," ",{"$f":"IF(I1945=\"\",\"\",IF(I1945<='Main page'!$F$49,\"Core staff\",\"Senior staff\"))","v":""},{"$f":"IF(D1945=\"\",\" \",'Main page'!$F$21-(D1945))","v":" "},{"$f":"IF(D1945=\"\",\" \",VLOOKUP(R1945,'Main page'!$E$29:'Main page'!$G$41,3,TRUE))","v":" "}]
[null,null,null,null,null,null,null,null,null,null,null,null," "," "," "," ",{"$f":"IF(I1946=\"\",\"\",IF(I1946<='Main page'!$F$49,\"Core staff\",\"Senior staff\"))","v":""},{"$f":"IF(D1946=\"\",\" \",'Main page'!$F$21-(D1946))","v":" "},{"$f":"IF(D1946=\"\",\" \",VLOOKUP(R1946,'Main page'!$E$29:'Main page'!$G$41,3,TRUE))","v":" "}]
[null,null,null,null,null,null,null,null,null,null,null,null," "," "," "," ",{"$f":"IF(I1947=\"\",\"\",IF(I1947<='Main page'!$F$49,\"Core staff\",\"Senior staff\"))","v":""},{"$f":"IF(D1947=\"\",\" \",'Main page'!$F$21-(D1947))","v":" "},{"$f":"IF(D1947=\"\",\" \",VLOOKUP(R1947,'Main page'!$E$29:'Main page'!$G$41,3,TRUE))","v":" "}]
[null,null,null,null,null,null,null,null,null,null,null,null," "," "," "," ",{"$f":"IF(I1948=\"\",\"\",IF(I1948<='Main page'!$F$49,\"Core staff\",\"Senior staff\"))","v":""},{"$f":"IF(D1948=\"\",\" \",'Main page'!$F$21-(D1948))","v":" "},{"$f":"IF(D1948=\"\",\" \",VLOOKUP(R1948,'Main page'!$E$29:'Main page'!$G$41,3,TRUE))","v":" "}]
[null,null,null,null,null,null,null,null,null,null,null,null," "," "," "," ",{"$f":"IF(I1949=\"\",\"\",IF(I1949<='Main page'!$F$49,\"Core staff\",\"Senior staff\"))","v":""},{"$f":"IF(D1949=\"\",\" \",'Main page'!$F$21-(D1949))","v":" "},{"$f":"IF(D1949=\"\",\" \",VLOOKUP(R1949,'Main page'!$E$29:'Main page'!$G$41,3,TRUE))","v":" "}]
[null,null,null,null,null,null,null,null,null,null,null,null," "," "," "," ",{"$f":"IF(I1950=\"\",\"\",IF(I1950<='Main page'!$F$49,\"Core staff\",\"Senior staff\"))","v":""},{"$f":"IF(D1950=\"\",\" \",'Main page'!$F$21-(D1950))","v":" "},{"$f":"IF(D1950=\"\",\" \",VLOOKUP(R1950,'Main page'!$E$29:'Main page'!$G$41,3,TRUE))","v":" "}]
[null,null,null,null,null,null,null,null,null,null,null,null," "," "," "," ",{"$f":"IF(I1951=\"\",\"\",IF(I1951<='Main page'!$F$49,\"Core staff\",\"Senior staff\"))","v":""},{"$f":"IF(D1951=\"\",\" \",'Main page'!$F$21-(D1951))","v":" "},{"$f":"IF(D1951=\"\",\" \",VLOOKUP(R1951,'Main page'!$E$29:'Main page'!$G$41,3,TRUE))","v":" "}]
[null,null,null,null,null,null,null,null,null,null,null,null," "," "," "," ",{"$f":"IF(I1952=\"\",\"\",IF(I1952<='Main page'!$F$49,\"Core staff\",\"Senior staff\"))","v":""},{"$f":"IF(D1952=\"\",\" \",'Main page'!$F$21-(D1952))","v":" "},{"$f":"IF(D1952=\"\",\" \",VLOOKUP(R1952,'Main page'!$E$29:'Main page'!$G$41,3,TRUE))","v":" "}]
[null,null,null,null,null,null,null,null,null,null,null,null," "," "," "," ",{"$f":"IF(I1953=\"\",\"\",IF(I1953<='Main page'!$F$49,\"Core staff\",\"Senior staff\"))","v":""},{"$f":"IF(D1953=\"\",\" \",'Main page'!$F$21-(D1953))","v":" "},{"$f":"IF(D1953=\"\",\" \",VLOOKUP(R1953,'Main page'!$E$29:'Main page'!$G$41,3,TRUE))","v":" "}]
[null,null,null,null,null,null,null,null,null,null,null,null," "," "," "," ",{"$f":"IF(I1954=\"\",\"\",IF(I1954<='Main page'!$F$49,\"Core staff\",\"Senior staff\"))","v":""},{"$f":"IF(D1954=\"\",\" \",'Main page'!$F$21-(D1954))","v":" "},{"$f":"IF(D1954=\"\",\" \",VLOOKUP(R1954,'Main page'!$E$29:'Main page'!$G$41,3,TRUE))","v":" "}]
[null,null,null,null,null,null,null,null,null,null,null,null," "," "," "," ",{"$f":"IF(I1955=\"\",\"\",IF(I1955<='Main page'!$F$49,\"Core staff\",\"Senior staff\"))","v":""},{"$f":"IF(D1955=\"\",\" \",'Main page'!$F$21-(D1955))","v":" "},{"$f":"IF(D1955=\"\",\" \",VLOOKUP(R1955,'Main page'!$E$29:'Main page'!$G$41,3,TRUE))","v":" "}]
[null,null,null,null,null,null,null,null,null,null,null,null," "," "," "," ",{"$f":"IF(I1956=\"\",\"\",IF(I1956<='Main page'!$F$49,\"Core staff\",\"Senior staff\"))","v":""},{"$f":"IF(D1956=\"\",\" \",'Main page'!$F$21-(D1956))","v":" "},{"$f":"IF(D1956=\"\",\" \",VLOOKUP(R1956,'Main page'!$E$29:'Main page'!$G$41,3,TRUE))","v":" "}]
[null,null,null,null,null,null,null,null,null,null,null,null," "," "," "," ",{"$f":"IF(I1957=\"\",\"\",IF(I1957<='Main page'!$F$49,\"Core staff\",\"Senior staff\"))","v":""},{"$f":"IF(D1957=\"\",\" \",'Main page'!$F$21-(D1957))","v":" "},{"$f":"IF(D1957=\"\",\" \",VLOOKUP(R1957,'Main page'!$E$29:'Main page'!$G$41,3,TRUE))","v":" "}]
[null,null,null,null,null,null,null,null,null,null,null,null," "," "," "," ",{"$f":"IF(I1958=\"\",\"\",IF(I1958<='Main page'!$F$49,\"Core staff\",\"Senior staff\"))","v":""},{"$f":"IF(D1958=\"\",\" \",'Main page'!$F$21-(D1958))","v":" "},{"$f":"IF(D1958=\"\",\" \",VLOOKUP(R1958,'Main page'!$E$29:'Main page'!$G$41,3,TRUE))","v":" "}]
[null,null,null,null,null,null,null,null,null,null,null,null," "," "," "," ",{"$f":"IF(I1959=\"\",\"\",IF(I1959<='Main page'!$F$49,\"Core staff\",\"Senior staff\"))","v":""},{"$f":"IF(D1959=\"\",\" \",'Main page'!$F$21-(D1959))","v":" "},{"$f":"IF(D1959=\"\",\" \",VLOOKUP(R1959,'Main page'!$E$29:'Main page'!$G$41,3,TRUE))","v":" "}]
[null,null,null,null,null,null,null,null,null,null,null,null," "," "," "," ",{"$f":"IF(I1960=\"\",\"\",IF(I1960<='Main page'!$F$49,\"Core staff\",\"Senior staff\"))","v":""},{"$f":"IF(D1960=\"\",\" \",'Main page'!$F$21-(D1960))","v":" "},{"$f":"IF(D1960=\"\",\" \",VLOOKUP(R1960,'Main page'!$E$29:'Main page'!$G$41,3,TRUE))","v":" "}]
[null,null,null,null,null,null,null,null,null,null,null,null," "," "," "," ",{"$f":"IF(I1961=\"\",\"\",IF(I1961<='Main page'!$F$49,\"Core staff\",\"Senior staff\"))","v":""},{"$f":"IF(D1961=\"\",\" \",'Main page'!$F$21-(D1961))","v":" "},{"$f":"IF(D1961=\"\",\" \",VLOOKUP(R1961,'Main page'!$E$29:'Main page'!$G$41,3,TRUE))","v":" "}]
[null,null,null,null,null,null,null,null,null,null,null,null," "," "," "," ",{"$f":"IF(I1962=\"\",\"\",IF(I1962<='Main page'!$F$49,\"Core staff\",\"Senior staff\"))","v":""},{"$f":"IF(D1962=\"\",\" \",'Main page'!$F$21-(D1962))","v":" "},{"$f":"IF(D1962=\"\",\" \",VLOOKUP(R1962,'Main page'!$E$29:'Main page'!$G$41,3,TRUE))","v":" "}]
[null,null,null,null,null,null,null,null,null,null,null,null," "," "," "," ",{"$f":"IF(I1963=\"\",\"\",IF(I1963<='Main page'!$F$49,\"Core staff\",\"Senior staff\"))","v":""},{"$f":"IF(D1963=\"\",\" \",'Main page'!$F$21-(D1963))","v":" "},{"$f":"IF(D1963=\"\",\" \",VLOOKUP(R1963,'Main page'!$E$29:'Main page'!$G$41,3,TRUE))","v":" "}]
[null,null,null,null,null,null,null,null,null,null,null,null," "," "," "," ",{"$f":"IF(I1964=\"\",\"\",IF(I1964<='Main page'!$F$49,\"Core staff\",\"Senior staff\"))","v":""},{"$f":"IF(D1964=\"\",\" \",'Main page'!$F$21-(D1964))","v":" "},{"$f":"IF(D1964=\"\",\" \",VLOOKUP(R1964,'Main page'!$E$29:'Main page'!$G$41,3,TRUE))","v":" "}]
[null,null,null,null,null,null,null,null,null,null,null,null," "," "," "," ",{"$f":"IF(I1965=\"\",\"\",IF(I1965<='Main page'!$F$49,\"Core staff\",\"Senior staff\"))","v":""},{"$f":"IF(D1965=\"\",\" \",'Main page'!$F$21-(D1965))","v":" "},{"$f":"IF(D1965=\"\",\" \",VLOOKUP(R1965,'Main page'!$E$29:'Main page'!$G$41,3,TRUE))","v":" "}]
[null,null,null,null,null,null,null,null,null,null,null,null," "," "," "," ",{"$f":"IF(I1966=\"\",\"\",IF(I1966<='Main page'!$F$49,\"Core staff\",\"Senior staff\"))","v":""},{"$f":"IF(D1966=\"\",\" \",'Main page'!$F$21-(D1966))","v":" "},{"$f":"IF(D1966=\"\",\" \",VLOOKUP(R1966,'Main page'!$E$29:'Main page'!$G$41,3,TRUE))","v":" "}]
[null,null,null,null,null,null,null,null,null,null,null,null," "," "," "," ",{"$f":"IF(I1967=\"\",\"\",IF(I1967<='Main page'!$F$49,\"Core staff\",\"Senior staff\"))","v":""},{"$f":"IF(D1967=\"\",\" \",'Main page'!$F$21-(D1967))","v":" "},{"$f":"IF(D1967=\"\",\" \",VLOOKUP(R1967,'Main page'!$E$29:'Main page'!$G$41,3,TRUE))","v":" "}]
[null,null,null,null,null,null,null,null,null,null,null,null," "," "," "," ",{"$f":"IF(I1968=\"\",\"\",IF(I1968<='Main page'!$F$49,\"Core staff\",\"Senior staff\"))","v":""},{"$f":"IF(D1968=\"\",\" \",'Main page'!$F$21-(D1968))","v":" "},{"$f":"IF(D1968=\"\",\" \",VLOOKUP(R1968,'Main page'!$E$29:'Main page'!$G$41,3,TRUE))","v":" "}]
[null,null,null,null,null,null,null,null,null,null,null,null," "," "," "," ",{"$f":"IF(I1969=\"\",\"\",IF(I1969<='Main page'!$F$49,\"Core staff\",\"Senior staff\"))","v":""},{"$f":"IF(D1969=\"\",\" \",'Main page'!$F$21-(D1969))","v":" "},{"$f":"IF(D1969=\"\",\" \",VLOOKUP(R1969,'Main page'!$E$29:'Main page'!$G$41,3,TRUE))","v":" "}]
[null,null,null,null,null,null,null,null,null,null,null,null," "," "," "," ",{"$f":"IF(I1970=\"\",\"\",IF(I1970<='Main page'!$F$49,\"Core staff\",\"Senior staff\"))","v":""},{"$f":"IF(D1970=\"\",\" \",'Main page'!$F$21-(D1970))","v":" "},{"$f":"IF(D1970=\"\",\" \",VLOOKUP(R1970,'Main page'!$E$29:'Main page'!$G$41,3,TRUE))","v":" "}]
[null,null,null,null,null,null,null,null,null,null,null,null," "," "," "," ",{"$f":"IF(I1971=\"\",\"\",IF(I1971<='Main page'!$F$49,\"Core staff\",\"Senior staff\"))","v":""},{"$f":"IF(D1971=\"\",\" \",'Main page'!$F$21-(D1971))","v":" "},{"$f":"IF(D1971=\"\",\" \",VLOOKUP(R1971,'Main page'!$E$29:'Main page'!$G$41,3,TRUE))","v":" "}]
[null,null,null,null,null,null,null,null,null,null,null,null," "," "," "," ",{"$f":"IF(I1972=\"\",\"\",IF(I1972<='Main page'!$F$49,\"Core staff\",\"Senior staff\"))","v":""},{"$f":"IF(D1972=\"\",\" \",'Main page'!$F$21-(D1972))","v":" "},{"$f":"IF(D1972=\"\",\" \",VLOOKUP(R1972,'Main page'!$E$29:'Main page'!$G$41,3,TRUE))","v":" "}]
[null,null,null,null,null,null,null,null,null,null,null,null," "," "," "," ",{"$f":"IF(I1973=\"\",\"\",IF(I1973<='Main page'!$F$49,\"Core staff\",\"Senior staff\"))","v":""},{"$f":"IF(D1973=\"\",\" \",'Main page'!$F$21-(D1973))","v":" "},{"$f":"IF(D1973=\"\",\" \",VLOOKUP(R1973,'Main page'!$E$29:'Main page'!$G$41,3,TRUE))","v":" "}]
[null,null,null,null,null,null,null,null,null,null,null,null," "," "," "," ",{"$f":"IF(I1974=\"\",\"\",IF(I1974<='Main page'!$F$49,\"Core staff\",\"Senior staff\"))","v":""},{"$f":"IF(D1974=\"\",\" \",'Main page'!$F$21-(D1974))","v":" "},{"$f":"IF(D1974=\"\",\" \",VLOOKUP(R1974,'Main page'!$E$29:'Main page'!$G$41,3,TRUE))","v":" "}]
[null,null,null,null,null,null,null,null,null,null,null,null," "," "," "," ",{"$f":"IF(I1975=\"\",\"\",IF(I1975<='Main page'!$F$49,\"Core staff\",\"Senior staff\"))","v":""},{"$f":"IF(D1975=\"\",\" \",'Main page'!$F$21-(D1975))","v":" "},{"$f":"IF(D1975=\"\",\" \",VLOOKUP(R1975,'Main page'!$E$29:'Main page'!$G$41,3,TRUE))","v":" "}]
[null,null,null,null,null,null,null,null,null,null,null,null," "," "," "," ",{"$f":"IF(I1976=\"\",\"\",IF(I1976<='Main page'!$F$49,\"Core staff\",\"Senior staff\"))","v":""},{"$f":"IF(D1976=\"\",\" \",'Main page'!$F$21-(D1976))","v":" "},{"$f":"IF(D1976=\"\",\" \",VLOOKUP(R1976,'Main page'!$E$29:'Main page'!$G$41,3,TRUE))","v":" "}]
[null,null,null,null,null,null,null,null,null,null,null,null," "," "," "," ",{"$f":"IF(I1977=\"\",\"\",IF(I1977<='Main page'!$F$49,\"Core staff\",\"Senior staff\"))","v":""},{"$f":"IF(D1977=\"\",\" \",'Main page'!$F$21-(D1977))","v":" "},{"$f":"IF(D1977=\"\",\" \",VLOOKUP(R1977,'Main page'!$E$29:'Main page'!$G$41,3,TRUE))","v":" "}]
[null,null,null,null,null,null,null,null,null,null,null,null," "," "," "," ",{"$f":"IF(I1978=\"\",\"\",IF(I1978<='Main page'!$F$49,\"Core staff\",\"Senior staff\"))","v":""},{"$f":"IF(D1978=\"\",\" \",'Main page'!$F$21-(D1978))","v":" "},{"$f":"IF(D1978=\"\",\" \",VLOOKUP(R1978,'Main page'!$E$29:'Main page'!$G$41,3,TRUE))","v":" "}]
[null,null,null,null,null,null,null,null,null,null,null,null," "," "," "," ",{"$f":"IF(I1979=\"\",\"\",IF(I1979<='Main page'!$F$49,\"Core staff\",\"Senior staff\"))","v":""},{"$f":"IF(D1979=\"\",\" \",'Main page'!$F$21-(D1979))","v":" "},{"$f":"IF(D1979=\"\",\" \",VLOOKUP(R1979,'Main page'!$E$29:'Main page'!$G$41,3,TRUE))","v":" "}]
[null,null,null,null,null,null,null,null,null,null,null,null," "," "," "," ",{"$f":"IF(I1980=\"\",\"\",IF(I1980<='Main page'!$F$49,\"Core staff\",\"Senior staff\"))","v":""},{"$f":"IF(D1980=\"\",\" \",'Main page'!$F$21-(D1980))","v":" "},{"$f":"IF(D1980=\"\",\" \",VLOOKUP(R1980,'Main page'!$E$29:'Main page'!$G$41,3,TRUE))","v":" "}]
[null,null,null,null,null,null,null,null,null,null,null,null," "," "," "," ",{"$f":"IF(I1981=\"\",\"\",IF(I1981<='Main page'!$F$49,\"Core staff\",\"Senior staff\"))","v":""},{"$f":"IF(D1981=\"\",\" \",'Main page'!$F$21-(D1981))","v":" "},{"$f":"IF(D1981=\"\",\" \",VLOOKUP(R1981,'Main page'!$E$29:'Main page'!$G$41,3,TRUE))","v":" "}]
[null,null,null,null,null,null,null,null,null,null,null,null," "," "," "," ",{"$f":"IF(I1982=\"\",\"\",IF(I1982<='Main page'!$F$49,\"Core staff\",\"Senior staff\"))","v":""},{"$f":"IF(D1982=\"\",\" \",'Main page'!$F$21-(D1982))","v":" "},{"$f":"IF(D1982=\"\",\" \",VLOOKUP(R1982,'Main page'!$E$29:'Main page'!$G$41,3,TRUE))","v":" "}]
[null,null,null,null,null,null,null,null,null,null,null,null," "," "," "," ",{"$f":"IF(I1983=\"\",\"\",IF(I1983<='Main page'!$F$49,\"Core staff\",\"Senior staff\"))","v":""},{"$f":"IF(D1983=\"\",\" \",'Main page'!$F$21-(D1983))","v":" "},{"$f":"IF(D1983=\"\",\" \",VLOOKUP(R1983,'Main page'!$E$29:'Main page'!$G$41,3,TRUE))","v":" "}]
[null,null,null,null,null,null,null,null,null,null,null,null," "," "," "," ",{"$f":"IF(I1984=\"\",\"\",IF(I1984<='Main page'!$F$49,\"Core staff\",\"Senior staff\"))","v":""},{"$f":"IF(D1984=\"\",\" \",'Main page'!$F$21-(D1984))","v":" "},{"$f":"IF(D1984=\"\",\" \",VLOOKUP(R1984,'Main page'!$E$29:'Main page'!$G$41,3,TRUE))","v":" "}]
[null,null,null,null,null,null,null,null,null,null,null,null," "," "," "," ",{"$f":"IF(I1985=\"\",\"\",IF(I1985<='Main page'!$F$49,\"Core staff\",\"Senior staff\"))","v":""},{"$f":"IF(D1985=\"\",\" \",'Main page'!$F$21-(D1985))","v":" "},{"$f":"IF(D1985=\"\",\" \",VLOOKUP(R1985,'Main page'!$E$29:'Main page'!$G$41,3,TRUE))","v":" "}]
[null,null,null,null,null,null,null,null,null,null,null,null," "," "," "," ",{"$f":"IF(I1986=\"\",\"\",IF(I1986<='Main page'!$F$49,\"Core staff\",\"Senior staff\"))","v":""},{"$f":"IF(D1986=\"\",\" \",'Main page'!$F$21-(D1986))","v":" "},{"$f":"IF(D1986=\"\",\" \",VLOOKUP(R1986,'Main page'!$E$29:'Main page'!$G$41,3,TRUE))","v":" "}]
[null,null,null,null,null,null,null,null,null,null,null,null," "," "," "," ",{"$f":"IF(I1987=\"\",\"\",IF(I1987<='Main page'!$F$49,\"Core staff\",\"Senior staff\"))","v":""},{"$f":"IF(D1987=\"\",\" \",'Main page'!$F$21-(D1987))","v":" "},{"$f":"IF(D1987=\"\",\" \",VLOOKUP(R1987,'Main page'!$E$29:'Main page'!$G$41,3,TRUE))","v":" "}]
[null,null,null,null,null,null,null,null,null,null,null,null," "," "," "," ",{"$f":"IF(I1988=\"\",\"\",IF(I1988<='Main page'!$F$49,\"Core staff\",\"Senior staff\"))","v":""},{"$f":"IF(D1988=\"\",\" \",'Main page'!$F$21-(D1988))","v":" "},{"$f":"IF(D1988=\"\",\" \",VLOOKUP(R1988,'Main page'!$E$29:'Main page'!$G$41,3,TRUE))","v":" "}]
[null,null,null,null,null,null,null,null,null,null,null,null," "," "," "," ",{"$f":"IF(I1989=\"\",\"\",IF(I1989<='Main page'!$F$49,\"Core staff\",\"Senior staff\"))","v":""},{"$f":"IF(D1989=\"\",\" \",'Main page'!$F$21-(D1989))","v":" "},{"$f":"IF(D1989=\"\",\" \",VLOOKUP(R1989,'Main page'!$E$29:'Main page'!$G$41,3,TRUE))","v":" "}]
[null,null,null,null,null,null,null,null,null,null,null,null," "," "," "," ",{"$f":"IF(I1990=\"\",\"\",IF(I1990<='Main page'!$F$49,\"Core staff\",\"Senior staff\"))","v":""},{"$f":"IF(D1990=\"\",\" \",'Main page'!$F$21-(D1990))","v":" "},{"$f":"IF(D1990=\"\",\" \",VLOOKUP(R1990,'Main page'!$E$29:'Main page'!$G$41,3,TRUE))","v":" "}]
[null,null,null,null,null,null,null,null,null,null,null,null," "," "," "," ",{"$f":"IF(I1991=\"\",\"\",IF(I1991<='Main page'!$F$49,\"Core staff\",\"Senior staff\"))","v":""},{"$f":"IF(D1991=\"\",\" \",'Main page'!$F$21-(D1991))","v":" "},{"$f":"IF(D1991=\"\",\" \",VLOOKUP(R1991,'Main page'!$E$29:'Main page'!$G$41,3,TRUE))","v":" "}]
[null,null,null,null,null,null,null,null,null,null,null,null," "," "," "," ",{"$f":"IF(I1992=\"\",\"\",IF(I1992<='Main page'!$F$49,\"Core staff\",\"Senior staff\"))","v":""},{"$f":"IF(D1992=\"\",\" \",'Main page'!$F$21-(D1992))","v":" "},{"$f":"IF(D1992=\"\",\" \",VLOOKUP(R1992,'Main page'!$E$29:'Main page'!$G$41,3,TRUE))","v":" "}]
[null,null,null,null,null,null,null,null,null,null,null,null," "," "," "," ",{"$f":"IF(I1993=\"\",\"\",IF(I1993<='Main page'!$F$49,\"Core staff\",\"Senior staff\"))","v":""},{"$f":"IF(D1993=\"\",\" \",'Main page'!$F$21-(D1993))","v":" "},{"$f":"IF(D1993=\"\",\" \",VLOOKUP(R1993,'Main page'!$E$29:'Main page'!$G$41,3,TRUE))","v":" "}]
[null,null,null,null,null,null,null,null,null,null,null,null," "," "," "," ",{"$f":"IF(I1994=\"\",\"\",IF(I1994<='Main page'!$F$49,\"Core staff\",\"Senior staff\"))","v":""},{"$f":"IF(D1994=\"\",\" \",'Main page'!$F$21-(D1994))","v":" "},{"$f":"IF(D1994=\"\",\" \",VLOOKUP(R1994,'Main page'!$E$29:'Main page'!$G$41,3,TRUE))","v":" "}]
[null,null,null,null,null,null,null,null,null,null,null,null," "," "," "," ",{"$f":"IF(I1995=\"\",\"\",IF(I1995<='Main page'!$F$49,\"Core staff\",\"Senior staff\"))","v":""},{"$f":"IF(D1995=\"\",\" \",'Main page'!$F$21-(D1995))","v":" "},{"$f":"IF(D1995=\"\",\" \",VLOOKUP(R1995,'Main page'!$E$29:'Main page'!$G$41,3,TRUE))","v":" "}]
[null,null,null,null,null,null,null,null,null,null,null,null," "," "," "," ",{"$f":"IF(I1996=\"\",\"\",IF(I1996<='Main page'!$F$49,\"Core staff\",\"Senior staff\"))","v":""},{"$f":"IF(D1996=\"\",\" \",'Main page'!$F$21-(D1996))","v":" "},{"$f":"IF(D1996=\"\",\" \",VLOOKUP(R1996,'Main page'!$E$29:'Main page'!$G$41,3,TRUE))","v":" "}]
[null,null,null,null,null,null,null,null,null,null,null,null," "," "," "," ",{"$f":"IF(I1997=\"\",\"\",IF(I1997<='Main page'!$F$49,\"Core staff\",\"Senior staff\"))","v":""},{"$f":"IF(D1997=\"\",\" \",'Main page'!$F$21-(D1997))","v":" "},{"$f":"IF(D1997=\"\",\" \",VLOOKUP(R1997,'Main page'!$E$29:'Main page'!$G$41,3,TRUE))","v":" "}]
[null,null,null,null,null,null,null,null,null,null,null,null,{"$f":"IFERROR(J1998/G1998,\" \")","v":" "},{"$f":"IFERROR((M1998/$U$4)/H1998,\" \")","v":" "},{"$f":"IFERROR((N1998*75)*26.083,\" \")","v":" "},{"$f":"IF(G1998=0,\" \",IF(G1998=1,\"Full time\",\"Part time\"))","v":" "},{"$f":"IF(I1998=\"\",\"\",IF(I1998<='Main page'!$F$49,\"Core staff\",\"Senior staff\"))","v":""},{"$f":"IF(D1998=\"\",\" \",'Main page'!$F$21-(D1998))","v":" "},{"$f":"IF(D1998=\"\",\" \",VLOOKUP(R1998,'Main page'!$E$29:'Main page'!$G$41,3,TRUE))","v":" "}]
[null,null,null,null,null,null,null,null,null,null,null,null," "," "," "," ",{"$f":"IF(I1999=\"\",\"\",IF(I1999<='Main page'!$F$49,\"Core staff\",\"Senior staff\"))","v":""},{"$f":"IF(D1999=\"\",\" \",'Main page'!$F$21-(D1999))","v":" "},{"$f":"IF(D1999=\"\",\" \",VLOOKUP(R1999,'Main page'!$E$29:'Main page'!$G$41,3,TRUE))","v":" "}]
[null,null,null,null,null,null,null,null,null,null,null,null," "," "," "," ",{"$f":"IF(I2000=\"\",\"\",IF(I2000<='Main page'!$F$49,\"Core staff\",\"Senior staff\"))","v":""},{"$f":"IF(D2000=\"\",\" \",'Main page'!$F$21-(D2000))","v":" "},{"$f":"IF(D2000=\"\",\" \",VLOOKUP(R2000,'Main page'!$E$29:'Main page'!$G$41,3,TRUE))","v":" "}]
[null,null,null,null,null,null,null,null,null,null,null,null," "," "," "," ",{"$f":"IF(I2002=\"\",\"\",IF(I2002<='Main page'!$F$49,\"Core staff\",\"Senior staff\"))","v":""},{"$f":"IF(D2002=\"\",\" \",'Main page'!$F$21-(D2002))","v":" "},{"$f":"IF(D2002=\"\",\" \",VLOOKUP(R2002,'Main page'!$E$29:'Main page'!$G$41,3,TRUE))","v":" "}]
[null,null,null,null,null,null,null,null,null,null,null,null," "," "," "," ",{"$f":"IF(I2013=\"\",\"\",IF(I2013<='Main page'!$F$49,\"Core staff\",\"Senior staff\"))","v":""},{"$f":"IF(D2013=\"\",\" \",'Main page'!$F$21-(D2013))","v":" "},{"$f":"IF(D2013=\"\",\" \",VLOOKUP(R2013,'Main page'!$E$29:'Main page'!$G$41,3,TRUE))","v":" "}]
[null,null,null,null,null,null,null,null,null,null,null,null," "," "," "," ",{"$f":"IF(I2025=\"\",\"\",IF(I2025<='Main page'!$F$49,\"Core staff\",\"Senior staff\"))","v":""},{"$f":"IF(D2025=\"\",\" \",'Main page'!$F$21-(D2025))","v":" "},{"$f":"IF(D2025=\"\",\" \",VLOOKUP(R2025,'Main page'!$E$29:'Main page'!$G$41,3,TRUE))","v":" "}]
[null,null,null,null,null,null,null,null,null,null,null,null," "," "," "," ",{"$f":"IF(I2032=\"\",\"\",IF(I2032<='Main page'!$F$49,\"Core staff\",\"Senior staff\"))","v":""},{"$f":"IF(D2032=\"\",\" \",'Main page'!$F$21-(D2032))","v":" "},{"$f":"IF(D2032=\"\",\" \",VLOOKUP(R2032,'Main page'!$E$29:'Main page'!$G$41,3,TRUE))","v":" "}]
[null,null,null,null,null,null,null,null,null,null,null,null," "," "," "," ",{"$f":"IF(I2041=\"\",\"\",IF(I2041<='Main page'!$F$49,\"Core staff\",\"Senior staff\"))","v":""},{"$f":"IF(D2041=\"\",\" \",'Main page'!$F$21-(D2041))","v":" "},{"$f":"IF(D2041=\"\",\" \",VLOOKUP(R2041,'Main page'!$E$29:'Main page'!$G$41,3,TRUE))","v":" "}]
[null,null,null,null,null,null,null,null,null,null,null,null," "," "," "," ",{"$f":"IF(I2046=\"\",\"\",IF(I2046<='Main page'!$F$49,\"Core staff\",\"Senior staff\"))","v":""},{"$f":"IF(D2046=\"\",\" \",'Main page'!$F$21-(D2046))","v":" "},{"$f":"IF(D2046=\"\",\" \",VLOOKUP(R2046,'Main page'!$E$29:'Main page'!$G$41,3,TRUE))","v":" "}]
[null,null,null,null,null,null,null,null,null,null,null,null," "," "," "," ",{"$f":"IF(I2053=\"\",\"\",IF(I2053<='Main page'!$F$49,\"Core staff\",\"Senior staff\"))","v":""},{"$f":"IF(D2053=\"\",\" \",'Main page'!$F$21-(D2053))","v":" "},{"$f":"IF(D2053=\"\",\" \",VLOOKUP(R2053,'Main page'!$E$29:'Main page'!$G$41,3,TRUE))","v":" "}]
[null,null,null,null,null,null,null,null,null,null,null,null," "," "," "," ",{"$f":"IF(I2065=\"\",\"\",IF(I2065<='Main page'!$F$49,\"Core staff\",\"Senior staff\"))","v":""},{"$f":"IF(D2065=\"\",\" \",'Main page'!$F$21-(D2065))","v":" "},{"$f":"IF(D2065=\"\",\" \",VLOOKUP(R2065,'Main page'!$E$29:'Main page'!$G$41,3,TRUE))","v":" "}]
[null,null,null,null,null,null,null,null,null,null,null,null," "," "," "," ",{"$f":"IF(I2072=\"\",\"\",IF(I2072<='Main page'!$F$49,\"Core staff\",\"Senior staff\"))","v":""},{"$f":"IF(D2072=\"\",\" \",'Main page'!$F$21-(D2072))","v":" "},{"$f":"IF(D2072=\"\",\" \",VLOOKUP(R2072,'Main page'!$E$29:'Main page'!$G$41,3,TRUE))","v":" "}]
[null,null,null,null,null,null,null,null,null,null,null,null," "," "," "," ",{"$f":"IF(I2083=\"\",\"\",IF(I2083<='Main page'!$F$49,\"Core staff\",\"Senior staff\"))","v":""},{"$f":"IF(D2083=\"\",\" \",'Main page'!$F$21-(D2083))","v":" "},{"$f":"IF(D2083=\"\",\" \",VLOOKUP(R2083,'Main page'!$E$29:'Main page'!$G$41,3,TRUE))","v":" "}]
[null,null,null,null,null,null,null,null,null,null,null,null," "," "," "," ",{"$f":"IF(I2095=\"\",\"\",IF(I2095<='Main page'!$F$49,\"Core staff\",\"Senior staff\"))","v":""},{"$f":"IF(D2095=\"\",\" \",'Main page'!$F$21-(D2095))","v":" "},{"$f":"IF(D2095=\"\",\" \",VLOOKUP(R2095,'Main page'!$E$29:'Main page'!$G$41,3,TRUE))","v":" "}]
[null,null,null,null,null,null,null,null,null,null,null,null," "," "," "," ",{"$f":"IF(I2102=\"\",\"\",IF(I2102<='Main page'!$F$49,\"Core staff\",\"Senior staff\"))","v":""},{"$f":"IF(D2102=\"\",\" \",'Main page'!$F$21-(D2102))","v":" "},{"$f":"IF(D2102=\"\",\" \",VLOOKUP(R2102,'Main page'!$E$29:'Main page'!$G$41,3,TRUE))","v":" "}]
[null,null,null,null,null,null,null,null,null,null,null,null," "," "," "," ",{"$f":"IF(I2111=\"\",\"\",IF(I2111<='Main page'!$F$49,\"Core staff\",\"Senior staff\"))","v":""},{"$f":"IF(D2111=\"\",\" \",'Main page'!$F$21-(D2111))","v":" "},{"$f":"IF(D2111=\"\",\" \",VLOOKUP(R2111,'Main page'!$E$29:'Main page'!$G$41,3,TRUE))","v":" "}]
[null,null,null,null,null,null,null,null,null,null,null,null," "," "," "," ",{"$f":"IF(I2116=\"\",\"\",IF(I2116<='Main page'!$F$49,\"Core staff\",\"Senior staff\"))","v":""},{"$f":"IF(D2116=\"\",\" \",'Main page'!$F$21-(D2116))","v":" "},{"$f":"IF(D2116=\"\",\" \",VLOOKUP(R2116,'Main page'!$E$29:'Main page'!$G$41,3,TRUE))","v":" "}]
[null,null,null,null,null,null,null,null,null,null,null,null," "," "," "," ",{"$f":"IF(I2123=\"\",\"\",IF(I2123<='Main page'!$F$49,\"Core staff\",\"Senior staff\"))","v":""},{"$f":"IF(D2123=\"\",\" \",'Main page'!$F$21-(D2123))","v":" "},{"$f":"IF(D2123=\"\",\" \",VLOOKUP(R2123,'Main page'!$E$29:'Main page'!$G$41,3,TRUE))","v":" "}]
[null,null,null,null,null,null,null,null,null,null,null,null," "," "," "," ",{"$f":"IF(I2135=\"\",\"\",IF(I2135<='Main page'!$F$49,\"Core staff\",\"Senior staff\"))","v":""},{"$f":"IF(D2135=\"\",\" \",'Main page'!$F$21-(D2135))","v":" "},{"$f":"IF(D2135=\"\",\" \",VLOOKUP(R2135,'Main page'!$E$29:'Main page'!$G$41,3,TRUE))","v":" "}]
[null,null,null,null,null,null,null,null,null,null,null,null," "," "," "," ",{"$f":"IF(I2142=\"\",\"\",IF(I2142<='Main page'!$F$49,\"Core staff\",\"Senior staff\"))","v":""},{"$f":"IF(D2142=\"\",\" \",'Main page'!$F$21-(D2142))","v":" "},{"$f":"IF(D2142=\"\",\" \",VLOOKUP(R2142,'Main page'!$E$29:'Main page'!$G$41,3,TRUE))","v":" "}]
[null,null,null,null,null,null,null,null,null,null,null,null," "," "," "," ",{"$f":"IF(I2153=\"\",\"\",IF(I2153<='Main page'!$F$49,\"Core staff\",\"Senior staff\"))","v":""},{"$f":"IF(D2153=\"\",\" \",'Main page'!$F$21-(D2153))","v":" "},{"$f":"IF(D2153=\"\",\" \",VLOOKUP(R2153,'Main page'!$E$29:'Main page'!$G$41,3,TRUE))","v":" "}]
[null,null,null,null,null,null,null,null,null,null,null,null," "," "," "," ",{"$f":"IF(I2165=\"\",\"\",IF(I2165<='Main page'!$F$49,\"Core staff\",\"Senior staff\"))","v":""},{"$f":"IF(D2165=\"\",\" \",'Main page'!$F$21-(D2165))","v":" "},{"$f":"IF(D2165=\"\",\" \",VLOOKUP(R2165,'Main page'!$E$29:'Main page'!$G$41,3,TRUE))","v":" "}]
[null,null,null,null,null,null,null,null,null,null,null,null," "," "," "," ",{"$f":"IF(I2172=\"\",\"\",IF(I2172<='Main page'!$F$49,\"Core staff\",\"Senior staff\"))","v":""},{"$f":"IF(D2172=\"\",\" \",'Main page'!$F$21-(D2172))","v":" "},{"$f":"IF(D2172=\"\",\" \",VLOOKUP(R2172,'Main page'!$E$29:'Main page'!$G$41,3,TRUE))","v":" "}]
[null,null,null,null,null,null,null,null,null,null,null,null," "," "," "," ",{"$f":"IF(I2181=\"\",\"\",IF(I2181<='Main page'!$F$49,\"Core staff\",\"Senior staff\"))","v":""},{"$f":"IF(D2181=\"\",\" \",'Main page'!$F$21-(D2181))","v":" "},{"$f":"IF(D2181=\"\",\" \",VLOOKUP(R2181,'Main page'!$E$29:'Main page'!$G$41,3,TRUE))","v":" "}]
[null,null,null,null,null,null,null,null,null,null,null,null,{"$f":"IFERROR(J2190/G2190,\" \")","v":" "},{"$f":"IFERROR((M2190/$U$4)/H2190,\" \")","v":" "},{"$f":"IFERROR((N2190*75)*26.083,\" \")","v":" "},{"$f":"IF(G2190=0,\" \",IF(G2190=1,\"Full time\",\"Part time\"))","v":" "},{"$f":"IF(I2190=\"\",\"\",IF(I2190<='Main page'!$F$49,\"Core staff\",\"Senior staff\"))","v":""},{"$f":"IF(D2190=\"\",\" \",'Main page'!$F$21-(D2190))","v":" "},{"$f":"IF(D2190=\"\",\" \",VLOOKUP(R2190,'Main page'!$E$29:'Main page'!$G$41,3,TRUE))","v":" "}]
[null,null,null,null,null,null,null,null,null,null,null,null," "," "," "," ",{"$f":"IF(I2193=\"\",\"\",IF(I2193<='Main page'!$F$49,\"Core staff\",\"Senior staff\"))","v":""},{"$f":"IF(D2193=\"\",\" \",'Main page'!$F$21-(D2193))","v":" "},{"$f":"IF(D2193=\"\",\" \",VLOOKUP(R2193,'Main page'!$E$29:'Main page'!$G$41,3,TRUE))","v":" "}]
[null,null,null,null,null,null,null,null,null,null,null,null," "," "," "," ",{"$f":"IF(I2205=\"\",\"\",IF(I2205<='Main page'!$F$49,\"Core staff\",\"Senior staff\"))","v":""},{"$f":"IF(D2205=\"\",\" \",'Main page'!$F$21-(D2205))","v":" "},{"$f":"IF(D2205=\"\",\" \",VLOOKUP(R2205,'Main page'!$E$29:'Main page'!$G$41,3,TRUE))","v":" "}]
[null,null,null,null,null,null,null,null,null,null,null,null," "," "," "," ",{"$f":"IF(I2212=\"\",\"\",IF(I2212<='Main page'!$F$49,\"Core staff\",\"Senior staff\"))","v":""},{"$f":"IF(D2212=\"\",\" \",'Main page'!$F$21-(D2212))","v":" "},{"$f":"IF(D2212=\"\",\" \",VLOOKUP(R2212,'Main page'!$E$29:'Main page'!$G$41,3,TRUE))","v":" "}]
[null,null,null,null,null,null,null,null,null,null,null,null," "," "," "," ",{"$f":"IF(I2223=\"\",\"\",IF(I2223<='Main page'!$F$49,\"Core staff\",\"Senior staff\"))","v":""},{"$f":"IF(D2223=\"\",\" \",'Main page'!$F$21-(D2223))","v":" "},{"$f":"IF(D2223=\"\",\" \",VLOOKUP(R2223,'Main page'!$E$29:'Main page'!$G$41,3,TRUE))","v":" "}]
[null,null,null,null,null,null,null,null,null,null,null,null," "," "," "," ",{"$f":"IF(I2235=\"\",\"\",IF(I2235<='Main page'!$F$49,\"Core staff\",\"Senior staff\"))","v":""},{"$f":"IF(D2235=\"\",\" \",'Main page'!$F$21-(D2235))","v":" "},{"$f":"IF(D2235=\"\",\" \",VLOOKUP(R2235,'Main page'!$E$29:'Main page'!$G$41,3,TRUE))","v":" "}]
[null,null,null,null,null,null,null,null,null,null,null,null," "," "," "," ",{"$f":"IF(I2242=\"\",\"\",IF(I2242<='Main page'!$F$49,\"Core staff\",\"Senior staff\"))","v":""},{"$f":"IF(D2242=\"\",\" \",'Main page'!$F$21-(D2242))","v":" "},{"$f":"IF(D2242=\"\",\" \",VLOOKUP(R2242,'Main page'!$E$29:'Main page'!$G$41,3,TRUE))","v":" "}]
[null,null,null,null,null,null,null,null,null,null,null,null," "," "," "," ",{"$f":"IF(I2251=\"\",\"\",IF(I2251<='Main page'!$F$49,\"Core staff\",\"Senior staff\"))","v":""},{"$f":"IF(D2251=\"\",\" \",'Main page'!$F$21-(D2251))","v":" "},{"$f":"IF(D2251=\"\",\" \",VLOOKUP(R2251,'Main page'!$E$29:'Main page'!$G$41,3,TRUE))","v":" "}]
[null,null,null,null,null,null,null,null,null,null,null,null," "," "," "," ",{"$f":"IF(I2260=\"\",\"\",IF(I2260<='Main page'!$F$49,\"Core staff\",\"Senior staff\"))","v":""},{"$f":"IF(D2260=\"\",\" \",'Main page'!$F$21-(D2260))","v":" "},{"$f":"IF(D2260=\"\",\" \",VLOOKUP(R2260,'Main page'!$E$29:'Main page'!$G$41,3,TRUE))","v":" "}]
[null,null,null,null,null,null,null,null,null,null,null,null," "," "," "," ",{"$f":"IF(I2263=\"\",\"\",IF(I2263<='Main page'!$F$49,\"Core staff\",\"Senior staff\"))","v":""},{"$f":"IF(D2263=\"\",\" \",'Main page'!$F$21-(D2263))","v":" "},{"$f":"IF(D2263=\"\",\" \",VLOOKUP(R2263,'Main page'!$E$29:'Main page'!$G$41,3,TRUE))","v":" "}]
[null,null,null,null,null,null,null,null,null,null,null,null," "," "," "," ",{"$f":"IF(I2275=\"\",\"\",IF(I2275<='Main page'!$F$49,\"Core staff\",\"Senior staff\"))","v":""},{"$f":"IF(D2275=\"\",\" \",'Main page'!$F$21-(D2275))","v":" "},{"$f":"IF(D2275=\"\",\" \",VLOOKUP(R2275,'Main page'!$E$29:'Main page'!$G$41,3,TRUE))","v":" "}]
[null,null,null,null,null,null,null,null,null,null,null,null," "," "," "," ",{"$f":"IF(I2282=\"\",\"\",IF(I2282<='Main page'!$F$49,\"Core staff\",\"Senior staff\"))","v":""},{"$f":"IF(D2282=\"\",\" \",'Main page'!$F$21-(D2282))","v":" "},{"$f":"IF(D2282=\"\",\" \",VLOOKUP(R2282,'Main page'!$E$29:'Main page'!$G$41,3,TRUE))","v":" "}]
[null,null,null,null,null,null,null,null,null,null,null,null," "," "," "," ",{"$f":"IF(I2293=\"\",\"\",IF(I2293<='Main page'!$F$49,\"Core staff\",\"Senior staff\"))","v":""},{"$f":"IF(D2293=\"\",\" \",'Main page'!$F$21-(D2293))","v":" "},{"$f":"IF(D2293=\"\",\" \",VLOOKUP(R2293,'Main page'!$E$29:'Main page'!$G$41,3,TRUE))","v":" "}]
[null,null,null,null,null,null,null,null,null,null,null,null," "," "," "," ",{"$f":"IF(I2305=\"\",\"\",IF(I2305<='Main page'!$F$49,\"Core staff\",\"Senior staff\"))","v":""},{"$f":"IF(D2305=\"\",\" \",'Main page'!$F$21-(D2305))","v":" "},{"$f":"IF(D2305=\"\",\" \",VLOOKUP(R2305,'Main page'!$E$29:'Main page'!$G$41,3,TRUE))","v":" "}]
[null,null,null,null,null,null,null,null,null,null,null,null," "," "," "," ",{"$f":"IF(I2312=\"\",\"\",IF(I2312<='Main page'!$F$49,\"Core staff\",\"Senior staff\"))","v":""},{"$f":"IF(D2312=\"\",\" \",'Main page'!$F$21-(D2312))","v":" "},{"$f":"IF(D2312=\"\",\" \",VLOOKUP(R2312,'Main page'!$E$29:'Main page'!$G$41,3,TRUE))","v":" "}]
[null,null,null,null,null,null,null,null,null,null,null,null," "," "," "," ",{"$f":"IF(I2321=\"\",\"\",IF(I2321<='Main page'!$F$49,\"Core staff\",\"Senior staff\"))","v":""},{"$f":"IF(D2321=\"\",\" \",'Main page'!$F$21-(D2321))","v":" "},{"$f":"IF(D2321=\"\",\" \",VLOOKUP(R2321,'Main page'!$E$29:'Main page'!$G$41,3,TRUE))","v":" "}]
[null,null,null,null,null,null,null,null,null,null,null,null," "," "," "," ",{"$f":"IF(I2330=\"\",\"\",IF(I2330<='Main page'!$F$49,\"Core staff\",\"Senior staff\"))","v":""},{"$f":"IF(D2330=\"\",\" \",'Main page'!$F$21-(D2330))","v":" "},{"$f":"IF(D2330=\"\",\" \",VLOOKUP(R2330,'Main page'!$E$29:'Main page'!$G$41,3,TRUE))","v":" "}]
[null,null,null,null,null,null,null,null,null,null,null,null," "," "," "," ",{"$f":"IF(I2333=\"\",\"\",IF(I2333<='Main page'!$F$49,\"Core staff\",\"Senior staff\"))","v":""},{"$f":"IF(D2333=\"\",\" \",'Main page'!$F$21-(D2333))","v":" "},{"$f":"IF(D2333=\"\",\" \",VLOOKUP(R2333,'Main page'!$E$29:'Main page'!$G$41,3,TRUE))","v":" "}]
[null,null,null,null,null,null,null,null,null,null,null,null," "," "," "," ",{"$f":"IF(I2345=\"\",\"\",IF(I2345<='Main page'!$F$49,\"Core staff\",\"Senior staff\"))","v":""},{"$f":"IF(D2345=\"\",\" \",'Main page'!$F$21-(D2345))","v":" "},{"$f":"IF(D2345=\"\",\" \",VLOOKUP(R2345,'Main page'!$E$29:'Main page'!$G$41,3,TRUE))","v":" "}]
[null,null,null,null,null,null,null,null,null,null,null,null," "," "," "," ",{"$f":"IF(I2352=\"\",\"\",IF(I2352<='Main page'!$F$49,\"Core staff\",\"Senior staff\"))","v":""},{"$f":"IF(D2352=\"\",\" \",'Main page'!$F$21-(D2352))","v":" "},{"$f":"IF(D2352=\"\",\" \",VLOOKUP(R2352,'Main page'!$E$29:'Main page'!$G$41,3,TRUE))","v":" "}]
[null,null,null,null,null,null,null,null,null,null,null,null," "," "," "," ",{"$f":"IF(I2363=\"\",\"\",IF(I2363<='Main page'!$F$49,\"Core staff\",\"Senior staff\"))","v":""},{"$f":"IF(D2363=\"\",\" \",'Main page'!$F$21-(D2363))","v":" "},{"$f":"IF(D2363=\"\",\" \",VLOOKUP(R2363,'Main page'!$E$29:'Main page'!$G$41,3,TRUE))","v":" "}]
[null,null,null,null,null,null,null,null,null,null,null,null," "," "," "," ",{"$f":"IF(I2370=\"\",\"\",IF(I2370<='Main page'!$F$49,\"Core staff\",\"Senior staff\"))","v":""},{"$f":"IF(D2370=\"\",\" \",'Main page'!$F$21-(D2370))","v":" "},{"$f":"IF(D2370=\"\",\" \",VLOOKUP(R2370,'Main page'!$E$29:'Main page'!$G$41,3,TRUE))","v":" "}]
[null,null,null,null,null,null,null,null,null,null,null,null,{"$f":"IFERROR(J2382/G2382,\" \")","v":" "},{"$f":"IFERROR((M2382/$U$4)/H2382,\" \")","v":" "},{"$f":"IFERROR((N2382*75)*26.083,\" \")","v":" "},{"$f":"IF(G2382=0,\" \",IF(G2382=1,\"Full time\",\"Part time\"))","v":" "},{"$f":"IF(I2382=\"\",\"\",IF(I2382<='Main page'!$F$49,\"Core staff\",\"Senior staff\"))","v":""},{"$f":"IF(D2382=\"\",\" \",'Main page'!$F$21-(D2382))","v":" "},{"$f":"IF(D2382=\"\",\" \",VLOOKUP(R2382,'Main page'!$E$29:'Main page'!$G$41,3,TRUE))","v":" "}]
[null,null,null,null,null,null,null,null,null,null,null,null," "," "," "," ",{"$f":"IF(I2391=\"\",\"\",IF(I2391<='Main page'!$F$49,\"Core staff\",\"Senior staff\"))","v":""},{"$f":"IF(D2391=\"\",\" \",'Main page'!$F$21-(D2391))","v":" "},{"$f":"IF(D2391=\"\",\" \",VLOOKUP(R2391,'Main page'!$E$29:'Main page'!$G$41,3,TRUE))","v":" "}]
[null,null,null,null,null,null,null,null,null,null,null,null," "," "," "," ",{"$f":"IF(I2400=\"\",\"\",IF(I2400<='Main page'!$F$49,\"Core staff\",\"Senior staff\"))","v":""},{"$f":"IF(D2400=\"\",\" \",'Main page'!$F$21-(D2400))","v":" "},{"$f":"IF(D2400=\"\",\" \",VLOOKUP(R2400,'Main page'!$E$29:'Main page'!$G$41,3,TRUE))","v":" "}]
[null,null,null,null,null,null,null,null,null,null,null,null," "," "," "," ",{"$f":"IF(I2403=\"\",\"\",IF(I2403<='Main page'!$F$49,\"Core staff\",\"Senior staff\"))","v":""},{"$f":"IF(D2403=\"\",\" \",'Main page'!$F$21-(D2403))","v":" "},{"$f":"IF(D2403=\"\",\" \",VLOOKUP(R2403,'Main page'!$E$29:'Main page'!$G$41,3,TRUE))","v":" "}]
[null,null,null,null,null,null,null,null,null,null,null,null," "," "," "," ",{"$f":"IF(I2415=\"\",\"\",IF(I2415<='Main page'!$F$49,\"Core staff\",\"Senior staff\"))","v":""},{"$f":"IF(D2415=\"\",\" \",'Main page'!$F$21-(D2415))","v":" "},{"$f":"IF(D2415=\"\",\" \",VLOOKUP(R2415,'Main page'!$E$29:'Main page'!$G$41,3,TRUE))","v":" "}]
[null,null,null,null,null,null,null,null,null,null,null,null," "," "," "," ",{"$f":"IF(I2422=\"\",\"\",IF(I2422<='Main page'!$F$49,\"Core staff\",\"Senior staff\"))","v":""},{"$f":"IF(D2422=\"\",\" \",'Main page'!$F$21-(D2422))","v":" "},{"$f":"IF(D2422=\"\",\" \",VLOOKUP(R2422,'Main page'!$E$29:'Main page'!$G$41,3,TRUE))","v":" "}]
[null,null,null,null,null,null,null,null,null,null,null,null," "," "," "," ",{"$f":"IF(I2433=\"\",\"\",IF(I2433<='Main page'!$F$49,\"Core staff\",\"Senior staff\"))","v":""},{"$f":"IF(D2433=\"\",\" \",'Main page'!$F$21-(D2433))","v":" "},{"$f":"IF(D2433=\"\",\" \",VLOOKUP(R2433,'Main page'!$E$29:'Main page'!$G$41,3,TRUE))","v":" "}]
[null,null,null,null,null,null,null,null,null,null,null,null," "," "," "," ",{"$f":"IF(I2440=\"\",\"\",IF(I2440<='Main page'!$F$49,\"Core staff\",\"Senior staff\"))","v":""},{"$f":"IF(D2440=\"\",\" \",'Main page'!$F$21-(D2440))","v":" "},{"$f":"IF(D2440=\"\",\" \",VLOOKUP(R2440,'Main page'!$E$29:'Main page'!$G$41,3,TRUE))","v":" "}]
[null,null,null,null,null,null,null,null,null,null,null,null," "," "," "," ",{"$f":"IF(I2452=\"\",\"\",IF(I2452<='Main page'!$F$49,\"Core staff\",\"Senior staff\"))","v":""},{"$f":"IF(D2452=\"\",\" \",'Main page'!$F$21-(D2452))","v":" "},{"$f":"IF(D2452=\"\",\" \",VLOOKUP(R2452,'Main page'!$E$29:'Main page'!$G$41,3,TRUE))","v":" "}]
[null,null,null,null,null,null,null,null,null,null,null,null," "," "," "," ",{"$f":"IF(I2461=\"\",\"\",IF(I2461<='Main page'!$F$49,\"Core staff\",\"Senior staff\"))","v":""},{"$f":"IF(D2461=\"\",\" \",'Main page'!$F$21-(D2461))","v":" "},{"$f":"IF(D2461=\"\",\" \",VLOOKUP(R2461,'Main page'!$E$29:'Main page'!$G$41,3,TRUE))","v":" "}]
[null,null,null,null,null,null,null,null,null,null,null,null," "," "," "," ",{"$f":"IF(I2470=\"\",\"\",IF(I2470<='Main page'!$F$49,\"Core staff\",\"Senior staff\"))","v":""},{"$f":"IF(D2470=\"\",\" \",'Main page'!$F$21-(D2470))","v":" "},{"$f":"IF(D2470=\"\",\" \",VLOOKUP(R2470,'Main page'!$E$29:'Main page'!$G$41,3,TRUE))","v":" "}]
[null,null,null,null,null,null,null,null,null,null,null,null," "," "," "," ",{"$f":"IF(I2473=\"\",\"\",IF(I2473<='Main page'!$F$49,\"Core staff\",\"Senior staff\"))","v":""},{"$f":"IF(D2473=\"\",\" \",'Main page'!$F$21-(D2473))","v":" "},{"$f":"IF(D2473=\"\",\" \",VLOOKUP(R2473,'Main page'!$E$29:'Main page'!$G$41,3,TRUE))","v":" "}]
[null,null,null,null,null,null,null,null,null,null,null,null," "," "," "," ",{"$f":"IF(I2489=\"\",\"\",IF(I2489<='Main page'!$F$49,\"Core staff\",\"Senior staff\"))","v":""},{"$f":"IF(D2489=\"\",\" \",'Main page'!$F$21-(D2489))","v":" "},{"$f":"IF(D2489=\"\",\" \",VLOOKUP(R2489,'Main page'!$E$29:'Main page'!$G$41,3,TRUE))","v":" "}]
[null,null,null,null,null,null,null,null,null,null,null,null," "," "," "," ",{"$f":"IF(I2492=\"\",\"\",IF(I2492<='Main page'!$F$49,\"Core staff\",\"Senior staff\"))","v":""},{"$f":"IF(D2492=\"\",\" \",'Main page'!$F$21-(D2492))","v":" "},{"$f":"IF(D2492=\"\",\" \",VLOOKUP(R2492,'Main page'!$E$29:'Main page'!$G$41,3,TRUE))","v":" "}]
[null,null,null,null,null,null,null,null,null,null,null,null," "," "," "," ",{"$f":"IF(I2503=\"\",\"\",IF(I2503<='Main page'!$F$49,\"Core staff\",\"Senior staff\"))","v":""},{"$f":"IF(D2503=\"\",\" \",'Main page'!$F$21-(D2503))","v":" "},{"$f":"IF(D2503=\"\",\" \",VLOOKUP(R2503,'Main page'!$E$29:'Main page'!$G$41,3,TRUE))","v":" "}]
[null,null,null,null,null,null,null,null,null,null,null,null,{"$f":"IFERROR(J2510/G2510,\" \")","v":" "},{"$f":"IFERROR((M2510/$U$4)/H2510,\" \")","v":" "},{"$f":"IFERROR((N2510*75)*26.083,\" \")","v":" "},{"$f":"IF(G2510=0,\" \",IF(G2510=1,\"Full time\",\"Part time\"))","v":" "},{"$f":"IF(I2510=\"\",\"\",IF(I2510<='Main page'!$F$49,\"Core staff\",\"Senior staff\"))","v":""},{"$f":"IF(D2510=\"\",\" \",'Main page'!$F$21-(D2510))","v":" "},{"$f":"IF(D2510=\"\",\" \",VLOOKUP(R2510,'Main page'!$E$29:'Main page'!$G$41,3,TRUE))","v":" "}]
[null,null,null,null,null,null,null,null,null,null,null,null," "," "," "," ",{"$f":"IF(I2522=\"\",\"\",IF(I2522<='Main page'!$F$49,\"Core staff\",\"Senior staff\"))","v":""},{"$f":"IF(D2522=\"\",\" \",'Main page'!$F$21-(D2522))","v":" "},{"$f":"IF(D2522=\"\",\" \",VLOOKUP(R2522,'Main page'!$E$29:'Main page'!$G$41,3,TRUE))","v":" "}]
[null,null,null,null,null,null,null,null,null,null,null,null," "," "," "," ",{"$f":"IF(I2531=\"\",\"\",IF(I2531<='Main page'!$F$49,\"Core staff\",\"Senior staff\"))","v":""},{"$f":"IF(D2531=\"\",\" \",'Main page'!$F$21-(D2531))","v":" "},{"$f":"IF(D2531=\"\",\" \",VLOOKUP(R2531,'Main page'!$E$29:'Main page'!$G$41,3,TRUE))","v":" "}]
[null,null,null,null,null,null,null,null,null,null,null,null," "," "," "," ",{"$f":"IF(I2540=\"\",\"\",IF(I2540<='Main page'!$F$49,\"Core staff\",\"Senior staff\"))","v":""},{"$f":"IF(D2540=\"\",\" \",'Main page'!$F$21-(D2540))","v":" "},{"$f":"IF(D2540=\"\",\" \",VLOOKUP(R2540,'Main page'!$E$29:'Main page'!$G$41,3,TRUE))","v":" "}]
[null,null,null,null,null,null,null,null,null,null,null,null," "," "," "," ",{"$f":"IF(I2543=\"\",\"\",IF(I2543<='Main page'!$F$49,\"Core staff\",\"Senior staff\"))","v":""},{"$f":"IF(D2543=\"\",\" \",'Main page'!$F$21-(D2543))","v":" "},{"$f":"IF(D2543=\"\",\" \",VLOOKUP(R2543,'Main page'!$E$29:'Main page'!$G$41,3,TRUE))","v":" "}]
[null,null,null,null,null,null,null,null,null,null,null,null," "," "," "," ",{"$f":"IF(I2559=\"\",\"\",IF(I2559<='Main page'!$F$49,\"Core staff\",\"Senior staff\"))","v":""},{"$f":"IF(D2559=\"\",\" \",'Main page'!$F$21-(D2559))","v":" "},{"$f":"IF(D2559=\"\",\" \",VLOOKUP(R2559,'Main page'!$E$29:'Main page'!$G$41,3,TRUE))","v":" "}]
[null,null,null,null,null,null,null,null,null,null,null,null," "," "," "," ",{"$f":"IF(I2562=\"\",\"\",IF(I2562<='Main page'!$F$49,\"Core staff\",\"Senior staff\"))","v":""},{"$f":"IF(D2562=\"\",\" \",'Main page'!$F$21-(D2562))","v":" "},{"$f":"IF(D2562=\"\",\" \",VLOOKUP(R2562,'Main page'!$E$29:'Main page'!$G$41,3,TRUE))","v":" "}]
[null,null,null,null,null,null,null,null,null,null,null,null," "," "," "," ",{"$f":"IF(I2573=\"\",\"\",IF(I2573<='Main page'!$F$49,\"Core staff\",\"Senior staff\"))","v":""},{"$f":"IF(D2573=\"\",\" \",'Main page'!$F$21-(D2573))","v":" "},{"$f":"IF(D2573=\"\",\" \",VLOOKUP(R2573,'Main page'!$E$29:'Main page'!$G$41,3,TRUE))","v":" "}]
[null,null,null,null,null,null,null,null,null,null,null,null," "," "," "," ",{"$f":"IF(I2580=\"\",\"\",IF(I2580<='Main page'!$F$49,\"Core staff\",\"Senior staff\"))","v":""},{"$f":"IF(D2580=\"\",\" \",'Main page'!$F$21-(D2580))","v":" "},{"$f":"IF(D2580=\"\",\" \",VLOOKUP(R2580,'Main page'!$E$29:'Main page'!$G$41,3,TRUE))","v":" "}]
[null,null,null,null,null,null,null,null,null,null,null,null," "," "," "," ",{"$f":"IF(I2592=\"\",\"\",IF(I2592<='Main page'!$F$49,\"Core staff\",\"Senior staff\"))","v":""},{"$f":"IF(D2592=\"\",\" \",'Main page'!$F$21-(D2592))","v":" "},{"$f":"IF(D2592=\"\",\" \",VLOOKUP(R2592,'Main page'!$E$29:'Main page'!$G$41,3,TRUE))","v":" "}]
[null,null,null,null,null,null,null,null,null,null,null,null," "," "," "," ",{"$f":"IF(I2601=\"\",\"\",IF(I2601<='Main page'!$F$49,\"Core staff\",\"Senior staff\"))","v":""},{"$f":"IF(D2601=\"\",\" \",'Main page'!$F$21-(D2601))","v":" "},{"$f":"IF(D2601=\"\",\" \",VLOOKUP(R2601,'Main page'!$E$29:'Main page'!$G$41,3,TRUE))","v":" "}]
[null,null,null,null,null,null,null,null,null,null,null,null," "," "," "," ",{"$f":"IF(I2610=\"\",\"\",IF(I2610<='Main page'!$F$49,\"Core staff\",\"Senior staff\"))","v":""},{"$f":"IF(D2610=\"\",\" \",'Main page'!$F$21-(D2610))","v":" "},{"$f":"IF(D2610=\"\",\" \",VLOOKUP(R2610,'Main page'!$E$29:'Main page'!$G$41,3,TRUE))","v":" "}]
[null,null,null,null,null,null,null,null,null,null,null,null," "," "," "," ",{"$f":"IF(I2613=\"\",\"\",IF(I2613<='Main page'!$F$49,\"Core staff\",\"Senior staff\"))","v":""},{"$f":"IF(D2613=\"\",\" \",'Main page'!$F$21-(D2613))","v":" "},{"$f":"IF(D2613=\"\",\" \",VLOOKUP(R2613,'Main page'!$E$29:'Main page'!$G$41,3,TRUE))","v":" "}]
[null,null,null,null,null,null,null,null,null,null,null,null," "," "," "," ",{"$f":"IF(I2629=\"\",\"\",IF(I2629<='Main page'!$F$49,\"Core staff\",\"Senior staff\"))","v":""},{"$f":"IF(D2629=\"\",\" \",'Main page'!$F$21-(D2629))","v":" "},{"$f":"IF(D2629=\"\",\" \",VLOOKUP(R2629,'Main page'!$E$29:'Main page'!$G$41,3,TRUE))","v":" "}]
[null,null,null,null,null,null,null,null,null,null,null,null," "," "," "," ",{"$f":"IF(I2632=\"\",\"\",IF(I2632<='Main page'!$F$49,\"Core staff\",\"Senior staff\"))","v":""},{"$f":"IF(D2632=\"\",\" \",'Main page'!$F$21-(D2632))","v":" "},{"$f":"IF(D2632=\"\",\" \",VLOOKUP(R2632,'Main page'!$E$29:'Main page'!$G$41,3,TRUE))","v":" "}]
[null,null,null,null,null,null,null,null,null,null,null,null," "," "," "," ",{"$f":"IF(I2643=\"\",\"\",IF(I2643<='Main page'!$F$49,\"Core staff\",\"Senior staff\"))","v":""},{"$f":"IF(D2643=\"\",\" \",'Main page'!$F$21-(D2643))","v":" "},{"$f":"IF(D2643=\"\",\" \",VLOOKUP(R2643,'Main page'!$E$29:'Main page'!$G$41,3,TRUE))","v":" "}]
[null,null,null,null,null,null,null,null,null,null,null,null," "," "," "," ",{"$f":"IF(I2650=\"\",\"\",IF(I2650<='Main page'!$F$49,\"Core staff\",\"Senior staff\"))","v":""},{"$f":"IF(D2650=\"\",\" \",'Main page'!$F$21-(D2650))","v":" "},{"$f":"IF(D2650=\"\",\" \",VLOOKUP(R2650,'Main page'!$E$29:'Main page'!$G$41,3,TRUE))","v":" "}]
[null,null,null,null,null,null,null,null,null,null,null,null," "," "," "," ",{"$f":"IF(I2662=\"\",\"\",IF(I2662<='Main page'!$F$49,\"Core staff\",\"Senior staff\"))","v":""},{"$f":"IF(D2662=\"\",\" \",'Main page'!$F$21-(D2662))","v":" "},{"$f":"IF(D2662=\"\",\" \",VLOOKUP(R2662,'Main page'!$E$29:'Main page'!$G$41,3,TRUE))","v":" "}]
[null,null,null,null,null,null,null,null,null,null,null,null," "," "," "," ",{"$f":"IF(I2671=\"\",\"\",IF(I2671<='Main page'!$F$49,\"Core staff\",\"Senior staff\"))","v":""},{"$f":"IF(D2671=\"\",\" \",'Main page'!$F$21-(D2671))","v":" "},{"$f":"IF(D2671=\"\",\" \",VLOOKUP(R2671,'Main page'!$E$29:'Main page'!$G$41,3,TRUE))","v":" "}]
[null,null,null,null,null,null,null,null,null,null,null,null," "," "," "," ",{"$f":"IF(I2680=\"\",\"\",IF(I2680<='Main page'!$F$49,\"Core staff\",\"Senior staff\"))","v":""},{"$f":"IF(D2680=\"\",\" \",'Main page'!$F$21-(D2680))","v":" "},{"$f":"IF(D2680=\"\",\" \",VLOOKUP(R2680,'Main page'!$E$29:'Main page'!$G$41,3,TRUE))","v":" "}]
[null,null,null,null,null,null,null,null,null,null,null,null," "," "," "," ",{"$f":"IF(I2683=\"\",\"\",IF(I2683<='Main page'!$F$49,\"Core staff\",\"Senior staff\"))","v":""},{"$f":"IF(D2683=\"\",\" \",'Main page'!$F$21-(D2683))","v":" "},{"$f":"IF(D2683=\"\",\" \",VLOOKUP(R2683,'Main page'!$E$29:'Main page'!$G$41,3,TRUE))","v":" "}]
[null,null,null,null,null,null,null,null,null,null,null,null," "," "," "," ",{"$f":"IF(I2699=\"\",\"\",IF(I2699<='Main page'!$F$49,\"Core staff\",\"Senior staff\"))","v":""},{"$f":"IF(D2699=\"\",\" \",'Main page'!$F$21-(D2699))","v":" "},{"$f":"IF(D2699=\"\",\" \",VLOOKUP(R2699,'Main page'!$E$29:'Main page'!$G$41,3,TRUE))","v":" "}]
[null,null,null,null,null,null,null,null,null,null,null,null,{"$f":"IFERROR(J2702/G2702,\" \")","v":" "},{"$f":"IFERROR((M2702/$U$4)/H2702,\" \")","v":" "},{"$f":"IFERROR((N2702*75)*26.083,\" \")","v":" "},{"$f":"IF(G2702=0,\" \",IF(G2702=1,\"Full time\",\"Part time\"))","v":" "},{"$f":"IF(I2702=\"\",\"\",IF(I2702<='Main page'!$F$49,\"Core staff\",\"Senior staff\"))","v":""},{"$f":"IF(D2702=\"\",\" \",'Main page'!$F$21-(D2702))","v":" "},{"$f":"IF(D2702=\"\",\" \",VLOOKUP(R2702,'Main page'!$E$29:'Main page'!$G$41,3,TRUE))","v":" "}]
[null,null,null,null,null,null,null,null,null,null,null,null," "," "," "," ",{"$f":"IF(I2713=\"\",\"\",IF(I2713<='Main page'!$F$49,\"Core staff\",\"Senior staff\"))","v":""},{"$f":"IF(D2713=\"\",\" \",'Main page'!$F$21-(D2713))","v":" "},{"$f":"IF(D2713=\"\",\" \",VLOOKUP(R2713,'Main page'!$E$29:'Main page'!$G$41,3,TRUE))","v":" "}]
[null,null,null,null,null,null,null,null,null,null,null,null," "," "," "," ",{"$f":"IF(I2720=\"\",\"\",IF(I2720<='Main page'!$F$49,\"Core staff\",\"Senior staff\"))","v":""},{"$f":"IF(D2720=\"\",\" \",'Main page'!$F$21-(D2720))","v":" "},{"$f":"IF(D2720=\"\",\" \",VLOOKUP(R2720,'Main page'!$E$29:'Main page'!$G$41,3,TRUE))","v":" "}]
[null,null,null,null,null,null,null,null,null,null,null,null," "," "," "," ",{"$f":"IF(I2732=\"\",\"\",IF(I2732<='Main page'!$F$49,\"Core staff\",\"Senior staff\"))","v":""},{"$f":"IF(D2732=\"\",\" \",'Main page'!$F$21-(D2732))","v":" "},{"$f":"IF(D2732=\"\",\" \",VLOOKUP(R2732,'Main page'!$E$29:'Main page'!$G$41,3,TRUE))","v":" "}]
[null,null,null,null,null,null,null,null,null,null,null,null," "," "," "," ",{"$f":"IF(I2741=\"\",\"\",IF(I2741<='Main page'!$F$49,\"Core staff\",\"Senior staff\"))","v":""},{"$f":"IF(D2741=\"\",\" \",'Main page'!$F$21-(D2741))","v":" "},{"$f":"IF(D2741=\"\",\" \",VLOOKUP(R2741,'Main page'!$E$29:'Main page'!$G$41,3,TRUE))","v":" "}]
[null,null,null,null,null,null,null,null,null,null,null,null," "," "," "," ",{"$f":"IF(I2750=\"\",\"\",IF(I2750<='Main page'!$F$49,\"Core staff\",\"Senior staff\"))","v":""},{"$f":"IF(D2750=\"\",\" \",'Main page'!$F$21-(D2750))","v":" "},{"$f":"IF(D2750=\"\",\" \",VLOOKUP(R2750,'Main page'!$E$29:'Main page'!$G$41,3,TRUE))","v":" "}]
[null,null,null,null,null,null,null,null,null,null,null,null," "," "," "," ",{"$f":"IF(I2753=\"\",\"\",IF(I2753<='Main page'!$F$49,\"Core staff\",\"Senior staff\"))","v":""},{"$f":"IF(D2753=\"\",\" \",'Main page'!$F$21-(D2753))","v":" "},{"$f":"IF(D2753=\"\",\" \",VLOOKUP(R2753,'Main page'!$E$29:'Main page'!$G$41,3,TRUE))","v":" "}]
[null,null,null,null,null,null,null,null,null,null,null,null," "," "," "," ",{"$f":"IF(I2769=\"\",\"\",IF(I2769<='Main page'!$F$49,\"Core staff\",\"Senior staff\"))","v":""},{"$f":"IF(D2769=\"\",\" \",'Main page'!$F$21-(D2769))","v":" "},{"$f":"IF(D2769=\"\",\" \",VLOOKUP(R2769,'Main page'!$E$29:'Main page'!$G$41,3,TRUE))","v":" "}]
[null,null,null,null,null,null,null,null,null,null,null,null," "," "," "," ",{"$f":"IF(I2772=\"\",\"\",IF(I2772<='Main page'!$F$49,\"Core staff\",\"Senior staff\"))","v":""},{"$f":"IF(D2772=\"\",\" \",'Main page'!$F$21-(D2772))","v":" "},{"$f":"IF(D2772=\"\",\" \",VLOOKUP(R2772,'Main page'!$E$29:'Main page'!$G$41,3,TRUE))","v":" "}]
[null,null,null,null,null,null,null,null,null,null,null,null," "," "," "," ",{"$f":"IF(I2783=\"\",\"\",IF(I2783<='Main page'!$F$49,\"Core staff\",\"Senior staff\"))","v":""},{"$f":"IF(D2783=\"\",\" \",'Main page'!$F$21-(D2783))","v":" "},{"$f":"IF(D2783=\"\",\" \",VLOOKUP(R2783,'Main page'!$E$29:'Main page'!$G$41,3,TRUE))","v":" "}]
[null,null,null,null,null,null,null,null,null,null,null,null," "," "," "," ",{"$f":"IF(I2790=\"\",\"\",IF(I2790<='Main page'!$F$49,\"Core staff\",\"Senior staff\"))","v":""},{"$f":"IF(D2790=\"\",\" \",'Main page'!$F$21-(D2790))","v":" "},{"$f":"IF(D2790=\"\",\" \",VLOOKUP(R2790,'Main page'!$E$29:'Main page'!$G$41,3,TRUE))","v":" "}]
[null,null,null,null,null,null,null,null,null,null,null,null," "," "," "," ",{"$f":"IF(I2802=\"\",\"\",IF(I2802<='Main page'!$F$49,\"Core staff\",\"Senior staff\"))","v":""},{"$f":"IF(D2802=\"\",\" \",'Main page'!$F$21-(D2802))","v":" "},{"$f":"IF(D2802=\"\",\" \",VLOOKUP(R2802,'Main page'!$E$29:'Main page'!$G$41,3,TRUE))","v":" "}]
[null,null,null,null,null,null,null,null,null,null,null,null," "," "," "," ",{"$f":"IF(I2811=\"\",\"\",IF(I2811<='Main page'!$F$49,\"Core staff\",\"Senior staff\"))","v":""},{"$f":"IF(D2811=\"\",\" \",'Main page'!$F$21-(D2811))","v":" "},{"$f":"IF(D2811=\"\",\" \",VLOOKUP(R2811,'Main page'!$E$29:'Main page'!$G$41,3,TRUE))","v":" "}]
[null,null,null,null,null,null,null,null,null,null,null,null," "," "," "," ",{"$f":"IF(I2820=\"\",\"\",IF(I2820<='Main page'!$F$49,\"Core staff\",\"Senior staff\"))","v":""},{"$f":"IF(D2820=\"\",\" \",'Main page'!$F$21-(D2820))","v":" "},{"$f":"IF(D2820=\"\",\" \",VLOOKUP(R2820,'Main page'!$E$29:'Main page'!$G$41,3,TRUE))","v":" "}]
[null,null,null,null,null,null,null,null,null,null,null,null," "," "," "," ",{"$f":"IF(I2823=\"\",\"\",IF(I2823<='Main page'!$F$49,\"Core staff\",\"Senior staff\"))","v":""},{"$f":"IF(D2823=\"\",\" \",'Main page'!$F$21-(D2823))","v":" "},{"$f":"IF(D2823=\"\",\" \",VLOOKUP(R2823,'Main page'!$E$29:'Main page'!$G$41,3,TRUE))","v":" "}]
[null,null,null,null,null,null,null,null,null,null,null,null," "," "," "," ",{"$f":"IF(I2839=\"\",\"\",IF(I2839<='Main page'!$F$49,\"Core staff\",\"Senior staff\"))","v":""},{"$f":"IF(D2839=\"\",\" \",'Main page'!$F$21-(D2839))","v":" "},{"$f":"IF(D2839=\"\",\" \",VLOOKUP(R2839,'Main page'!$E$29:'Main page'!$G$41,3,TRUE))","v":" "}]
[null,null,null,null,null,null,null,null,null,null,null,null," "," "," "," ",{"$f":"IF(I2842=\"\",\"\",IF(I2842<='Main page'!$F$49,\"Core staff\",\"Senior staff\"))","v":""},{"$f":"IF(D2842=\"\",\" \",'Main page'!$F$21-(D2842))","v":" "},{"$f":"IF(D2842=\"\",\" \",VLOOKUP(R2842,'Main page'!$E$29:'Main page'!$G$41,3,TRUE))","v":" "}]
[null,null,null,null,null,null,null,null,null,null,null,null," "," "," "," ",{"$f":"IF(I2857=\"\",\"\",IF(I2857<='Main page'!$F$49,\"Core staff\",\"Senior staff\"))","v":""},{"$f":"IF(D2857=\"\",\" \",'Main page'!$F$21-(D2857))","v":" "},{"$f":"IF(D2857=\"\",\" \",VLOOKUP(R2857,'Main page'!$E$29:'Main page'!$G$41,3,TRUE))","v":" "}]
[null,null,null,null,null,null,null,null,null,null,null,null," "," "," "," ",{"$f":"IF(I2860=\"\",\"\",IF(I2860<='Main page'!$F$49,\"Core staff\",\"Senior staff\"))","v":""},{"$f":"IF(D2860=\"\",\" \",'Main page'!$F$21-(D2860))","v":" "},{"$f":"IF(D2860=\"\",\" \",VLOOKUP(R2860,'Main page'!$E$29:'Main page'!$G$41,3,TRUE))","v":" "}]
[null,null,null,null,null,null,null,null,null,null,null,null," "," "," "," ",{"$f":"IF(I2872=\"\",\"\",IF(I2872<='Main page'!$F$49,\"Core staff\",\"Senior staff\"))","v":""},{"$f":"IF(D2872=\"\",\" \",'Main page'!$F$21-(D2872))","v":" "},{"$f":"IF(D2872=\"\",\" \",VLOOKUP(R2872,'Main page'!$E$29:'Main page'!$G$41,3,TRUE))","v":" "}]
[null,null,null,null,null,null,null,null,null,null,null,null," "," "," "," ",{"$f":"IF(I2881=\"\",\"\",IF(I2881<='Main page'!$F$49,\"Core staff\",\"Senior staff\"))","v":""},{"$f":"IF(D2881=\"\",\" \",'Main page'!$F$21-(D2881))","v":" "},{"$f":"IF(D2881=\"\",\" \",VLOOKUP(R2881,'Main page'!$E$29:'Main page'!$G$41,3,TRUE))","v":" "}]
[null,null,null,null,null,null,null,null,null,null,null,null," "," "," "," ",{"$f":"IF(I2890=\"\",\"\",IF(I2890<='Main page'!$F$49,\"Core staff\",\"Senior staff\"))","v":""},{"$f":"IF(D2890=\"\",\" \",'Main page'!$F$21-(D2890))","v":" "},{"$f":"IF(D2890=\"\",\" \",VLOOKUP(R2890,'Main page'!$E$29:'Main page'!$G$41,3,TRUE))","v":" "}]
[null,null,null,null,null,null,null,null,null,null,null,null," "," "," "," ",{"$f":"IF(I2893=\"\",\"\",IF(I2893<='Main page'!$F$49,\"Core staff\",\"Senior staff\"))","v":""},{"$f":"IF(D2893=\"\",\" \",'Main page'!$F$21-(D2893))","v":" "},{"$f":"IF(D2893=\"\",\" \",VLOOKUP(R2893,'Main page'!$E$29:'Main page'!$G$41,3,TRUE))","v":" "}]
[null,null,null,null,null,null,null,null,null,null,null,null," "," "," "," ",{"$f":"IF(I2909=\"\",\"\",IF(I2909<='Main page'!$F$49,\"Core staff\",\"Senior staff\"))","v":""},{"$f":"IF(D2909=\"\",\" \",'Main page'!$F$21-(D2909))","v":" "},{"$f":"IF(D2909=\"\",\" \",VLOOKUP(R2909,'Main page'!$E$29:'Main page'!$G$41,3,TRUE))","v":" "}]
[null,null,null,null,null,null,null,null,null,null,null,null," "," "," "," ",{"$f":"IF(I2912=\"\",\"\",IF(I2912<='Main page'!$F$49,\"Core staff\",\"Senior staff\"))","v":""},{"$f":"IF(D2912=\"\",\" \",'Main page'!$F$21-(D2912))","v":" "},{"$f":"IF(D2912=\"\",\" \",VLOOKUP(R2912,'Main page'!$E$29:'Main page'!$G$41,3,TRUE))","v":" "}]
[null,null,null,null,null,null,null,null,null,null,null,null," "," "," "," ",{"$f":"IF(I2927=\"\",\"\",IF(I2927<='Main page'!$F$49,\"Core staff\",\"Senior staff\"))","v":""},{"$f":"IF(D2927=\"\",\" \",'Main page'!$F$21-(D2927))","v":" "},{"$f":"IF(D2927=\"\",\" \",VLOOKUP(R2927,'Main page'!$E$29:'Main page'!$G$41,3,TRUE))","v":" "}]
[null,null,null,null,null,null,null,null,null,null,null,null," "," "," "," ",{"$f":"IF(I2930=\"\",\"\",IF(I2930<='Main page'!$F$49,\"Core staff\",\"Senior staff\"))","v":""},{"$f":"IF(D2930=\"\",\" \",'Main page'!$F$21-(D2930))","v":" "},{"$f":"IF(D2930=\"\",\" \",VLOOKUP(R2930,'Main page'!$E$29:'Main page'!$G$41,3,TRUE))","v":" "}]
[null,null,null,null,null,null,null,null,null,null,null,null," "," "," "," ",{"$f":"IF(I2942=\"\",\"\",IF(I2942<='Main page'!$F$49,\"Core staff\",\"Senior staff\"))","v":""},{"$f":"IF(D2942=\"\",\" \",'Main page'!$F$21-(D2942))","v":" "},{"$f":"IF(D2942=\"\",\" \",VLOOKUP(R2942,'Main page'!$E$29:'Main page'!$G$41,3,TRUE))","v":" "}]
[null,null,null,null,null,null,null,null,null,null,null,null," "," "," "," ",{"$f":"IF(I2951=\"\",\"\",IF(I2951<='Main page'!$F$49,\"Core staff\",\"Senior staff\"))","v":""},{"$f":"IF(D2951=\"\",\" \",'Main page'!$F$21-(D2951))","v":" "},{"$f":"IF(D2951=\"\",\" \",VLOOKUP(R2951,'Main page'!$E$29:'Main page'!$G$41,3,TRUE))","v":" "}]
[null,null,null,null,null,null,null,null,null,null,null,null," "," "," "," ",{"$f":"IF(I2960=\"\",\"\",IF(I2960<='Main page'!$F$49,\"Core staff\",\"Senior staff\"))","v":""},{"$f":"IF(D2960=\"\",\" \",'Main page'!$F$21-(D2960))","v":" "},{"$f":"IF(D2960=\"\",\" \",VLOOKUP(R2960,'Main page'!$E$29:'Main page'!$G$41,3,TRUE))","v":" "}]
[null,null,null,null,null,null,null,null,null,null,null,null," "," "," "," ",{"$f":"IF(I2967=\"\",\"\",IF(I2967<='Main page'!$F$49,\"Core staff\",\"Senior staff\"))","v":""},{"$f":"IF(D2967=\"\",\" \",'Main page'!$F$21-(D2967))","v":" "},{"$f":"IF(D2967=\"\",\" \",VLOOKUP(R2967,'Main page'!$E$29:'Main page'!$G$41,3,TRUE))","v":" "}]
[null,null,null,null,null,null,null,null,null,null,null,null," "," "," "," ",{"$f":"IF(I2979=\"\",\"\",IF(I2979<='Main page'!$F$49,\"Core staff\",\"Senior staff\"))","v":""},{"$f":"IF(D2979=\"\",\" \",'Main page'!$F$21-(D2979))","v":" "},{"$f":"IF(D2979=\"\",\" \",VLOOKUP(R2979,'Main page'!$E$29:'Main page'!$G$41,3,TRUE))","v":" "}]
[null,null,null,null,null,null,null,null,null,null,null,null," "," "," "," ",{"$f":"IF(I2982=\"\",\"\",IF(I2982<='Main page'!$F$49,\"Core staff\",\"Senior staff\"))","v":""},{"$f":"IF(D2982=\"\",\" \",'Main page'!$F$21-(D2982))","v":" "},{"$f":"IF(D2982=\"\",\" \",VLOOKUP(R2982,'Main page'!$E$29:'Main page'!$G$41,3,TRUE))","v":" "}]
[null,null,null,null,null,null,null,null,null,null,null,null," "," "," "," ",{"$f":"IF(I2997=\"\",\"\",IF(I2997<='Main page'!$F$49,\"Core staff\",\"Senior staff\"))","v":""},{"$f":"IF(D2997=\"\",\" \",'Main page'!$F$21-(D2997))","v":" "},{"$f":"IF(D2997=\"\",\" \",VLOOKUP(R2997,'Main page'!$E$29:'Main page'!$G$41,3,TRUE))","v":" "}]
[null,null,null,null,null,null,null,null,null,null,null,null," "," "," "," ",{"$f":"IF(I3000=\"\",\"\",IF(I3000<='Main page'!$F$49,\"Core staff\",\"Senior staff\"))","v":""},{"$f":"IF(D3000=\"\",\" \",'Main page'!$F$21-(D3000))","v":" "},{"$f":"IF(D3000=\"\",\" \",VLOOKUP(R3000,'Main page'!$E$29:'Main page'!$G$41,3,TRUE))","v":" "}]
[null,null,null,null,null,null,null,null,null,null,null,null," "," "," "," ",{"$f":"IF(I3012=\"\",\"\",IF(I3012<='Main page'!$F$49,\"Core staff\",\"Senior staff\"))","v":""},{"$f":"IF(D3012=\"\",\" \",'Main page'!$F$21-(D3012))","v":" "},{"$f":"IF(D3012=\"\",\" \",VLOOKUP(R3012,'Main page'!$E$29:'Main page'!$G$41,3,TRUE))","v":" "}]
[null,null,null,null,null,null,null,null,null,null,null,null," "," "," "," ",{"$f":"IF(I3021=\"\",\"\",IF(I3021<='Main page'!$F$49,\"Core staff\",\"Senior staff\"))","v":""},{"$f":"IF(D3021=\"\",\" \",'Main page'!$F$21-(D3021))","v":" "},{"$f":"IF(D3021=\"\",\" \",VLOOKUP(R3021,'Main page'!$E$29:'Main page'!$G$41,3,TRUE))","v":" "}]
[null,null,null,null,null,null,null,null,null,null,null,null," "," "," "," ",{"$f":"IF(I3030=\"\",\"\",IF(I3030<='Main page'!$F$49,\"Core staff\",\"Senior staff\"))","v":""},{"$f":"IF(D3030=\"\",\" \",'Main page'!$F$21-(D3030))","v":" "},{"$f":"IF(D3030=\"\",\" \",VLOOKUP(R3030,'Main page'!$E$29:'Main page'!$G$41,3,TRUE))","v":" "}]
[null,null,null,null,null,null,null,null,null,null,null,null," "," "," "," ",{"$f":"IF(I3037=\"\",\"\",IF(I3037<='Main page'!$F$49,\"Core staff\",\"Senior staff\"))","v":""},{"$f":"IF(D3037=\"\",\" \",'Main page'!$F$21-(D3037))","v":" "},{"$f":"IF(D3037=\"\",\" \",VLOOKUP(R3037,'Main page'!$E$29:'Main page'!$G$41,3,TRUE))","v":" "}]
[null,null,null,null,null,null,null,null,null,null,null,null," "," "," "," ",{"$f":"IF(I3049=\"\",\"\",IF(I3049<='Main page'!$F$49,\"Core staff\",\"Senior staff\"))","v":""},{"$f":"IF(D3049=\"\",\" \",'Main page'!$F$21-(D3049))","v":" "},{"$f":"IF(D3049=\"\",\" \",VLOOKUP(R3049,'Main page'!$E$29:'Main page'!$G$41,3,TRUE))","v":" "}]
[null,null,null,null,null,null,null,null,null,null,null,null," "," "," "," ",{"$f":"IF(I3052=\"\",\"\",IF(I3052<='Main page'!$F$49,\"Core staff\",\"Senior staff\"))","v":""},{"$f":"IF(D3052=\"\",\" \",'Main page'!$F$21-(D3052))","v":" "},{"$f":"IF(D3052=\"\",\" \",VLOOKUP(R3052,'Main page'!$E$29:'Main page'!$G$41,3,TRUE))","v":" "}]
[null,null,null,null,null,null,null,null,null,null,null,null," "," "," "," ",{"$f":"IF(I3067=\"\",\"\",IF(I3067<='Main page'!$F$49,\"Core staff\",\"Senior staff\"))","v":""},{"$f":"IF(D3067=\"\",\" \",'Main page'!$F$21-(D3067))","v":" "},{"$f":"IF(D3067=\"\",\" \",VLOOKUP(R3067,'Main page'!$E$29:'Main page'!$G$41,3,TRUE))","v":" "}]
[null,null,null,null,null,null,null,null,null,null,null,null," "," "," "," ",{"$f":"IF(I3070=\"\",\"\",IF(I3070<='Main page'!$F$49,\"Core staff\",\"Senior staff\"))","v":""},{"$f":"IF(D3070=\"\",\" \",'Main page'!$F$21-(D3070))","v":" "},{"$f":"IF(D3070=\"\",\" \",VLOOKUP(R3070,'Main page'!$E$29:'Main page'!$G$41,3,TRUE))","v":" "}]
[null,null,null,null,null,null,null,null,null,null,null,null," "," "," "," ",{"$f":"IF(I3082=\"\",\"\",IF(I3082<='Main page'!$F$49,\"Core staff\",\"Senior staff\"))","v":""},{"$f":"IF(D3082=\"\",\" \",'Main page'!$F$21-(D3082))","v":" "},{"$f":"IF(D3082=\"\",\" \",VLOOKUP(R3082,'Main page'!$E$29:'Main page'!$G$41,3,TRUE))","v":" "}]
[null,null,null,null,null,null,null,null,null,null,null,null," "," "," "," ",{"$f":"IF(I3091=\"\",\"\",IF(I3091<='Main page'!$F$49,\"Core staff\",\"Senior staff\"))","v":""},{"$f":"IF(D3091=\"\",\" \",'Main page'!$F$21-(D3091))","v":" "},{"$f":"IF(D3091=\"\",\" \",VLOOKUP(R3091,'Main page'!$E$29:'Main page'!$G$41,3,TRUE))","v":" "}]
[null,null,null,null,null,null,null,null,null,null,null,null," "," "," "," ",{"$f":"IF(I3100=\"\",\"\",IF(I3100<='Main page'!$F$49,\"Core staff\",\"Senior staff\"))","v":""},{"$f":"IF(D3100=\"\",\" \",'Main page'!$F$21-(D3100))","v":" "},{"$f":"IF(D3100=\"\",\" \",VLOOKUP(R3100,'Main page'!$E$29:'Main page'!$G$41,3,TRUE))","v":" "}]
[null,null,null,null,null,null,null,null,null,null,null,null," "," "," "," ",{"$f":"IF(I3107=\"\",\"\",IF(I3107<='Main page'!$F$49,\"Core staff\",\"Senior staff\"))","v":""},{"$f":"IF(D3107=\"\",\" \",'Main page'!$F$21-(D3107))","v":" "},{"$f":"IF(D3107=\"\",\" \",VLOOKUP(R3107,'Main page'!$E$29:'Main page'!$G$41,3,TRUE))","v":" "}]
[null,null,null,null,null,null,null,null,null,null,null,null," "," "," "," ",{"$f":"IF(I3119=\"\",\"\",IF(I3119<='Main page'!$F$49,\"Core staff\",\"Senior staff\"))","v":""},{"$f":"IF(D3119=\"\",\" \",'Main page'!$F$21-(D3119))","v":" "},{"$f":"IF(D3119=\"\",\" \",VLOOKUP(R3119,'Main page'!$E$29:'Main page'!$G$41,3,TRUE))","v":" "}]
[null,null,null,null,null,null,null,null,null,null,null,null," "," "," "," ",{"$f":"IF(I3122=\"\",\"\",IF(I3122<='Main page'!$F$49,\"Core staff\",\"Senior staff\"))","v":""},{"$f":"IF(D3122=\"\",\" \",'Main page'!$F$21-(D3122))","v":" "},{"$f":"IF(D3122=\"\",\" \",VLOOKUP(R3122,'Main page'!$E$29:'Main page'!$G$41,3,TRUE))","v":" "}]
[null,null,null,null,null,null,null,null,null,null,null,null," "," "," "," ",{"$f":"IF(I3137=\"\",\"\",IF(I3137<='Main page'!$F$49,\"Core staff\",\"Senior staff\"))","v":""},{"$f":"IF(D3137=\"\",\" \",'Main page'!$F$21-(D3137))","v":" "},{"$f":"IF(D3137=\"\",\" \",VLOOKUP(R3137,'Main page'!$E$29:'Main page'!$G$41,3,TRUE))","v":" "}]
[null,null,null,null,null,null,null,null,null,null,null,null," "," "," "," ",{"$f":"IF(I3140=\"\",\"\",IF(I3140<='Main page'!$F$49,\"Core staff\",\"Senior staff\"))","v":""},{"$f":"IF(D3140=\"\",\" \",'Main page'!$F$21-(D3140))","v":" "},{"$f":"IF(D3140=\"\",\" \",VLOOKUP(R3140,'Main page'!$E$29:'Main page'!$G$41,3,TRUE))","v":" "}]
[null,null,null,null,null,null,null,null,null,null,null,null," "," "," "," ",{"$f":"IF(I3147=\"\",\"\",IF(I3147<='Main page'!$F$49,\"Core staff\",\"Senior staff\"))","v":""},{"$f":"IF(D3147=\"\",\" \",'Main page'!$F$21-(D3147))","v":" "},{"$f":"IF(D3147=\"\",\" \",VLOOKUP(R3147,'Main page'!$E$29:'Main page'!$G$41,3,TRUE))","v":" "}]
[null,null,null,null,null,null,null,null,null,null,null,null," "," "," "," ",{"$f":"IF(I3161=\"\",\"\",IF(I3161<='Main page'!$F$49,\"Core staff\",\"Senior staff\"))","v":""},{"$f":"IF(D3161=\"\",\" \",'Main page'!$F$21-(D3161))","v":" "},{"$f":"IF(D3161=\"\",\" \",VLOOKUP(R3161,'Main page'!$E$29:'Main page'!$G$41,3,TRUE))","v":" "}]
[null,null,null,null,null,null,null,null,null,null,null,null," "," "," "," ",{"$f":"IF(I3170=\"\",\"\",IF(I3170<='Main page'!$F$49,\"Core staff\",\"Senior staff\"))","v":""},{"$f":"IF(D3170=\"\",\" \",'Main page'!$F$21-(D3170))","v":" "},{"$f":"IF(D3170=\"\",\" \",VLOOKUP(R3170,'Main page'!$E$29:'Main page'!$G$41,3,TRUE))","v":" "}]
[null,null,null,null,null,null,null,null,null,null,null,null," "," "," "," ",{"$f":"IF(I3177=\"\",\"\",IF(I3177<='Main page'!$F$49,\"Core staff\",\"Senior staff\"))","v":""},{"$f":"IF(D3177=\"\",\" \",'Main page'!$F$21-(D3177))","v":" "},{"$f":"IF(D3177=\"\",\" \",VLOOKUP(R3177,'Main page'!$E$29:'Main page'!$G$41,3,TRUE))","v":" "}]
[null,null,null,null,null,null,null,null,null,null,null,null," "," "," "," ",{"$f":"IF(I3189=\"\",\"\",IF(I3189<='Main page'!$F$49,\"Core staff\",\"Senior staff\"))","v":""},{"$f":"IF(D3189=\"\",\" \",'Main page'!$F$21-(D3189))","v":" "},{"$f":"IF(D3189=\"\",\" \",VLOOKUP(R3189,'Main page'!$E$29:'Main page'!$G$41,3,TRUE))","v":" "}]
[null,null,null,null,null,null,null,null,null,null,null,null," "," "," "," ",{"$f":"IF(I3192=\"\",\"\",IF(I3192<='Main page'!$F$49,\"Core staff\",\"Senior staff\"))","v":""},{"$f":"IF(D3192=\"\",\" \",'Main page'!$F$21-(D3192))","v":" "},{"$f":"IF(D3192=\"\",\" \",VLOOKUP(R3192,'Main page'!$E$29:'Main page'!$G$41,3,TRUE))","v":" "}]
[null,null,null,null,null,null,null,null,null,null,null,null," "," "," "," ",{"$f":"IF(I3207=\"\",\"\",IF(I3207<='Main page'!$F$49,\"Core staff\",\"Senior staff\"))","v":""},{"$f":"IF(D3207=\"\",\" \",'Main page'!$F$21-(D3207))","v":" "},{"$f":"IF(D3207=\"\",\" \",VLOOKUP(R3207,'Main page'!$E$29:'Main page'!$G$41,3,TRUE))","v":" "}]
[null,null,null,null,null,null,null,null,null,null,null,null," "," "," "," ",{"$f":"IF(I3210=\"\",\"\",IF(I3210<='Main page'!$F$49,\"Core staff\",\"Senior staff\"))","v":""},{"$f":"IF(D3210=\"\",\" \",'Main page'!$F$21-(D3210))","v":" "},{"$f":"IF(D3210=\"\",\" \",VLOOKUP(R3210,'Main page'!$E$29:'Main page'!$G$41,3,TRUE))","v":" "}]
[null,null,null,null,null,null,null,null,null,null,null,null," "," "," "," ",{"$f":"IF(I3217=\"\",\"\",IF(I3217<='Main page'!$F$49,\"Core staff\",\"Senior staff\"))","v":""},{"$f":"IF(D3217=\"\",\" \",'Main page'!$F$21-(D3217))","v":" "},{"$f":"IF(D3217=\"\",\" \",VLOOKUP(R3217,'Main page'!$E$29:'Main page'!$G$41,3,TRUE))","v":" "}]
[null,null,null,null,null,null,null,null,null,null,null,null," "," "," "," ",{"$f":"IF(I3231=\"\",\"\",IF(I3231<='Main page'!$F$49,\"Core staff\",\"Senior staff\"))","v":""},{"$f":"IF(D3231=\"\",\" \",'Main page'!$F$21-(D3231))","v":" "},{"$f":"IF(D3231=\"\",\" \",VLOOKUP(R3231,'Main page'!$E$29:'Main page'!$G$41,3,TRUE))","v":" "}]
[null,null,null,null,null,null,null,null,null,null,null,null," "," "," "," ",{"$f":"IF(I3240=\"\",\"\",IF(I3240<='Main page'!$F$49,\"Core staff\",\"Senior staff\"))","v":""},{"$f":"IF(D3240=\"\",\" \",'Main page'!$F$21-(D3240))","v":" "},{"$f":"IF(D3240=\"\",\" \",VLOOKUP(R3240,'Main page'!$E$29:'Main page'!$G$41,3,TRUE))","v":" "}]
[null,null,null,null,null,null,null,null,null,null,null,null," "," "," "," ",{"$f":"IF(I3247=\"\",\"\",IF(I3247<='Main page'!$F$49,\"Core staff\",\"Senior staff\"))","v":""},{"$f":"IF(D3247=\"\",\" \",'Main page'!$F$21-(D3247))","v":" "},{"$f":"IF(D3247=\"\",\" \",VLOOKUP(R3247,'Main page'!$E$29:'Main page'!$G$41,3,TRUE))","v":" "}]
[null,null,null,null,null,null,null,null,null,null,null,null," "," "," "," ",{"$f":"IF(I3259=\"\",\"\",IF(I3259<='Main page'!$F$49,\"Core staff\",\"Senior staff\"))","v":""},{"$f":"IF(D3259=\"\",\" \",'Main page'!$F$21-(D3259))","v":" "},{"$f":"IF(D3259=\"\",\" \",VLOOKUP(R3259,'Main page'!$E$29:'Main page'!$G$41,3,TRUE))","v":" "}]
[null,null,null,null,null,null,null,null,null,null,null,null," "," "," "," ",{"$f":"IF(I3262=\"\",\"\",IF(I3262<='Main page'!$F$49,\"Core staff\",\"Senior staff\"))","v":""},{"$f":"IF(D3262=\"\",\" \",'Main page'!$F$21-(D3262))","v":" "},{"$f":"IF(D3262=\"\",\" \",VLOOKUP(R3262,'Main page'!$E$29:'Main page'!$G$41,3,TRUE))","v":" "}]
[null,null,null,null,null,null,null,null,null,null,null,null," "," "," "," ",{"$f":"IF(I3277=\"\",\"\",IF(I3277<='Main page'!$F$49,\"Core staff\",\"Senior staff\"))","v":""},{"$f":"IF(D3277=\"\",\" \",'Main page'!$F$21-(D3277))","v":" "},{"$f":"IF(D3277=\"\",\" \",VLOOKUP(R3277,'Main page'!$E$29:'Main page'!$G$41,3,TRUE))","v":" "}]
[null,null,null,null,null,null,null,null,null,null,null,null," "," "," "," ",{"$f":"IF(I3280=\"\",\"\",IF(I3280<='Main page'!$F$49,\"Core staff\",\"Senior staff\"))","v":""},{"$f":"IF(D3280=\"\",\" \",'Main page'!$F$21-(D3280))","v":" "},{"$f":"IF(D3280=\"\",\" \",VLOOKUP(R3280,'Main page'!$E$29:'Main page'!$G$41,3,TRUE))","v":" "}]
[null,null,null,null,null,null,null,null,null,null,null,null," "," "," "," ",{"$f":"IF(I3287=\"\",\"\",IF(I3287<='Main page'!$F$49,\"Core staff\",\"Senior staff\"))","v":""},{"$f":"IF(D3287=\"\",\" \",'Main page'!$F$21-(D3287))","v":" "},{"$f":"IF(D3287=\"\",\" \",VLOOKUP(R3287,'Main page'!$E$29:'Main page'!$G$41,3,TRUE))","v":" "}]
[null,null,null,null,null,null,null,null,null,null,null,null," "," "," "," ",{"$f":"IF(I3301=\"\",\"\",IF(I3301<='Main page'!$F$49,\"Core staff\",\"Senior staff\"))","v":""},{"$f":"IF(D3301=\"\",\" \",'Main page'!$F$21-(D3301))","v":" "},{"$f":"IF(D3301=\"\",\" \",VLOOKUP(R3301,'Main page'!$E$29:'Main page'!$G$41,3,TRUE))","v":" "}]
[null,null,null,null,null,null,null,null,null,null,null,null," "," "," "," ",{"$f":"IF(I3310=\"\",\"\",IF(I3310<='Main page'!$F$49,\"Core staff\",\"Senior staff\"))","v":""},{"$f":"IF(D3310=\"\",\" \",'Main page'!$F$21-(D3310))","v":" "},{"$f":"IF(D3310=\"\",\" \",VLOOKUP(R3310,'Main page'!$E$29:'Main page'!$G$41,3,TRUE))","v":" "}]
[null,null,null,null,null,null,null,null,null,null,null,null," "," "," "," ",{"$f":"IF(I3317=\"\",\"\",IF(I3317<='Main page'!$F$49,\"Core staff\",\"Senior staff\"))","v":""},{"$f":"IF(D3317=\"\",\" \",'Main page'!$F$21-(D3317))","v":" "},{"$f":"IF(D3317=\"\",\" \",VLOOKUP(R3317,'Main page'!$E$29:'Main page'!$G$41,3,TRUE))","v":" "}]
[null,null,null,null,null,null,null,null,null,null,null,null," "," "," "," ",{"$f":"IF(I3329=\"\",\"\",IF(I3329<='Main page'!$F$49,\"Core staff\",\"Senior staff\"))","v":""},{"$f":"IF(D3329=\"\",\" \",'Main page'!$F$21-(D3329))","v":" "},{"$f":"IF(D3329=\"\",\" \",VLOOKUP(R3329,'Main page'!$E$29:'Main page'!$G$41,3,TRUE))","v":" "}]
[null,null,null,null,null,null,null,null,null,null,null,null," "," "," "," ",{"$f":"IF(I3332=\"\",\"\",IF(I3332<='Main page'!$F$49,\"Core staff\",\"Senior staff\"))","v":""},{"$f":"IF(D3332=\"\",\" \",'Main page'!$F$21-(D3332))","v":" "},{"$f":"IF(D3332=\"\",\" \",VLOOKUP(R3332,'Main page'!$E$29:'Main page'!$G$41,3,TRUE))","v":" "}]
[null,null,null,null,null,null,null,null,null,null,null,null," "," "," "," ",{"$f":"IF(I3347=\"\",\"\",IF(I3347<='Main page'!$F$49,\"Core staff\",\"Senior staff\"))","v":""},{"$f":"IF(D3347=\"\",\" \",'Main page'!$F$21-(D3347))","v":" "},{"$f":"IF(D3347=\"\",\" \",VLOOKUP(R3347,'Main page'!$E$29:'Main page'!$G$41,3,TRUE))","v":" "}]
[null,null,null,null,null,null,null,null,null,null,null,null," "," "," "," ",{"$f":"IF(I3350=\"\",\"\",IF(I3350<='Main page'!$F$49,\"Core staff\",\"Senior staff\"))","v":""},{"$f":"IF(D3350=\"\",\" \",'Main page'!$F$21-(D3350))","v":" "},{"$f":"IF(D3350=\"\",\" \",VLOOKUP(R3350,'Main page'!$E$29:'Main page'!$G$41,3,TRUE))","v":" "}]
[null,null,null,null,null,null,null,null,null,null,null,null," "," "," "," ",{"$f":"IF(I3357=\"\",\"\",IF(I3357<='Main page'!$F$49,\"Core staff\",\"Senior staff\"))","v":""},{"$f":"IF(D3357=\"\",\" \",'Main page'!$F$21-(D3357))","v":" "},{"$f":"IF(D3357=\"\",\" \",VLOOKUP(R3357,'Main page'!$E$29:'Main page'!$G$41,3,TRUE))","v":" "}]
[null,null,null,null,null,null,null,null,null,null,null,null," "," "," "," ",{"$f":"IF(I3371=\"\",\"\",IF(I3371<='Main page'!$F$49,\"Core staff\",\"Senior staff\"))","v":""},{"$f":"IF(D3371=\"\",\" \",'Main page'!$F$21-(D3371))","v":" "},{"$f":"IF(D3371=\"\",\" \",VLOOKUP(R3371,'Main page'!$E$29:'Main page'!$G$41,3,TRUE))","v":" "}]
[null,null,null,null,null,null,null,null,null,null,null,null," "," "," "," ",{"$f":"IF(I3380=\"\",\"\",IF(I3380<='Main page'!$F$49,\"Core staff\",\"Senior staff\"))","v":""},{"$f":"IF(D3380=\"\",\" \",'Main page'!$F$21-(D3380))","v":" "},{"$f":"IF(D3380=\"\",\" \",VLOOKUP(R3380,'Main page'!$E$29:'Main page'!$G$41,3,TRUE))","v":" "}]
[null,null,null,null,null,null,null,null,null,null,null,null," "," "," "," ",{"$f":"IF(I3387=\"\",\"\",IF(I3387<='Main page'!$F$49,\"Core staff\",\"Senior staff\"))","v":""},{"$f":"IF(D3387=\"\",\" \",'Main page'!$F$21-(D3387))","v":" "},{"$f":"IF(D3387=\"\",\" \",VLOOKUP(R3387,'Main page'!$E$29:'Main page'!$G$41,3,TRUE))","v":" "}]
[null,null,null,null,null,null,null,null,null,null,null,null," "," "," "," ",{"$f":"IF(I3399=\"\",\"\",IF(I3399<='Main page'!$F$49,\"Core staff\",\"Senior staff\"))","v":""},{"$f":"IF(D3399=\"\",\" \",'Main page'!$F$21-(D3399))","v":" "},{"$f":"IF(D3399=\"\",\" \",VLOOKUP(R3399,'Main page'!$E$29:'Main page'!$G$41,3,TRUE))","v":" "}]
[null,null,null,null,null,null,null,null,null,null,null,null," "," "," "," ",{"$f":"IF(I3402=\"\",\"\",IF(I3402<='Main page'!$F$49,\"Core staff\",\"Senior staff\"))","v":""},{"$f":"IF(D3402=\"\",\" \",'Main page'!$F$21-(D3402))","v":" "},{"$f":"IF(D3402=\"\",\" \",VLOOKUP(R3402,'Main page'!$E$29:'Main page'!$G$41,3,TRUE))","v":" "}]
[null,null,null,null,null,null,null,null,null,null,null,null," "," "," "," ",{"$f":"IF(I3417=\"\",\"\",IF(I3417<='Main page'!$F$49,\"Core staff\",\"Senior staff\"))","v":""},{"$f":"IF(D3417=\"\",\" \",'Main page'!$F$21-(D3417))","v":" "},{"$f":"IF(D3417=\"\",\" \",VLOOKUP(R3417,'Main page'!$E$29:'Main page'!$G$41,3,TRUE))","v":" "}]
[null,null,null,null,null,null,null,null,null,null,null,null," "," "," "," ",{"$f":"IF(I3420=\"\",\"\",IF(I3420<='Main page'!$F$49,\"Core staff\",\"Senior staff\"))","v":""},{"$f":"IF(D3420=\"\",\" \",'Main page'!$F$21-(D3420))","v":" "},{"$f":"IF(D3420=\"\",\" \",VLOOKUP(R3420,'Main page'!$E$29:'Main page'!$G$41,3,TRUE))","v":" "}]
[null,null,null,null,null,null,null,null,null,null,null,null," "," "," "," ",{"$f":"IF(I3427=\"\",\"\",IF(I3427<='Main page'!$F$49,\"Core staff\",\"Senior staff\"))","v":""},{"$f":"IF(D3427=\"\",\" \",'Main page'!$F$21-(D3427))","v":" "},{"$f":"IF(D3427=\"\",\" \",VLOOKUP(R3427,'Main page'!$E$29:'Main page'!$G$41,3,TRUE))","v":" "}]
[null,null,null,null,null,null,null,null,null,null,null,null," "," "," "," ",{"$f":"IF(I3441=\"\",\"\",IF(I3441<='Main page'!$F$49,\"Core staff\",\"Senior staff\"))","v":""},{"$f":"IF(D3441=\"\",\" \",'Main page'!$F$21-(D3441))","v":" "},{"$f":"IF(D3441=\"\",\" \",VLOOKUP(R3441,'Main page'!$E$29:'Main page'!$G$41,3,TRUE))","v":" "}]
[null,null,null,null,null,null,null,null,null,null,null,null," "," "," "," ",{"$f":"IF(I3445=\"\",\"\",IF(I3445<='Main page'!$F$49,\"Core staff\",\"Senior staff\"))","v":""},{"$f":"IF(D3445=\"\",\" \",'Main page'!$F$21-(D3445))","v":" "},{"$f":"IF(D3445=\"\",\" \",VLOOKUP(R3445,'Main page'!$E$29:'Main page'!$G$41,3,TRUE))","v":" "}]
[null,null,null,null,null,null,null,null,null,null,null,null," "," "," "," ",{"$f":"IF(I3457=\"\",\"\",IF(I3457<='Main page'!$F$49,\"Core staff\",\"Senior staff\"))","v":""},{"$f":"IF(D3457=\"\",\" \",'Main page'!$F$21-(D3457))","v":" "},{"$f":"IF(D3457=\"\",\" \",VLOOKUP(R3457,'Main page'!$E$29:'Main page'!$G$41,3,TRUE))","v":" "}]
[null,null,null,null,null,null,null,null,null,null,null,null," "," "," "," ",{"$f":"IF(I3469=\"\",\"\",IF(I3469<='Main page'!$F$49,\"Core staff\",\"Senior staff\"))","v":""},{"$f":"IF(D3469=\"\",\" \",'Main page'!$F$21-(D3469))","v":" "},{"$f":"IF(D3469=\"\",\" \",VLOOKUP(R3469,'Main page'!$E$29:'Main page'!$G$41,3,TRUE))","v":" "}]
[null,null,null,null,null,null,null,null,null,null,null,null," "," "," "," ",{"$f":"IF(I3472=\"\",\"\",IF(I3472<='Main page'!$F$49,\"Core staff\",\"Senior staff\"))","v":""},{"$f":"IF(D3472=\"\",\" \",'Main page'!$F$21-(D3472))","v":" "},{"$f":"IF(D3472=\"\",\" \",VLOOKUP(R3472,'Main page'!$E$29:'Main page'!$G$41,3,TRUE))","v":" "}]
[null,null,null,null,null,null,null,null,null,null,null,null," "," "," "," ",{"$f":"IF(I3487=\"\",\"\",IF(I3487<='Main page'!$F$49,\"Core staff\",\"Senior staff\"))","v":""},{"$f":"IF(D3487=\"\",\" \",'Main page'!$F$21-(D3487))","v":" "},{"$f":"IF(D3487=\"\",\" \",VLOOKUP(R3487,'Main page'!$E$29:'Main page'!$G$41,3,TRUE))","v":" "}]
[null,null,null,null,null,null,null,null,null,null,null,null," "," "," "," ",{"$f":"IF(I3490=\"\",\"\",IF(I3490<='Main page'!$F$49,\"Core staff\",\"Senior staff\"))","v":""},{"$f":"IF(D3490=\"\",\" \",'Main page'!$F$21-(D3490))","v":" "},{"$f":"IF(D3490=\"\",\" \",VLOOKUP(R3490,'Main page'!$E$29:'Main page'!$G$41,3,TRUE))","v":" "}]
[null,null,null,null,null,null,null,null,null,null,null,null," "," "," "," ",{"$f":"IF(I3497=\"\",\"\",IF(I3497<='Main page'!$F$49,\"Core staff\",\"Senior staff\"))","v":""},{"$f":"IF(D3497=\"\",\" \",'Main page'!$F$21-(D3497))","v":" "},{"$f":"IF(D3497=\"\",\" \",VLOOKUP(R3497,'Main page'!$E$29:'Main page'!$G$41,3,TRUE))","v":" "}]
[null,null,null,null,null,null,null,null,null,null,null,null," "," "," "," ",{"$f":"IF(I3511=\"\",\"\",IF(I3511<='Main page'!$F$49,\"Core staff\",\"Senior staff\"))","v":""},{"$f":"IF(D3511=\"\",\" \",'Main page'!$F$21-(D3511))","v":" "},{"$f":"IF(D3511=\"\",\" \",VLOOKUP(R3511,'Main page'!$E$29:'Main page'!$G$41,3,TRUE))","v":" "}]
[null,null,null,null,null,null,null,null,null,null,null,null," "," "," "," ",{"$f":"IF(I3515=\"\",\"\",IF(I3515<='Main page'!$F$49,\"Core staff\",\"Senior staff\"))","v":""},{"$f":"IF(D3515=\"\",\" \",'Main page'!$F$21-(D3515))","v":" "},{"$f":"IF(D3515=\"\",\" \",VLOOKUP(R3515,'Main page'!$E$29:'Main page'!$G$41,3,TRUE))","v":" "}]
[null,null,null,null,null,null,null,null,null,null,null,null," "," "," "," ",{"$f":"IF(I3527=\"\",\"\",IF(I3527<='Main page'!$F$49,\"Core staff\",\"Senior staff\"))","v":""},{"$f":"IF(D3527=\"\",\" \",'Main page'!$F$21-(D3527))","v":" "},{"$f":"IF(D3527=\"\",\" \",VLOOKUP(R3527,'Main page'!$E$29:'Main page'!$G$41,3,TRUE))","v":" "}]
[null,null,null,null,null,null,null,null,null,null,null,null," "," "," "," ",{"$f":"IF(I3539=\"\",\"\",IF(I3539<='Main page'!$F$49,\"Core staff\",\"Senior staff\"))","v":""},{"$f":"IF(D3539=\"\",\" \",'Main page'!$F$21-(D3539))","v":" "},{"$f":"IF(D3539=\"\",\" \",VLOOKUP(R3539,'Main page'!$E$29:'Main page'!$G$41,3,TRUE))","v":" "}]
[null,null,null,null,null,null,null,null,null,null,null,null," "," "," "," ",{"$f":"IF(I3542=\"\",\"\",IF(I3542<='Main page'!$F$49,\"Core staff\",\"Senior staff\"))","v":""},{"$f":"IF(D3542=\"\",\" \",'Main page'!$F$21-(D3542))","v":" "},{"$f":"IF(D3542=\"\",\" \",VLOOKUP(R3542,'Main page'!$E$29:'Main page'!$G$41,3,TRUE))","v":" "}]
[null,null,null,null,null,null,null,null,null,null,null,null," "," "," "," ",{"$f":"IF(I3557=\"\",\"\",IF(I3557<='Main page'!$F$49,\"Core staff\",\"Senior staff\"))","v":""},{"$f":"IF(D3557=\"\",\" \",'Main page'!$F$21-(D3557))","v":" "},{"$f":"IF(D3557=\"\",\" \",VLOOKUP(R3557,'Main page'!$E$29:'Main page'!$G$41,3,TRUE))","v":" "}]
[null,null,null,null,null,null,null,null,null,null,null,null," "," "," "," ",{"$f":"IF(I3560=\"\",\"\",IF(I3560<='Main page'!$F$49,\"Core staff\",\"Senior staff\"))","v":""},{"$f":"IF(D3560=\"\",\" \",'Main page'!$F$21-(D3560))","v":" "},{"$f":"IF(D3560=\"\",\" \",VLOOKUP(R3560,'Main page'!$E$29:'Main page'!$G$41,3,TRUE))","v":" "}]
[null,null,null,null,null,null,null,null,null,null,null,null," "," "," "," ",{"$f":"IF(I3567=\"\",\"\",IF(I3567<='Main page'!$F$49,\"Core staff\",\"Senior staff\"))","v":""},{"$f":"IF(D3567=\"\",\" \",'Main page'!$F$21-(D3567))","v":" "},{"$f":"IF(D3567=\"\",\" \",VLOOKUP(R3567,'Main page'!$E$29:'Main page'!$G$41,3,TRUE))","v":" "}]
[null,null,null,null,null,null,null,null,null,null,null,null," "," "," "," ",{"$f":"IF(I3581=\"\",\"\",IF(I3581<='Main page'!$F$49,\"Core staff\",\"Senior staff\"))","v":""},{"$f":"IF(D3581=\"\",\" \",'Main page'!$F$21-(D3581))","v":" "},{"$f":"IF(D3581=\"\",\" \",VLOOKUP(R3581,'Main page'!$E$29:'Main page'!$G$41,3,TRUE))","v":" "}]
[null,null,null,null,null,null,null,null,null,null,null,null," "," "," "," ",{"$f":"IF(I3585=\"\",\"\",IF(I3585<='Main page'!$F$49,\"Core staff\",\"Senior staff\"))","v":""},{"$f":"IF(D3585=\"\",\" \",'Main page'!$F$21-(D3585))","v":" "},{"$f":"IF(D3585=\"\",\" \",VLOOKUP(R3585,'Main page'!$E$29:'Main page'!$G$41,3,TRUE))","v":" "}]
[null,null,null,null,null,null,null,null,null,null,null,null," "," "," "," ",{"$f":"IF(I3597=\"\",\"\",IF(I3597<='Main page'!$F$49,\"Core staff\",\"Senior staff\"))","v":""},{"$f":"IF(D3597=\"\",\" \",'Main page'!$F$21-(D3597))","v":" "},{"$f":"IF(D3597=\"\",\" \",VLOOKUP(R3597,'Main page'!$E$29:'Main page'!$G$41,3,TRUE))","v":" "}]
[null,null,null,null,null,null,null,null,null,null,null,null," "," "," "," ",{"$f":"IF(I3609=\"\",\"\",IF(I3609<='Main page'!$F$49,\"Core staff\",\"Senior staff\"))","v":""},{"$f":"IF(D3609=\"\",\" \",'Main page'!$F$21-(D3609))","v":" "},{"$f":"IF(D3609=\"\",\" \",VLOOKUP(R3609,'Main page'!$E$29:'Main page'!$G$41,3,TRUE))","v":" "}]
[null,null,null,null,null,null,null,null,null,null,null,null," "," "," "," ",{"$f":"IF(I3612=\"\",\"\",IF(I3612<='Main page'!$F$49,\"Core staff\",\"Senior staff\"))","v":""},{"$f":"IF(D3612=\"\",\" \",'Main page'!$F$21-(D3612))","v":" "},{"$f":"IF(D3612=\"\",\" \",VLOOKUP(R3612,'Main page'!$E$29:'Main page'!$G$41,3,TRUE))","v":" "}]
[null,null,null,null,null,null,null,null,null,null,null,null," "," "," "," ",{"$f":"IF(I3627=\"\",\"\",IF(I3627<='Main page'!$F$49,\"Core staff\",\"Senior staff\"))","v":""},{"$f":"IF(D3627=\"\",\" \",'Main page'!$F$21-(D3627))","v":" "},{"$f":"IF(D3627=\"\",\" \",VLOOKUP(R3627,'Main page'!$E$29:'Main page'!$G$41,3,TRUE))","v":" "}]
[null,null,null,null,null,null,null,null,null,null,null,null," "," "," "," ",{"$f":"IF(I3634=\"\",\"\",IF(I3634<='Main page'!$F$49,\"Core staff\",\"Senior staff\"))","v":""},{"$f":"IF(D3634=\"\",\" \",'Main page'!$F$21-(D3634))","v":" "},{"$f":"IF(D3634=\"\",\" \",VLOOKUP(R3634,'Main page'!$E$29:'Main page'!$G$41,3,TRUE))","v":" "}]
[null,null,null,null,null,null,null,null,null,null,null,null," "," "," "," ",{"$f":"IF(I3637=\"\",\"\",IF(I3637<='Main page'!$F$49,\"Core staff\",\"Senior staff\"))","v":""},{"$f":"IF(D3637=\"\",\" \",'Main page'!$F$21-(D3637))","v":" "},{"$f":"IF(D3637=\"\",\" \",VLOOKUP(R3637,'Main page'!$E$29:'Main page'!$G$41,3,TRUE))","v":" "}]
[null,null,null,null,null,null,null,null,null,null,null,null," "," "," "," ",{"$f":"IF(I3651=\"\",\"\",IF(I3651<='Main page'!$F$49,\"Core staff\",\"Senior staff\"))","v":""},{"$f":"IF(D3651=\"\",\" \",'Main page'!$F$21-(D3651))","v":" "},{"$f":"IF(D3651=\"\",\" \",VLOOKUP(R3651,'Main page'!$E$29:'Main page'!$G$41,3,TRUE))","v":" "}]
[null,null,null,null,null,null,null,null,null,null,null,null," "," "," "," ",{"$f":"IF(I3655=\"\",\"\",IF(I3655<='Main page'!$F$49,\"Core staff\",\"Senior staff\"))","v":""},{"$f":"IF(D3655=\"\",\" \",'Main page'!$F$21-(D3655))","v":" "},{"$f":"IF(D3655=\"\",\" \",VLOOKUP(R3655,'Main page'!$E$29:'Main page'!$G$41,3,TRUE))","v":" "}]
[null,null,null,null,null,null,null,null,null,null,null,null," "," "," "," ",{"$f":"IF(I3667=\"\",\"\",IF(I3667<='Main page'!$F$49,\"Core staff\",\"Senior staff\"))","v":""},{"$f":"IF(D3667=\"\",\" \",'Main page'!$F$21-(D3667))","v":" "},{"$f":"IF(D3667=\"\",\" \",VLOOKUP(R3667,'Main page'!$E$29:'Main page'!$G$41,3,TRUE))","v":" "}]
[null,null,null,null,null,null,null,null,null,null,null,null," "," "," "," ",{"$f":"IF(I3679=\"\",\"\",IF(I3679<='Main page'!$F$49,\"Core staff\",\"Senior staff\"))","v":""},{"$f":"IF(D3679=\"\",\" \",'Main page'!$F$21-(D3679))","v":" "},{"$f":"IF(D3679=\"\",\" \",VLOOKUP(R3679,'Main page'!$E$29:'Main page'!$G$41,3,TRUE))","v":" "}]
[null,null,null,null,null,null,null,null,null,null,null,null," "," "," "," ",{"$f":"IF(I3682=\"\",\"\",IF(I3682<='Main page'!$F$49,\"Core staff\",\"Senior staff\"))","v":""},{"$f":"IF(D3682=\"\",\" \",'Main page'!$F$21-(D3682))","v":" "},{"$f":"IF(D3682=\"\",\" \",VLOOKUP(R3682,'Main page'!$E$29:'Main page'!$G$41,3,TRUE))","v":" "}]
[null,null,null,null,null,null,null,null,null,null,null,null," "," "," "," ",{"$f":"IF(I3697=\"\",\"\",IF(I3697<='Main page'!$F$49,\"Core staff\",\"Senior staff\"))","v":""},{"$f":"IF(D3697=\"\",\" \",'Main page'!$F$21-(D3697))","v":" "},{"$f":"IF(D3697=\"\",\" \",VLOOKUP(R3697,'Main page'!$E$29:'Main page'!$G$41,3,TRUE))","v":" "}]
[null,null,null,null,null,null,null,null,null,null,null,null," "," "," "," ",{"$f":"IF(I3704=\"\",\"\",IF(I3704<='Main page'!$F$49,\"Core staff\",\"Senior staff\"))","v":""},{"$f":"IF(D3704=\"\",\" \",'Main page'!$F$21-(D3704))","v":" "},{"$f":"IF(D3704=\"\",\" \",VLOOKUP(R3704,'Main page'!$E$29:'Main page'!$G$41,3,TRUE))","v":" "}]
[null,null,null,null,null,null,null,null,null,null,null,null," "," "," "," ",{"$f":"IF(I3707=\"\",\"\",IF(I3707<='Main page'!$F$49,\"Core staff\",\"Senior staff\"))","v":""},{"$f":"IF(D3707=\"\",\" \",'Main page'!$F$21-(D3707))","v":" "},{"$f":"IF(D3707=\"\",\" \",VLOOKUP(R3707,'Main page'!$E$29:'Main page'!$G$41,3,TRUE))","v":" "}]
[null,null,null,null,null,null,null,null,null,null,null,null," "," "," "," ",{"$f":"IF(I3721=\"\",\"\",IF(I3721<='Main page'!$F$49,\"Core staff\",\"Senior staff\"))","v":""},{"$f":"IF(D3721=\"\",\" \",'Main page'!$F$21-(D3721))","v":" "},{"$f":"IF(D3721=\"\",\" \",VLOOKUP(R3721,'Main page'!$E$29:'Main page'!$G$41,3,TRUE))","v":" "}]
[null,null,null,null,null,null,null,null,null,null,null,null," "," "," "," ",{"$f":"IF(I3725=\"\",\"\",IF(I3725<='Main page'!$F$49,\"Core staff\",\"Senior staff\"))","v":""},{"$f":"IF(D3725=\"\",\" \",'Main page'!$F$21-(D3725))","v":" "},{"$f":"IF(D3725=\"\",\" \",VLOOKUP(R3725,'Main page'!$E$29:'Main page'!$G$41,3,TRUE))","v":" "}]
[null,null,null,null,null,null,null,null,null,null,null,null," "," "," "," ",{"$f":"IF(I3737=\"\",\"\",IF(I3737<='Main page'!$F$49,\"Core staff\",\"Senior staff\"))","v":""},{"$f":"IF(D3737=\"\",\" \",'Main page'!$F$21-(D3737))","v":" "},{"$f":"IF(D3737=\"\",\" \",VLOOKUP(R3737,'Main page'!$E$29:'Main page'!$G$41,3,TRUE))","v":" "}]
[null,null,null,null,null,null,null,null,null,null,null,null," "," "," "," ",{"$f":"IF(I3744=\"\",\"\",IF(I3744<='Main page'!$F$49,\"Core staff\",\"Senior staff\"))","v":""},{"$f":"IF(D3744=\"\",\" \",'Main page'!$F$21-(D3744))","v":" "},{"$f":"IF(D3744=\"\",\" \",VLOOKUP(R3744,'Main page'!$E$29:'Main page'!$G$41,3,TRUE))","v":" "}]
[null,null,null,null,null,null,null,null,null,null,null,null," "," "," "," ",{"$f":"IF(I3752=\"\",\"\",IF(I3752<='Main page'!$F$49,\"Core staff\",\"Senior staff\"))","v":""},{"$f":"IF(D3752=\"\",\" \",'Main page'!$F$21-(D3752))","v":" "},{"$f":"IF(D3752=\"\",\" \",VLOOKUP(R3752,'Main page'!$E$29:'Main page'!$G$41,3,TRUE))","v":" "}]
[null,null,null,null,null,null,null,null,null,null,null,null," "," "," "," ",{"$f":"IF(I3767=\"\",\"\",IF(I3767<='Main page'!$F$49,\"Core staff\",\"Senior staff\"))","v":""},{"$f":"IF(D3767=\"\",\" \",'Main page'!$F$21-(D3767))","v":" "},{"$f":"IF(D3767=\"\",\" \",VLOOKUP(R3767,'Main page'!$E$29:'Main page'!$G$41,3,TRUE))","v":" "}]
[null,null,null,null,null,null,null,null,null,null,null,null," "," "," "," ",{"$f":"IF(I3774=\"\",\"\",IF(I3774<='Main page'!$F$49,\"Core staff\",\"Senior staff\"))","v":""},{"$f":"IF(D3774=\"\",\" \",'Main page'!$F$21-(D3774))","v":" "},{"$f":"IF(D3774=\"\",\" \",VLOOKUP(R3774,'Main page'!$E$29:'Main page'!$G$41,3,TRUE))","v":" "}]
[null,null,null,null,null,null,null,null,null,null,null,null," "," "," "," ",{"$f":"IF(I3777=\"\",\"\",IF(I3777<='Main page'!$F$49,\"Core staff\",\"Senior staff\"))","v":""},{"$f":"IF(D3777=\"\",\" \",'Main page'!$F$21-(D3777))","v":" "},{"$f":"IF(D3777=\"\",\" \",VLOOKUP(R3777,'Main page'!$E$29:'Main page'!$G$41,3,TRUE))","v":" "}]
[null,null,null,null,null,null,null,null,null,null,null,null," "," "," "," ",{"$f":"IF(I3791=\"\",\"\",IF(I3791<='Main page'!$F$49,\"Core staff\",\"Senior staff\"))","v":""},{"$f":"IF(D3791=\"\",\" \",'Main page'!$F$21-(D3791))","v":" "},{"$f":"IF(D3791=\"\",\" \",VLOOKUP(R3791,'Main page'!$E$29:'Main page'!$G$41,3,TRUE))","v":" "}]
[null,null,null,null,null,null,null,null,null,null,null,null," "," "," "," ",{"$f":"IF(I3795=\"\",\"\",IF(I3795<='Main page'!$F$49,\"Core staff\",\"Senior staff\"))","v":""},{"$f":"IF(D3795=\"\",\" \",'Main page'!$F$21-(D3795))","v":" "},{"$f":"IF(D3795=\"\",\" \",VLOOKUP(R3795,'Main page'!$E$29:'Main page'!$G$41,3,TRUE))","v":" "}]
[null,null,null,null,null,null,null,null,null,null,null,null," "," "," "," ",{"$f":"IF(I3807=\"\",\"\",IF(I3807<='Main page'!$F$49,\"Core staff\",\"Senior staff\"))","v":""},{"$f":"IF(D3807=\"\",\" \",'Main page'!$F$21-(D3807))","v":" "},{"$f":"IF(D3807=\"\",\" \",VLOOKUP(R3807,'Main page'!$E$29:'Main page'!$G$41,3,TRUE))","v":" "}]
[null,null,null,null,null,null,null,null,null,null,null,null," "," "," "," ",{"$f":"IF(I3814=\"\",\"\",IF(I3814<='Main page'!$F$49,\"Core staff\",\"Senior staff\"))","v":""},{"$f":"IF(D3814=\"\",\" \",'Main page'!$F$21-(D3814))","v":" "},{"$f":"IF(D3814=\"\",\" \",VLOOKUP(R3814,'Main page'!$E$29:'Main page'!$G$41,3,TRUE))","v":" "}]
[null,null,null,null,null,null,null,null,null,null,null,null," "," "," "," ",{"$f":"IF(I3822=\"\",\"\",IF(I3822<='Main page'!$F$49,\"Core staff\",\"Senior staff\"))","v":""},{"$f":"IF(D3822=\"\",\" \",'Main page'!$F$21-(D3822))","v":" "},{"$f":"IF(D3822=\"\",\" \",VLOOKUP(R3822,'Main page'!$E$29:'Main page'!$G$41,3,TRUE))","v":" "}]
[null,null,null,null,null,null,null,null,null,null,null,null," "," "," "," ",{"$f":"IF(I3837=\"\",\"\",IF(I3837<='Main page'!$F$49,\"Core staff\",\"Senior staff\"))","v":""},{"$f":"IF(D3837=\"\",\" \",'Main page'!$F$21-(D3837))","v":" "},{"$f":"IF(D3837=\"\",\" \",VLOOKUP(R3837,'Main page'!$E$29:'Main page'!$G$41,3,TRUE))","v":" "}]
[null,null,null,null,null,null,null,null,null,null,null,null," "," "," "," ",{"$f":"IF(I3844=\"\",\"\",IF(I3844<='Main page'!$F$49,\"Core staff\",\"Senior staff\"))","v":""},{"$f":"IF(D3844=\"\",\" \",'Main page'!$F$21-(D3844))","v":" "},{"$f":"IF(D3844=\"\",\" \",VLOOKUP(R3844,'Main page'!$E$29:'Main page'!$G$41,3,TRUE))","v":" "}]
[null,null,null,null,null,null,null,null,null,null,null,null," "," "," "," ",{"$f":"IF(I3847=\"\",\"\",IF(I3847<='Main page'!$F$49,\"Core staff\",\"Senior staff\"))","v":""},{"$f":"IF(D3847=\"\",\" \",'Main page'!$F$21-(D3847))","v":" "},{"$f":"IF(D3847=\"\",\" \",VLOOKUP(R3847,'Main page'!$E$29:'Main page'!$G$41,3,TRUE))","v":" "}]
[null,null,null,null,null,null,null,null,null,null,null,null," "," "," "," ",{"$f":"IF(I3861=\"\",\"\",IF(I3861<='Main page'!$F$49,\"Core staff\",\"Senior staff\"))","v":""},{"$f":"IF(D3861=\"\",\" \",'Main page'!$F$21-(D3861))","v":" "},{"$f":"IF(D3861=\"\",\" \",VLOOKUP(R3861,'Main page'!$E$29:'Main page'!$G$41,3,TRUE))","v":" "}]
[null,null,null,null,null,null,null,null,null,null,null,null," "," "," "," ",{"$f":"IF(I3865=\"\",\"\",IF(I3865<='Main page'!$F$49,\"Core staff\",\"Senior staff\"))","v":""},{"$f":"IF(D3865=\"\",\" \",'Main page'!$F$21-(D3865))","v":" "},{"$f":"IF(D3865=\"\",\" \",VLOOKUP(R3865,'Main page'!$E$29:'Main page'!$G$41,3,TRUE))","v":" "}]
[null,null,null,null,null,null,null,null,null,null,null,null," "," "," "," ",{"$f":"IF(I3877=\"\",\"\",IF(I3877<='Main page'!$F$49,\"Core staff\",\"Senior staff\"))","v":""},{"$f":"IF(D3877=\"\",\" \",'Main page'!$F$21-(D3877))","v":" "},{"$f":"IF(D3877=\"\",\" \",VLOOKUP(R3877,'Main page'!$E$29:'Main page'!$G$41,3,TRUE))","v":" "}]
[null,null,null,null,null,null,null,null,null,null,null,null," "," "," "," ",{"$f":"IF(I3884=\"\",\"\",IF(I3884<='Main page'!$F$49,\"Core staff\",\"Senior staff\"))","v":""},{"$f":"IF(D3884=\"\",\" \",'Main page'!$F$21-(D3884))","v":" "},{"$f":"IF(D3884=\"\",\" \",VLOOKUP(R3884,'Main page'!$E$29:'Main page'!$G$41,3,TRUE))","v":" "}]
[null,null,null,null,null,null,null,null,null,null,null,null," "," "," "," ",{"$f":"IF(I3892=\"\",\"\",IF(I3892<='Main page'!$F$49,\"Core staff\",\"Senior staff\"))","v":""},{"$f":"IF(D3892=\"\",\" \",'Main page'!$F$21-(D3892))","v":" "},{"$f":"IF(D3892=\"\",\" \",VLOOKUP(R3892,'Main page'!$E$29:'Main page'!$G$41,3,TRUE))","v":" "}]
[null,null,null,null,null,null,null,null,null,null,null,null," "," "," "," ",{"$f":"IF(I3907=\"\",\"\",IF(I3907<='Main page'!$F$49,\"Core staff\",\"Senior staff\"))","v":""},{"$f":"IF(D3907=\"\",\" \",'Main page'!$F$21-(D3907))","v":" "},{"$f":"IF(D3907=\"\",\" \",VLOOKUP(R3907,'Main page'!$E$29:'Main page'!$G$41,3,TRUE))","v":" "}]
[null,null,null,null,null,null,null,null,null,null,null,null," "," "," "," ",{"$f":"IF(I3914=\"\",\"\",IF(I3914<='Main page'!$F$49,\"Core staff\",\"Senior staff\"))","v":""},{"$f":"IF(D3914=\"\",\" \",'Main page'!$F$21-(D3914))","v":" "},{"$f":"IF(D3914=\"\",\" \",VLOOKUP(R3914,'Main page'!$E$29:'Main page'!$G$41,3,TRUE))","v":" "}]
[null,null,null,null,null,null,null,null,null,null,null,null," "," "," "," ",{"$f":"IF(I3917=\"\",\"\",IF(I3917<='Main page'!$F$49,\"Core staff\",\"Senior staff\"))","v":""},{"$f":"IF(D3917=\"\",\" \",'Main page'!$F$21-(D3917))","v":" "},{"$f":"IF(D3917=\"\",\" \",VLOOKUP(R3917,'Main page'!$E$29:'Main page'!$G$41,3,TRUE))","v":" "}]
[null,null,null,null,null,null,null,null,null,null,null,null," "," "," "," ",{"$f":"IF(I3931=\"\",\"\",IF(I3931<='Main page'!$F$49,\"Core staff\",\"Senior staff\"))","v":""},{"$f":"IF(D3931=\"\",\" \",'Main page'!$F$21-(D3931))","v":" "},{"$f":"IF(D3931=\"\",\" \",VLOOKUP(R3931,'Main page'!$E$29:'Main page'!$G$41,3,TRUE))","v":" "}]
[null,null,null,null,null,null,null,null,null,null,null,null," "," "," "," ",{"$f":"IF(I3935=\"\",\"\",IF(I3935<='Main page'!$F$49,\"Core staff\",\"Senior staff\"))","v":""},{"$f":"IF(D3935=\"\",\" \",'Main page'!$F$21-(D3935))","v":" "},{"$f":"IF(D3935=\"\",\" \",VLOOKUP(R3935,'Main page'!$E$29:'Main page'!$G$41,3,TRUE))","v":" "}]
[null,null,null,null,null,null,null,null,null,null,null,null," "," "," "," ",{"$f":"IF(I3947=\"\",\"\",IF(I3947<='Main page'!$F$49,\"Core staff\",\"Senior staff\"))","v":""},{"$f":"IF(D3947=\"\",\" \",'Main page'!$F$21-(D3947))","v":" "},{"$f":"IF(D3947=\"\",\" \",VLOOKUP(R3947,'Main page'!$E$29:'Main page'!$G$41,3,TRUE))","v":" "}]
[null,null,null,null,null,null,null,null,null,null,null,null," "," "," "," ",{"$f":"IF(I3954=\"\",\"\",IF(I3954<='Main page'!$F$49,\"Core staff\",\"Senior staff\"))","v":""},{"$f":"IF(D3954=\"\",\" \",'Main page'!$F$21-(D3954))","v":" "},{"$f":"IF(D3954=\"\",\" \",VLOOKUP(R3954,'Main page'!$E$29:'Main page'!$G$41,3,TRUE))","v":" "}]
[null,null,null,null,null,null,null,null,null,null,null,null," "," "," "," ",{"$f":"IF(I3962=\"\",\"\",IF(I3962<='Main page'!$F$49,\"Core staff\",\"Senior staff\"))","v":""},{"$f":"IF(D3962=\"\",\" \",'Main page'!$F$21-(D3962))","v":" "},{"$f":"IF(D3962=\"\",\" \",VLOOKUP(R3962,'Main page'!$E$29:'Main page'!$G$41,3,TRUE))","v":" "}]
[null,null,null,null,null,null,null,null,null,null,null,null," "," "," "," ",{"$f":"IF(I3977=\"\",\"\",IF(I3977<='Main page'!$F$49,\"Core staff\",\"Senior staff\"))","v":""},{"$f":"IF(D3977=\"\",\" \",'Main page'!$F$21-(D3977))","v":" "},{"$f":"IF(D3977=\"\",\" \",VLOOKUP(R3977,'Main page'!$E$29:'Main page'!$G$41,3,TRUE))","v":" "}]
[null,null,null,null,null,null,null,null,null,null,null,null," "," "," "," ",{"$f":"IF(I3984=\"\",\"\",IF(I3984<='Main page'!$F$49,\"Core staff\",\"Senior staff\"))","v":""},{"$f":"IF(D3984=\"\",\" \",'Main page'!$F$21-(D3984))","v":" "},{"$f":"IF(D3984=\"\",\" \",VLOOKUP(R3984,'Main page'!$E$29:'Main page'!$G$41,3,TRUE))","v":" "}]
[null,null,null,null,null,null,null,null,null,null,null,null," "," "," "," ",{"$f":"IF(I3987=\"\",\"\",IF(I3987<='Main page'!$F$49,\"Core staff\",\"Senior staff\"))","v":""},{"$f":"IF(D3987=\"\",\" \",'Main page'!$F$21-(D3987))","v":" "},{"$f":"IF(D3987=\"\",\" \",VLOOKUP(R3987,'Main page'!$E$29:'Main page'!$G$41,3,TRUE))","v":" "}]
[null,null,null,null,null,null,null,null,null,null,null,null," "," "," "," ",{"$f":"IF(I4001=\"\",\"\",IF(I4001<='Main page'!$F$49,\"Core staff\",\"Senior staff\"))","v":""},{"$f":"IF(D4001=\"\",\" \",'Main page'!$F$21-(D4001))","v":" "},{"$f":"IF(D4001=\"\",\" \",VLOOKUP(R4001,'Main page'!$E$29:'Main page'!$G$41,3,TRUE))","v":" "}]
[null,null,null,null,null,null,null,null,null,null,null,null," "," "," "," ",{"$f":"IF(I4005=\"\",\"\",IF(I4005<='Main page'!$F$49,\"Core staff\",\"Senior staff\"))","v":""},{"$f":"IF(D4005=\"\",\" \",'Main page'!$F$21-(D4005))","v":" "},{"$f":"IF(D4005=\"\",\" \",VLOOKUP(R4005,'Main page'!$E$29:'Main page'!$G$41,3,TRUE))","v":" "}]
[null,null,null,null,null,null,null,null,null,null,null,null," "," "," "," ",{"$f":"IF(I4017=\"\",\"\",IF(I4017<='Main page'!$F$49,\"Core staff\",\"Senior staff\"))","v":""},{"$f":"IF(D4017=\"\",\" \",'Main page'!$F$21-(D4017))","v":" "},{"$f":"IF(D4017=\"\",\" \",VLOOKUP(R4017,'Main page'!$E$29:'Main page'!$G$41,3,TRUE))","v":" "}]
[null,null,null,null,null,null,null,null,null,null,null,null," "," "," "," ",{"$f":"IF(I4024=\"\",\"\",IF(I4024<='Main page'!$F$49,\"Core staff\",\"Senior staff\"))","v":""},{"$f":"IF(D4024=\"\",\" \",'Main page'!$F$21-(D4024))","v":" "},{"$f":"IF(D4024=\"\",\" \",VLOOKUP(R4024,'Main page'!$E$29:'Main page'!$G$41,3,TRUE))","v":" "}]
[null,null,null,null,null,null,null,null,null,null,null,null," "," "," "," ",{"$f":"IF(I4032=\"\",\"\",IF(I4032<='Main page'!$F$49,\"Core staff\",\"Senior staff\"))","v":""},{"$f":"IF(D4032=\"\",\" \",'Main page'!$F$21-(D4032))","v":" "},{"$f":"IF(D4032=\"\",\" \",VLOOKUP(R4032,'Main page'!$E$29:'Main page'!$G$41,3,TRUE))","v":" "}]
[null,null,null,null,null,null,null,null,null,null,null,null," "," "," "," ",{"$f":"IF(I4047=\"\",\"\",IF(I4047<='Main page'!$F$49,\"Core staff\",\"Senior staff\"))","v":""},{"$f":"IF(D4047=\"\",\" \",'Main page'!$F$21-(D4047))","v":" "},{"$f":"IF(D4047=\"\",\" \",VLOOKUP(R4047,'Main page'!$E$29:'Main page'!$G$41,3,TRUE))","v":" "}]
[null,null,null,null,null,null,null,null,null,null,null,null," "," "," "," ",{"$f":"IF(I4054=\"\",\"\",IF(I4054<='Main page'!$F$49,\"Core staff\",\"Senior staff\"))","v":""},{"$f":"IF(D4054=\"\",\" \",'Main page'!$F$21-(D4054))","v":" "},{"$f":"IF(D4054=\"\",\" \",VLOOKUP(R4054,'Main page'!$E$29:'Main page'!$G$41,3,TRUE))","v":" "}]
[null,null,null,null,null,null,null,null,null,null,null,null," "," "," "," ",{"$f":"IF(I4057=\"\",\"\",IF(I4057<='Main page'!$F$49,\"Core staff\",\"Senior staff\"))","v":""},{"$f":"IF(D4057=\"\",\" \",'Main page'!$F$21-(D4057))","v":" "},{"$f":"IF(D4057=\"\",\" \",VLOOKUP(R4057,'Main page'!$E$29:'Main page'!$G$41,3,TRUE))","v":" "}]
[null,null,null,null,null,null,null,null,null,null,null,null," "," "," "," ",{"$f":"IF(I4071=\"\",\"\",IF(I4071<='Main page'!$F$49,\"Core staff\",\"Senior staff\"))","v":""},{"$f":"IF(D4071=\"\",\" \",'Main page'!$F$21-(D4071))","v":" "},{"$f":"IF(D4071=\"\",\" \",VLOOKUP(R4071,'Main page'!$E$29:'Main page'!$G$41,3,TRUE))","v":" "}]
[null,null,null,null,null,null,null,null,null,null,null,null," "," "," "," ",{"$f":"IF(I4075=\"\",\"\",IF(I4075<='Main page'!$F$49,\"Core staff\",\"Senior staff\"))","v":""},{"$f":"IF(D4075=\"\",\" \",'Main page'!$F$21-(D4075))","v":" "},{"$f":"IF(D4075=\"\",\" \",VLOOKUP(R4075,'Main page'!$E$29:'Main page'!$G$41,3,TRUE))","v":" "}]
[null,null,null,null,null,null,null,null,null,null,null,null," "," "," "," ",{"$f":"IF(I4087=\"\",\"\",IF(I4087<='Main page'!$F$49,\"Core staff\",\"Senior staff\"))","v":""},{"$f":"IF(D4087=\"\",\" \",'Main page'!$F$21-(D4087))","v":" "},{"$f":"IF(D4087=\"\",\" \",VLOOKUP(R4087,'Main page'!$E$29:'Main page'!$G$41,3,TRUE))","v":" "}]
[null,null,null,null,null,null,null,null,null,null,null,null," "," "," "," ",{"$f":"IF(I4094=\"\",\"\",IF(I4094<='Main page'!$F$49,\"Core staff\",\"Senior staff\"))","v":""},{"$f":"IF(D4094=\"\",\" \",'Main page'!$F$21-(D4094))","v":" "},{"$f":"IF(D4094=\"\",\" \",VLOOKUP(R4094,'Main page'!$E$29:'Main page'!$G$41,3,TRUE))","v":" "}]
[null,null,null,null,null,null,null,null,null,null,null,null," "," "," "," ",{"$f":"IF(I4102=\"\",\"\",IF(I4102<='Main page'!$F$49,\"Core staff\",\"Senior staff\"))","v":""},{"$f":"IF(D4102=\"\",\" \",'Main page'!$F$21-(D4102))","v":" "},{"$f":"IF(D4102=\"\",\" \",VLOOKUP(R4102,'Main page'!$E$29:'Main page'!$G$41,3,TRUE))","v":" "}]
[null,null,null,null,null,null,null,null,null,null,null,null," "," "," "," ",{"$f":"IF(I4112=\"\",\"\",IF(I4112<='Main page'!$F$49,\"Core staff\",\"Senior staff\"))","v":""},{"$f":"IF(D4112=\"\",\" \",'Main page'!$F$21-(D4112))","v":" "},{"$f":"IF(D4112=\"\",\" \",VLOOKUP(R4112,'Main page'!$E$29:'Main page'!$G$41,3,TRUE))","v":" "}]
[null,null,null,null,null,null,null,null,null,null,null,null," "," "," "," ",{"$f":"IF(I4124=\"\",\"\",IF(I4124<='Main page'!$F$49,\"Core staff\",\"Senior staff\"))","v":""},{"$f":"IF(D4124=\"\",\" \",'Main page'!$F$21-(D4124))","v":" "},{"$f":"IF(D4124=\"\",\" \",VLOOKUP(R4124,'Main page'!$E$29:'Main page'!$G$41,3,TRUE))","v":" "}]
[null,null,null,null,null,null,null,null,null,null,null,null," "," "," "," ",{"$f":"IF(I4127=\"\",\"\",IF(I4127<='Main page'!$F$49,\"Core staff\",\"Senior staff\"))","v":""},{"$f":"IF(D4127=\"\",\" \",'Main page'!$F$21-(D4127))","v":" "},{"$f":"IF(D4127=\"\",\" \",VLOOKUP(R4127,'Main page'!$E$29:'Main page'!$G$41,3,TRUE))","v":" "}]
[null,null,null,null,null,null,null,null,null,null,null,null," "," "," "," ",{"$f":"IF(I4141=\"\",\"\",IF(I4141<='Main page'!$F$49,\"Core staff\",\"Senior staff\"))","v":""},{"$f":"IF(D4141=\"\",\" \",'Main page'!$F$21-(D4141))","v":" "},{"$f":"IF(D4141=\"\",\" \",VLOOKUP(R4141,'Main page'!$E$29:'Main page'!$G$41,3,TRUE))","v":" "}]
[null,null,null,null,null,null,null,null,null,null,null,null," "," "," "," ",{"$f":"IF(I4145=\"\",\"\",IF(I4145<='Main page'!$F$49,\"Core staff\",\"Senior staff\"))","v":""},{"$f":"IF(D4145=\"\",\" \",'Main page'!$F$21-(D4145))","v":" "},{"$f":"IF(D4145=\"\",\" \",VLOOKUP(R4145,'Main page'!$E$29:'Main page'!$G$41,3,TRUE))","v":" "}]
[null,null,null,null,null,null,null,null,null,null,null,null," "," "," "," ",{"$f":"IF(I4157=\"\",\"\",IF(I4157<='Main page'!$F$49,\"Core staff\",\"Senior staff\"))","v":""},{"$f":"IF(D4157=\"\",\" \",'Main page'!$F$21-(D4157))","v":" "},{"$f":"IF(D4157=\"\",\" \",VLOOKUP(R4157,'Main page'!$E$29:'Main page'!$G$41,3,TRUE))","v":" "}]
[null,null,null,null,null,null,null,null,null,null,null,null," "," "," "," ",{"$f":"IF(I4164=\"\",\"\",IF(I4164<='Main page'!$F$49,\"Core staff\",\"Senior staff\"))","v":""},{"$f":"IF(D4164=\"\",\" \",'Main page'!$F$21-(D4164))","v":" "},{"$f":"IF(D4164=\"\",\" \",VLOOKUP(R4164,'Main page'!$E$29:'Main page'!$G$41,3,TRUE))","v":" "}]
[null,null,null,null,null,null,null,null,null,null,null,null," "," "," "," ",{"$f":"IF(I4172=\"\",\"\",IF(I4172<='Main page'!$F$49,\"Core staff\",\"Senior staff\"))","v":""},{"$f":"IF(D4172=\"\",\" \",'Main page'!$F$21-(D4172))","v":" "},{"$f":"IF(D4172=\"\",\" \",VLOOKUP(R4172,'Main page'!$E$29:'Main page'!$G$41,3,TRUE))","v":" "}]
[null,null,null,null,null,null,null,null,null,null,null,null," "," "," "," ",{"$f":"IF(I4182=\"\",\"\",IF(I4182<='Main page'!$F$49,\"Core staff\",\"Senior staff\"))","v":""},{"$f":"IF(D4182=\"\",\" \",'Main page'!$F$21-(D4182))","v":" "},{"$f":"IF(D4182=\"\",\" \",VLOOKUP(R4182,'Main page'!$E$29:'Main page'!$G$41,3,TRUE))","v":" "}]
[null,null,null,null,null,null,null,null,null,null,null,null," "," "," "," ",{"$f":"IF(I4194=\"\",\"\",IF(I4194<='Main page'!$F$49,\"Core staff\",\"Senior staff\"))","v":""},{"$f":"IF(D4194=\"\",\" \",'Main page'!$F$21-(D4194))","v":" "},{"$f":"IF(D4194=\"\",\" \",VLOOKUP(R4194,'Main page'!$E$29:'Main page'!$G$41,3,TRUE))","v":" "}]
[null,null,null,null,null,null,null,null,null,null,null,null," "," "," "," ",{"$f":"IF(I4197=\"\",\"\",IF(I4197<='Main page'!$F$49,\"Core staff\",\"Senior staff\"))","v":""},{"$f":"IF(D4197=\"\",\" \",'Main page'!$F$21-(D4197))","v":" "},{"$f":"IF(D4197=\"\",\" \",VLOOKUP(R4197,'Main page'!$E$29:'Main page'!$G$41,3,TRUE))","v":" "}]
[null,null,null,null,null,null,null,null,null,null,null,null," "," "," "," ",{"$f":"IF(I4211=\"\",\"\",IF(I4211<='Main page'!$F$49,\"Core staff\",\"Senior staff\"))","v":""},{"$f":"IF(D4211=\"\",\" \",'Main page'!$F$21-(D4211))","v":" "},{"$f":"IF(D4211=\"\",\" \",VLOOKUP(R4211,'Main page'!$E$29:'Main page'!$G$41,3,TRUE))","v":" "}]
[null,null,null,null,null,null,null,null,null,null,null,null," "," "," "," ",{"$f":"IF(I4215=\"\",\"\",IF(I4215<='Main page'!$F$49,\"Core staff\",\"Senior staff\"))","v":""},{"$f":"IF(D4215=\"\",\" \",'Main page'!$F$21-(D4215))","v":" "},{"$f":"IF(D4215=\"\",\" \",VLOOKUP(R4215,'Main page'!$E$29:'Main page'!$G$41,3,TRUE))","v":" "}]
[null,null,null,null,null,null,null,null,null,null,null,null," "," "," "," ",{"$f":"IF(I4231=\"\",\"\",IF(I4231<='Main page'!$F$49,\"Core staff\",\"Senior staff\"))","v":""},{"$f":"IF(D4231=\"\",\" \",'Main page'!$F$21-(D4231))","v":" "},{"$f":"IF(D4231=\"\",\" \",VLOOKUP(R4231,'Main page'!$E$29:'Main page'!$G$41,3,TRUE))","v":" "}]
[null,null,null,null,null,null,null,null,null,null,null,null," "," "," "," ",{"$f":"IF(I4234=\"\",\"\",IF(I4234<='Main page'!$F$49,\"Core staff\",\"Senior staff\"))","v":""},{"$f":"IF(D4234=\"\",\" \",'Main page'!$F$21-(D4234))","v":" "},{"$f":"IF(D4234=\"\",\" \",VLOOKUP(R4234,'Main page'!$E$29:'Main page'!$G$41,3,TRUE))","v":" "}]
[null,null,null,null,null,null,null,null,null,null,null,null," "," "," "," ",{"$f":"IF(I4242=\"\",\"\",IF(I4242<='Main page'!$F$49,\"Core staff\",\"Senior staff\"))","v":""},{"$f":"IF(D4242=\"\",\" \",'Main page'!$F$21-(D4242))","v":" "},{"$f":"IF(D4242=\"\",\" \",VLOOKUP(R4242,'Main page'!$E$29:'Main page'!$G$41,3,TRUE))","v":" "}]
[null,null,null,null,null,null,null,null,null,null,null,null," "," "," "," ",{"$f":"IF(I4252=\"\",\"\",IF(I4252<='Main page'!$F$49,\"Core staff\",\"Senior staff\"))","v":""},{"$f":"IF(D4252=\"\",\" \",'Main page'!$F$21-(D4252))","v":" "},{"$f":"IF(D4252=\"\",\" \",VLOOKUP(R4252,'Main page'!$E$29:'Main page'!$G$41,3,TRUE))","v":" "}]
[null,null,null,null,null,null,null,null,null,null,null,null," "," "," "," ",{"$f":"IF(I4264=\"\",\"\",IF(I4264<='Main page'!$F$49,\"Core staff\",\"Senior staff\"))","v":""},{"$f":"IF(D4264=\"\",\" \",'Main page'!$F$21-(D4264))","v":" "},{"$f":"IF(D4264=\"\",\" \",VLOOKUP(R4264,'Main page'!$E$29:'Main page'!$G$41,3,TRUE))","v":" "}]
[null,null,null,null,null,null,null,null,null,null,null,null," "," "," "," ",{"$f":"IF(I4267=\"\",\"\",IF(I4267<='Main page'!$F$49,\"Core staff\",\"Senior staff\"))","v":""},{"$f":"IF(D4267=\"\",\" \",'Main page'!$F$21-(D4267))","v":" "},{"$f":"IF(D4267=\"\",\" \",VLOOKUP(R4267,'Main page'!$E$29:'Main page'!$G$41,3,TRUE))","v":" "}]
[null,null,null,null,null,null,null,null,null,null,null,null," "," "," "," ",{"$f":"IF(I4281=\"\",\"\",IF(I4281<='Main page'!$F$49,\"Core staff\",\"Senior staff\"))","v":""},{"$f":"IF(D4281=\"\",\" \",'Main page'!$F$21-(D4281))","v":" "},{"$f":"IF(D4281=\"\",\" \",VLOOKUP(R4281,'Main page'!$E$29:'Main page'!$G$41,3,TRUE))","v":" "}]
[null,null,null,null,null,null,null,null,null,null,null,null," "," "," "," ",{"$f":"IF(I4285=\"\",\"\",IF(I4285<='Main page'!$F$49,\"Core staff\",\"Senior staff\"))","v":""},{"$f":"IF(D4285=\"\",\" \",'Main page'!$F$21-(D4285))","v":" "},{"$f":"IF(D4285=\"\",\" \",VLOOKUP(R4285,'Main page'!$E$29:'Main page'!$G$41,3,TRUE))","v":" "}]
[null,null,null,null,null,null,null,null,null,null,null,null," "," "," "," ",{"$f":"IF(I4301=\"\",\"\",IF(I4301<='Main page'!$F$49,\"Core staff\",\"Senior staff\"))","v":""},{"$f":"IF(D4301=\"\",\" \",'Main page'!$F$21-(D4301))","v":" "},{"$f":"IF(D4301=\"\",\" \",VLOOKUP(R4301,'Main page'!$E$29:'Main page'!$G$41,3,TRUE))","v":" "}]
[null,null,null,null,null,null,null,null,null,null,null,null," "," "," "," ",{"$f":"IF(I4304=\"\",\"\",IF(I4304<='Main page'!$F$49,\"Core staff\",\"Senior staff\"))","v":""},{"$f":"IF(D4304=\"\",\" \",'Main page'!$F$21-(D4304))","v":" "},{"$f":"IF(D4304=\"\",\" \",VLOOKUP(R4304,'Main page'!$E$29:'Main page'!$G$41,3,TRUE))","v":" "}]
[null,null,null,null,null,null,null,null,null,null,null,null," "," "," "," ",{"$f":"IF(I4312=\"\",\"\",IF(I4312<='Main page'!$F$49,\"Core staff\",\"Senior staff\"))","v":""},{"$f":"IF(D4312=\"\",\" \",'Main page'!$F$21-(D4312))","v":" "},{"$f":"IF(D4312=\"\",\" \",VLOOKUP(R4312,'Main page'!$E$29:'Main page'!$G$41,3,TRUE))","v":" "}]
[null,null,null,null,null,null,null,null,null,null,null,null," "," "," "," ",{"$f":"IF(I4322=\"\",\"\",IF(I4322<='Main page'!$F$49,\"Core staff\",\"Senior staff\"))","v":""},{"$f":"IF(D4322=\"\",\" \",'Main page'!$F$21-(D4322))","v":" "},{"$f":"IF(D4322=\"\",\" \",VLOOKUP(R4322,'Main page'!$E$29:'Main page'!$G$41,3,TRUE))","v":" "}]
[null,null,null,null,null,null,null,null,null,null,null,null," "," "," "," ",{"$f":"IF(I4334=\"\",\"\",IF(I4334<='Main page'!$F$49,\"Core staff\",\"Senior staff\"))","v":""},{"$f":"IF(D4334=\"\",\" \",'Main page'!$F$21-(D4334))","v":" "},{"$f":"IF(D4334=\"\",\" \",VLOOKUP(R4334,'Main page'!$E$29:'Main page'!$G$41,3,TRUE))","v":" "}]
[null,null,null,null,null,null,null,null,null,null,null,null," "," "," "," ",{"$f":"IF(I4337=\"\",\"\",IF(I4337<='Main page'!$F$49,\"Core staff\",\"Senior staff\"))","v":""},{"$f":"IF(D4337=\"\",\" \",'Main page'!$F$21-(D4337))","v":" "},{"$f":"IF(D4337=\"\",\" \",VLOOKUP(R4337,'Main page'!$E$29:'Main page'!$G$41,3,TRUE))","v":" "}]
[null,null,null,null,null,null,null,null,null,null,null,null," "," "," "," ",{"$f":"IF(I4351=\"\",\"\",IF(I4351<='Main page'!$F$49,\"Core staff\",\"Senior staff\"))","v":""},{"$f":"IF(D4351=\"\",\" \",'Main page'!$F$21-(D4351))","v":" "},{"$f":"IF(D4351=\"\",\" \",VLOOKUP(R4351,'Main page'!$E$29:'Main page'!$G$41,3,TRUE))","v":" "}]
[null,null,null,null,null,null,null,null,null,null,null,null," "," "," "," ",{"$f":"IF(I4355=\"\",\"\",IF(I4355<='Main page'!$F$49,\"Core staff\",\"Senior staff\"))","v":""},{"$f":"IF(D4355=\"\",\" \",'Main page'!$F$21-(D4355))","v":" "},{"$f":"IF(D4355=\"\",\" \",VLOOKUP(R4355,'Main page'!$E$29:'Main page'!$G$41,3,TRUE))","v":" "}]
[null,null,null,null,null,null,null,null,null,null,null,null," "," "," "," ",{"$f":"IF(I4371=\"\",\"\",IF(I4371<='Main page'!$F$49,\"Core staff\",\"Senior staff\"))","v":""},{"$f":"IF(D4371=\"\",\" \",'Main page'!$F$21-(D4371))","v":" "},{"$f":"IF(D4371=\"\",\" \",VLOOKUP(R4371,'Main page'!$E$29:'Main page'!$G$41,3,TRUE))","v":" "}]
[null,null,null,null,null,null,null,null,null,null,null,null," "," "," "," ",{"$f":"IF(I4374=\"\",\"\",IF(I4374<='Main page'!$F$49,\"Core staff\",\"Senior staff\"))","v":""},{"$f":"IF(D4374=\"\",\" \",'Main page'!$F$21-(D4374))","v":" "},{"$f":"IF(D4374=\"\",\" \",VLOOKUP(R4374,'Main page'!$E$29:'Main page'!$G$41,3,TRUE))","v":" "}]
[null,null,null,null,null,null,null,null,null,null,null,null," "," "," "," ",{"$f":"IF(I4382=\"\",\"\",IF(I4382<='Main page'!$F$49,\"Core staff\",\"Senior staff\"))","v":""},{"$f":"IF(D4382=\"\",\" \",'Main page'!$F$21-(D4382))","v":" "},{"$f":"IF(D4382=\"\",\" \",VLOOKUP(R4382,'Main page'!$E$29:'Main page'!$G$41,3,TRUE))","v":" "}]
[null,null,null,null,null,null,null,null,null,null,null,null," "," "," "," ",{"$f":"IF(I4392=\"\",\"\",IF(I4392<='Main page'!$F$49,\"Core staff\",\"Senior staff\"))","v":""},{"$f":"IF(D4392=\"\",\" \",'Main page'!$F$21-(D4392))","v":" "},{"$f":"IF(D4392=\"\",\" \",VLOOKUP(R4392,'Main page'!$E$29:'Main page'!$G$41,3,TRUE))","v":" "}]
[null,null,null,null,null,null,null,null,null,null,null,null," "," "," "," ",{"$f":"IF(I4404=\"\",\"\",IF(I4404<='Main page'!$F$49,\"Core staff\",\"Senior staff\"))","v":""},{"$f":"IF(D4404=\"\",\" \",'Main page'!$F$21-(D4404))","v":" "},{"$f":"IF(D4404=\"\",\" \",VLOOKUP(R4404,'Main page'!$E$29:'Main page'!$G$41,3,TRUE))","v":" "}]
[null,null,null,null,null,null,null,null,null,null,null,null," "," "," "," ",{"$f":"IF(I4411=\"\",\"\",IF(I4411<='Main page'!$F$49,\"Core staff\",\"Senior staff\"))","v":""},{"$f":"IF(D4411=\"\",\" \",'Main page'!$F$21-(D4411))","v":" "},{"$f":"IF(D4411=\"\",\" \",VLOOKUP(R4411,'Main page'!$E$29:'Main page'!$G$41,3,TRUE))","v":" "}]
[null,null,null,null,null,null,null,null,null,null,null,null," "," "," "," ",{"$f":"IF(I4421=\"\",\"\",IF(I4421<='Main page'!$F$49,\"Core staff\",\"Senior staff\"))","v":""},{"$f":"IF(D4421=\"\",\" \",'Main page'!$F$21-(D4421))","v":" "},{"$f":"IF(D4421=\"\",\" \",VLOOKUP(R4421,'Main page'!$E$29:'Main page'!$G$41,3,TRUE))","v":" "}]
[null,null,null,null,null,null,null,null,null,null,null,null," "," "," "," ",{"$f":"IF(I4425=\"\",\"\",IF(I4425<='Main page'!$F$49,\"Core staff\",\"Senior staff\"))","v":""},{"$f":"IF(D4425=\"\",\" \",'Main page'!$F$21-(D4425))","v":" "},{"$f":"IF(D4425=\"\",\" \",VLOOKUP(R4425,'Main page'!$E$29:'Main page'!$G$41,3,TRUE))","v":" "}]
[null,null,null,null,null,null,null,null,null,null,null,null," "," "," "," ",{"$f":"IF(I4441=\"\",\"\",IF(I4441<='Main page'!$F$49,\"Core staff\",\"Senior staff\"))","v":""},{"$f":"IF(D4441=\"\",\" \",'Main page'!$F$21-(D4441))","v":" "},{"$f":"IF(D4441=\"\",\" \",VLOOKUP(R4441,'Main page'!$E$29:'Main page'!$G$41,3,TRUE))","v":" "}]
[null,null,null,null,null,null,null,null,null,null,null,null," "," "," "," ",{"$f":"IF(I4444=\"\",\"\",IF(I4444<='Main page'!$F$49,\"Core staff\",\"Senior staff\"))","v":""},{"$f":"IF(D4444=\"\",\" \",'Main page'!$F$21-(D4444))","v":" "},{"$f":"IF(D4444=\"\",\" \",VLOOKUP(R4444,'Main page'!$E$29:'Main page'!$G$41,3,TRUE))","v":" "}]
[null,null,null,null,null,null,null,null,null,null,null,null," "," "," "," ",{"$f":"IF(I4452=\"\",\"\",IF(I4452<='Main page'!$F$49,\"Core staff\",\"Senior staff\"))","v":""},{"$f":"IF(D4452=\"\",\" \",'Main page'!$F$21-(D4452))","v":" "},{"$f":"IF(D4452=\"\",\" \",VLOOKUP(R4452,'Main page'!$E$29:'Main page'!$G$41,3,TRUE))","v":" "}]
[null,null,null,null,null,null,null,null,null,null,null,null," "," "," "," ",{"$f":"IF(I4462=\"\",\"\",IF(I4462<='Main page'!$F$49,\"Core staff\",\"Senior staff\"))","v":""},{"$f":"IF(D4462=\"\",\" \",'Main page'!$F$21-(D4462))","v":" "},{"$f":"IF(D4462=\"\",\" \",VLOOKUP(R4462,'Main page'!$E$29:'Main page'!$G$41,3,TRUE))","v":" "}]
[null,null,null,null,null,null,null,null,null,null,null,null," "," "," "," ",{"$f":"IF(I4474=\"\",\"\",IF(I4474<='Main page'!$F$49,\"Core staff\",\"Senior staff\"))","v":""},{"$f":"IF(D4474=\"\",\" \",'Main page'!$F$21-(D4474))","v":" "},{"$f":"IF(D4474=\"\",\" \",VLOOKUP(R4474,'Main page'!$E$29:'Main page'!$G$41,3,TRUE))","v":" "}]
[null,null,null,null,null,null,null,null,null,null,null,null," "," "," "," ",{"$f":"IF(I4481=\"\",\"\",IF(I4481<='Main page'!$F$49,\"Core staff\",\"Senior staff\"))","v":""},{"$f":"IF(D4481=\"\",\" \",'Main page'!$F$21-(D4481))","v":" "},{"$f":"IF(D4481=\"\",\" \",VLOOKUP(R4481,'Main page'!$E$29:'Main page'!$G$41,3,TRUE))","v":" "}]
[null,null,null,null,null,null,null,null,null,null,null,null," "," "," "," ",{"$f":"IF(I4491=\"\",\"\",IF(I4491<='Main page'!$F$49,\"Core staff\",\"Senior staff\"))","v":""},{"$f":"IF(D4491=\"\",\" \",'Main page'!$F$21-(D4491))","v":" "},{"$f":"IF(D4491=\"\",\" \",VLOOKUP(R4491,'Main page'!$E$29:'Main page'!$G$41,3,TRUE))","v":" "}]
[null,null,null,null,null,null,null,null,null,null,null,null," "," "," "," ",{"$f":"IF(I4495=\"\",\"\",IF(I4495<='Main page'!$F$49,\"Core staff\",\"Senior staff\"))","v":""},{"$f":"IF(D4495=\"\",\" \",'Main page'!$F$21-(D4495))","v":" "},{"$f":"IF(D4495=\"\",\" \",VLOOKUP(R4495,'Main page'!$E$29:'Main page'!$G$41,3,TRUE))","v":" "}]
[null,null,null,null,null,null,null,null,null,null,null,null," "," "," "," ",{"$f":"IF(I4511=\"\",\"\",IF(I4511<='Main page'!$F$49,\"Core staff\",\"Senior staff\"))","v":""},{"$f":"IF(D4511=\"\",\" \",'Main page'!$F$21-(D4511))","v":" "},{"$f":"IF(D4511=\"\",\" \",VLOOKUP(R4511,'Main page'!$E$29:'Main page'!$G$41,3,TRUE))","v":" "}]
[null,null,null,null,null,null,null,null,null,null,null,null," "," "," "," ",{"$f":"IF(I4514=\"\",\"\",IF(I4514<='Main page'!$F$49,\"Core staff\",\"Senior staff\"))","v":""},{"$f":"IF(D4514=\"\",\" \",'Main page'!$F$21-(D4514))","v":" "},{"$f":"IF(D4514=\"\",\" \",VLOOKUP(R4514,'Main page'!$E$29:'Main page'!$G$41,3,TRUE))","v":" "}]
[null,null,null,null,null,null,null,null,null,null,null,null," "," "," "," ",{"$f":"IF(I4522=\"\",\"\",IF(I4522<='Main page'!$F$49,\"Core staff\",\"Senior staff\"))","v":""},{"$f":"IF(D4522=\"\",\" \",'Main page'!$F$21-(D4522))","v":" "},{"$f":"IF(D4522=\"\",\" \",VLOOKUP(R4522,'Main page'!$E$29:'Main page'!$G$41,3,TRUE))","v":" "}]
[null,null,null,null,null,null,null,null,null,null,null,null," "," "," "," ",{"$f":"IF(I4532=\"\",\"\",IF(I4532<='Main page'!$F$49,\"Core staff\",\"Senior staff\"))","v":""},{"$f":"IF(D4532=\"\",\" \",'Main page'!$F$21-(D4532))","v":" "},{"$f":"IF(D4532=\"\",\" \",VLOOKUP(R4532,'Main page'!$E$29:'Main page'!$G$41,3,TRUE))","v":" "}]
[null,null,null,null,null,null,null,null,null,null,null,null," "," "," "," ",{"$f":"IF(I4544=\"\",\"\",IF(I4544<='Main page'!$F$49,\"Core staff\",\"Senior staff\"))","v":""},{"$f":"IF(D4544=\"\",\" \",'Main page'!$F$21-(D4544))","v":" "},{"$f":"IF(D4544=\"\",\" \",VLOOKUP(R4544,'Main page'!$E$29:'Main page'!$G$41,3,TRUE))","v":" "}]
[null,null,null,null,null,null,null,null,null,null,null,null," "," "," "," ",{"$f":"IF(I4551=\"\",\"\",IF(I4551<='Main page'!$F$49,\"Core staff\",\"Senior staff\"))","v":""},{"$f":"IF(D4551=\"\",\" \",'Main page'!$F$21-(D4551))","v":" "},{"$f":"IF(D4551=\"\",\" \",VLOOKUP(R4551,'Main page'!$E$29:'Main page'!$G$41,3,TRUE))","v":" "}]
[null,null,null,null,null,null,null,null,null,null,null,null," "," "," "," ",{"$f":"IF(I4561=\"\",\"\",IF(I4561<='Main page'!$F$49,\"Core staff\",\"Senior staff\"))","v":""},{"$f":"IF(D4561=\"\",\" \",'Main page'!$F$21-(D4561))","v":" "},{"$f":"IF(D4561=\"\",\" \",VLOOKUP(R4561,'Main page'!$E$29:'Main page'!$G$41,3,TRUE))","v":" "}]
[null,null,null,null,null,null,null,null,null,null,null,null," "," "," "," ",{"$f":"IF(I4565=\"\",\"\",IF(I4565<='Main page'!$F$49,\"Core staff\",\"Senior staff\"))","v":""},{"$f":"IF(D4565=\"\",\" \",'Main page'!$F$21-(D4565))","v":" "},{"$f":"IF(D4565=\"\",\" \",VLOOKUP(R4565,'Main page'!$E$29:'Main page'!$G$41,3,TRUE))","v":" "}]
[null,null,null,null,null,null,null,null,null,null,null,null," "," "," "," ",{"$f":"IF(I4581=\"\",\"\",IF(I4581<='Main page'!$F$49,\"Core staff\",\"Senior staff\"))","v":""},{"$f":"IF(D4581=\"\",\" \",'Main page'!$F$21-(D4581))","v":" "},{"$f":"IF(D4581=\"\",\" \",VLOOKUP(R4581,'Main page'!$E$29:'Main page'!$G$41,3,TRUE))","v":" "}]
[null,null,null,null,null,null,null,null,null,null,null,null," "," "," "," ",{"$f":"IF(I4584=\"\",\"\",IF(I4584<='Main page'!$F$49,\"Core staff\",\"Senior staff\"))","v":""},{"$f":"IF(D4584=\"\",\" \",'Main page'!$F$21-(D4584))","v":" "},{"$f":"IF(D4584=\"\",\" \",VLOOKUP(R4584,'Main page'!$E$29:'Main page'!$G$41,3,TRUE))","v":" "}]
[null,null,null,null,null,null,null,null,null,null,null,null," "," "," "," ",{"$f":"IF(I4592=\"\",\"\",IF(I4592<='Main page'!$F$49,\"Core staff\",\"Senior staff\"))","v":""},{"$f":"IF(D4592=\"\",\" \",'Main page'!$F$21-(D4592))","v":" "},{"$f":"IF(D4592=\"\",\" \",VLOOKUP(R4592,'Main page'!$E$29:'Main page'!$G$41,3,TRUE))","v":" "}]
[null,null,null,null,null,null,null,null,null,null,null,null," "," "," "," ",{"$f":"IF(I4602=\"\",\"\",IF(I4602<='Main page'!$F$49,\"Core staff\",\"Senior staff\"))","v":""},{"$f":"IF(D4602=\"\",\" \",'Main page'!$F$21-(D4602))","v":" "},{"$f":"IF(D4602=\"\",\" \",VLOOKUP(R4602,'Main page'!$E$29:'Main page'!$G$41,3,TRUE))","v":" "}]
[null,null,null,null,null,null,null,null,null,null,null,null," "," "," "," ",{"$f":"IF(I4614=\"\",\"\",IF(I4614<='Main page'!$F$49,\"Core staff\",\"Senior staff\"))","v":""},{"$f":"IF(D4614=\"\",\" \",'Main page'!$F$21-(D4614))","v":" "},{"$f":"IF(D4614=\"\",\" \",VLOOKUP(R4614,'Main page'!$E$29:'Main page'!$G$41,3,TRUE))","v":" "}]
[null,null,null,null,null,null,null,null,null,null,null,null," "," "," "," ",{"$f":"IF(I4621=\"\",\"\",IF(I4621<='Main page'!$F$49,\"Core staff\",\"Senior staff\"))","v":""},{"$f":"IF(D4621=\"\",\" \",'Main page'!$F$21-(D4621))","v":" "},{"$f":"IF(D4621=\"\",\" \",VLOOKUP(R4621,'Main page'!$E$29:'Main page'!$G$41,3,TRUE))","v":" "}]
[null,null,null,null,null,null,null,null,null,null,null,null," "," "," "," ",{"$f":"IF(I4631=\"\",\"\",IF(I4631<='Main page'!$F$49,\"Core staff\",\"Senior staff\"))","v":""},{"$f":"IF(D4631=\"\",\" \",'Main page'!$F$21-(D4631))","v":" "},{"$f":"IF(D4631=\"\",\" \",VLOOKUP(R4631,'Main page'!$E$29:'Main page'!$G$41,3,TRUE))","v":" "}]
[null,null,null,null,null,null,null,null,null,null,null,null," "," "," "," ",{"$f":"IF(I4635=\"\",\"\",IF(I4635<='Main page'!$F$49,\"Core staff\",\"Senior staff\"))","v":""},{"$f":"IF(D4635=\"\",\" \",'Main page'!$F$21-(D4635))","v":" "},{"$f":"IF(D4635=\"\",\" \",VLOOKUP(R4635,'Main page'!$E$29:'Main page'!$G$41,3,TRUE))","v":" "}]
[null,null,null,null,null,null,null,null,null,null,null,null," "," "," "," ",{"$f":"IF(I4651=\"\",\"\",IF(I4651<='Main page'!$F$49,\"Core staff\",\"Senior staff\"))","v":""},{"$f":"IF(D4651=\"\",\" \",'Main page'!$F$21-(D4651))","v":" "},{"$f":"IF(D4651=\"\",\" \",VLOOKUP(R4651,'Main page'!$E$29:'Main page'!$G$41,3,TRUE))","v":" "}]
[null,null,null,null,null,null,null,null,null,null,null,null," "," "," "," ",{"$f":"IF(I4654=\"\",\"\",IF(I4654<='Main page'!$F$49,\"Core staff\",\"Senior staff\"))","v":""},{"$f":"IF(D4654=\"\",\" \",'Main page'!$F$21-(D4654))","v":" "},{"$f":"IF(D4654=\"\",\" \",VLOOKUP(R4654,'Main page'!$E$29:'Main page'!$G$41,3,TRUE))","v":" "}]
[null,null,null,null,null,null,null,null,null,null,null,null," "," "," "," ",{"$f":"IF(I4662=\"\",\"\",IF(I4662<='Main page'!$F$49,\"Core staff\",\"Senior staff\"))","v":""},{"$f":"IF(D4662=\"\",\" \",'Main page'!$F$21-(D4662))","v":" "},{"$f":"IF(D4662=\"\",\" \",VLOOKUP(R4662,'Main page'!$E$29:'Main page'!$G$41,3,TRUE))","v":" "}]
[null,null,null,null,null,null,null,null,null,null,null,null," "," "," "," ",{"$f":"IF(I4672=\"\",\"\",IF(I4672<='Main page'!$F$49,\"Core staff\",\"Senior staff\"))","v":""},{"$f":"IF(D4672=\"\",\" \",'Main page'!$F$21-(D4672))","v":" "},{"$f":"IF(D4672=\"\",\" \",VLOOKUP(R4672,'Main page'!$E$29:'Main page'!$G$41,3,TRUE))","v":" "}]
[null,null,null,null,null,null,null,null,null,null,null,null," "," "," "," ",{"$f":"IF(I4684=\"\",\"\",IF(I4684<='Main page'!$F$49,\"Core staff\",\"Senior staff\"))","v":""},{"$f":"IF(D4684=\"\",\" \",'Main page'!$F$21-(D4684))","v":" "},{"$f":"IF(D4684=\"\",\" \",VLOOKUP(R4684,'Main page'!$E$29:'Main page'!$G$41,3,TRUE))","v":" "}]
[null,null,null,null,null,null,null,null,null,null,null,null," "," "," "," ",{"$f":"IF(I4691=\"\",\"\",IF(I4691<='Main page'!$F$49,\"Core staff\",\"Senior staff\"))","v":""},{"$f":"IF(D4691=\"\",\" \",'Main page'!$F$21-(D4691))","v":" "},{"$f":"IF(D4691=\"\",\" \",VLOOKUP(R4691,'Main page'!$E$29:'Main page'!$G$41,3,TRUE))","v":" "}]
[null,null,null,null,null,null,null,null,null,null,null,null," "," "," "," ",{"$f":"IF(I4701=\"\",\"\",IF(I4701<='Main page'!$F$49,\"Core staff\",\"Senior staff\"))","v":""},{"$f":"IF(D4701=\"\",\" \",'Main page'!$F$21-(D4701))","v":" "},{"$f":"IF(D4701=\"\",\" \",VLOOKUP(R4701,'Main page'!$E$29:'Main page'!$G$41,3,TRUE))","v":" "}]
[null,null,null,null,null,null,null,null,null,null,null,null," "," "," "," ",{"$f":"IF(I4709=\"\",\"\",IF(I4709<='Main page'!$F$49,\"Core staff\",\"Senior staff\"))","v":""},{"$f":"IF(D4709=\"\",\" \",'Main page'!$F$21-(D4709))","v":" "},{"$f":"IF(D4709=\"\",\" \",VLOOKUP(R4709,'Main page'!$E$29:'Main page'!$G$41,3,TRUE))","v":" "}]
[null,null,null,null,null,null,null,null,null,null,null,null," "," "," "," ",{"$f":"IF(I4721=\"\",\"\",IF(I4721<='Main page'!$F$49,\"Core staff\",\"Senior staff\"))","v":""},{"$f":"IF(D4721=\"\",\" \",'Main page'!$F$21-(D4721))","v":" "},{"$f":"IF(D4721=\"\",\" \",VLOOKUP(R4721,'Main page'!$E$29:'Main page'!$G$41,3,TRUE))","v":" "}]
[null,null,null,null,null,null,null,null,null,null,null,null," "," "," "," ",{"$f":"IF(I4724=\"\",\"\",IF(I4724<='Main page'!$F$49,\"Core staff\",\"Senior staff\"))","v":""},{"$f":"IF(D4724=\"\",\" \",'Main page'!$F$21-(D4724))","v":" "},{"$f":"IF(D4724=\"\",\" \",VLOOKUP(R4724,'Main page'!$E$29:'Main page'!$G$41,3,TRUE))","v":" "}]
[null,null,null,null,null,null,null,null,null,null,null,null," "," "," "," ",{"$f":"IF(I4732=\"\",\"\",IF(I4732<='Main page'!$F$49,\"Core staff\",\"Senior staff\"))","v":""},{"$f":"IF(D4732=\"\",\" \",'Main page'!$F$21-(D4732))","v":" "},{"$f":"IF(D4732=\"\",\" \",VLOOKUP(R4732,'Main page'!$E$29:'Main page'!$G$41,3,TRUE))","v":" "}]
[null,null,null,null,null,null,null,null,null,null,null,null," "," "," "," ",{"$f":"IF(I4742=\"\",\"\",IF(I4742<='Main page'!$F$49,\"Core staff\",\"Senior staff\"))","v":""},{"$f":"IF(D4742=\"\",\" \",'Main page'!$F$21-(D4742))","v":" "},{"$f":"IF(D4742=\"\",\" \",VLOOKUP(R4742,'Main page'!$E$29:'Main page'!$G$41,3,TRUE))","v":" "}]
[null,null,null,null,null,null,null,null,null,null,null,null," "," "," "," ",{"$f":"IF(I4754=\"\",\"\",IF(I4754<='Main page'!$F$49,\"Core staff\",\"Senior staff\"))","v":""},{"$f":"IF(D4754=\"\",\" \",'Main page'!$F$21-(D4754))","v":" "},{"$f":"IF(D4754=\"\",\" \",VLOOKUP(R4754,'Main page'!$E$29:'Main page'!$G$41,3,TRUE))","v":" "}]
[null,null,null,null,null,null,null,null,null,null,null,null," "," "," "," ",{"$f":"IF(I4761=\"\",\"\",IF(I4761<='Main page'!$F$49,\"Core staff\",\"Senior staff\"))","v":""},{"$f":"IF(D4761=\"\",\" \",'Main page'!$F$21-(D4761))","v":" "},{"$f":"IF(D4761=\"\",\" \",VLOOKUP(R4761,'Main page'!$E$29:'Main page'!$G$41,3,TRUE))","v":" "}]
[null,null,null,null,null,null,null,null,null,null,null,null," "," "," "," ",{"$f":"IF(I4771=\"\",\"\",IF(I4771<='Main page'!$F$49,\"Core staff\",\"Senior staff\"))","v":""},{"$f":"IF(D4771=\"\",\" \",'Main page'!$F$21-(D4771))","v":" "},{"$f":"IF(D4771=\"\",\" \",VLOOKUP(R4771,'Main page'!$E$29:'Main page'!$G$41,3,TRUE))","v":" "}]
[null,null,null,null,null,null,null,null,null,null,null,null," "," "," "," ",{"$f":"IF(I4779=\"\",\"\",IF(I4779<='Main page'!$F$49,\"Core staff\",\"Senior staff\"))","v":""},{"$f":"IF(D4779=\"\",\" \",'Main page'!$F$21-(D4779))","v":" "},{"$f":"IF(D4779=\"\",\" \",VLOOKUP(R4779,'Main page'!$E$29:'Main page'!$G$41,3,TRUE))","v":" "}]
[null,null,null,null,null,null,null,null,null,null,null,null," "," "," "," ",{"$f":"IF(I4791=\"\",\"\",IF(I4791<='Main page'!$F$49,\"Core staff\",\"Senior staff\"))","v":""},{"$f":"IF(D4791=\"\",\" \",'Main page'!$F$21-(D4791))","v":" "},{"$f":"IF(D4791=\"\",\" \",VLOOKUP(R4791,'Main page'!$E$29:'Main page'!$G$41,3,TRUE))","v":" "}]
[null,null,null,null,null,null,null,null,null,null,null,null," "," "," "," ",{"$f":"IF(I4794=\"\",\"\",IF(I4794<='Main page'!$F$49,\"Core staff\",\"Senior staff\"))","v":""},{"$f":"IF(D4794=\"\",\" \",'Main page'!$F$21-(D4794))","v":" "},{"$f":"IF(D4794=\"\",\" \",VLOOKUP(R4794,'Main page'!$E$29:'Main page'!$G$41,3,TRUE))","v":" "}]
[null,null,null,null,null,null,null,null,null,null,null,null," "," "," "," ",{"$f":"IF(I4802=\"\",\"\",IF(I4802<='Main page'!$F$49,\"Core staff\",\"Senior staff\"))","v":""},{"$f":"IF(D4802=\"\",\" \",'Main page'!$F$21-(D4802))","v":" "},{"$f":"IF(D4802=\"\",\" \",VLOOKUP(R4802,'Main page'!$E$29:'Main page'!$G$41,3,TRUE))","v":" "}]
[null,null,null,null,null,null,null,null,null,null,null,null," "," "," "," ",{"$f":"IF(I4812=\"\",\"\",IF(I4812<='Main page'!$F$49,\"Core staff\",\"Senior staff\"))","v":""},{"$f":"IF(D4812=\"\",\" \",'Main page'!$F$21-(D4812))","v":" "},{"$f":"IF(D4812=\"\",\" \",VLOOKUP(R4812,'Main page'!$E$29:'Main page'!$G$41,3,TRUE))","v":" "}]
[null,null,null,null,null,null,null,null,null,null,null,null," "," "," "," ",{"$f":"IF(I4824=\"\",\"\",IF(I4824<='Main page'!$F$49,\"Core staff\",\"Senior staff\"))","v":""},{"$f":"IF(D4824=\"\",\" \",'Main page'!$F$21-(D4824))","v":" "},{"$f":"IF(D4824=\"\",\" \",VLOOKUP(R4824,'Main page'!$E$29:'Main page'!$G$41,3,TRUE))","v":" "}]
[null,null,null,null,null,null,null,null,null,null,null,null," "," "," "," ",{"$f":"IF(I4831=\"\",\"\",IF(I4831<='Main page'!$F$49,\"Core staff\",\"Senior staff\"))","v":""},{"$f":"IF(D4831=\"\",\" \",'Main page'!$F$21-(D4831))","v":" "},{"$f":"IF(D4831=\"\",\" \",VLOOKUP(R4831,'Main page'!$E$29:'Main page'!$G$41,3,TRUE))","v":" "}]
[null,null,null,null,null,null,null,null,null,null,null,null," "," "," "," ",{"$f":"IF(I4841=\"\",\"\",IF(I4841<='Main page'!$F$49,\"Core staff\",\"Senior staff\"))","v":""},{"$f":"IF(D4841=\"\",\" \",'Main page'!$F$21-(D4841))","v":" "},{"$f":"IF(D4841=\"\",\" \",VLOOKUP(R4841,'Main page'!$E$29:'Main page'!$G$41,3,TRUE))","v":" "}]
[null,null,null,null,null,null,null,null,null,null,null,null," "," "," "," ",{"$f":"IF(I4849=\"\",\"\",IF(I4849<='Main page'!$F$49,\"Core staff\",\"Senior staff\"))","v":""},{"$f":"IF(D4849=\"\",\" \",'Main page'!$F$21-(D4849))","v":" "},{"$f":"IF(D4849=\"\",\" \",VLOOKUP(R4849,'Main page'!$E$29:'Main page'!$G$41,3,TRUE))","v":" "}]
[null,null,null,null,null,null,null,null,null,null,null,null," "," "," "," ",{"$f":"IF(I4861=\"\",\"\",IF(I4861<='Main page'!$F$49,\"Core staff\",\"Senior staff\"))","v":""},{"$f":"IF(D4861=\"\",\" \",'Main page'!$F$21-(D4861))","v":" "},{"$f":"IF(D4861=\"\",\" \",VLOOKUP(R4861,'Main page'!$E$29:'Main page'!$G$41,3,TRUE))","v":" "}]
[null,null,null,null,null,null,null,null,null,null,null,null," "," "," "," ",{"$f":"IF(I4864=\"\",\"\",IF(I4864<='Main page'!$F$49,\"Core staff\",\"Senior staff\"))","v":""},{"$f":"IF(D4864=\"\",\" \",'Main page'!$F$21-(D4864))","v":" "},{"$f":"IF(D4864=\"\",\" \",VLOOKUP(R4864,'Main page'!$E$29:'Main page'!$G$41,3,TRUE))","v":" "}]
[null,null,null,null,null,null,null,null,null,null,null,null," "," "," "," ",{"$f":"IF(I4872=\"\",\"\",IF(I4872<='Main page'!$F$49,\"Core staff\",\"Senior staff\"))","v":""},{"$f":"IF(D4872=\"\",\" \",'Main page'!$F$21-(D4872))","v":" "},{"$f":"IF(D4872=\"\",\" \",VLOOKUP(R4872,'Main page'!$E$29:'Main page'!$G$41,3,TRUE))","v":" "}]
[null,null,null,null,null,null,null,null,null,null,null,null," "," "," "," ",{"$f":"IF(I4882=\"\",\"\",IF(I4882<='Main page'!$F$49,\"Core staff\",\"Senior staff\"))","v":""},{"$f":"IF(D4882=\"\",\" \",'Main page'!$F$21-(D4882))","v":" "},{"$f":"IF(D4882=\"\",\" \",VLOOKUP(R4882,'Main page'!$E$29:'Main page'!$G$41,3,TRUE))","v":" "}]
[null,null,null,null,null,null,null,null,null,null,null,null," "," "," "," ",{"$f":"IF(I4889=\"\",\"\",IF(I4889<='Main page'!$F$49,\"Core staff\",\"Senior staff\"))","v":""},{"$f":"IF(D4889=\"\",\" \",'Main page'!$F$21-(D4889))","v":" "},{"$f":"IF(D4889=\"\",\" \",VLOOKUP(R4889,'Main page'!$E$29:'Main page'!$G$41,3,TRUE))","v":" "}]
[null,null,null,null,null,null,null,null,null,null,null,null," "," "," "," ",{"$f":"IF(I4901=\"\",\"\",IF(I4901<='Main page'!$F$49,\"Core staff\",\"Senior staff\"))","v":""},{"$f":"IF(D4901=\"\",\" \",'Main page'!$F$21-(D4901))","v":" "},{"$f":"IF(D4901=\"\",\" \",VLOOKUP(R4901,'Main page'!$E$29:'Main page'!$G$41,3,TRUE))","v":" "}]
[null,null,null,null,null,null,null,null,null,null,null,null," "," "," "," ",{"$f":"IF(I4911=\"\",\"\",IF(I4911<='Main page'!$F$49,\"Core staff\",\"Senior staff\"))","v":""},{"$f":"IF(D4911=\"\",\" \",'Main page'!$F$21-(D4911))","v":" "},{"$f":"IF(D4911=\"\",\" \",VLOOKUP(R4911,'Main page'!$E$29:'Main page'!$G$41,3,TRUE))","v":" "}]
[null,null,null,null,null,null,null,null,null,null,null,null," "," "," "," ",{"$f":"IF(I4919=\"\",\"\",IF(I4919<='Main page'!$F$49,\"Core staff\",\"Senior staff\"))","v":""},{"$f":"IF(D4919=\"\",\" \",'Main page'!$F$21-(D4919))","v":" "},{"$f":"IF(D4919=\"\",\" \",VLOOKUP(R4919,'Main page'!$E$29:'Main page'!$G$41,3,TRUE))","v":" "}]
[null,null,null,null,null,null,null,null,null,null,null,null," "," "," "," ",{"$f":"IF(I4931=\"\",\"\",IF(I4931<='Main page'!$F$49,\"Core staff\",\"Senior staff\"))","v":""},{"$f":"IF(D4931=\"\",\" \",'Main page'!$F$21-(D4931))","v":" "},{"$f":"IF(D4931=\"\",\" \",VLOOKUP(R4931,'Main page'!$E$29:'Main page'!$G$41,3,TRUE))","v":" "}]
[null,null,null,null,null,null,null,null,null,null,null,null," "," "," "," ",{"$f":"IF(I4934=\"\",\"\",IF(I4934<='Main page'!$F$49,\"Core staff\",\"Senior staff\"))","v":""},{"$f":"IF(D4934=\"\",\" \",'Main page'!$F$21-(D4934))","v":" "},{"$f":"IF(D4934=\"\",\" \",VLOOKUP(R4934,'Main page'!$E$29:'Main page'!$G$41,3,TRUE))","v":" "}]
[null,null,null,null,null,null,null,null,null,null,null,null,{"$f":"IFERROR(J4942/G4942,\" \")","v":" "},{"$f":"IFERROR((M4942/$U$4)/H4942,\" \")","v":" "},{"$f":"IFERROR((N4942*75)*26.083,\" \")","v":" "},{"$f":"IF(G4942=0,\" \",IF(G4942=1,\"Full time\",\"Part time\"))","v":" "},{"$f":"IF(I4942=\"\",\"\",IF(I4942<='Main page'!$F$49,\"Core staff\",\"Senior staff\"))","v":""},{"$f":"IF(D4942=\"\",\" \",'Main page'!$F$21-(D4942))","v":" "},{"$f":"IF(D4942=\"\",\" \",VLOOKUP(R4942,'Main page'!$E$29:'Main page'!$G$41,3,TRUE))","v":" "}]
[null,null,null,null,null,null,null,null,null,null,null,null," "," "," "," ",{"$f":"IF(I4952=\"\",\"\",IF(I4952<='Main page'!$F$49,\"Core staff\",\"Senior staff\"))","v":""},{"$f":"IF(D4952=\"\",\" \",'Main page'!$F$21-(D4952))","v":" "},{"$f":"IF(D4952=\"\",\" \",VLOOKUP(R4952,'Main page'!$E$29:'Main page'!$G$41,3,TRUE))","v":" "}]
[null,null,null,null,null,null,null,null,null,null,null,null," "," "," "," ",{"$f":"IF(I4959=\"\",\"\",IF(I4959<='Main page'!$F$49,\"Core staff\",\"Senior staff\"))","v":""},{"$f":"IF(D4959=\"\",\" \",'Main page'!$F$21-(D4959))","v":" "},{"$f":"IF(D4959=\"\",\" \",VLOOKUP(R4959,'Main page'!$E$29:'Main page'!$G$41,3,TRUE))","v":" "}]
[null,null,null,null,null,null,null,null,null,null,null,null," "," "," "," ",{"$f":"IF(I4971=\"\",\"\",IF(I4971<='Main page'!$F$49,\"Core staff\",\"Senior staff\"))","v":""},{"$f":"IF(D4971=\"\",\" \",'Main page'!$F$21-(D4971))","v":" "},{"$f":"IF(D4971=\"\",\" \",VLOOKUP(R4971,'Main page'!$E$29:'Main page'!$G$41,3,TRUE))","v":" "}]
[null,null,null,null,null,null,null,null,null,null,null,null," "," "," "," ",{"$f":"IF(I4981=\"\",\"\",IF(I4981<='Main page'!$F$49,\"Core staff\",\"Senior staff\"))","v":""},{"$f":"IF(D4981=\"\",\" \",'Main page'!$F$21-(D4981))","v":" "},{"$f":"IF(D4981=\"\",\" \",VLOOKUP(R4981,'Main page'!$E$29:'Main page'!$G$41,3,TRUE))","v":" "}]
[null,null,null,null,null,null,null,null,null,null,null,null," "," "," "," ",{"$f":"IF(I4989=\"\",\"\",IF(I4989<='Main page'!$F$49,\"Core staff\",\"Senior staff\"))","v":""},{"$f":"IF(D4989=\"\",\" \",'Main page'!$F$21-(D4989))","v":" "},{"$f":"IF(D4989=\"\",\" \",VLOOKUP(R4989,'Main page'!$E$29:'Main page'!$G$41,3,TRUE))","v":" "}]
[null,null,null,null,null,null,null,null,null,null,null,null," "," "," "," ",{"$f":"IF(I5001=\"\",\"\",IF(I5001<='Main page'!$F$49,\"Core staff\",\"Senior staff\"))","v":""},{"$f":"IF(D5001=\"\",\" \",'Main page'!$F$21-(D5001))","v":" "},{"$f":"IF(D5001=\"\",\" \",VLOOKUP(R5001,'Main page'!$E$29:'Main page'!$G$41,3,TRUE))","v":" "}]
[null,null,null,null,null,null,null,null,null,null,null,null," "," "," "," ",{"$f":"IF(I5008=\"\",\"\",IF(I5008<='Main page'!$F$49,\"Core staff\",\"Senior staff\"))","v":""},{"$f":"IF(D5008=\"\",\" \",'Main page'!$F$21-(D5008))","v":" "},{"$f":"IF(D5008=\"\",\" \",VLOOKUP(R5008,'Main page'!$E$29:'Main page'!$G$41,3,TRUE))","v":" "}]
[null,null,null,null,null,null,null,null,null,null,null,null," "," "," "," ",{"$f":"IF(I5012=\"\",\"\",IF(I5012<='Main page'!$F$49,\"Core staff\",\"Senior staff\"))","v":""},{"$f":"IF(D5012=\"\",\" \",'Main page'!$F$21-(D5012))","v":" "},{"$f":"IF(D5012=\"\",\" \",VLOOKUP(R5012,'Main page'!$E$29:'Main page'!$G$41,3,TRUE))","v":" "}]
[null,null,null,null,null,null,null,null,null,null,null,null," "," "," "," ",{"$f":"IF(I5022=\"\",\"\",IF(I5022<='Main page'!$F$49,\"Core staff\",\"Senior staff\"))","v":""},{"$f":"IF(D5022=\"\",\" \",'Main page'!$F$21-(D5022))","v":" "},{"$f":"IF(D5022=\"\",\" \",VLOOKUP(R5022,'Main page'!$E$29:'Main page'!$G$41,3,TRUE))","v":" "}]
[null,null,null,null,null,null,null,null,null,null,null,null," "," "," "," ",{"$f":"IF(I5029=\"\",\"\",IF(I5029<='Main page'!$F$49,\"Core staff\",\"Senior staff\"))","v":""},{"$f":"IF(D5029=\"\",\" \",'Main page'!$F$21-(D5029))","v":" "},{"$f":"IF(D5029=\"\",\" \",VLOOKUP(R5029,'Main page'!$E$29:'Main page'!$G$41,3,TRUE))","v":" "}]
[null,null,null,null,null,null,null,null,null,null,null,null," "," "," "," ",{"$f":"IF(I5041=\"\",\"\",IF(I5041<='Main page'!$F$49,\"Core staff\",\"Senior staff\"))","v":""},{"$f":"IF(D5041=\"\",\" \",'Main page'!$F$21-(D5041))","v":" "},{"$f":"IF(D5041=\"\",\" \",VLOOKUP(R5041,'Main page'!$E$29:'Main page'!$G$41,3,TRUE))","v":" "}]
[null,null,null,null,null,null,null,null,null,null,null,null," "," "," "," ",{"$f":"IF(I5051=\"\",\"\",IF(I5051<='Main page'!$F$49,\"Core staff\",\"Senior staff\"))","v":""},{"$f":"IF(D5051=\"\",\" \",'Main page'!$F$21-(D5051))","v":" "},{"$f":"IF(D5051=\"\",\" \",VLOOKUP(R5051,'Main page'!$E$29:'Main page'!$G$41,3,TRUE))","v":" "}]
[null,null,null,null,null,null,null,null,null,null,null,null," "," "," "," ",{"$f":"IF(I5059=\"\",\"\",IF(I5059<='Main page'!$F$49,\"Core staff\",\"Senior staff\"))","v":""},{"$f":"IF(D5059=\"\",\" \",'Main page'!$F$21-(D5059))","v":" "},{"$f":"IF(D5059=\"\",\" \",VLOOKUP(R5059,'Main page'!$E$29:'Main page'!$G$41,3,TRUE))","v":" "}]
[null,null,null,null,null,null,null,null,null,null,null,null," "," "," "," ",{"$f":"IF(I5071=\"\",\"\",IF(I5071<='Main page'!$F$49,\"Core staff\",\"Senior staff\"))","v":""},{"$f":"IF(D5071=\"\",\" \",'Main page'!$F$21-(D5071))","v":" "},{"$f":"IF(D5071=\"\",\" \",VLOOKUP(R5071,'Main page'!$E$29:'Main page'!$G$41,3,TRUE))","v":" "}]
[null,null,null,null,null,null,null,null,null,null,null,null," "," "," "," ",{"$f":"IF(I5078=\"\",\"\",IF(I5078<='Main page'!$F$49,\"Core staff\",\"Senior staff\"))","v":""},{"$f":"IF(D5078=\"\",\" \",'Main page'!$F$21-(D5078))","v":" "},{"$f":"IF(D5078=\"\",\" \",VLOOKUP(R5078,'Main page'!$E$29:'Main page'!$G$41,3,TRUE))","v":" "}]
[null,null,null,null,null,null,null,null,null,null,null,null," "," "," "," ",{"$f":"IF(I5082=\"\",\"\",IF(I5082<='Main page'!$F$49,\"Core staff\",\"Senior staff\"))","v":""},{"$f":"IF(D5082=\"\",\" \",'Main page'!$F$21-(D5082))","v":" "},{"$f":"IF(D5082=\"\",\" \",VLOOKUP(R5082,'Main page'!$E$29:'Main page'!$G$41,3,TRUE))","v":" "}]
[null,null,null,null,null,null,null,null,null,null,null,null," "," "," "," ",{"$f":"IF(I5092=\"\",\"\",IF(I5092<='Main page'!$F$49,\"Core staff\",\"Senior staff\"))","v":""},{"$f":"IF(D5092=\"\",\" \",'Main page'!$F$21-(D5092))","v":" "},{"$f":"IF(D5092=\"\",\" \",VLOOKUP(R5092,'Main page'!$E$29:'Main page'!$G$41,3,TRUE))","v":" "}]
[null,null,null,null,null,null,null,null,null,null,null,null," "," "," "," ",{"$f":"IF(I5099=\"\",\"\",IF(I5099<='Main page'!$F$49,\"Core staff\",\"Senior staff\"))","v":""},{"$f":"IF(D5099=\"\",\" \",'Main page'!$F$21-(D5099))","v":" "},{"$f":"IF(D5099=\"\",\" \",VLOOKUP(R5099,'Main page'!$E$29:'Main page'!$G$41,3,TRUE))","v":" "}]
[null,null,null,null,null,null,null,null,null,null,null,null," "," "," "," ",{"$f":"IF(I5111=\"\",\"\",IF(I5111<='Main page'!$F$49,\"Core staff\",\"Senior staff\"))","v":""},{"$f":"IF(D5111=\"\",\" \",'Main page'!$F$21-(D5111))","v":" "},{"$f":"IF(D5111=\"\",\" \",VLOOKUP(R5111,'Main page'!$E$29:'Main page'!$G$41,3,TRUE))","v":" "}]
[null,null,null,null,null,null,null,null,null,null,null,null," "," "," "," ",{"$f":"IF(I5121=\"\",\"\",IF(I5121<='Main page'!$F$49,\"Core staff\",\"Senior staff\"))","v":""},{"$f":"IF(D5121=\"\",\" \",'Main page'!$F$21-(D5121))","v":" "},{"$f":"IF(D5121=\"\",\" \",VLOOKUP(R5121,'Main page'!$E$29:'Main page'!$G$41,3,TRUE))","v":" "}]
[null,null,null,null,null,null,null,null,null,null,null,null," "," "," "," ",{"$f":"IF(I5129=\"\",\"\",IF(I5129<='Main page'!$F$49,\"Core staff\",\"Senior staff\"))","v":""},{"$f":"IF(D5129=\"\",\" \",'Main page'!$F$21-(D5129))","v":" "},{"$f":"IF(D5129=\"\",\" \",VLOOKUP(R5129,'Main page'!$E$29:'Main page'!$G$41,3,TRUE))","v":" "}]
[null,null,null,null,null,null,null,null,null,null,null,null," "," "," "," ",{"$f":"IF(I5141=\"\",\"\",IF(I5141<='Main page'!$F$49,\"Core staff\",\"Senior staff\"))","v":""},{"$f":"IF(D5141=\"\",\" \",'Main page'!$F$21-(D5141))","v":" "},{"$f":"IF(D5141=\"\",\" \",VLOOKUP(R5141,'Main page'!$E$29:'Main page'!$G$41,3,TRUE))","v":" "}]
[null,null,null,null,null,null,null,null,null,null,null,null," "," "," "," ",{"$f":"IF(I5148=\"\",\"\",IF(I5148<='Main page'!$F$49,\"Core staff\",\"Senior staff\"))","v":""},{"$f":"IF(D5148=\"\",\" \",'Main page'!$F$21-(D5148))","v":" "},{"$f":"IF(D5148=\"\",\" \",VLOOKUP(R5148,'Main page'!$E$29:'Main page'!$G$41,3,TRUE))","v":" "}]
[null,null,null,null,null,null,null,null,null,null,null,null," "," "," "," ",{"$f":"IF(I5152=\"\",\"\",IF(I5152<='Main page'!$F$49,\"Core staff\",\"Senior staff\"))","v":""},{"$f":"IF(D5152=\"\",\" \",'Main page'!$F$21-(D5152))","v":" "},{"$f":"IF(D5152=\"\",\" \",VLOOKUP(R5152,'Main page'!$E$29:'Main page'!$G$41,3,TRUE))","v":" "}]
[null,null,null,null,null,null,null,null,null,null,null,null," "," "," "," ",{"$f":"IF(I5162=\"\",\"\",IF(I5162<='Main page'!$F$49,\"Core staff\",\"Senior staff\"))","v":""},{"$f":"IF(D5162=\"\",\" \",'Main page'!$F$21-(D5162))","v":" "},{"$f":"IF(D5162=\"\",\" \",VLOOKUP(R5162,'Main page'!$E$29:'Main page'!$G$41,3,TRUE))","v":" "}]
[null,null,null,null,null,null,null,null,null,null,null,null," "," "," "," ",{"$f":"IF(I5169=\"\",\"\",IF(I5169<='Main page'!$F$49,\"Core staff\",\"Senior staff\"))","v":""},{"$f":"IF(D5169=\"\",\" \",'Main page'!$F$21-(D5169))","v":" "},{"$f":"IF(D5169=\"\",\" \",VLOOKUP(R5169,'Main page'!$E$29:'Main page'!$G$41,3,TRUE))","v":" "}]
[null,null,null,null,null,null,null,null,null,null,null,null," "," "," "," ",{"$f":"IF(I5181=\"\",\"\",IF(I5181<='Main page'!$F$49,\"Core staff\",\"Senior staff\"))","v":""},{"$f":"IF(D5181=\"\",\" \",'Main page'!$F$21-(D5181))","v":" "},{"$f":"IF(D5181=\"\",\" \",VLOOKUP(R5181,'Main page'!$E$29:'Main page'!$G$41,3,TRUE))","v":" "}]
[null,null,null,null,null,null,null,null,null,null,null,null," "," "," "," ",{"$f":"IF(I5191=\"\",\"\",IF(I5191<='Main page'!$F$49,\"Core staff\",\"Senior staff\"))","v":""},{"$f":"IF(D5191=\"\",\" \",'Main page'!$F$21-(D5191))","v":" "},{"$f":"IF(D5191=\"\",\" \",VLOOKUP(R5191,'Main page'!$E$29:'Main page'!$G$41,3,TRUE))","v":" "}]
[null,null,null,null,null,null,null,null,null,null,null,null," "," "," "," ",{"$f":"IF(I5199=\"\",\"\",IF(I5199<='Main page'!$F$49,\"Core staff\",\"Senior staff\"))","v":""},{"$f":"IF(D5199=\"\",\" \",'Main page'!$F$21-(D5199))","v":" "},{"$f":"IF(D5199=\"\",\" \",VLOOKUP(R5199,'Main page'!$E$29:'Main page'!$G$41,3,TRUE))","v":" "}]
[null,null,null,null,null,null,null,null,null,null,null,null," "," "," "," ",{"$f":"IF(I5211=\"\",\"\",IF(I5211<='Main page'!$F$49,\"Core staff\",\"Senior staff\"))","v":""},{"$f":"IF(D5211=\"\",\" \",'Main page'!$F$21-(D5211))","v":" "},{"$f":"IF(D5211=\"\",\" \",VLOOKUP(R5211,'Main page'!$E$29:'Main page'!$G$41,3,TRUE))","v":" "}]
[null,null,null,null,null,null,null,null,null,null,null,null," "," "," "," ",{"$f":"IF(I5218=\"\",\"\",IF(I5218<='Main page'!$F$49,\"Core staff\",\"Senior staff\"))","v":""},{"$f":"IF(D5218=\"\",\" \",'Main page'!$F$21-(D5218))","v":" "},{"$f":"IF(D5218=\"\",\" \",VLOOKUP(R5218,'Main page'!$E$29:'Main page'!$G$41,3,TRUE))","v":" "}]
[null,null,null,null,null,null,null,null,null,null,null,null," "," "," "," ",{"$f":"IF(I5222=\"\",\"\",IF(I5222<='Main page'!$F$49,\"Core staff\",\"Senior staff\"))","v":""},{"$f":"IF(D5222=\"\",\" \",'Main page'!$F$21-(D5222))","v":" "},{"$f":"IF(D5222=\"\",\" \",VLOOKUP(R5222,'Main page'!$E$29:'Main page'!$G$41,3,TRUE))","v":" "}]
[null,null,null,null,null,null,null,null,null,null,null,null," "," "," "," ",{"$f":"IF(I5232=\"\",\"\",IF(I5232<='Main page'!$F$49,\"Core staff\",\"Senior staff\"))","v":""},{"$f":"IF(D5232=\"\",\" \",'Main page'!$F$21-(D5232))","v":" "},{"$f":"IF(D5232=\"\",\" \",VLOOKUP(R5232,'Main page'!$E$29:'Main page'!$G$41,3,TRUE))","v":" "}]
[null,null,null,null,null,null,null,null,null,null,null,null," "," "," "," ",{"$f":"IF(I5239=\"\",\"\",IF(I5239<='Main page'!$F$49,\"Core staff\",\"Senior staff\"))","v":""},{"$f":"IF(D5239=\"\",\" \",'Main page'!$F$21-(D5239))","v":" "},{"$f":"IF(D5239=\"\",\" \",VLOOKUP(R5239,'Main page'!$E$29:'Main page'!$G$41,3,TRUE))","v":" "}]
[null,null,null,null,null,null,null,null,null,null,null,null," "," "," "," ",{"$f":"IF(I5251=\"\",\"\",IF(I5251<='Main page'!$F$49,\"Core staff\",\"Senior staff\"))","v":""},{"$f":"IF(D5251=\"\",\" \",'Main page'!$F$21-(D5251))","v":" "},{"$f":"IF(D5251=\"\",\" \",VLOOKUP(R5251,'Main page'!$E$29:'Main page'!$G$41,3,TRUE))","v":" "}]
[null,null,null,null,null,null,null,null,null,null,null,null," "," "," "," ",{"$f":"IF(I5261=\"\",\"\",IF(I5261<='Main page'!$F$49,\"Core staff\",\"Senior staff\"))","v":""},{"$f":"IF(D5261=\"\",\" \",'Main page'!$F$21-(D5261))","v":" "},{"$f":"IF(D5261=\"\",\" \",VLOOKUP(R5261,'Main page'!$E$29:'Main page'!$G$41,3,TRUE))","v":" "}]
[null,null,null,null,null,null,null,null,null,null,null,null," "," "," "," ",{"$f":"IF(I5269=\"\",\"\",IF(I5269<='Main page'!$F$49,\"Core staff\",\"Senior staff\"))","v":""},{"$f":"IF(D5269=\"\",\" \",'Main page'!$F$21-(D5269))","v":" "},{"$f":"IF(D5269=\"\",\" \",VLOOKUP(R5269,'Main page'!$E$29:'Main page'!$G$41,3,TRUE))","v":" "}]
[null,null,null,null,null,null,null,null,null,null,null,null," "," "," "," ",{"$f":"IF(I5281=\"\",\"\",IF(I5281<='Main page'!$F$49,\"Core staff\",\"Senior staff\"))","v":""},{"$f":"IF(D5281=\"\",\" \",'Main page'!$F$21-(D5281))","v":" "},{"$f":"IF(D5281=\"\",\" \",VLOOKUP(R5281,'Main page'!$E$29:'Main page'!$G$41,3,TRUE))","v":" "}]
[null,null,null,null,null,null,null,null,null,null,null,null," "," "," "," ",{"$f":"IF(I5288=\"\",\"\",IF(I5288<='Main page'!$F$49,\"Core staff\",\"Senior staff\"))","v":""},{"$f":"IF(D5288=\"\",\" \",'Main page'!$F$21-(D5288))","v":" "},{"$f":"IF(D5288=\"\",\" \",VLOOKUP(R5288,'Main page'!$E$29:'Main page'!$G$41,3,TRUE))","v":" "}]
[null,null,null,null,null,null,null,null,null,null,null,null," "," "," "," ",{"$f":"IF(I5292=\"\",\"\",IF(I5292<='Main page'!$F$49,\"Core staff\",\"Senior staff\"))","v":""},{"$f":"IF(D5292=\"\",\" \",'Main page'!$F$21-(D5292))","v":" "},{"$f":"IF(D5292=\"\",\" \",VLOOKUP(R5292,'Main page'!$E$29:'Main page'!$G$41,3,TRUE))","v":" "}]
[null,null,null,null,null,null,null,null,null,null,null,null," "," "," "," ",{"$f":"IF(I5306=\"\",\"\",IF(I5306<='Main page'!$F$49,\"Core staff\",\"Senior staff\"))","v":""},{"$f":"IF(D5306=\"\",\" \",'Main page'!$F$21-(D5306))","v":" "},{"$f":"IF(D5306=\"\",\" \",VLOOKUP(R5306,'Main page'!$E$29:'Main page'!$G$41,3,TRUE))","v":" "}]
[null,null,null,null,null,null,null,null,null,null,null,null," "," "," "," ",{"$f":"IF(I5309=\"\",\"\",IF(I5309<='Main page'!$F$49,\"Core staff\",\"Senior staff\"))","v":""},{"$f":"IF(D5309=\"\",\" \",'Main page'!$F$21-(D5309))","v":" "},{"$f":"IF(D5309=\"\",\" \",VLOOKUP(R5309,'Main page'!$E$29:'Main page'!$G$41,3,TRUE))","v":" "}]
[null,null,null,null,null,null,null,null,null,null,null,null," "," "," "," ",{"$f":"IF(I5321=\"\",\"\",IF(I5321<='Main page'!$F$49,\"Core staff\",\"Senior staff\"))","v":""},{"$f":"IF(D5321=\"\",\" \",'Main page'!$F$21-(D5321))","v":" "},{"$f":"IF(D5321=\"\",\" \",VLOOKUP(R5321,'Main page'!$E$29:'Main page'!$G$41,3,TRUE))","v":" "}]
[null,null,null,null,null,null,null,null,null,null,null,null," "," "," "," ",{"$f":"IF(I5331=\"\",\"\",IF(I5331<='Main page'!$F$49,\"Core staff\",\"Senior staff\"))","v":""},{"$f":"IF(D5331=\"\",\" \",'Main page'!$F$21-(D5331))","v":" "},{"$f":"IF(D5331=\"\",\" \",VLOOKUP(R5331,'Main page'!$E$29:'Main page'!$G$41,3,TRUE))","v":" "}]
[null,null,null,null,null,null,null,null,null,null,null,null," "," "," "," ",{"$f":"IF(I5339=\"\",\"\",IF(I5339<='Main page'!$F$49,\"Core staff\",\"Senior staff\"))","v":""},{"$f":"IF(D5339=\"\",\" \",'Main page'!$F$21-(D5339))","v":" "},{"$f":"IF(D5339=\"\",\" \",VLOOKUP(R5339,'Main page'!$E$29:'Main page'!$G$41,3,TRUE))","v":" "}]
[null,null,null,null,null,null,null,null,null,null,null,null," "," "," "," ",{"$f":"IF(I5351=\"\",\"\",IF(I5351<='Main page'!$F$49,\"Core staff\",\"Senior staff\"))","v":""},{"$f":"IF(D5351=\"\",\" \",'Main page'!$F$21-(D5351))","v":" "},{"$f":"IF(D5351=\"\",\" \",VLOOKUP(R5351,'Main page'!$E$29:'Main page'!$G$41,3,TRUE))","v":" "}]
[null,null,null,null,null,null,null,null,null,null,null,null," "," "," "," ",{"$f":"IF(I5358=\"\",\"\",IF(I5358<='Main page'!$F$49,\"Core staff\",\"Senior staff\"))","v":""},{"$f":"IF(D5358=\"\",\" \",'Main page'!$F$21-(D5358))","v":" "},{"$f":"IF(D5358=\"\",\" \",VLOOKUP(R5358,'Main page'!$E$29:'Main page'!$G$41,3,TRUE))","v":" "}]
[null,null,null,null,null,null,null,null,null,null,null,null," "," "," "," ",{"$f":"IF(I5362=\"\",\"\",IF(I5362<='Main page'!$F$49,\"Core staff\",\"Senior staff\"))","v":""},{"$f":"IF(D5362=\"\",\" \",'Main page'!$F$21-(D5362))","v":" "},{"$f":"IF(D5362=\"\",\" \",VLOOKUP(R5362,'Main page'!$E$29:'Main page'!$G$41,3,TRUE))","v":" "}]
[null,null,null,null,null,null,null,null,null,null,null,null," "," "," "," ",{"$f":"IF(I5376=\"\",\"\",IF(I5376<='Main page'!$F$49,\"Core staff\",\"Senior staff\"))","v":""},{"$f":"IF(D5376=\"\",\" \",'Main page'!$F$21-(D5376))","v":" "},{"$f":"IF(D5376=\"\",\" \",VLOOKUP(R5376,'Main page'!$E$29:'Main page'!$G$41,3,TRUE))","v":" "}]
[null,null,null,null,null,null,null,null,null,null,null,null," "," "," "," ",{"$f":"IF(I5379=\"\",\"\",IF(I5379<='Main page'!$F$49,\"Core staff\",\"Senior staff\"))","v":""},{"$f":"IF(D5379=\"\",\" \",'Main page'!$F$21-(D5379))","v":" "},{"$f":"IF(D5379=\"\",\" \",VLOOKUP(R5379,'Main page'!$E$29:'Main page'!$G$41,3,TRUE))","v":" "}]
[null,null,null,null,null,null,null,null,null,null,null,null," "," "," "," ",{"$f":"IF(I5391=\"\",\"\",IF(I5391<='Main page'!$F$49,\"Core staff\",\"Senior staff\"))","v":""},{"$f":"IF(D5391=\"\",\" \",'Main page'!$F$21-(D5391))","v":" "},{"$f":"IF(D5391=\"\",\" \",VLOOKUP(R5391,'Main page'!$E$29:'Main page'!$G$41,3,TRUE))","v":" "}]
[null,null,null,null,null,null,null,null,null,null,null,null," "," "," "," ",{"$f":"IF(I5401=\"\",\"\",IF(I5401<='Main page'!$F$49,\"Core staff\",\"Senior staff\"))","v":""},{"$f":"IF(D5401=\"\",\" \",'Main page'!$F$21-(D5401))","v":" "},{"$f":"IF(D5401=\"\",\" \",VLOOKUP(R5401,'Main page'!$E$29:'Main page'!$G$41,3,TRUE))","v":" "}]
[null,null,null,null,null,null,null,null,null,null,null,null," "," "," "," ",{"$f":"IF(I5409=\"\",\"\",IF(I5409<='Main page'!$F$49,\"Core staff\",\"Senior staff\"))","v":""},{"$f":"IF(D5409=\"\",\" \",'Main page'!$F$21-(D5409))","v":" "},{"$f":"IF(D5409=\"\",\" \",VLOOKUP(R5409,'Main page'!$E$29:'Main page'!$G$41,3,TRUE))","v":" "}]
[null,null,null,null,null,null,null,null,null,null,null,null," "," "," "," ",{"$f":"IF(I5421=\"\",\"\",IF(I5421<='Main page'!$F$49,\"Core staff\",\"Senior staff\"))","v":""},{"$f":"IF(D5421=\"\",\" \",'Main page'!$F$21-(D5421))","v":" "},{"$f":"IF(D5421=\"\",\" \",VLOOKUP(R5421,'Main page'!$E$29:'Main page'!$G$41,3,TRUE))","v":" "}]
[null,null,null,null,null,null,null,null,null,null,null,null," "," "," "," ",{"$f":"IF(I5428=\"\",\"\",IF(I5428<='Main page'!$F$49,\"Core staff\",\"Senior staff\"))","v":""},{"$f":"IF(D5428=\"\",\" \",'Main page'!$F$21-(D5428))","v":" "},{"$f":"IF(D5428=\"\",\" \",VLOOKUP(R5428,'Main page'!$E$29:'Main page'!$G$41,3,TRUE))","v":" "}]
[null,null,null,null,null,null,null,null,null,null,null,null," "," "," "," ",{"$f":"IF(I5432=\"\",\"\",IF(I5432<='Main page'!$F$49,\"Core staff\",\"Senior staff\"))","v":""},{"$f":"IF(D5432=\"\",\" \",'Main page'!$F$21-(D5432))","v":" "},{"$f":"IF(D5432=\"\",\" \",VLOOKUP(R5432,'Main page'!$E$29:'Main page'!$G$41,3,TRUE))","v":" "}]
[null,null,null,null,null,null,null,null,null,null,null,null," "," "," "," ",{"$f":"IF(I5446=\"\",\"\",IF(I5446<='Main page'!$F$49,\"Core staff\",\"Senior staff\"))","v":""},{"$f":"IF(D5446=\"\",\" \",'Main page'!$F$21-(D5446))","v":" "},{"$f":"IF(D5446=\"\",\" \",VLOOKUP(R5446,'Main page'!$E$29:'Main page'!$G$41,3,TRUE))","v":" "}]
[null,null,null,null,null,null,null,null,null,null,null,null," "," "," "," ",{"$f":"IF(I5449=\"\",\"\",IF(I5449<='Main page'!$F$49,\"Core staff\",\"Senior staff\"))","v":""},{"$f":"IF(D5449=\"\",\" \",'Main page'!$F$21-(D5449))","v":" "},{"$f":"IF(D5449=\"\",\" \",VLOOKUP(R5449,'Main page'!$E$29:'Main page'!$G$41,3,TRUE))","v":" "}]
[null,null,null,null,null,null,null,null,null,null,null,null," "," "," "," ",{"$f":"IF(I5461=\"\",\"\",IF(I5461<='Main page'!$F$49,\"Core staff\",\"Senior staff\"))","v":""},{"$f":"IF(D5461=\"\",\" \",'Main page'!$F$21-(D5461))","v":" "},{"$f":"IF(D5461=\"\",\" \",VLOOKUP(R5461,'Main page'!$E$29:'Main page'!$G$41,3,TRUE))","v":" "}]
[null,null,null,null,null,null,null,null,null,null,null,null," "," "," "," ",{"$f":"IF(I5471=\"\",\"\",IF(I5471<='Main page'!$F$49,\"Core staff\",\"Senior staff\"))","v":""},{"$f":"IF(D5471=\"\",\" \",'Main page'!$F$21-(D5471))","v":" "},{"$f":"IF(D5471=\"\",\" \",VLOOKUP(R5471,'Main page'!$E$29:'Main page'!$G$41,3,TRUE))","v":" "}]
[null,null,null,null,null,null,null,null,null,null,null,null," "," "," "," ",{"$f":"IF(I5479=\"\",\"\",IF(I5479<='Main page'!$F$49,\"Core staff\",\"Senior staff\"))","v":""},{"$f":"IF(D5479=\"\",\" \",'Main page'!$F$21-(D5479))","v":" "},{"$f":"IF(D5479=\"\",\" \",VLOOKUP(R5479,'Main page'!$E$29:'Main page'!$G$41,3,TRUE))","v":" "}]
[null,null,null,null,null,null,null,null,null,null,null,null," "," "," "," ",{"$f":"IF(I5486=\"\",\"\",IF(I5486<='Main page'!$F$49,\"Core staff\",\"Senior staff\"))","v":""},{"$f":"IF(D5486=\"\",\" \",'Main page'!$F$21-(D5486))","v":" "},{"$f":"IF(D5486=\"\",\" \",VLOOKUP(R5486,'Main page'!$E$29:'Main page'!$G$41,3,TRUE))","v":" "}]
[null,null,null,null,null,null,null,null,null,null,null,null," "," "," "," ",{"$f":"IF(I5498=\"\",\"\",IF(I5498<='Main page'!$F$49,\"Core staff\",\"Senior staff\"))","v":""},{"$f":"IF(D5498=\"\",\" \",'Main page'!$F$21-(D5498))","v":" "},{"$f":"IF(D5498=\"\",\" \",VLOOKUP(R5498,'Main page'!$E$29:'Main page'!$G$41,3,TRUE))","v":" "}]
[null,null,null,null,null,null,null,null,null,null,null,null," "," "," "," ",{"$f":"IF(I5502=\"\",\"\",IF(I5502<='Main page'!$F$49,\"Core staff\",\"Senior staff\"))","v":""},{"$f":"IF(D5502=\"\",\" \",'Main page'!$F$21-(D5502))","v":" "},{"$f":"IF(D5502=\"\",\" \",VLOOKUP(R5502,'Main page'!$E$29:'Main page'!$G$41,3,TRUE))","v":" "}]
[null,null,null,null,null,null,null,null,null,null,null,null," "," "," "," ",{"$f":"IF(I5516=\"\",\"\",IF(I5516<='Main page'!$F$49,\"Core staff\",\"Senior staff\"))","v":""},{"$f":"IF(D5516=\"\",\" \",'Main page'!$F$21-(D5516))","v":" "},{"$f":"IF(D5516=\"\",\" \",VLOOKUP(R5516,'Main page'!$E$29:'Main page'!$G$41,3,TRUE))","v":" "}]
[null,null,null,null,null,null,null,null,null,null,null,null," "," "," "," ",{"$f":"IF(I5519=\"\",\"\",IF(I5519<='Main page'!$F$49,\"Core staff\",\"Senior staff\"))","v":""},{"$f":"IF(D5519=\"\",\" \",'Main page'!$F$21-(D5519))","v":" "},{"$f":"IF(D5519=\"\",\" \",VLOOKUP(R5519,'Main page'!$E$29:'Main page'!$G$41,3,TRUE))","v":" "}]
[null,null,null,null,null,null,null,null,null,null,null,null," "," "," "," ",{"$f":"IF(I5531=\"\",\"\",IF(I5531<='Main page'!$F$49,\"Core staff\",\"Senior staff\"))","v":""},{"$f":"IF(D5531=\"\",\" \",'Main page'!$F$21-(D5531))","v":" "},{"$f":"IF(D5531=\"\",\" \",VLOOKUP(R5531,'Main page'!$E$29:'Main page'!$G$41,3,TRUE))","v":" "}]
[null,null,null,null,null,null,null,null,null,null,null,null," "," "," "," ",{"$f":"IF(I5541=\"\",\"\",IF(I5541<='Main page'!$F$49,\"Core staff\",\"Senior staff\"))","v":""},{"$f":"IF(D5541=\"\",\" \",'Main page'!$F$21-(D5541))","v":" "},{"$f":"IF(D5541=\"\",\" \",VLOOKUP(R5541,'Main page'!$E$29:'Main page'!$G$41,3,TRUE))","v":" "}]
[null,null,null,null,null,null,null,null,null,null,null,null," "," "," "," ",{"$f":"IF(I5549=\"\",\"\",IF(I5549<='Main page'!$F$49,\"Core staff\",\"Senior staff\"))","v":""},{"$f":"IF(D5549=\"\",\" \",'Main page'!$F$21-(D5549))","v":" "},{"$f":"IF(D5549=\"\",\" \",VLOOKUP(R5549,'Main page'!$E$29:'Main page'!$G$41,3,TRUE))","v":" "}]
[null,null,null,null,null,null,null,null,null,null,null,null," "," "," "," ",{"$f":"IF(I5556=\"\",\"\",IF(I5556<='Main page'!$F$49,\"Core staff\",\"Senior staff\"))","v":""},{"$f":"IF(D5556=\"\",\" \",'Main page'!$F$21-(D5556))","v":" "},{"$f":"IF(D5556=\"\",\" \",VLOOKUP(R5556,'Main page'!$E$29:'Main page'!$G$41,3,TRUE))","v":" "}]
[null,null,null,null,null,null,null,null,null,null,null,null," "," "," "," ",{"$f":"IF(I5568=\"\",\"\",IF(I5568<='Main page'!$F$49,\"Core staff\",\"Senior staff\"))","v":""},{"$f":"IF(D5568=\"\",\" \",'Main page'!$F$21-(D5568))","v":" "},{"$f":"IF(D5568=\"\",\" \",VLOOKUP(R5568,'Main page'!$E$29:'Main page'!$G$41,3,TRUE))","v":" "}]
[null,null,null,null,null,null,null,null,null,null,null,null," "," "," "," ",{"$f":"IF(I5572=\"\",\"\",IF(I5572<='Main page'!$F$49,\"Core staff\",\"Senior staff\"))","v":""},{"$f":"IF(D5572=\"\",\" \",'Main page'!$F$21-(D5572))","v":" "},{"$f":"IF(D5572=\"\",\" \",VLOOKUP(R5572,'Main page'!$E$29:'Main page'!$G$41,3,TRUE))","v":" "}]
[null,null,null,null,null,null,null,null,null,null,null,null," "," "," "," ",{"$f":"IF(I5586=\"\",\"\",IF(I5586<='Main page'!$F$49,\"Core staff\",\"Senior staff\"))","v":""},{"$f":"IF(D5586=\"\",\" \",'Main page'!$F$21-(D5586))","v":" "},{"$f":"IF(D5586=\"\",\" \",VLOOKUP(R5586,'Main page'!$E$29:'Main page'!$G$41,3,TRUE))","v":" "}]
[null,null,null,null,null,null,null,null,null,null,null,null," "," "," "," ",{"$f":"IF(I5589=\"\",\"\",IF(I5589<='Main page'!$F$49,\"Core staff\",\"Senior staff\"))","v":""},{"$f":"IF(D5589=\"\",\" \",'Main page'!$F$21-(D5589))","v":" "},{"$f":"IF(D5589=\"\",\" \",VLOOKUP(R5589,'Main page'!$E$29:'Main page'!$G$41,3,TRUE))","v":" "}]
[null,null,null,null,null,null,null,null,null,null,null,null," "," "," "," ",{"$f":"IF(I5601=\"\",\"\",IF(I5601<='Main page'!$F$49,\"Core staff\",\"Senior staff\"))","v":""},{"$f":"IF(D5601=\"\",\" \",'Main page'!$F$21-(D5601))","v":" "},{"$f":"IF(D5601=\"\",\" \",VLOOKUP(R5601,'Main page'!$E$29:'Main page'!$G$41,3,TRUE))","v":" "}]
[null,null,null,null,null,null,null,null,null,null,null,null," "," "," "," ",{"$f":"IF(I5611=\"\",\"\",IF(I5611<='Main page'!$F$49,\"Core staff\",\"Senior staff\"))","v":""},{"$f":"IF(D5611=\"\",\" \",'Main page'!$F$21-(D5611))","v":" "},{"$f":"IF(D5611=\"\",\" \",VLOOKUP(R5611,'Main page'!$E$29:'Main page'!$G$41,3,TRUE))","v":" "}]
[null,null,null,null,null,null,null,null,null,null,null,null," "," "," "," ",{"$f":"IF(I5619=\"\",\"\",IF(I5619<='Main page'!$F$49,\"Core staff\",\"Senior staff\"))","v":""},{"$f":"IF(D5619=\"\",\" \",'Main page'!$F$21-(D5619))","v":" "},{"$f":"IF(D5619=\"\",\" \",VLOOKUP(R5619,'Main page'!$E$29:'Main page'!$G$41,3,TRUE))","v":" "}]
[null,null,null,null,null,null,null,null,null,null,null,null," "," "," "," ",{"$f":"IF(I5626=\"\",\"\",IF(I5626<='Main page'!$F$49,\"Core staff\",\"Senior staff\"))","v":""},{"$f":"IF(D5626=\"\",\" \",'Main page'!$F$21-(D5626))","v":" "},{"$f":"IF(D5626=\"\",\" \",VLOOKUP(R5626,'Main page'!$E$29:'Main page'!$G$41,3,TRUE))","v":" "}]
[null,null,null,null,null,null,null,null,null,null,null,null," "," "," "," ",{"$f":"IF(I5638=\"\",\"\",IF(I5638<='Main page'!$F$49,\"Core staff\",\"Senior staff\"))","v":""},{"$f":"IF(D5638=\"\",\" \",'Main page'!$F$21-(D5638))","v":" "},{"$f":"IF(D5638=\"\",\" \",VLOOKUP(R5638,'Main page'!$E$29:'Main page'!$G$41,3,TRUE))","v":" "}]
[null,null,null,null,null,null,null,null,null,null,null,null," "," "," "," ",{"$f":"IF(I5642=\"\",\"\",IF(I5642<='Main page'!$F$49,\"Core staff\",\"Senior staff\"))","v":""},{"$f":"IF(D5642=\"\",\" \",'Main page'!$F$21-(D5642))","v":" "},{"$f":"IF(D5642=\"\",\" \",VLOOKUP(R5642,'Main page'!$E$29:'Main page'!$G$41,3,TRUE))","v":" "}]
[null,null,null,null,null,null,null,null,null,null,null,null," "," "," "," ",{"$f":"IF(I5656=\"\",\"\",IF(I5656<='Main page'!$F$49,\"Core staff\",\"Senior staff\"))","v":""},{"$f":"IF(D5656=\"\",\" \",'Main page'!$F$21-(D5656))","v":" "},{"$f":"IF(D5656=\"\",\" \",VLOOKUP(R5656,'Main page'!$E$29:'Main page'!$G$41,3,TRUE))","v":" "}]
[null,null,null,null,null,null,null,null,null,null,null,null," "," "," "," ",{"$f":"IF(I5659=\"\",\"\",IF(I5659<='Main page'!$F$49,\"Core staff\",\"Senior staff\"))","v":""},{"$f":"IF(D5659=\"\",\" \",'Main page'!$F$21-(D5659))","v":" "},{"$f":"IF(D5659=\"\",\" \",VLOOKUP(R5659,'Main page'!$E$29:'Main page'!$G$41,3,TRUE))","v":" "}]
[null,null,null,null,null,null,null,null,null,null,null,null," "," "," "," ",{"$f":"IF(I5675=\"\",\"\",IF(I5675<='Main page'!$F$49,\"Core staff\",\"Senior staff\"))","v":""},{"$f":"IF(D5675=\"\",\" \",'Main page'!$F$21-(D5675))","v":" "},{"$f":"IF(D5675=\"\",\" \",VLOOKUP(R5675,'Main page'!$E$29:'Main page'!$G$41,3,TRUE))","v":" "}]
[null,null,null,null,null,null,null,null,null,null,null,null," "," "," "," ",{"$f":"IF(I5681=\"\",\"\",IF(I5681<='Main page'!$F$49,\"Core staff\",\"Senior staff\"))","v":""},{"$f":"IF(D5681=\"\",\" \",'Main page'!$F$21-(D5681))","v":" "},{"$f":"IF(D5681=\"\",\" \",VLOOKUP(R5681,'Main page'!$E$29:'Main page'!$G$41,3,TRUE))","v":" "}]
[null,null,null,null,null,null,null,null,null,null,null,null," "," "," "," ",{"$f":"IF(I5689=\"\",\"\",IF(I5689<='Main page'!$F$49,\"Core staff\",\"Senior staff\"))","v":""},{"$f":"IF(D5689=\"\",\" \",'Main page'!$F$21-(D5689))","v":" "},{"$f":"IF(D5689=\"\",\" \",VLOOKUP(R5689,'Main page'!$E$29:'Main page'!$G$41,3,TRUE))","v":" "}]
[null,null,null,null,null,null,null,null,null,null,null,null," "," "," "," ",{"$f":"IF(I5696=\"\",\"\",IF(I5696<='Main page'!$F$49,\"Core staff\",\"Senior staff\"))","v":""},{"$f":"IF(D5696=\"\",\" \",'Main page'!$F$21-(D5696))","v":" "},{"$f":"IF(D5696=\"\",\" \",VLOOKUP(R5696,'Main page'!$E$29:'Main page'!$G$41,3,TRUE))","v":" "}]
[null,null,null,null,null,null,null,null,null,null,null,null," "," "," "," ",{"$f":"IF(I5708=\"\",\"\",IF(I5708<='Main page'!$F$49,\"Core staff\",\"Senior staff\"))","v":""},{"$f":"IF(D5708=\"\",\" \",'Main page'!$F$21-(D5708))","v":" "},{"$f":"IF(D5708=\"\",\" \",VLOOKUP(R5708,'Main page'!$E$29:'Main page'!$G$41,3,TRUE))","v":" "}]
[null,null,null,null,null,null,null,null,null,null,null,null," "," "," "," ",{"$f":"IF(I5712=\"\",\"\",IF(I5712<='Main page'!$F$49,\"Core staff\",\"Senior staff\"))","v":""},{"$f":"IF(D5712=\"\",\" \",'Main page'!$F$21-(D5712))","v":" "},{"$f":"IF(D5712=\"\",\" \",VLOOKUP(R5712,'Main page'!$E$29:'Main page'!$G$41,3,TRUE))","v":" "}]
[null,null,null,null,null,null,null,null,null,null,null,null," "," "," "," ",{"$f":"IF(I5726=\"\",\"\",IF(I5726<='Main page'!$F$49,\"Core staff\",\"Senior staff\"))","v":""},{"$f":"IF(D5726=\"\",\" \",'Main page'!$F$21-(D5726))","v":" "},{"$f":"IF(D5726=\"\",\" \",VLOOKUP(R5726,'Main page'!$E$29:'Main page'!$G$41,3,TRUE))","v":" "}]
[null,null,null,null,null,null,null,null,null,null,null,null," "," "," "," ",{"$f":"IF(I5729=\"\",\"\",IF(I5729<='Main page'!$F$49,\"Core staff\",\"Senior staff\"))","v":""},{"$f":"IF(D5729=\"\",\" \",'Main page'!$F$21-(D5729))","v":" "},{"$f":"IF(D5729=\"\",\" \",VLOOKUP(R5729,'Main page'!$E$29:'Main page'!$G$41,3,TRUE))","v":" "}]
[null,null,null,null,null,null,null,null,null,null,null,null," "," "," "," ",{"$f":"IF(I5745=\"\",\"\",IF(I5745<='Main page'!$F$49,\"Core staff\",\"Senior staff\"))","v":""},{"$f":"IF(D5745=\"\",\" \",'Main page'!$F$21-(D5745))","v":" "},{"$f":"IF(D5745=\"\",\" \",VLOOKUP(R5745,'Main page'!$E$29:'Main page'!$G$41,3,TRUE))","v":" "}]
[null,null,null,null,null,null,null,null,null,null,null,null," "," "," "," ",{"$f":"IF(I5751=\"\",\"\",IF(I5751<='Main page'!$F$49,\"Core staff\",\"Senior staff\"))","v":""},{"$f":"IF(D5751=\"\",\" \",'Main page'!$F$21-(D5751))","v":" "},{"$f":"IF(D5751=\"\",\" \",VLOOKUP(R5751,'Main page'!$E$29:'Main page'!$G$41,3,TRUE))","v":" "}]
[null,null,null,null,null,null,null,null,null,null,null,null," "," "," "," ",{"$f":"IF(I5759=\"\",\"\",IF(I5759<='Main page'!$F$49,\"Core staff\",\"Senior staff\"))","v":""},{"$f":"IF(D5759=\"\",\" \",'Main page'!$F$21-(D5759))","v":" "},{"$f":"IF(D5759=\"\",\" \",VLOOKUP(R5759,'Main page'!$E$29:'Main page'!$G$41,3,TRUE))","v":" "}]
[null,null,null,null,null,null,null,null,null,null,null,null," "," "," "," ",{"$f":"IF(I5766=\"\",\"\",IF(I5766<='Main page'!$F$49,\"Core staff\",\"Senior staff\"))","v":""},{"$f":"IF(D5766=\"\",\" \",'Main page'!$F$21-(D5766))","v":" "},{"$f":"IF(D5766=\"\",\" \",VLOOKUP(R5766,'Main page'!$E$29:'Main page'!$G$41,3,TRUE))","v":" "}]
[null,null,null,null,null,null,null,null,null,null,null,null," "," "," "," ",{"$f":"IF(I5778=\"\",\"\",IF(I5778<='Main page'!$F$49,\"Core staff\",\"Senior staff\"))","v":""},{"$f":"IF(D5778=\"\",\" \",'Main page'!$F$21-(D5778))","v":" "},{"$f":"IF(D5778=\"\",\" \",VLOOKUP(R5778,'Main page'!$E$29:'Main page'!$G$41,3,TRUE))","v":" "}]
[null,null,null,null,null,null,null,null,null,null,null,null," "," "," "," ",{"$f":"IF(I5782=\"\",\"\",IF(I5782<='Main page'!$F$49,\"Core staff\",\"Senior staff\"))","v":""},{"$f":"IF(D5782=\"\",\" \",'Main page'!$F$21-(D5782))","v":" "},{"$f":"IF(D5782=\"\",\" \",VLOOKUP(R5782,'Main page'!$E$29:'Main page'!$G$41,3,TRUE))","v":" "}]
[null,null,null,null,null,null,null,null,null,null,null,null," "," "," "," ",{"$f":"IF(I5796=\"\",\"\",IF(I5796<='Main page'!$F$49,\"Core staff\",\"Senior staff\"))","v":""},{"$f":"IF(D5796=\"\",\" \",'Main page'!$F$21-(D5796))","v":" "},{"$f":"IF(D5796=\"\",\" \",VLOOKUP(R5796,'Main page'!$E$29:'Main page'!$G$41,3,TRUE))","v":" "}]
[null,null,null,null,null,null,null,null,null,null,null,null," "," "," "," ",{"$f":"IF(I5799=\"\",\"\",IF(I5799<='Main page'!$F$49,\"Core staff\",\"Senior staff\"))","v":""},{"$f":"IF(D5799=\"\",\" \",'Main page'!$F$21-(D5799))","v":" "},{"$f":"IF(D5799=\"\",\" \",VLOOKUP(R5799,'Main page'!$E$29:'Main page'!$G$41,3,TRUE))","v":" "}]
[null,null,null,null,null,null,null,null,null,null,null,null," "," "," "," ",{"$f":"IF(I5815=\"\",\"\",IF(I5815<='Main page'!$F$49,\"Core staff\",\"Senior staff\"))","v":""},{"$f":"IF(D5815=\"\",\" \",'Main page'!$F$21-(D5815))","v":" "},{"$f":"IF(D5815=\"\",\" \",VLOOKUP(R5815,'Main page'!$E$29:'Main page'!$G$41,3,TRUE))","v":" "}]
[null,null,null,null,null,null,null,null,null,null,null,null," "," "," "," ",{"$f":"IF(I5821=\"\",\"\",IF(I5821<='Main page'!$F$49,\"Core staff\",\"Senior staff\"))","v":""},{"$f":"IF(D5821=\"\",\" \",'Main page'!$F$21-(D5821))","v":" "},{"$f":"IF(D5821=\"\",\" \",VLOOKUP(R5821,'Main page'!$E$29:'Main page'!$G$41,3,TRUE))","v":" "}]
[null,null,null,null,null,null,null,null,null,null,null,null," "," "," "," ",{"$f":"IF(I5829=\"\",\"\",IF(I5829<='Main page'!$F$49,\"Core staff\",\"Senior staff\"))","v":""},{"$f":"IF(D5829=\"\",\" \",'Main page'!$F$21-(D5829))","v":" "},{"$f":"IF(D5829=\"\",\" \",VLOOKUP(R5829,'Main page'!$E$29:'Main page'!$G$41,3,TRUE))","v":" "}]
[null,null,null,null,null,null,null,null,null,null,null,null," "," "," "," ",{"$f":"IF(I5836=\"\",\"\",IF(I5836<='Main page'!$F$49,\"Core staff\",\"Senior staff\"))","v":""},{"$f":"IF(D5836=\"\",\" \",'Main page'!$F$21-(D5836))","v":" "},{"$f":"IF(D5836=\"\",\" \",VLOOKUP(R5836,'Main page'!$E$29:'Main page'!$G$41,3,TRUE))","v":" "}]
[null,null,null,null,null,null,null,null,null,null,null,null," "," "," "," ",{"$f":"IF(I5848=\"\",\"\",IF(I5848<='Main page'!$F$49,\"Core staff\",\"Senior staff\"))","v":""},{"$f":"IF(D5848=\"\",\" \",'Main page'!$F$21-(D5848))","v":" "},{"$f":"IF(D5848=\"\",\" \",VLOOKUP(R5848,'Main page'!$E$29:'Main page'!$G$41,3,TRUE))","v":" "}]
[null,null,null,null,null,null,null,null,null,null,null,null," "," "," "," ",{"$f":"IF(I5852=\"\",\"\",IF(I5852<='Main page'!$F$49,\"Core staff\",\"Senior staff\"))","v":""},{"$f":"IF(D5852=\"\",\" \",'Main page'!$F$21-(D5852))","v":" "},{"$f":"IF(D5852=\"\",\" \",VLOOKUP(R5852,'Main page'!$E$29:'Main page'!$G$41,3,TRUE))","v":" "}]
[null,null,null,null,null,null,null,null,null,null,null,null," "," "," "," ",{"$f":"IF(I5866=\"\",\"\",IF(I5866<='Main page'!$F$49,\"Core staff\",\"Senior staff\"))","v":""},{"$f":"IF(D5866=\"\",\" \",'Main page'!$F$21-(D5866))","v":" "},{"$f":"IF(D5866=\"\",\" \",VLOOKUP(R5866,'Main page'!$E$29:'Main page'!$G$41,3,TRUE))","v":" "}]
[null,null,null,null,null,null,null,null,null,null,null,null," "," "," "," ",{"$f":"IF(I5869=\"\",\"\",IF(I5869<='Main page'!$F$49,\"Core staff\",\"Senior staff\"))","v":""},{"$f":"IF(D5869=\"\",\" \",'Main page'!$F$21-(D5869))","v":" "},{"$f":"IF(D5869=\"\",\" \",VLOOKUP(R5869,'Main page'!$E$29:'Main page'!$G$41,3,TRUE))","v":" "}]
[null,null,null,null,null,null,null,null,null,null,null,null," "," "," "," ",{"$f":"IF(I5885=\"\",\"\",IF(I5885<='Main page'!$F$49,\"Core staff\",\"Senior staff\"))","v":""},{"$f":"IF(D5885=\"\",\" \",'Main page'!$F$21-(D5885))","v":" "},{"$f":"IF(D5885=\"\",\" \",VLOOKUP(R5885,'Main page'!$E$29:'Main page'!$G$41,3,TRUE))","v":" "}]
[null,null,null,null,null,null,null,null,null,null,null,null," "," "," "," ",{"$f":"IF(I5891=\"\",\"\",IF(I5891<='Main page'!$F$49,\"Core staff\",\"Senior staff\"))","v":""},{"$f":"IF(D5891=\"\",\" \",'Main page'!$F$21-(D5891))","v":" "},{"$f":"IF(D5891=\"\",\" \",VLOOKUP(R5891,'Main page'!$E$29:'Main page'!$G$41,3,TRUE))","v":" "}]
[null,null,null,null,null,null,null,null,null,null,null,null," "," "," "," ",{"$f":"IF(I5899=\"\",\"\",IF(I5899<='Main page'!$F$49,\"Core staff\",\"Senior staff\"))","v":""},{"$f":"IF(D5899=\"\",\" \",'Main page'!$F$21-(D5899))","v":" "},{"$f":"IF(D5899=\"\",\" \",VLOOKUP(R5899,'Main page'!$E$29:'Main page'!$G$41,3,TRUE))","v":" "}]
[null,null,null,null,null,null,null,null,null,null,null,null," "," "," "," ",{"$f":"IF(I5906=\"\",\"\",IF(I5906<='Main page'!$F$49,\"Core staff\",\"Senior staff\"))","v":""},{"$f":"IF(D5906=\"\",\" \",'Main page'!$F$21-(D5906))","v":" "},{"$f":"IF(D5906=\"\",\" \",VLOOKUP(R5906,'Main page'!$E$29:'Main page'!$G$41,3,TRUE))","v":" "}]
[null,null,null,null,null,null,null,null,null,null,null,null," "," "," "," ",{"$f":"IF(I5918=\"\",\"\",IF(I5918<='Main page'!$F$49,\"Core staff\",\"Senior staff\"))","v":""},{"$f":"IF(D5918=\"\",\" \",'Main page'!$F$21-(D5918))","v":" "},{"$f":"IF(D5918=\"\",\" \",VLOOKUP(R5918,'Main page'!$E$29:'Main page'!$G$41,3,TRUE))","v":" "}]
[null,null,null,null,null,null,null,null,null,null,null,null," "," "," "," ",{"$f":"IF(I5922=\"\",\"\",IF(I5922<='Main page'!$F$49,\"Core staff\",\"Senior staff\"))","v":""},{"$f":"IF(D5922=\"\",\" \",'Main page'!$F$21-(D5922))","v":" "},{"$f":"IF(D5922=\"\",\" \",VLOOKUP(R5922,'Main page'!$E$29:'Main page'!$G$41,3,TRUE))","v":" "}]
[null,null,null,null,null,null,null,null,null,null,null,null," "," "," "," ",{"$f":"IF(I5936=\"\",\"\",IF(I5936<='Main page'!$F$49,\"Core staff\",\"Senior staff\"))","v":""},{"$f":"IF(D5936=\"\",\" \",'Main page'!$F$21-(D5936))","v":" "},{"$f":"IF(D5936=\"\",\" \",VLOOKUP(R5936,'Main page'!$E$29:'Main page'!$G$41,3,TRUE))","v":" "}]
[null,null,null,null,null,null,null,null,null,null,null,null," "," "," "," ",{"$f":"IF(I5939=\"\",\"\",IF(I5939<='Main page'!$F$49,\"Core staff\",\"Senior staff\"))","v":""},{"$f":"IF(D5939=\"\",\" \",'Main page'!$F$21-(D5939))","v":" "},{"$f":"IF(D5939=\"\",\" \",VLOOKUP(R5939,'Main page'!$E$29:'Main page'!$G$41,3,TRUE))","v":" "}]
[null,null,null,null,null,null,null,null,null,null,null,null," "," "," "," ",{"$f":"IF(I5955=\"\",\"\",IF(I5955<='Main page'!$F$49,\"Core staff\",\"Senior staff\"))","v":""},{"$f":"IF(D5955=\"\",\" \",'Main page'!$F$21-(D5955))","v":" "},{"$f":"IF(D5955=\"\",\" \",VLOOKUP(R5955,'Main page'!$E$29:'Main page'!$G$41,3,TRUE))","v":" "}]
[null,null,null,null,null,null,null,null,null,null,null,null," "," "," "," ",{"$f":"IF(I5961=\"\",\"\",IF(I5961<='Main page'!$F$49,\"Core staff\",\"Senior staff\"))","v":""},{"$f":"IF(D5961=\"\",\" \",'Main page'!$F$21-(D5961))","v":" "},{"$f":"IF(D5961=\"\",\" \",VLOOKUP(R5961,'Main page'!$E$29:'Main page'!$G$41,3,TRUE))","v":" "}]
[null,null,null,null,null,null,null,null,null,null,null,null," "," "," "," ",{"$f":"IF(I5964=\"\",\"\",IF(I5964<='Main page'!$F$49,\"Core staff\",\"Senior staff\"))","v":""},{"$f":"IF(D5964=\"\",\" \",'Main page'!$F$21-(D5964))","v":" "},{"$f":"IF(D5964=\"\",\" \",VLOOKUP(R5964,'Main page'!$E$29:'Main page'!$G$41,3,TRUE))","v":" "}]
[null,null,null,null,null,null,null,null,null,null,null,null," "," "," "," ",{"$f":"IF(I5976=\"\",\"\",IF(I5976<='Main page'!$F$49,\"Core staff\",\"Senior staff\"))","v":""},{"$f":"IF(D5976=\"\",\" \",'Main page'!$F$21-(D5976))","v":" "},{"$f":"IF(D5976=\"\",\" \",VLOOKUP(R5976,'Main page'!$E$29:'Main page'!$G$41,3,TRUE))","v":" "}]
[null,null,null,null,null,null,null,null,null,null,null,null," "," "," "," ",{"$f":"IF(I5988=\"\",\"\",IF(I5988<='Main page'!$F$49,\"Core staff\",\"Senior staff\"))","v":""},{"$f":"IF(D5988=\"\",\" \",'Main page'!$F$21-(D5988))","v":" "},{"$f":"IF(D5988=\"\",\" \",VLOOKUP(R5988,'Main page'!$E$29:'Main page'!$G$41,3,TRUE))","v":" "}]
[null,null,null,null,null,null,null,null,null,null,null,null," "," "," "," ",{"$f":"IF(I5992=\"\",\"\",IF(I5992<='Main page'!$F$49,\"Core staff\",\"Senior staff\"))","v":""},{"$f":"IF(D5992=\"\",\" \",'Main page'!$F$21-(D5992))","v":" "},{"$f":"IF(D5992=\"\",\" \",VLOOKUP(R5992,'Main page'!$E$29:'Main page'!$G$41,3,TRUE))","v":" "}]
[null,null,null,null,null,null,null,null,null,null,null,null," "," "," "," ",{"$f":"IF(I6006=\"\",\"\",IF(I6006<='Main page'!$F$49,\"Core staff\",\"Senior staff\"))","v":""},{"$f":"IF(D6006=\"\",\" \",'Main page'!$F$21-(D6006))","v":" "},{"$f":"IF(D6006=\"\",\" \",VLOOKUP(R6006,'Main page'!$E$29:'Main page'!$G$41,3,TRUE))","v":" "}]
[null,null,null,null,null,null,null,null,null,null,null,null," "," "," "," ",{"$f":"IF(I6009=\"\",\"\",IF(I6009<='Main page'!$F$49,\"Core staff\",\"Senior staff\"))","v":""},{"$f":"IF(D6009=\"\",\" \",'Main page'!$F$21-(D6009))","v":" "},{"$f":"IF(D6009=\"\",\" \",VLOOKUP(R6009,'Main page'!$E$29:'Main page'!$G$41,3,TRUE))","v":" "}]
[null,null,null,null,null,null,null,null,null,null,null,null," "," "," "," ",{"$f":"IF(I6025=\"\",\"\",IF(I6025<='Main page'!$F$49,\"Core staff\",\"Senior staff\"))","v":""},{"$f":"IF(D6025=\"\",\" \",'Main page'!$F$21-(D6025))","v":" "},{"$f":"IF(D6025=\"\",\" \",VLOOKUP(R6025,'Main page'!$E$29:'Main page'!$G$41,3,TRUE))","v":" "}]
[null,null,null,null,null,null,null,null,null,null,null,null," "," "," "," ",{"$f":"IF(I6031=\"\",\"\",IF(I6031<='Main page'!$F$49,\"Core staff\",\"Senior staff\"))","v":""},{"$f":"IF(D6031=\"\",\" \",'Main page'!$F$21-(D6031))","v":" "},{"$f":"IF(D6031=\"\",\" \",VLOOKUP(R6031,'Main page'!$E$29:'Main page'!$G$41,3,TRUE))","v":" "}]
[null,null,null,null,null,null,null,null,null,null,null,null," "," "," "," ",{"$f":"IF(I6034=\"\",\"\",IF(I6034<='Main page'!$F$49,\"Core staff\",\"Senior staff\"))","v":""},{"$f":"IF(D6034=\"\",\" \",'Main page'!$F$21-(D6034))","v":" "},{"$f":"IF(D6034=\"\",\" \",VLOOKUP(R6034,'Main page'!$E$29:'Main page'!$G$41,3,TRUE))","v":" "}]
[null,null,null,null,null,null,null,null,null,null,null,null," "," "," "," ",{"$f":"IF(I6046=\"\",\"\",IF(I6046<='Main page'!$F$49,\"Core staff\",\"Senior staff\"))","v":""},{"$f":"IF(D6046=\"\",\" \",'Main page'!$F$21-(D6046))","v":" "},{"$f":"IF(D6046=\"\",\" \",VLOOKUP(R6046,'Main page'!$E$29:'Main page'!$G$41,3,TRUE))","v":" "}]
[null,null,null,null,null,null,null,null,null,null,null,null," "," "," "," ",{"$f":"IF(I6058=\"\",\"\",IF(I6058<='Main page'!$F$49,\"Core staff\",\"Senior staff\"))","v":""},{"$f":"IF(D6058=\"\",\" \",'Main page'!$F$21-(D6058))","v":" "},{"$f":"IF(D6058=\"\",\" \",VLOOKUP(R6058,'Main page'!$E$29:'Main page'!$G$41,3,TRUE))","v":" "}]
[null,null,null,null,null,null,null,null,null,null,null,null," "," "," "," ",{"$f":"IF(I6062=\"\",\"\",IF(I6062<='Main page'!$F$49,\"Core staff\",\"Senior staff\"))","v":""},{"$f":"IF(D6062=\"\",\" \",'Main page'!$F$21-(D6062))","v":" "},{"$f":"IF(D6062=\"\",\" \",VLOOKUP(R6062,'Main page'!$E$29:'Main page'!$G$41,3,TRUE))","v":" "}]
[null,null,null,null,null,null,null,null,null,null,null,null," "," "," "," ",{"$f":"IF(I6076=\"\",\"\",IF(I6076<='Main page'!$F$49,\"Core staff\",\"Senior staff\"))","v":""},{"$f":"IF(D6076=\"\",\" \",'Main page'!$F$21-(D6076))","v":" "},{"$f":"IF(D6076=\"\",\" \",VLOOKUP(R6076,'Main page'!$E$29:'Main page'!$G$41,3,TRUE))","v":" "}]
[null,null,null,null,null,null,null,null,null,null,null,null," "," "," "," ",{"$f":"IF(I6079=\"\",\"\",IF(I6079<='Main page'!$F$49,\"Core staff\",\"Senior staff\"))","v":""},{"$f":"IF(D6079=\"\",\" \",'Main page'!$F$21-(D6079))","v":" "},{"$f":"IF(D6079=\"\",\" \",VLOOKUP(R6079,'Main page'!$E$29:'Main page'!$G$41,3,TRUE))","v":" "}]
[null,null,null,null,null,null,null,null,null,null,null,null," "," "," "," ",{"$f":"IF(I6095=\"\",\"\",IF(I6095<='Main page'!$F$49,\"Core staff\",\"Senior staff\"))","v":""},{"$f":"IF(D6095=\"\",\" \",'Main page'!$F$21-(D6095))","v":" "},{"$f":"IF(D6095=\"\",\" \",VLOOKUP(R6095,'Main page'!$E$29:'Main page'!$G$41,3,TRUE))","v":" "}]
[null,null,null,null,null,null,null,null,null,null,null,null," "," "," "," ",{"$f":"IF(I6101=\"\",\"\",IF(I6101<='Main page'!$F$49,\"Core staff\",\"Senior staff\"))","v":""},{"$f":"IF(D6101=\"\",\" \",'Main page'!$F$21-(D6101))","v":" "},{"$f":"IF(D6101=\"\",\" \",VLOOKUP(R6101,'Main page'!$E$29:'Main page'!$G$41,3,TRUE))","v":" "}]
[null,null,null,null,null,null,null,null,null,null,null,null," "," "," "," ",{"$f":"IF(I6104=\"\",\"\",IF(I6104<='Main page'!$F$49,\"Core staff\",\"Senior staff\"))","v":""},{"$f":"IF(D6104=\"\",\" \",'Main page'!$F$21-(D6104))","v":" "},{"$f":"IF(D6104=\"\",\" \",VLOOKUP(R6104,'Main page'!$E$29:'Main page'!$G$41,3,TRUE))","v":" "}]
[null,null,null,null,null,null,null,null,null,null,null,null," "," "," "," ",{"$f":"IF(I6116=\"\",\"\",IF(I6116<='Main page'!$F$49,\"Core staff\",\"Senior staff\"))","v":""},{"$f":"IF(D6116=\"\",\" \",'Main page'!$F$21-(D6116))","v":" "},{"$f":"IF(D6116=\"\",\" \",VLOOKUP(R6116,'Main page'!$E$29:'Main page'!$G$41,3,TRUE))","v":" "}]
[null,null,null,null,null,null,null,null,null,null,null,null," "," "," "," ",{"$f":"IF(I6128=\"\",\"\",IF(I6128<='Main page'!$F$49,\"Core staff\",\"Senior staff\"))","v":""},{"$f":"IF(D6128=\"\",\" \",'Main page'!$F$21-(D6128))","v":" "},{"$f":"IF(D6128=\"\",\" \",VLOOKUP(R6128,'Main page'!$E$29:'Main page'!$G$41,3,TRUE))","v":" "}]
[null,null,null,null,null,null,null,null,null,null,null,null," "," "," "," ",{"$f":"IF(I6132=\"\",\"\",IF(I6132<='Main page'!$F$49,\"Core staff\",\"Senior staff\"))","v":""},{"$f":"IF(D6132=\"\",\" \",'Main page'!$F$21-(D6132))","v":" "},{"$f":"IF(D6132=\"\",\" \",VLOOKUP(R6132,'Main page'!$E$29:'Main page'!$G$41,3,TRUE))","v":" "}]
[null,null,null,null,null,null,null,null,null,null,null,null," "," "," "," ",{"$f":"IF(I6146=\"\",\"\",IF(I6146<='Main page'!$F$49,\"Core staff\",\"Senior staff\"))","v":""},{"$f":"IF(D6146=\"\",\" \",'Main page'!$F$21-(D6146))","v":" "},{"$f":"IF(D6146=\"\",\" \",VLOOKUP(R6146,'Main page'!$E$29:'Main page'!$G$41,3,TRUE))","v":" "}]
[null,null,null,null,null,null,null,null,null,null,null,null," "," "," "," ",{"$f":"IF(I6153=\"\",\"\",IF(I6153<='Main page'!$F$49,\"Core staff\",\"Senior staff\"))","v":""},{"$f":"IF(D6153=\"\",\" \",'Main page'!$F$21-(D6153))","v":" "},{"$f":"IF(D6153=\"\",\" \",VLOOKUP(R6153,'Main page'!$E$29:'Main page'!$G$41,3,TRUE))","v":" "}]
[null,null,null,null,null,null,null,null,null,null,null,null," "," "," "," ",{"$f":"IF(I6165=\"\",\"\",IF(I6165<='Main page'!$F$49,\"Core staff\",\"Senior staff\"))","v":""},{"$f":"IF(D6165=\"\",\" \",'Main page'!$F$21-(D6165))","v":" "},{"$f":"IF(D6165=\"\",\" \",VLOOKUP(R6165,'Main page'!$E$29:'Main page'!$G$41,3,TRUE))","v":" "}]
[null,null,null,null,null,null,null,null,null,null,null,null," "," "," "," ",{"$f":"IF(I6171=\"\",\"\",IF(I6171<='Main page'!$F$49,\"Core staff\",\"Senior staff\"))","v":""},{"$f":"IF(D6171=\"\",\" \",'Main page'!$F$21-(D6171))","v":" "},{"$f":"IF(D6171=\"\",\" \",VLOOKUP(R6171,'Main page'!$E$29:'Main page'!$G$41,3,TRUE))","v":" "}]
[null,null,null,null,null,null,null,null,null,null,null,null," "," "," "," ",{"$f":"IF(I6174=\"\",\"\",IF(I6174<='Main page'!$F$49,\"Core staff\",\"Senior staff\"))","v":""},{"$f":"IF(D6174=\"\",\" \",'Main page'!$F$21-(D6174))","v":" "},{"$f":"IF(D6174=\"\",\" \",VLOOKUP(R6174,'Main page'!$E$29:'Main page'!$G$41,3,TRUE))","v":" "}]
[null,null,null,null,null,null,null,null,null,null,null,null," "," "," "," ",{"$f":"IF(I6186=\"\",\"\",IF(I6186<='Main page'!$F$49,\"Core staff\",\"Senior staff\"))","v":""},{"$f":"IF(D6186=\"\",\" \",'Main page'!$F$21-(D6186))","v":" "},{"$f":"IF(D6186=\"\",\" \",VLOOKUP(R6186,'Main page'!$E$29:'Main page'!$G$41,3,TRUE))","v":" "}]
[null,null,null,null,null,null,null,null,null,null,null,null," "," "," "," ",{"$f":"IF(I6198=\"\",\"\",IF(I6198<='Main page'!$F$49,\"Core staff\",\"Senior staff\"))","v":""},{"$f":"IF(D6198=\"\",\" \",'Main page'!$F$21-(D6198))","v":" "},{"$f":"IF(D6198=\"\",\" \",VLOOKUP(R6198,'Main page'!$E$29:'Main page'!$G$41,3,TRUE))","v":" "}]
[null,null,null,null,null,null,null,null,null,null,null,null," "," "," "," ",{"$f":"IF(I6202=\"\",\"\",IF(I6202<='Main page'!$F$49,\"Core staff\",\"Senior staff\"))","v":""},{"$f":"IF(D6202=\"\",\" \",'Main page'!$F$21-(D6202))","v":" "},{"$f":"IF(D6202=\"\",\" \",VLOOKUP(R6202,'Main page'!$E$29:'Main page'!$G$41,3,TRUE))","v":" "}]
[null,null,null,null,null,null,null,null,null,null,null,null," "," "," "," ",{"$f":"IF(I6216=\"\",\"\",IF(I6216<='Main page'!$F$49,\"Core staff\",\"Senior staff\"))","v":""},{"$f":"IF(D6216=\"\",\" \",'Main page'!$F$21-(D6216))","v":" "},{"$f":"IF(D6216=\"\",\" \",VLOOKUP(R6216,'Main page'!$E$29:'Main page'!$G$41,3,TRUE))","v":" "}]
[null,null,null,null,null,null,null,null,null,null,null,null," "," "," "," ",{"$f":"IF(I6223=\"\",\"\",IF(I6223<='Main page'!$F$49,\"Core staff\",\"Senior staff\"))","v":""},{"$f":"IF(D6223=\"\",\" \",'Main page'!$F$21-(D6223))","v":" "},{"$f":"IF(D6223=\"\",\" \",VLOOKUP(R6223,'Main page'!$E$29:'Main page'!$G$41,3,TRUE))","v":" "}]
[null,null,null,null,null,null,null,null,null,null,null,null," "," "," "," ",{"$f":"IF(I6235=\"\",\"\",IF(I6235<='Main page'!$F$49,\"Core staff\",\"Senior staff\"))","v":""},{"$f":"IF(D6235=\"\",\" \",'Main page'!$F$21-(D6235))","v":" "},{"$f":"IF(D6235=\"\",\" \",VLOOKUP(R6235,'Main page'!$E$29:'Main page'!$G$41,3,TRUE))","v":" "}]
[null,null,null,null,null,null,null,null,null,null,null,null," "," "," "," ",{"$f":"IF(I6241=\"\",\"\",IF(I6241<='Main page'!$F$49,\"Core staff\",\"Senior staff\"))","v":""},{"$f":"IF(D6241=\"\",\" \",'Main page'!$F$21-(D6241))","v":" "},{"$f":"IF(D6241=\"\",\" \",VLOOKUP(R6241,'Main page'!$E$29:'Main page'!$G$41,3,TRUE))","v":" "}]
[null,null,null,null,null,null,null,null,null,null,null,null," "," "," "," ",{"$f":"IF(I6244=\"\",\"\",IF(I6244<='Main page'!$F$49,\"Core staff\",\"Senior staff\"))","v":""},{"$f":"IF(D6244=\"\",\" \",'Main page'!$F$21-(D6244))","v":" "},{"$f":"IF(D6244=\"\",\" \",VLOOKUP(R6244,'Main page'!$E$29:'Main page'!$G$41,3,TRUE))","v":" "}]
[null,null,null,null,null,null,null,null,null,null,null,null," "," "," "," ",{"$f":"IF(I6256=\"\",\"\",IF(I6256<='Main page'!$F$49,\"Core staff\",\"Senior staff\"))","v":""},{"$f":"IF(D6256=\"\",\" \",'Main page'!$F$21-(D6256))","v":" "},{"$f":"IF(D6256=\"\",\" \",VLOOKUP(R6256,'Main page'!$E$29:'Main page'!$G$41,3,TRUE))","v":" "}]
[null,null,null,null,null,null,null,null,null,null,null,null," "," "," "," ",{"$f":"IF(I6263=\"\",\"\",IF(I6263<='Main page'!$F$49,\"Core staff\",\"Senior staff\"))","v":""},{"$f":"IF(D6263=\"\",\" \",'Main page'!$F$21-(D6263))","v":" "},{"$f":"IF(D6263=\"\",\" \",VLOOKUP(R6263,'Main page'!$E$29:'Main page'!$G$41,3,TRUE))","v":" "}]
[null,null,null,null,null,null,null,null,null,null,null,null," "," "," "," ",{"$f":"IF(I6272=\"\",\"\",IF(I6272<='Main page'!$F$49,\"Core staff\",\"Senior staff\"))","v":""},{"$f":"IF(D6272=\"\",\" \",'Main page'!$F$21-(D6272))","v":" "},{"$f":"IF(D6272=\"\",\" \",VLOOKUP(R6272,'Main page'!$E$29:'Main page'!$G$41,3,TRUE))","v":" "}]
[null,null,null,null,null,null,null,null,null,null,null,null,{"$f":"IFERROR(J6286/G6286,\" \")","v":" "},{"$f":"IFERROR((M6286/$U$4)/H6286,\" \")","v":" "},{"$f":"IFERROR((N6286*75)*26.083,\" \")","v":" "},{"$f":"IF(G6286=0,\" \",IF(G6286=1,\"Full time\",\"Part time\"))","v":" "},{"$f":"IF(I6286=\"\",\"\",IF(I6286<='Main page'!$F$49,\"Core staff\",\"Senior staff\"))","v":""},{"$f":"IF(D6286=\"\",\" \",'Main page'!$F$21-(D6286))","v":" "},{"$f":"IF(D6286=\"\",\" \",VLOOKUP(R6286,'Main page'!$E$29:'Main page'!$G$41,3,TRUE))","v":" "}]
[null,null,null,null,null,null,null,null,null,null,null,null," "," "," "," ",{"$f":"IF(I6293=\"\",\"\",IF(I6293<='Main page'!$F$49,\"Core staff\",\"Senior staff\"))","v":""},{"$f":"IF(D6293=\"\",\" \",'Main page'!$F$21-(D6293))","v":" "},{"$f":"IF(D6293=\"\",\" \",VLOOKUP(R6293,'Main page'!$E$29:'Main page'!$G$41,3,TRUE))","v":" "}]
[null,null,null,null,null,null,null,null,null,null,null,null," "," "," "," ",{"$f":"IF(I6305=\"\",\"\",IF(I6305<='Main page'!$F$49,\"Core staff\",\"Senior staff\"))","v":""},{"$f":"IF(D6305=\"\",\" \",'Main page'!$F$21-(D6305))","v":" "},{"$f":"IF(D6305=\"\",\" \",VLOOKUP(R6305,'Main page'!$E$29:'Main page'!$G$41,3,TRUE))","v":" "}]
[null,null,null,null,null,null,null,null,null,null,null,null," "," "," "," ",{"$f":"IF(I6311=\"\",\"\",IF(I6311<='Main page'!$F$49,\"Core staff\",\"Senior staff\"))","v":""},{"$f":"IF(D6311=\"\",\" \",'Main page'!$F$21-(D6311))","v":" "},{"$f":"IF(D6311=\"\",\" \",VLOOKUP(R6311,'Main page'!$E$29:'Main page'!$G$41,3,TRUE))","v":" "}]
[null,null,null,null,null,null,null,null,null,null,null,null," "," "," "," ",{"$f":"IF(I6314=\"\",\"\",IF(I6314<='Main page'!$F$49,\"Core staff\",\"Senior staff\"))","v":""},{"$f":"IF(D6314=\"\",\" \",'Main page'!$F$21-(D6314))","v":" "},{"$f":"IF(D6314=\"\",\" \",VLOOKUP(R6314,'Main page'!$E$29:'Main page'!$G$41,3,TRUE))","v":" "}]
[null,null,null,null,null,null,null,null,null,null,null,null," "," "," "," ",{"$f":"IF(I6326=\"\",\"\",IF(I6326<='Main page'!$F$49,\"Core staff\",\"Senior staff\"))","v":""},{"$f":"IF(D6326=\"\",\" \",'Main page'!$F$21-(D6326))","v":" "},{"$f":"IF(D6326=\"\",\" \",VLOOKUP(R6326,'Main page'!$E$29:'Main page'!$G$41,3,TRUE))","v":" "}]
[null,null,null,null,null,null,null,null,null,null,null,null," "," "," "," ",{"$f":"IF(I6333=\"\",\"\",IF(I6333<='Main page'!$F$49,\"Core staff\",\"Senior staff\"))","v":""},{"$f":"IF(D6333=\"\",\" \",'Main page'!$F$21-(D6333))","v":" "},{"$f":"IF(D6333=\"\",\" \",VLOOKUP(R6333,'Main page'!$E$29:'Main page'!$G$41,3,TRUE))","v":" "}]
[null,null,null,null,null,null,null,null,null,null,null,null," "," "," "," ",{"$f":"IF(I6342=\"\",\"\",IF(I6342<='Main page'!$F$49,\"Core staff\",\"Senior staff\"))","v":""},{"$f":"IF(D6342=\"\",\" \",'Main page'!$F$21-(D6342))","v":" "},{"$f":"IF(D6342=\"\",\" \",VLOOKUP(R6342,'Main page'!$E$29:'Main page'!$G$41,3,TRUE))","v":" "}]
[null,null,null,null,null,null,null,null,null,null,null,null," "," "," "," ",{"$f":"IF(I6356=\"\",\"\",IF(I6356<='Main page'!$F$49,\"Core staff\",\"Senior staff\"))","v":""},{"$f":"IF(D6356=\"\",\" \",'Main page'!$F$21-(D6356))","v":" "},{"$f":"IF(D6356=\"\",\" \",VLOOKUP(R6356,'Main page'!$E$29:'Main page'!$G$41,3,TRUE))","v":" "}]
[null,null,null,null,null,null,null,null,null,null,null,null," "," "," "," ",{"$f":"IF(I6363=\"\",\"\",IF(I6363<='Main page'!$F$49,\"Core staff\",\"Senior staff\"))","v":""},{"$f":"IF(D6363=\"\",\" \",'Main page'!$F$21-(D6363))","v":" "},{"$f":"IF(D6363=\"\",\" \",VLOOKUP(R6363,'Main page'!$E$29:'Main page'!$G$41,3,TRUE))","v":" "}]
[null,null,null,null,null,null,null,null,null,null,null,null," "," "," "," ",{"$f":"IF(I6375=\"\",\"\",IF(I6375<='Main page'!$F$49,\"Core staff\",\"Senior staff\"))","v":""},{"$f":"IF(D6375=\"\",\" \",'Main page'!$F$21-(D6375))","v":" "},{"$f":"IF(D6375=\"\",\" \",VLOOKUP(R6375,'Main page'!$E$29:'Main page'!$G$41,3,TRUE))","v":" "}]
[null,null,null,null,null,null,null,null,null,null,null,null," "," "," "," ",{"$f":"IF(I6378=\"\",\"\",IF(I6378<='Main page'!$F$49,\"Core staff\",\"Senior staff\"))","v":""},{"$f":"IF(D6378=\"\",\" \",'Main page'!$F$21-(D6378))","v":" "},{"$f":"IF(D6378=\"\",\" \",VLOOKUP(R6378,'Main page'!$E$29:'Main page'!$G$41,3,TRUE))","v":" "}]
[null,null,null,null,null,null,null,null,null,null,null,null," "," "," "," ",{"$f":"IF(I6391=\"\",\"\",IF(I6391<='Main page'!$F$49,\"Core staff\",\"Senior staff\"))","v":""},{"$f":"IF(D6391=\"\",\" \",'Main page'!$F$21-(D6391))","v":" "},{"$f":"IF(D6391=\"\",\" \",VLOOKUP(R6391,'Main page'!$E$29:'Main page'!$G$41,3,TRUE))","v":" "}]
[null,null,null,null,null,null,null,null,null,null,null,null," "," "," "," ",{"$f":"IF(I6396=\"\",\"\",IF(I6396<='Main page'!$F$49,\"Core staff\",\"Senior staff\"))","v":""},{"$f":"IF(D6396=\"\",\" \",'Main page'!$F$21-(D6396))","v":" "},{"$f":"IF(D6396=\"\",\" \",VLOOKUP(R6396,'Main page'!$E$29:'Main page'!$G$41,3,TRUE))","v":" "}]
[null,null,null,null,null,null,null,null,null,null,null,null," "," "," "," ",{"$f":"IF(I6403=\"\",\"\",IF(I6403<='Main page'!$F$49,\"Core staff\",\"Senior staff\"))","v":""},{"$f":"IF(D6403=\"\",\" \",'Main page'!$F$21-(D6403))","v":" "},{"$f":"IF(D6403=\"\",\" \",VLOOKUP(R6403,'Main page'!$E$29:'Main page'!$G$41,3,TRUE))","v":" "}]
[null,null,null,null,null,null,null,null,null,null,null,null," "," "," "," ",{"$f":"IF(I6415=\"\",\"\",IF(I6415<='Main page'!$F$49,\"Core staff\",\"Senior staff\"))","v":""},{"$f":"IF(D6415=\"\",\" \",'Main page'!$F$21-(D6415))","v":" "},{"$f":"IF(D6415=\"\",\" \",VLOOKUP(R6415,'Main page'!$E$29:'Main page'!$G$41,3,TRUE))","v":" "}]
[null,null,null,null,null,null,null,null,null,null,null,null," "," "," "," ",{"$f":"IF(I6422=\"\",\"\",IF(I6422<='Main page'!$F$49,\"Core staff\",\"Senior staff\"))","v":""},{"$f":"IF(D6422=\"\",\" \",'Main page'!$F$21-(D6422))","v":" "},{"$f":"IF(D6422=\"\",\" \",VLOOKUP(R6422,'Main page'!$E$29:'Main page'!$G$41,3,TRUE))","v":" "}]
[null,null,null,null,null,null,null,null,null,null,null,null," "," "," "," ",{"$f":"IF(I6433=\"\",\"\",IF(I6433<='Main page'!$F$49,\"Core staff\",\"Senior staff\"))","v":""},{"$f":"IF(D6433=\"\",\" \",'Main page'!$F$21-(D6433))","v":" "},{"$f":"IF(D6433=\"\",\" \",VLOOKUP(R6433,'Main page'!$E$29:'Main page'!$G$41,3,TRUE))","v":" "}]
[null,null,null,null,null,null,null,null,null,null,null,null," "," "," "," ",{"$f":"IF(I6445=\"\",\"\",IF(I6445<='Main page'!$F$49,\"Core staff\",\"Senior staff\"))","v":""},{"$f":"IF(D6445=\"\",\" \",'Main page'!$F$21-(D6445))","v":" "},{"$f":"IF(D6445=\"\",\" \",VLOOKUP(R6445,'Main page'!$E$29:'Main page'!$G$41,3,TRUE))","v":" "}]
[null,null,null,null,null,null,null,null,null,null,null,null," "," "," "," ",{"$f":"IF(I6452=\"\",\"\",IF(I6452<='Main page'!$F$49,\"Core staff\",\"Senior staff\"))","v":""},{"$f":"IF(D6452=\"\",\" \",'Main page'!$F$21-(D6452))","v":" "},{"$f":"IF(D6452=\"\",\" \",VLOOKUP(R6452,'Main page'!$E$29:'Main page'!$G$41,3,TRUE))","v":" "}]
[null,null,null,null,null,null,null,null,null,null,null,null," "," "," "," ",{"$f":"IF(I6461=\"\",\"\",IF(I6461<='Main page'!$F$49,\"Core staff\",\"Senior staff\"))","v":""},{"$f":"IF(D6461=\"\",\" \",'Main page'!$F$21-(D6461))","v":" "},{"$f":"IF(D6461=\"\",\" \",VLOOKUP(R6461,'Main page'!$E$29:'Main page'!$G$41,3,TRUE))","v":" "}]
[null,null,null,null,null,null,null,null,null,null,null,null," "," "," "," ",{"$f":"IF(I6466=\"\",\"\",IF(I6466<='Main page'!$F$49,\"Core staff\",\"Senior staff\"))","v":""},{"$f":"IF(D6466=\"\",\" \",'Main page'!$F$21-(D6466))","v":" "},{"$f":"IF(D6466=\"\",\" \",VLOOKUP(R6466,'Main page'!$E$29:'Main page'!$G$41,3,TRUE))","v":" "}]
[null,null,null,null,null,null,null,null,null,null,null,null," "," "," "," ",{"$f":"IF(I6473=\"\",\"\",IF(I6473<='Main page'!$F$49,\"Core staff\",\"Senior staff\"))","v":""},{"$f":"IF(D6473=\"\",\" \",'Main page'!$F$21-(D6473))","v":" "},{"$f":"IF(D6473=\"\",\" \",VLOOKUP(R6473,'Main page'!$E$29:'Main page'!$G$41,3,TRUE))","v":" "}]
[null,null,null,null,null,null,null,null,null,null,null,null," "," "," "," ",{"$f":"IF(I6485=\"\",\"\",IF(I6485<='Main page'!$F$49,\"Core staff\",\"Senior staff\"))","v":""},{"$f":"IF(D6485=\"\",\" \",'Main page'!$F$21-(D6485))","v":" "},{"$f":"IF(D6485=\"\",\" \",VLOOKUP(R6485,'Main page'!$E$29:'Main page'!$G$41,3,TRUE))","v":" "}]
[null,null,null,null,null,null,null,null,null,null,null,null," "," "," "," ",{"$f":"IF(I6492=\"\",\"\",IF(I6492<='Main page'!$F$49,\"Core staff\",\"Senior staff\"))","v":""},{"$f":"IF(D6492=\"\",\" \",'Main page'!$F$21-(D6492))","v":" "},{"$f":"IF(D6492=\"\",\" \",VLOOKUP(R6492,'Main page'!$E$29:'Main page'!$G$41,3,TRUE))","v":" "}]
[null,null,null,null,null,null,null,null,null,null,null,null," "," "," "," ",{"$f":"IF(I6503=\"\",\"\",IF(I6503<='Main page'!$F$49,\"Core staff\",\"Senior staff\"))","v":""},{"$f":"IF(D6503=\"\",\" \",'Main page'!$F$21-(D6503))","v":" "},{"$f":"IF(D6503=\"\",\" \",VLOOKUP(R6503,'Main page'!$E$29:'Main page'!$G$41,3,TRUE))","v":" "}]
[null,null,null,null,null,null,null,null,null,null,null,null," "," "," "," ",{"$f":"IF(I6515=\"\",\"\",IF(I6515<='Main page'!$F$49,\"Core staff\",\"Senior staff\"))","v":""},{"$f":"IF(D6515=\"\",\" \",'Main page'!$F$21-(D6515))","v":" "},{"$f":"IF(D6515=\"\",\" \",VLOOKUP(R6515,'Main page'!$E$29:'Main page'!$G$41,3,TRUE))","v":" "}]
[null,null,null,null,null,null,null,null,null,null,null,null," "," "," "," ",{"$f":"IF(I6522=\"\",\"\",IF(I6522<='Main page'!$F$49,\"Core staff\",\"Senior staff\"))","v":""},{"$f":"IF(D6522=\"\",\" \",'Main page'!$F$21-(D6522))","v":" "},{"$f":"IF(D6522=\"\",\" \",VLOOKUP(R6522,'Main page'!$E$29:'Main page'!$G$41,3,TRUE))","v":" "}]
[null,null,null,null,null,null,null,null,null,null,null,null," "," "," "," ",{"$f":"IF(I6531=\"\",\"\",IF(I6531<='Main page'!$F$49,\"Core staff\",\"Senior staff\"))","v":""},{"$f":"IF(D6531=\"\",\" \",'Main page'!$F$21-(D6531))","v":" "},{"$f":"IF(D6531=\"\",\" \",VLOOKUP(R6531,'Main page'!$E$29:'Main page'!$G$41,3,TRUE))","v":" "}]
[null,null,null,null,null,null,null,null,null,null,null,null," "," "," "," ",{"$f":"IF(I6536=\"\",\"\",IF(I6536<='Main page'!$F$49,\"Core staff\",\"Senior staff\"))","v":""},{"$f":"IF(D6536=\"\",\" \",'Main page'!$F$21-(D6536))","v":" "},{"$f":"IF(D6536=\"\",\" \",VLOOKUP(R6536,'Main page'!$E$29:'Main page'!$G$41,3,TRUE))","v":" "}]
[null,null,null,null,null,null,null,null,null,null,null,null," "," "," "," ",{"$f":"IF(I6543=\"\",\"\",IF(I6543<='Main page'!$F$49,\"Core staff\",\"Senior staff\"))","v":""},{"$f":"IF(D6543=\"\",\" \",'Main page'!$F$21-(D6543))","v":" "},{"$f":"IF(D6543=\"\",\" \",VLOOKUP(R6543,'Main page'!$E$29:'Main page'!$G$41,3,TRUE))","v":" "}]
[null,null,null,null,null,null,null,null,null,null,null,null," "," "," "," ",{"$f":"IF(I6555=\"\",\"\",IF(I6555<='Main page'!$F$49,\"Core staff\",\"Senior staff\"))","v":""},{"$f":"IF(D6555=\"\",\" \",'Main page'!$F$21-(D6555))","v":" "},{"$f":"IF(D6555=\"\",\" \",VLOOKUP(R6555,'Main page'!$E$29:'Main page'!$G$41,3,TRUE))","v":" "}]
[null,null,null,null,null,null,null,null,null,null,null,null," "," "," "," ",{"$f":"IF(I6562=\"\",\"\",IF(I6562<='Main page'!$F$49,\"Core staff\",\"Senior staff\"))","v":""},{"$f":"IF(D6562=\"\",\" \",'Main page'!$F$21-(D6562))","v":" "},{"$f":"IF(D6562=\"\",\" \",VLOOKUP(R6562,'Main page'!$E$29:'Main page'!$G$41,3,TRUE))","v":" "}]
[null,null,null,null,null,null,null,null,null,null,null,null," "," "," "," ",{"$f":"IF(I6573=\"\",\"\",IF(I6573<='Main page'!$F$49,\"Core staff\",\"Senior staff\"))","v":""},{"$f":"IF(D6573=\"\",\" \",'Main page'!$F$21-(D6573))","v":" "},{"$f":"IF(D6573=\"\",\" \",VLOOKUP(R6573,'Main page'!$E$29:'Main page'!$G$41,3,TRUE))","v":" "}]
[null,null,null,null,null,null,null,null,null,null,null,null," "," "," "," ",{"$f":"IF(I6585=\"\",\"\",IF(I6585<='Main page'!$F$49,\"Core staff\",\"Senior staff\"))","v":""},{"$f":"IF(D6585=\"\",\" \",'Main page'!$F$21-(D6585))","v":" "},{"$f":"IF(D6585=\"\",\" \",VLOOKUP(R6585,'Main page'!$E$29:'Main page'!$G$41,3,TRUE))","v":" "}]
[null,null,null,null,null,null,null,null,null,null,null,null," "," "," "," ",{"$f":"IF(I6592=\"\",\"\",IF(I6592<='Main page'!$F$49,\"Core staff\",\"Senior staff\"))","v":""},{"$f":"IF(D6592=\"\",\" \",'Main page'!$F$21-(D6592))","v":" "},{"$f":"IF(D6592=\"\",\" \",VLOOKUP(R6592,'Main page'!$E$29:'Main page'!$G$41,3,TRUE))","v":" "}]
[null,null,null,null,null,null,null,null,null,null,null,null," "," "," "," ",{"$f":"IF(I6601=\"\",\"\",IF(I6601<='Main page'!$F$49,\"Core staff\",\"Senior staff\"))","v":""},{"$f":"IF(D6601=\"\",\" \",'Main page'!$F$21-(D6601))","v":" "},{"$f":"IF(D6601=\"\",\" \",VLOOKUP(R6601,'Main page'!$E$29:'Main page'!$G$41,3,TRUE))","v":" "}]
[null,null,null,null,null,null,null,null,null,null,null,null,{"$f":"IFERROR(J6606/G6606,\" \")","v":" "},{"$f":"IFERROR((M6606/$U$4)/H6606,\" \")","v":" "},{"$f":"IFERROR((N6606*75)*26.083,\" \")","v":" "},{"$f":"IF(G6606=0,\" \",IF(G6606=1,\"Full time\",\"Part time\"))","v":" "},{"$f":"IF(I6606=\"\",\"\",IF(I6606<='Main page'!$F$49,\"Core staff\",\"Senior staff\"))","v":""},{"$f":"IF(D6606=\"\",\" \",'Main page'!$F$21-(D6606))","v":" "},{"$f":"IF(D6606=\"\",\" \",VLOOKUP(R6606,'Main page'!$E$29:'Main page'!$G$41,3,TRUE))","v":" "}]
[null,null,null,null,null,null,null,null,null,null,null,null," "," "," "," ",{"$f":"IF(I6613=\"\",\"\",IF(I6613<='Main page'!$F$49,\"Core staff\",\"Senior staff\"))","v":""},{"$f":"IF(D6613=\"\",\" \",'Main page'!$F$21-(D6613))","v":" "},{"$f":"IF(D6613=\"\",\" \",VLOOKUP(R6613,'Main page'!$E$29:'Main page'!$G$41,3,TRUE))","v":" "}]
[null,null,null,null,null,null,null,null,null,null,null,null," "," "," "," ",{"$f":"IF(I6625=\"\",\"\",IF(I6625<='Main page'!$F$49,\"Core staff\",\"Senior staff\"))","v":""},{"$f":"IF(D6625=\"\",\" \",'Main page'!$F$21-(D6625))","v":" "},{"$f":"IF(D6625=\"\",\" \",VLOOKUP(R6625,'Main page'!$E$29:'Main page'!$G$41,3,TRUE))","v":" "}]
[null,null,null,null,null,null,null,null,null,null,null,null," "," "," "," ",{"$f":"IF(I6632=\"\",\"\",IF(I6632<='Main page'!$F$49,\"Core staff\",\"Senior staff\"))","v":""},{"$f":"IF(D6632=\"\",\" \",'Main page'!$F$21-(D6632))","v":" "},{"$f":"IF(D6632=\"\",\" \",VLOOKUP(R6632,'Main page'!$E$29:'Main page'!$G$41,3,TRUE))","v":" "}]
[null,null,null,null,null,null,null,null,null,null,null,null," "," "," "," ",{"$f":"IF(I6643=\"\",\"\",IF(I6643<='Main page'!$F$49,\"Core staff\",\"Senior staff\"))","v":""},{"$f":"IF(D6643=\"\",\" \",'Main page'!$F$21-(D6643))","v":" "},{"$f":"IF(D6643=\"\",\" \",VLOOKUP(R6643,'Main page'!$E$29:'Main page'!$G$41,3,TRUE))","v":" "}]
[null,null,null,null,null,null,null,null,null,null,null,null," "," "," "," ",{"$f":"IF(I6655=\"\",\"\",IF(I6655<='Main page'!$F$49,\"Core staff\",\"Senior staff\"))","v":""},{"$f":"IF(D6655=\"\",\" \",'Main page'!$F$21-(D6655))","v":" "},{"$f":"IF(D6655=\"\",\" \",VLOOKUP(R6655,'Main page'!$E$29:'Main page'!$G$41,3,TRUE))","v":" "}]
[null,null,null,null,null,null,null,null,null,null,null,null," "," "," "," ",{"$f":"IF(I6662=\"\",\"\",IF(I6662<='Main page'!$F$49,\"Core staff\",\"Senior staff\"))","v":""},{"$f":"IF(D6662=\"\",\" \",'Main page'!$F$21-(D6662))","v":" "},{"$f":"IF(D6662=\"\",\" \",VLOOKUP(R6662,'Main page'!$E$29:'Main page'!$G$41,3,TRUE))","v":" "}]
[null,null,null,null,null,null,null,null,null,null,null,null," "," "," "," ",{"$f":"IF(I6671=\"\",\"\",IF(I6671<='Main page'!$F$49,\"Core staff\",\"Senior staff\"))","v":""},{"$f":"IF(D6671=\"\",\" \",'Main page'!$F$21-(D6671))","v":" "},{"$f":"IF(D6671=\"\",\" \",VLOOKUP(R6671,'Main page'!$E$29:'Main page'!$G$41,3,TRUE))","v":" "}]
[null,null,null,null,null,null,null,null,null,null,null,null," "," "," "," ",{"$f":"IF(I6676=\"\",\"\",IF(I6676<='Main page'!$F$49,\"Core staff\",\"Senior staff\"))","v":""},{"$f":"IF(D6676=\"\",\" \",'Main page'!$F$21-(D6676))","v":" "},{"$f":"IF(D6676=\"\",\" \",VLOOKUP(R6676,'Main page'!$E$29:'Main page'!$G$41,3,TRUE))","v":" "}]
[null,null,null,null,null,null,null,null,null,null,null,null," "," "," "," ",{"$f":"IF(I6683=\"\",\"\",IF(I6683<='Main page'!$F$49,\"Core staff\",\"Senior staff\"))","v":""},{"$f":"IF(D6683=\"\",\" \",'Main page'!$F$21-(D6683))","v":" "},{"$f":"IF(D6683=\"\",\" \",VLOOKUP(R6683,'Main page'!$E$29:'Main page'!$G$41,3,TRUE))","v":" "}]
[null,null,null,null,null,null,null,null,null,null,null,null," "," "," "," ",{"$f":"IF(I6695=\"\",\"\",IF(I6695<='Main page'!$F$49,\"Core staff\",\"Senior staff\"))","v":""},{"$f":"IF(D6695=\"\",\" \",'Main page'!$F$21-(D6695))","v":" "},{"$f":"IF(D6695=\"\",\" \",VLOOKUP(R6695,'Main page'!$E$29:'Main page'!$G$41,3,TRUE))","v":" "}]
[null,null,null,null,null,null,null,null,null,null,null,null," "," "," "," ",{"$f":"IF(I6702=\"\",\"\",IF(I6702<='Main page'!$F$49,\"Core staff\",\"Senior staff\"))","v":""},{"$f":"IF(D6702=\"\",\" \",'Main page'!$F$21-(D6702))","v":" "},{"$f":"IF(D6702=\"\",\" \",VLOOKUP(R6702,'Main page'!$E$29:'Main page'!$G$41,3,TRUE))","v":" "}]
[null,null,null,null,null,null,null,null,null,null,null,null," "," "," "," ",{"$f":"IF(I6713=\"\",\"\",IF(I6713<='Main page'!$F$49,\"Core staff\",\"Senior staff\"))","v":""},{"$f":"IF(D6713=\"\",\" \",'Main page'!$F$21-(D6713))","v":" "},{"$f":"IF(D6713=\"\",\" \",VLOOKUP(R6713,'Main page'!$E$29:'Main page'!$G$41,3,TRUE))","v":" "}]
[null,null,null,null,null,null,null,null,null,null,null,null," "," "," "," ",{"$f":"IF(I6725=\"\",\"\",IF(I6725<='Main page'!$F$49,\"Core staff\",\"Senior staff\"))","v":""},{"$f":"IF(D6725=\"\",\" \",'Main page'!$F$21-(D6725))","v":" "},{"$f":"IF(D6725=\"\",\" \",VLOOKUP(R6725,'Main page'!$E$29:'Main page'!$G$41,3,TRUE))","v":" "}]
[null,null,null,null,null,null,null,null,null,null,null,null," "," "," "," ",{"$f":"IF(I6732=\"\",\"\",IF(I6732<='Main page'!$F$49,\"Core staff\",\"Senior staff\"))","v":""},{"$f":"IF(D6732=\"\",\" \",'Main page'!$F$21-(D6732))","v":" "},{"$f":"IF(D6732=\"\",\" \",VLOOKUP(R6732,'Main page'!$E$29:'Main page'!$G$41,3,TRUE))","v":" "}]
[null,null,null,null,null,null,null,null,null,null,null,null," "," "," "," ",{"$f":"IF(I6741=\"\",\"\",IF(I6741<='Main page'!$F$49,\"Core staff\",\"Senior staff\"))","v":""},{"$f":"IF(D6741=\"\",\" \",'Main page'!$F$21-(D6741))","v":" "},{"$f":"IF(D6741=\"\",\" \",VLOOKUP(R6741,'Main page'!$E$29:'Main page'!$G$41,3,TRUE))","v":" "}]
[null,null,null,null,null,null,null,null,null,null,null,null," "," "," "," ",{"$f":"IF(I6750=\"\",\"\",IF(I6750<='Main page'!$F$49,\"Core staff\",\"Senior staff\"))","v":""},{"$f":"IF(D6750=\"\",\" \",'Main page'!$F$21-(D6750))","v":" "},{"$f":"IF(D6750=\"\",\" \",VLOOKUP(R6750,'Main page'!$E$29:'Main page'!$G$41,3,TRUE))","v":" "}]
[null,null,null,null,null,null,null,null,null,null,null,null," "," "," "," ",{"$f":"IF(I6753=\"\",\"\",IF(I6753<='Main page'!$F$49,\"Core staff\",\"Senior staff\"))","v":""},{"$f":"IF(D6753=\"\",\" \",'Main page'!$F$21-(D6753))","v":" "},{"$f":"IF(D6753=\"\",\" \",VLOOKUP(R6753,'Main page'!$E$29:'Main page'!$G$41,3,TRUE))","v":" "}]
[null,null,null,null,null,null,null,null,null,null,null,null," "," "," "," ",{"$f":"IF(I6765=\"\",\"\",IF(I6765<='Main page'!$F$49,\"Core staff\",\"Senior staff\"))","v":""},{"$f":"IF(D6765=\"\",\" \",'Main page'!$F$21-(D6765))","v":" "},{"$f":"IF(D6765=\"\",\" \",VLOOKUP(R6765,'Main page'!$E$29:'Main page'!$G$41,3,TRUE))","v":" "}]
[null,null,null,null,null,null,null,null,null,null,null,null," "," "," "," ",{"$f":"IF(I6772=\"\",\"\",IF(I6772<='Main page'!$F$49,\"Core staff\",\"Senior staff\"))","v":""},{"$f":"IF(D6772=\"\",\" \",'Main page'!$F$21-(D6772))","v":" "},{"$f":"IF(D6772=\"\",\" \",VLOOKUP(R6772,'Main page'!$E$29:'Main page'!$G$41,3,TRUE))","v":" "}]
[null,null,null,null,null,null,null,null,null,null,null,null," "," "," "," ",{"$f":"IF(I6783=\"\",\"\",IF(I6783<='Main page'!$F$49,\"Core staff\",\"Senior staff\"))","v":""},{"$f":"IF(D6783=\"\",\" \",'Main page'!$F$21-(D6783))","v":" "},{"$f":"IF(D6783=\"\",\" \",VLOOKUP(R6783,'Main page'!$E$29:'Main page'!$G$41,3,TRUE))","v":" "}]
[null,null,null,null,null,null,null,null,null,null,null,null," "," "," "," ",{"$f":"IF(I6795=\"\",\"\",IF(I6795<='Main page'!$F$49,\"Core staff\",\"Senior staff\"))","v":""},{"$f":"IF(D6795=\"\",\" \",'Main page'!$F$21-(D6795))","v":" "},{"$f":"IF(D6795=\"\",\" \",VLOOKUP(R6795,'Main page'!$E$29:'Main page'!$G$41,3,TRUE))","v":" "}]
[null,null,null,null,null,null,null,null,null,null,null,null," "," "," "," ",{"$f":"IF(I6802=\"\",\"\",IF(I6802<='Main page'!$F$49,\"Core staff\",\"Senior staff\"))","v":""},{"$f":"IF(D6802=\"\",\" \",'Main page'!$F$21-(D6802))","v":" "},{"$f":"IF(D6802=\"\",\" \",VLOOKUP(R6802,'Main page'!$E$29:'Main page'!$G$41,3,TRUE))","v":" "}]
[null,null,null,null,null,null,null,null,null,null,null,null," "," "," "," ",{"$f":"IF(I6811=\"\",\"\",IF(I6811<='Main page'!$F$49,\"Core staff\",\"Senior staff\"))","v":""},{"$f":"IF(D6811=\"\",\" \",'Main page'!$F$21-(D6811))","v":" "},{"$f":"IF(D6811=\"\",\" \",VLOOKUP(R6811,'Main page'!$E$29:'Main page'!$G$41,3,TRUE))","v":" "}]
[null,null,null,null,null,null,null,null,null,null,null,null," "," "," "," ",{"$f":"IF(I6820=\"\",\"\",IF(I6820<='Main page'!$F$49,\"Core staff\",\"Senior staff\"))","v":""},{"$f":"IF(D6820=\"\",\" \",'Main page'!$F$21-(D6820))","v":" "},{"$f":"IF(D6820=\"\",\" \",VLOOKUP(R6820,'Main page'!$E$29:'Main page'!$G$41,3,TRUE))","v":" "}]
[null,null,null,null,null,null,null,null,null,null,null,null," "," "," "," ",{"$f":"IF(I6823=\"\",\"\",IF(I6823<='Main page'!$F$49,\"Core staff\",\"Senior staff\"))","v":""},{"$f":"IF(D6823=\"\",\" \",'Main page'!$F$21-(D6823))","v":" "},{"$f":"IF(D6823=\"\",\" \",VLOOKUP(R6823,'Main page'!$E$29:'Main page'!$G$41,3,TRUE))","v":" "}]
[null,null,null,null,null,null,null,null,null,null,null,null," "," "," "," ",{"$f":"IF(I6835=\"\",\"\",IF(I6835<='Main page'!$F$49,\"Core staff\",\"Senior staff\"))","v":""},{"$f":"IF(D6835=\"\",\" \",'Main page'!$F$21-(D6835))","v":" "},{"$f":"IF(D6835=\"\",\" \",VLOOKUP(R6835,'Main page'!$E$29:'Main page'!$G$41,3,TRUE))","v":" "}]
[null,null,null,null,null,null,null,null,null,null,null,null," "," "," "," ",{"$f":"IF(I6842=\"\",\"\",IF(I6842<='Main page'!$F$49,\"Core staff\",\"Senior staff\"))","v":""},{"$f":"IF(D6842=\"\",\" \",'Main page'!$F$21-(D6842))","v":" "},{"$f":"IF(D6842=\"\",\" \",VLOOKUP(R6842,'Main page'!$E$29:'Main page'!$G$41,3,TRUE))","v":" "}]
[null,null,null,null,null,null,null,null,null,null,null,null," "," "," "," ",{"$f":"IF(I6853=\"\",\"\",IF(I6853<='Main page'!$F$49,\"Core staff\",\"Senior staff\"))","v":""},{"$f":"IF(D6853=\"\",\" \",'Main page'!$F$21-(D6853))","v":" "},{"$f":"IF(D6853=\"\",\" \",VLOOKUP(R6853,'Main page'!$E$29:'Main page'!$G$41,3,TRUE))","v":" "}]
[null,null,null,null,null,null,null,null,null,null,null,null," "," "," "," ",{"$f":"IF(I6865=\"\",\"\",IF(I6865<='Main page'!$F$49,\"Core staff\",\"Senior staff\"))","v":""},{"$f":"IF(D6865=\"\",\" \",'Main page'!$F$21-(D6865))","v":" "},{"$f":"IF(D6865=\"\",\" \",VLOOKUP(R6865,'Main page'!$E$29:'Main page'!$G$41,3,TRUE))","v":" "}]
[null,null,null,null,null,null,null,null,null,null,null,null," "," "," "," ",{"$f":"IF(I6872=\"\",\"\",IF(I6872<='Main page'!$F$49,\"Core staff\",\"Senior staff\"))","v":""},{"$f":"IF(D6872=\"\",\" \",'Main page'!$F$21-(D6872))","v":" "},{"$f":"IF(D6872=\"\",\" \",VLOOKUP(R6872,'Main page'!$E$29:'Main page'!$G$41,3,TRUE))","v":" "}]
[null,null,null,null,null,null,null,null,null,null,null,null," "," "," "," ",{"$f":"IF(I6881=\"\",\"\",IF(I6881<='Main page'!$F$49,\"Core staff\",\"Senior staff\"))","v":""},{"$f":"IF(D6881=\"\",\" \",'Main page'!$F$21-(D6881))","v":" "},{"$f":"IF(D6881=\"\",\" \",VLOOKUP(R6881,'Main page'!$E$29:'Main page'!$G$41,3,TRUE))","v":" "}]
[null,null,null,null,null,null,null,null,null,null,null,null," "," "," "," ",{"$f":"IF(I6890=\"\",\"\",IF(I6890<='Main page'!$F$49,\"Core staff\",\"Senior staff\"))","v":""},{"$f":"IF(D6890=\"\",\" \",'Main page'!$F$21-(D6890))","v":" "},{"$f":"IF(D6890=\"\",\" \",VLOOKUP(R6890,'Main page'!$E$29:'Main page'!$G$41,3,TRUE))","v":" "}]
[null,null,null,null,null,null,null,null,null,null,null,null," "," "," "," ",{"$f":"IF(I6893=\"\",\"\",IF(I6893<='Main page'!$F$49,\"Core staff\",\"Senior staff\"))","v":""},{"$f":"IF(D6893=\"\",\" \",'Main page'!$F$21-(D6893))","v":" "},{"$f":"IF(D6893=\"\",\" \",VLOOKUP(R6893,'Main page'!$E$29:'Main page'!$G$41,3,TRUE))","v":" "}]
[null,null,null,null,null,null,null,null,null,null,null,null," "," "," "," ",{"$f":"IF(I6905=\"\",\"\",IF(I6905<='Main page'!$F$49,\"Core staff\",\"Senior staff\"))","v":""},{"$f":"IF(D6905=\"\",\" \",'Main page'!$F$21-(D6905))","v":" "},{"$f":"IF(D6905=\"\",\" \",VLOOKUP(R6905,'Main page'!$E$29:'Main page'!$G$41,3,TRUE))","v":" "}]
[null,null,null,null,null,null,null,null,null,null,null,null," "," "," "," ",{"$f":"IF(I6912=\"\",\"\",IF(I6912<='Main page'!$F$49,\"Core staff\",\"Senior staff\"))","v":""},{"$f":"IF(D6912=\"\",\" \",'Main page'!$F$21-(D6912))","v":" "},{"$f":"IF(D6912=\"\",\" \",VLOOKUP(R6912,'Main page'!$E$29:'Main page'!$G$41,3,TRUE))","v":" "}]
[null,null,null,null,null,null,null,null,null,null,null,null," "," "," "," ",{"$f":"IF(I6923=\"\",\"\",IF(I6923<='Main page'!$F$49,\"Core staff\",\"Senior staff\"))","v":""},{"$f":"IF(D6923=\"\",\" \",'Main page'!$F$21-(D6923))","v":" "},{"$f":"IF(D6923=\"\",\" \",VLOOKUP(R6923,'Main page'!$E$29:'Main page'!$G$41,3,TRUE))","v":" "}]
[null,null,null,null,null,null,null,null,null,null,null,null," "," "," "," ",{"$f":"IF(I6930=\"\",\"\",IF(I6930<='Main page'!$F$49,\"Core staff\",\"Senior staff\"))","v":""},{"$f":"IF(D6930=\"\",\" \",'Main page'!$F$21-(D6930))","v":" "},{"$f":"IF(D6930=\"\",\" \",VLOOKUP(R6930,'Main page'!$E$29:'Main page'!$G$41,3,TRUE))","v":" "}]
[null,null,null,null,null,null,null,null,null,null,null,null," "," "," "," ",{"$f":"IF(I6942=\"\",\"\",IF(I6942<='Main page'!$F$49,\"Core staff\",\"Senior staff\"))","v":""},{"$f":"IF(D6942=\"\",\" \",'Main page'!$F$21-(D6942))","v":" "},{"$f":"IF(D6942=\"\",\" \",VLOOKUP(R6942,'Main page'!$E$29:'Main page'!$G$41,3,TRUE))","v":" "}]
[null,null,null,null,null,null,null,null,null,null,null,null," "," "," "," ",{"$f":"IF(I6951=\"\",\"\",IF(I6951<='Main page'!$F$49,\"Core staff\",\"Senior staff\"))","v":""},{"$f":"IF(D6951=\"\",\" \",'Main page'!$F$21-(D6951))","v":" "},{"$f":"IF(D6951=\"\",\" \",VLOOKUP(R6951,'Main page'!$E$29:'Main page'!$G$41,3,TRUE))","v":" "}]
[null,null,null,null,null,null,null,null,null,null,null,null," "," "," "," ",{"$f":"IF(I6960=\"\",\"\",IF(I6960<='Main page'!$F$49,\"Core staff\",\"Senior staff\"))","v":""},{"$f":"IF(D6960=\"\",\" \",'Main page'!$F$21-(D6960))","v":" "},{"$f":"IF(D6960=\"\",\" \",VLOOKUP(R6960,'Main page'!$E$29:'Main page'!$G$41,3,TRUE))","v":" "}]
[null,null,null,null,null,null,null,null,null,null,null,null," "," "," "," ",{"$f":"IF(I6963=\"\",\"\",IF(I6963<='Main page'!$F$49,\"Core staff\",\"Senior staff\"))","v":""},{"$f":"IF(D6963=\"\",\" \",'Main page'!$F$21-(D6963))","v":" "},{"$f":"IF(D6963=\"\",\" \",VLOOKUP(R6963,'Main page'!$E$29:'Main page'!$G$41,3,TRUE))","v":" "}]
[null,null,null,null,null,null,null,null,null,null,null,null," "," "," "," ",{"$f":"IF(I6975=\"\",\"\",IF(I6975<='Main page'!$F$49,\"Core staff\",\"Senior staff\"))","v":""},{"$f":"IF(D6975=\"\",\" \",'Main page'!$F$21-(D6975))","v":" "},{"$f":"IF(D6975=\"\",\" \",VLOOKUP(R6975,'Main page'!$E$29:'Main page'!$G$41,3,TRUE))","v":" "}]
[null,null,null,null,null,null,null,null,null,null,null,null," "," "," "," ",{"$f":"IF(I6982=\"\",\"\",IF(I6982<='Main page'!$F$49,\"Core staff\",\"Senior staff\"))","v":""},{"$f":"IF(D6982=\"\",\" \",'Main page'!$F$21-(D6982))","v":" "},{"$f":"IF(D6982=\"\",\" \",VLOOKUP(R6982,'Main page'!$E$29:'Main page'!$G$41,3,TRUE))","v":" "}]
[null,null,null,null,null,null,null,null,null,null,null,null," "," "," "," ",{"$f":"IF(I6993=\"\",\"\",IF(I6993<='Main page'!$F$49,\"Core staff\",\"Senior staff\"))","v":""},{"$f":"IF(D6993=\"\",\" \",'Main page'!$F$21-(D6993))","v":" "},{"$f":"IF(D6993=\"\",\" \",VLOOKUP(R6993,'Main page'!$E$29:'Main page'!$G$41,3,TRUE))","v":" "}]
[null,null,null,null,null,null,null,null,null,null,null,null," "," "," "," ",{"$f":"IF(I7000=\"\",\"\",IF(I7000<='Main page'!$F$49,\"Core staff\",\"Senior staff\"))","v":""},{"$f":"IF(D7000=\"\",\" \",'Main page'!$F$21-(D7000))","v":" "},{"$f":"IF(D7000=\"\",\" \",VLOOKUP(R7000,'Main page'!$E$29:'Main page'!$G$41,3,TRUE))","v":" "}]
[null,null,null,null,null,null,null,null,null,null,null,null," "," "," "," ",{"$f":"IF(I7012=\"\",\"\",IF(I7012<='Main page'!$F$49,\"Core staff\",\"Senior staff\"))","v":""},{"$f":"IF(D7012=\"\",\" \",'Main page'!$F$21-(D7012))","v":" "},{"$f":"IF(D7012=\"\",\" \",VLOOKUP(R7012,'Main page'!$E$29:'Main page'!$G$41,3,TRUE))","v":" "}]
[null,null,null,null,null,null,null,null,null,null,null,null," "," "," "," ",{"$f":"IF(I7021=\"\",\"\",IF(I7021<='Main page'!$F$49,\"Core staff\",\"Senior staff\"))","v":""},{"$f":"IF(D7021=\"\",\" \",'Main page'!$F$21-(D7021))","v":" "},{"$f":"IF(D7021=\"\",\" \",VLOOKUP(R7021,'Main page'!$E$29:'Main page'!$G$41,3,TRUE))","v":" "}]
[null,null,null,null,null,null,null,null,null,null,null,null," "," "," "," ",{"$f":"IF(I7030=\"\",\"\",IF(I7030<='Main page'!$F$49,\"Core staff\",\"Senior staff\"))","v":""},{"$f":"IF(D7030=\"\",\" \",'Main page'!$F$21-(D7030))","v":" "},{"$f":"IF(D7030=\"\",\" \",VLOOKUP(R7030,'Main page'!$E$29:'Main page'!$G$41,3,TRUE))","v":" "}]
[null,null,null,null,null,null,null,null,null,null,null,null," "," "," "," ",{"$f":"IF(I7033=\"\",\"\",IF(I7033<='Main page'!$F$49,\"Core staff\",\"Senior staff\"))","v":""},{"$f":"IF(D7033=\"\",\" \",'Main page'!$F$21-(D7033))","v":" "},{"$f":"IF(D7033=\"\",\" \",VLOOKUP(R7033,'Main page'!$E$29:'Main page'!$G$41,3,TRUE))","v":" "}]
[null,null,null,null,null,null,null,null,null,null,null,null," "," "," "," ",{"$f":"IF(I7049=\"\",\"\",IF(I7049<='Main page'!$F$49,\"Core staff\",\"Senior staff\"))","v":""},{"$f":"IF(D7049=\"\",\" \",'Main page'!$F$21-(D7049))","v":" "},{"$f":"IF(D7049=\"\",\" \",VLOOKUP(R7049,'Main page'!$E$29:'Main page'!$G$41,3,TRUE))","v":" "}]
[null,null,null,null,null,null,null,null,null,null,null,null," "," "," "," ",{"$f":"IF(I7052=\"\",\"\",IF(I7052<='Main page'!$F$49,\"Core staff\",\"Senior staff\"))","v":""},{"$f":"IF(D7052=\"\",\" \",'Main page'!$F$21-(D7052))","v":" "},{"$f":"IF(D7052=\"\",\" \",VLOOKUP(R7052,'Main page'!$E$29:'Main page'!$G$41,3,TRUE))","v":" "}]
[null,null,null,null,null,null,null,null,null,null,null,null," "," "," "," ",{"$f":"IF(I7063=\"\",\"\",IF(I7063<='Main page'!$F$49,\"Core staff\",\"Senior staff\"))","v":""},{"$f":"IF(D7063=\"\",\" \",'Main page'!$F$21-(D7063))","v":" "},{"$f":"IF(D7063=\"\",\" \",VLOOKUP(R7063,'Main page'!$E$29:'Main page'!$G$41,3,TRUE))","v":" "}]
[null,null,null,null,null,null,null,null,null,null,null,null," "," "," "," ",{"$f":"IF(I7070=\"\",\"\",IF(I7070<='Main page'!$F$49,\"Core staff\",\"Senior staff\"))","v":""},{"$f":"IF(D7070=\"\",\" \",'Main page'!$F$21-(D7070))","v":" "},{"$f":"IF(D7070=\"\",\" \",VLOOKUP(R7070,'Main page'!$E$29:'Main page'!$G$41,3,TRUE))","v":" "}]
[null,null,null,null,null,null,null,null,null,null,null,null," "," "," "," ",{"$f":"IF(I7082=\"\",\"\",IF(I7082<='Main page'!$F$49,\"Core staff\",\"Senior staff\"))","v":""},{"$f":"IF(D7082=\"\",\" \",'Main page'!$F$21-(D7082))","v":" "},{"$f":"IF(D7082=\"\",\" \",VLOOKUP(R7082,'Main page'!$E$29:'Main page'!$G$41,3,TRUE))","v":" "}]
[null,null,null,null,null,null,null,null,null,null,null,null," "," "," "," ",{"$f":"IF(I7091=\"\",\"\",IF(I7091<='Main page'!$F$49,\"Core staff\",\"Senior staff\"))","v":""},{"$f":"IF(D7091=\"\",\" \",'Main page'!$F$21-(D7091))","v":" "},{"$f":"IF(D7091=\"\",\" \",VLOOKUP(R7091,'Main page'!$E$29:'Main page'!$G$41,3,TRUE))","v":" "}]
[null,null,null,null,null,null,null,null,null,null,null,null," "," "," "," ",{"$f":"IF(I7100=\"\",\"\",IF(I7100<='Main page'!$F$49,\"Core staff\",\"Senior staff\"))","v":""},{"$f":"IF(D7100=\"\",\" \",'Main page'!$F$21-(D7100))","v":" "},{"$f":"IF(D7100=\"\",\" \",VLOOKUP(R7100,'Main page'!$E$29:'Main page'!$G$41,3,TRUE))","v":" "}]
[null,null,null,null,null,null,null,null,null,null,null,null," "," "," "," ",{"$f":"IF(I7103=\"\",\"\",IF(I7103<='Main page'!$F$49,\"Core staff\",\"Senior staff\"))","v":""},{"$f":"IF(D7103=\"\",\" \",'Main page'!$F$21-(D7103))","v":" "},{"$f":"IF(D7103=\"\",\" \",VLOOKUP(R7103,'Main page'!$E$29:'Main page'!$G$41,3,TRUE))","v":" "}]
[null,null,null,null,null,null,null,null,null,null,null,null," "," "," "," ",{"$f":"IF(I7119=\"\",\"\",IF(I7119<='Main page'!$F$49,\"Core staff\",\"Senior staff\"))","v":""},{"$f":"IF(D7119=\"\",\" \",'Main page'!$F$21-(D7119))","v":" "},{"$f":"IF(D7119=\"\",\" \",VLOOKUP(R7119,'Main page'!$E$29:'Main page'!$G$41,3,TRUE))","v":" "}]
[null,null,null,null,null,null,null,null,null,null,null,null," "," "," "," ",{"$f":"IF(I7122=\"\",\"\",IF(I7122<='Main page'!$F$49,\"Core staff\",\"Senior staff\"))","v":""},{"$f":"IF(D7122=\"\",\" \",'Main page'!$F$21-(D7122))","v":" "},{"$f":"IF(D7122=\"\",\" \",VLOOKUP(R7122,'Main page'!$E$29:'Main page'!$G$41,3,TRUE))","v":" "}]
[null,null,null,null,null,null,null,null,null,null,null,null," "," "," "," ",{"$f":"IF(I7133=\"\",\"\",IF(I7133<='Main page'!$F$49,\"Core staff\",\"Senior staff\"))","v":""},{"$f":"IF(D7133=\"\",\" \",'Main page'!$F$21-(D7133))","v":" "},{"$f":"IF(D7133=\"\",\" \",VLOOKUP(R7133,'Main page'!$E$29:'Main page'!$G$41,3,TRUE))","v":" "}]
[null,null,null,null,null,null,null,null,null,null,null,null," "," "," "," ",{"$f":"IF(I7140=\"\",\"\",IF(I7140<='Main page'!$F$49,\"Core staff\",\"Senior staff\"))","v":""},{"$f":"IF(D7140=\"\",\" \",'Main page'!$F$21-(D7140))","v":" "},{"$f":"IF(D7140=\"\",\" \",VLOOKUP(R7140,'Main page'!$E$29:'Main page'!$G$41,3,TRUE))","v":" "}]
[null,null,null,null,null,null,null,null,null,null,null,null," "," "," "," ",{"$f":"IF(I7152=\"\",\"\",IF(I7152<='Main page'!$F$49,\"Core staff\",\"Senior staff\"))","v":""},{"$f":"IF(D7152=\"\",\" \",'Main page'!$F$21-(D7152))","v":" "},{"$f":"IF(D7152=\"\",\" \",VLOOKUP(R7152,'Main page'!$E$29:'Main page'!$G$41,3,TRUE))","v":" "}]
[null,null,null,null,null,null,null,null,null,null,null,null," "," "," "," ",{"$f":"IF(I7161=\"\",\"\",IF(I7161<='Main page'!$F$49,\"Core staff\",\"Senior staff\"))","v":""},{"$f":"IF(D7161=\"\",\" \",'Main page'!$F$21-(D7161))","v":" "},{"$f":"IF(D7161=\"\",\" \",VLOOKUP(R7161,'Main page'!$E$29:'Main page'!$G$41,3,TRUE))","v":" "}]
[null,null,null,null,null,null,null,null,null,null,null,null," "," "," "," ",{"$f":"IF(I7170=\"\",\"\",IF(I7170<='Main page'!$F$49,\"Core staff\",\"Senior staff\"))","v":""},{"$f":"IF(D7170=\"\",\" \",'Main page'!$F$21-(D7170))","v":" "},{"$f":"IF(D7170=\"\",\" \",VLOOKUP(R7170,'Main page'!$E$29:'Main page'!$G$41,3,TRUE))","v":" "}]
[null,null,null,null,null,null,null,null,null,null,null,null," "," "," "," ",{"$f":"IF(I7173=\"\",\"\",IF(I7173<='Main page'!$F$49,\"Core staff\",\"Senior staff\"))","v":""},{"$f":"IF(D7173=\"\",\" \",'Main page'!$F$21-(D7173))","v":" "},{"$f":"IF(D7173=\"\",\" \",VLOOKUP(R7173,'Main page'!$E$29:'Main page'!$G$41,3,TRUE))","v":" "}]
[null,null,null,null,null,null,null,null,null,null,null,null," "," "," "," ",{"$f":"IF(I7189=\"\",\"\",IF(I7189<='Main page'!$F$49,\"Core staff\",\"Senior staff\"))","v":""},{"$f":"IF(D7189=\"\",\" \",'Main page'!$F$21-(D7189))","v":" "},{"$f":"IF(D7189=\"\",\" \",VLOOKUP(R7189,'Main page'!$E$29:'Main page'!$G$41,3,TRUE))","v":" "}]
[null,null,null,null,null,null,null,null,null,null,null,null," "," "," "," ",{"$f":"IF(I7192=\"\",\"\",IF(I7192<='Main page'!$F$49,\"Core staff\",\"Senior staff\"))","v":""},{"$f":"IF(D7192=\"\",\" \",'Main page'!$F$21-(D7192))","v":" "},{"$f":"IF(D7192=\"\",\" \",VLOOKUP(R7192,'Main page'!$E$29:'Main page'!$G$41,3,TRUE))","v":" "}]
[null,null,null,null,null,null,null,null,null,null,null,null," "," "," "," ",{"$f":"IF(I7203=\"\",\"\",IF(I7203<='Main page'!$F$49,\"Core staff\",\"Senior staff\"))","v":""},{"$f":"IF(D7203=\"\",\" \",'Main page'!$F$21-(D7203))","v":" "},{"$f":"IF(D7203=\"\",\" \",VLOOKUP(R7203,'Main page'!$E$29:'Main page'!$G$41,3,TRUE))","v":" "}]
[null,null,null,null,null,null,null,null,null,null,null,null," "," "," "," ",{"$f":"IF(I7210=\"\",\"\",IF(I7210<='Main page'!$F$49,\"Core staff\",\"Senior staff\"))","v":""},{"$f":"IF(D7210=\"\",\" \",'Main page'!$F$21-(D7210))","v":" "},{"$f":"IF(D7210=\"\",\" \",VLOOKUP(R7210,'Main page'!$E$29:'Main page'!$G$41,3,TRUE))","v":" "}]
[null,null,null,null,null,null,null,null,null,null,null,null," "," "," "," ",{"$f":"IF(I7222=\"\",\"\",IF(I7222<='Main page'!$F$49,\"Core staff\",\"Senior staff\"))","v":""},{"$f":"IF(D7222=\"\",\" \",'Main page'!$F$21-(D7222))","v":" "},{"$f":"IF(D7222=\"\",\" \",VLOOKUP(R7222,'Main page'!$E$29:'Main page'!$G$41,3,TRUE))","v":" "}]
[null,null,null,null,null,null,null,null,null,null,null,null," "," "," "," ",{"$f":"IF(I7231=\"\",\"\",IF(I7231<='Main page'!$F$49,\"Core staff\",\"Senior staff\"))","v":""},{"$f":"IF(D7231=\"\",\" \",'Main page'!$F$21-(D7231))","v":" "},{"$f":"IF(D7231=\"\",\" \",VLOOKUP(R7231,'Main page'!$E$29:'Main page'!$G$41,3,TRUE))","v":" "}]
[null,null,null,null,null,null,null,null,null,null,null,null," "," "," "," ",{"$f":"IF(I7240=\"\",\"\",IF(I7240<='Main page'!$F$49,\"Core staff\",\"Senior staff\"))","v":""},{"$f":"IF(D7240=\"\",\" \",'Main page'!$F$21-(D7240))","v":" "},{"$f":"IF(D7240=\"\",\" \",VLOOKUP(R7240,'Main page'!$E$29:'Main page'!$G$41,3,TRUE))","v":" "}]
[null,null,null,null,null,null,null,null,null,null,null,null," "," "," "," ",{"$f":"IF(I7243=\"\",\"\",IF(I7243<='Main page'!$F$49,\"Core staff\",\"Senior staff\"))","v":""},{"$f":"IF(D7243=\"\",\" \",'Main page'!$F$21-(D7243))","v":" "},{"$f":"IF(D7243=\"\",\" \",VLOOKUP(R7243,'Main page'!$E$29:'Main page'!$G$41,3,TRUE))","v":" "}]
[null,null,null,null,null,null,null,null,null,null,null,null," "," "," "," ",{"$f":"IF(I7259=\"\",\"\",IF(I7259<='Main page'!$F$49,\"Core staff\",\"Senior staff\"))","v":""},{"$f":"IF(D7259=\"\",\" \",'Main page'!$F$21-(D7259))","v":" "},{"$f":"IF(D7259=\"\",\" \",VLOOKUP(R7259,'Main page'!$E$29:'Main page'!$G$41,3,TRUE))","v":" "}]
[null,null,null,null,null,null,null,null,null,null,null,null," "," "," "," ",{"$f":"IF(I7262=\"\",\"\",IF(I7262<='Main page'!$F$49,\"Core staff\",\"Senior staff\"))","v":""},{"$f":"IF(D7262=\"\",\" \",'Main page'!$F$21-(D7262))","v":" "},{"$f":"IF(D7262=\"\",\" \",VLOOKUP(R7262,'Main page'!$E$29:'Main page'!$G$41,3,TRUE))","v":" "}]
[null,null,null,null,null,null,null,null,null,null,null,null," "," "," "," ",{"$f":"IF(I7273=\"\",\"\",IF(I7273<='Main page'!$F$49,\"Core staff\",\"Senior staff\"))","v":""},{"$f":"IF(D7273=\"\",\" \",'Main page'!$F$21-(D7273))","v":" "},{"$f":"IF(D7273=\"\",\" \",VLOOKUP(R7273,'Main page'!$E$29:'Main page'!$G$41,3,TRUE))","v":" "}]
[null,null,null,null,null,null,null,null,null,null,null,null," "," "," "," ",{"$f":"IF(I7280=\"\",\"\",IF(I7280<='Main page'!$F$49,\"Core staff\",\"Senior staff\"))","v":""},{"$f":"IF(D7280=\"\",\" \",'Main page'!$F$21-(D7280))","v":" "},{"$f":"IF(D7280=\"\",\" \",VLOOKUP(R7280,'Main page'!$E$29:'Main page'!$G$41,3,TRUE))","v":" "}]
[null,null,null,null,null,null,null,null,null,null,null,null," "," "," "," ",{"$f":"IF(I7292=\"\",\"\",IF(I7292<='Main page'!$F$49,\"Core staff\",\"Senior staff\"))","v":""},{"$f":"IF(D7292=\"\",\" \",'Main page'!$F$21-(D7292))","v":" "},{"$f":"IF(D7292=\"\",\" \",VLOOKUP(R7292,'Main page'!$E$29:'Main page'!$G$41,3,TRUE))","v":" "}]
[null,null,null,null,null,null,null,null,null,null,null,null," "," "," "," ",{"$f":"IF(I7301=\"\",\"\",IF(I7301<='Main page'!$F$49,\"Core staff\",\"Senior staff\"))","v":""},{"$f":"IF(D7301=\"\",\" \",'Main page'!$F$21-(D7301))","v":" "},{"$f":"IF(D7301=\"\",\" \",VLOOKUP(R7301,'Main page'!$E$29:'Main page'!$G$41,3,TRUE))","v":" "}]
[null,null,null,null,null,null,null,null,null,null,null,null,{"$f":"IFERROR(J7310/G7310,\" \")","v":" "},{"$f":"IFERROR((M7310/$U$4)/H7310,\" \")","v":" "},{"$f":"IFERROR((N7310*75)*26.083,\" \")","v":" "},{"$f":"IF(G7310=0,\" \",IF(G7310=1,\"Full time\",\"Part time\"))","v":" "},{"$f":"IF(I7310=\"\",\"\",IF(I7310<='Main page'!$F$49,\"Core staff\",\"Senior staff\"))","v":""},{"$f":"IF(D7310=\"\",\" \",'Main page'!$F$21-(D7310))","v":" "},{"$f":"IF(D7310=\"\",\" \",VLOOKUP(R7310,'Main page'!$E$29:'Main page'!$G$41,3,TRUE))","v":" "}]
[null,null,null,null,null,null,null,null,null,null,null,null," "," "," "," ",{"$f":"IF(I7313=\"\",\"\",IF(I7313<='Main page'!$F$49,\"Core staff\",\"Senior staff\"))","v":""},{"$f":"IF(D7313=\"\",\" \",'Main page'!$F$21-(D7313))","v":" "},{"$f":"IF(D7313=\"\",\" \",VLOOKUP(R7313,'Main page'!$E$29:'Main page'!$G$41,3,TRUE))","v":" "}]
[null,null,null,null,null,null,null,null,null,null,null,null," "," "," "," ",{"$f":"IF(I7329=\"\",\"\",IF(I7329<='Main page'!$F$49,\"Core staff\",\"Senior staff\"))","v":""},{"$f":"IF(D7329=\"\",\" \",'Main page'!$F$21-(D7329))","v":" "},{"$f":"IF(D7329=\"\",\" \",VLOOKUP(R7329,'Main page'!$E$29:'Main page'!$G$41,3,TRUE))","v":" "}]
[null,null,null,null,null,null,null,null,null,null,null,null," "," "," "," ",{"$f":"IF(I7332=\"\",\"\",IF(I7332<='Main page'!$F$49,\"Core staff\",\"Senior staff\"))","v":""},{"$f":"IF(D7332=\"\",\" \",'Main page'!$F$21-(D7332))","v":" "},{"$f":"IF(D7332=\"\",\" \",VLOOKUP(R7332,'Main page'!$E$29:'Main page'!$G$41,3,TRUE))","v":" "}]
[null,null,null,null,null,null,null,null,null,null,null,null," "," "," "," ",{"$f":"IF(I7343=\"\",\"\",IF(I7343<='Main page'!$F$49,\"Core staff\",\"Senior staff\"))","v":""},{"$f":"IF(D7343=\"\",\" \",'Main page'!$F$21-(D7343))","v":" "},{"$f":"IF(D7343=\"\",\" \",VLOOKUP(R7343,'Main page'!$E$29:'Main page'!$G$41,3,TRUE))","v":" "}]
[null,null,null,null,null,null,null,null,null,null,null,null," "," "," "," ",{"$f":"IF(I7350=\"\",\"\",IF(I7350<='Main page'!$F$49,\"Core staff\",\"Senior staff\"))","v":""},{"$f":"IF(D7350=\"\",\" \",'Main page'!$F$21-(D7350))","v":" "},{"$f":"IF(D7350=\"\",\" \",VLOOKUP(R7350,'Main page'!$E$29:'Main page'!$G$41,3,TRUE))","v":" "}]
[null,null,null,null,null,null,null,null,null,null,null,null," "," "," "," ",{"$f":"IF(I7362=\"\",\"\",IF(I7362<='Main page'!$F$49,\"Core staff\",\"Senior staff\"))","v":""},{"$f":"IF(D7362=\"\",\" \",'Main page'!$F$21-(D7362))","v":" "},{"$f":"IF(D7362=\"\",\" \",VLOOKUP(R7362,'Main page'!$E$29:'Main page'!$G$41,3,TRUE))","v":" "}]
[null,null,null,null,null,null,null,null,null,null,null,null," "," "," "," ",{"$f":"IF(I7371=\"\",\"\",IF(I7371<='Main page'!$F$49,\"Core staff\",\"Senior staff\"))","v":""},{"$f":"IF(D7371=\"\",\" \",'Main page'!$F$21-(D7371))","v":" "},{"$f":"IF(D7371=\"\",\" \",VLOOKUP(R7371,'Main page'!$E$29:'Main page'!$G$41,3,TRUE))","v":" "}]
[null,null,null,null,null,null,null,null,null,null,null,null," "," "," "," ",{"$f":"IF(I7380=\"\",\"\",IF(I7380<='Main page'!$F$49,\"Core staff\",\"Senior staff\"))","v":""},{"$f":"IF(D7380=\"\",\" \",'Main page'!$F$21-(D7380))","v":" "},{"$f":"IF(D7380=\"\",\" \",VLOOKUP(R7380,'Main page'!$E$29:'Main page'!$G$41,3,TRUE))","v":" "}]
[null,null,null,null,null,null,null,null,null,null,null,null," "," "," "," ",{"$f":"IF(I7383=\"\",\"\",IF(I7383<='Main page'!$F$49,\"Core staff\",\"Senior staff\"))","v":""},{"$f":"IF(D7383=\"\",\" \",'Main page'!$F$21-(D7383))","v":" "},{"$f":"IF(D7383=\"\",\" \",VLOOKUP(R7383,'Main page'!$E$29:'Main page'!$G$41,3,TRUE))","v":" "}]
[null,null,null,null,null,null,null,null,null,null,null,null," "," "," "," ",{"$f":"IF(I7399=\"\",\"\",IF(I7399<='Main page'!$F$49,\"Core staff\",\"Senior staff\"))","v":""},{"$f":"IF(D7399=\"\",\" \",'Main page'!$F$21-(D7399))","v":" "},{"$f":"IF(D7399=\"\",\" \",VLOOKUP(R7399,'Main page'!$E$29:'Main page'!$G$41,3,TRUE))","v":" "}]
[null,null,null,null,null,null,null,null,null,null,null,null," "," "," "," ",{"$f":"IF(I7402=\"\",\"\",IF(I7402<='Main page'!$F$49,\"Core staff\",\"Senior staff\"))","v":""},{"$f":"IF(D7402=\"\",\" \",'Main page'!$F$21-(D7402))","v":" "},{"$f":"IF(D7402=\"\",\" \",VLOOKUP(R7402,'Main page'!$E$29:'Main page'!$G$41,3,TRUE))","v":" "}]
[null,null,null,null,null,null,null,null,null,null,null,null," "," "," "," ",{"$f":"IF(I7408=\"\",\"\",IF(I7408<='Main page'!$F$49,\"Core staff\",\"Senior staff\"))","v":""},{"$f":"IF(D7408=\"\",\" \",'Main page'!$F$21-(D7408))","v":" "},{"$f":"IF(D7408=\"\",\" \",VLOOKUP(R7408,'Main page'!$E$29:'Main page'!$G$41,3,TRUE))","v":" "}]
[null,null,null,null,null,null,null,null,null,null,null,null," "," "," "," ",{"$f":"IF(I7420=\"\",\"\",IF(I7420<='Main page'!$F$49,\"Core staff\",\"Senior staff\"))","v":""},{"$f":"IF(D7420=\"\",\" \",'Main page'!$F$21-(D7420))","v":" "},{"$f":"IF(D7420=\"\",\" \",VLOOKUP(R7420,'Main page'!$E$29:'Main page'!$G$41,3,TRUE))","v":" "}]
[null,null,null,null,null,null,null,null,null,null,null,null," "," "," "," ",{"$f":"IF(I7432=\"\",\"\",IF(I7432<='Main page'!$F$49,\"Core staff\",\"Senior staff\"))","v":""},{"$f":"IF(D7432=\"\",\" \",'Main page'!$F$21-(D7432))","v":" "},{"$f":"IF(D7432=\"\",\" \",VLOOKUP(R7432,'Main page'!$E$29:'Main page'!$G$41,3,TRUE))","v":" "}]
[null,null,null,null,null,null,null,null,null,null,null,null," "," "," "," ",{"$f":"IF(I7441=\"\",\"\",IF(I7441<='Main page'!$F$49,\"Core staff\",\"Senior staff\"))","v":""},{"$f":"IF(D7441=\"\",\" \",'Main page'!$F$21-(D7441))","v":" "},{"$f":"IF(D7441=\"\",\" \",VLOOKUP(R7441,'Main page'!$E$29:'Main page'!$G$41,3,TRUE))","v":" "}]
[null,null,null,null,null,null,null,null,null,null,null,null," "," "," "," ",{"$f":"IF(I7450=\"\",\"\",IF(I7450<='Main page'!$F$49,\"Core staff\",\"Senior staff\"))","v":""},{"$f":"IF(D7450=\"\",\" \",'Main page'!$F$21-(D7450))","v":" "},{"$f":"IF(D7450=\"\",\" \",VLOOKUP(R7450,'Main page'!$E$29:'Main page'!$G$41,3,TRUE))","v":" "}]
[null,null,null,null,null,null,null,null,null,null,null,null," "," "," "," ",{"$f":"IF(I7453=\"\",\"\",IF(I7453<='Main page'!$F$49,\"Core staff\",\"Senior staff\"))","v":""},{"$f":"IF(D7453=\"\",\" \",'Main page'!$F$21-(D7453))","v":" "},{"$f":"IF(D7453=\"\",\" \",VLOOKUP(R7453,'Main page'!$E$29:'Main page'!$G$41,3,TRUE))","v":" "}]
[null,null,null,null,null,null,null,null,null,null,null,null," "," "," "," ",{"$f":"IF(I7469=\"\",\"\",IF(I7469<='Main page'!$F$49,\"Core staff\",\"Senior staff\"))","v":""},{"$f":"IF(D7469=\"\",\" \",'Main page'!$F$21-(D7469))","v":" "},{"$f":"IF(D7469=\"\",\" \",VLOOKUP(R7469,'Main page'!$E$29:'Main page'!$G$41,3,TRUE))","v":" "}]
[null,null,null,null,null,null,null,null,null,null,null,null," "," "," "," ",{"$f":"IF(I7472=\"\",\"\",IF(I7472<='Main page'!$F$49,\"Core staff\",\"Senior staff\"))","v":""},{"$f":"IF(D7472=\"\",\" \",'Main page'!$F$21-(D7472))","v":" "},{"$f":"IF(D7472=\"\",\" \",VLOOKUP(R7472,'Main page'!$E$29:'Main page'!$G$41,3,TRUE))","v":" "}]
[null,null,null,null,null,null,null,null,null,null,null,null," "," "," "," ",{"$f":"IF(I7478=\"\",\"\",IF(I7478<='Main page'!$F$49,\"Core staff\",\"Senior staff\"))","v":""},{"$f":"IF(D7478=\"\",\" \",'Main page'!$F$21-(D7478))","v":" "},{"$f":"IF(D7478=\"\",\" \",VLOOKUP(R7478,'Main page'!$E$29:'Main page'!$G$41,3,TRUE))","v":" "}]
[null,null,null,null,null,null,null,null,null,null,null,null," "," "," "," ",{"$f":"IF(I7490=\"\",\"\",IF(I7490<='Main page'!$F$49,\"Core staff\",\"Senior staff\"))","v":""},{"$f":"IF(D7490=\"\",\" \",'Main page'!$F$21-(D7490))","v":" "},{"$f":"IF(D7490=\"\",\" \",VLOOKUP(R7490,'Main page'!$E$29:'Main page'!$G$41,3,TRUE))","v":" "}]
[null,null,null,null,null,null,null,null,null,null,null,null,{"$f":"IFERROR(J7502/G7502,\" \")","v":" "},{"$f":"IFERROR((M7502/$U$4)/H7502,\" \")","v":" "},{"$f":"IFERROR((N7502*75)*26.083,\" \")","v":" "},{"$f":"IF(G7502=0,\" \",IF(G7502=1,\"Full time\",\"Part time\"))","v":" "},{"$f":"IF(I7502=\"\",\"\",IF(I7502<='Main page'!$F$49,\"Core staff\",\"Senior staff\"))","v":""},{"$f":"IF(D7502=\"\",\" \",'Main page'!$F$21-(D7502))","v":" "},{"$f":"IF(D7502=\"\",\" \",VLOOKUP(R7502,'Main page'!$E$29:'Main page'!$G$41,3,TRUE))","v":" "}]
[null,null,null,null,null,null,null,null,null,null,null,null," "," "," "," ",{"$f":"IF(I7511=\"\",\"\",IF(I7511<='Main page'!$F$49,\"Core staff\",\"Senior staff\"))","v":""},{"$f":"IF(D7511=\"\",\" \",'Main page'!$F$21-(D7511))","v":" "},{"$f":"IF(D7511=\"\",\" \",VLOOKUP(R7511,'Main page'!$E$29:'Main page'!$G$41,3,TRUE))","v":" "}]
[null,null,null,null,null,null,null,null,null,null,null,null," "," "," "," ",{"$f":"IF(I7520=\"\",\"\",IF(I7520<='Main page'!$F$49,\"Core staff\",\"Senior staff\"))","v":""},{"$f":"IF(D7520=\"\",\" \",'Main page'!$F$21-(D7520))","v":" "},{"$f":"IF(D7520=\"\",\" \",VLOOKUP(R7520,'Main page'!$E$29:'Main page'!$G$41,3,TRUE))","v":" "}]
[null,null,null,null,null,null,null,null,null,null,null,null," "," "," "," ",{"$f":"IF(I7527=\"\",\"\",IF(I7527<='Main page'!$F$49,\"Core staff\",\"Senior staff\"))","v":""},{"$f":"IF(D7527=\"\",\" \",'Main page'!$F$21-(D7527))","v":" "},{"$f":"IF(D7527=\"\",\" \",VLOOKUP(R7527,'Main page'!$E$29:'Main page'!$G$41,3,TRUE))","v":" "}]
[null,null,null,null,null,null,null,null,null,null,null,null," "," "," "," ",{"$f":"IF(I7539=\"\",\"\",IF(I7539<='Main page'!$F$49,\"Core staff\",\"Senior staff\"))","v":""},{"$f":"IF(D7539=\"\",\" \",'Main page'!$F$21-(D7539))","v":" "},{"$f":"IF(D7539=\"\",\" \",VLOOKUP(R7539,'Main page'!$E$29:'Main page'!$G$41,3,TRUE))","v":" "}]
[null,null,null,null,null,null,null,null,null,null,null,null," "," "," "," ",{"$f":"IF(I7542=\"\",\"\",IF(I7542<='Main page'!$F$49,\"Core staff\",\"Senior staff\"))","v":""},{"$f":"IF(D7542=\"\",\" \",'Main page'!$F$21-(D7542))","v":" "},{"$f":"IF(D7542=\"\",\" \",VLOOKUP(R7542,'Main page'!$E$29:'Main page'!$G$41,3,TRUE))","v":" "}]
[null,null,null,null,null,null,null,null,null,null,null,null," "," "," "," ",{"$f":"IF(I7548=\"\",\"\",IF(I7548<='Main page'!$F$49,\"Core staff\",\"Senior staff\"))","v":""},{"$f":"IF(D7548=\"\",\" \",'Main page'!$F$21-(D7548))","v":" "},{"$f":"IF(D7548=\"\",\" \",VLOOKUP(R7548,'Main page'!$E$29:'Main page'!$G$41,3,TRUE))","v":" "}]
[null,null,null,null,null,null,null,null,null,null,null,null," "," "," "," ",{"$f":"IF(I7560=\"\",\"\",IF(I7560<='Main page'!$F$49,\"Core staff\",\"Senior staff\"))","v":""},{"$f":"IF(D7560=\"\",\" \",'Main page'!$F$21-(D7560))","v":" "},{"$f":"IF(D7560=\"\",\" \",VLOOKUP(R7560,'Main page'!$E$29:'Main page'!$G$41,3,TRUE))","v":" "}]
[null,null,null,null,null,null,null,null,null,null,null,null," "," "," "," ",{"$f":"IF(I7572=\"\",\"\",IF(I7572<='Main page'!$F$49,\"Core staff\",\"Senior staff\"))","v":""},{"$f":"IF(D7572=\"\",\" \",'Main page'!$F$21-(D7572))","v":" "},{"$f":"IF(D7572=\"\",\" \",VLOOKUP(R7572,'Main page'!$E$29:'Main page'!$G$41,3,TRUE))","v":" "}]
[null,null,null,null,null,null,null,null,null,null,null,null," "," "," "," ",{"$f":"IF(I7581=\"\",\"\",IF(I7581<='Main page'!$F$49,\"Core staff\",\"Senior staff\"))","v":""},{"$f":"IF(D7581=\"\",\" \",'Main page'!$F$21-(D7581))","v":" "},{"$f":"IF(D7581=\"\",\" \",VLOOKUP(R7581,'Main page'!$E$29:'Main page'!$G$41,3,TRUE))","v":" "}]
[null,null,null,null,null,null,null,null,null,null,null,null," "," "," "," ",{"$f":"IF(I7590=\"\",\"\",IF(I7590<='Main page'!$F$49,\"Core staff\",\"Senior staff\"))","v":""},{"$f":"IF(D7590=\"\",\" \",'Main page'!$F$21-(D7590))","v":" "},{"$f":"IF(D7590=\"\",\" \",VLOOKUP(R7590,'Main page'!$E$29:'Main page'!$G$41,3,TRUE))","v":" "}]
[null,null,null,null,null,null,null,null,null,null,null,null," "," "," "," ",{"$f":"IF(I7597=\"\",\"\",IF(I7597<='Main page'!$F$49,\"Core staff\",\"Senior staff\"))","v":""},{"$f":"IF(D7597=\"\",\" \",'Main page'!$F$21-(D7597))","v":" "},{"$f":"IF(D7597=\"\",\" \",VLOOKUP(R7597,'Main page'!$E$29:'Main page'!$G$41,3,TRUE))","v":" "}]
[null,null,null,null,null,null,null,null,null,null,null,null," "," "," "," ",{"$f":"IF(I7609=\"\",\"\",IF(I7609<='Main page'!$F$49,\"Core staff\",\"Senior staff\"))","v":""},{"$f":"IF(D7609=\"\",\" \",'Main page'!$F$21-(D7609))","v":" "},{"$f":"IF(D7609=\"\",\" \",VLOOKUP(R7609,'Main page'!$E$29:'Main page'!$G$41,3,TRUE))","v":" "}]
[null,null,null,null,null,null,null,null,null,null,null,null," "," "," "," ",{"$f":"IF(I7612=\"\",\"\",IF(I7612<='Main page'!$F$49,\"Core staff\",\"Senior staff\"))","v":""},{"$f":"IF(D7612=\"\",\" \",'Main page'!$F$21-(D7612))","v":" "},{"$f":"IF(D7612=\"\",\" \",VLOOKUP(R7612,'Main page'!$E$29:'Main page'!$G$41,3,TRUE))","v":" "}]
[null,null,null,null,null,null,null,null,null,null,null,null," "," "," "," ",{"$f":"IF(I7618=\"\",\"\",IF(I7618<='Main page'!$F$49,\"Core staff\",\"Senior staff\"))","v":""},{"$f":"IF(D7618=\"\",\" \",'Main page'!$F$21-(D7618))","v":" "},{"$f":"IF(D7618=\"\",\" \",VLOOKUP(R7618,'Main page'!$E$29:'Main page'!$G$41,3,TRUE))","v":" "}]
[null,null,null,null,null,null,null,null,null,null,null,null,{"$f":"IFERROR(J7630/G7630,\" \")","v":" "},{"$f":"IFERROR((M7630/$U$4)/H7630,\" \")","v":" "},{"$f":"IFERROR((N7630*75)*26.083,\" \")","v":" "},{"$f":"IF(G7630=0,\" \",IF(G7630=1,\"Full time\",\"Part time\"))","v":" "},{"$f":"IF(I7630=\"\",\"\",IF(I7630<='Main page'!$F$49,\"Core staff\",\"Senior staff\"))","v":""},{"$f":"IF(D7630=\"\",\" \",'Main page'!$F$21-(D7630))","v":" "},{"$f":"IF(D7630=\"\",\" \",VLOOKUP(R7630,'Main page'!$E$29:'Main page'!$G$41,3,TRUE))","v":" "}]
[null,null,null,null,null,null,null,null,null,null,null,null," "," "," "," ",{"$f":"IF(I7642=\"\",\"\",IF(I7642<='Main page'!$F$49,\"Core staff\",\"Senior staff\"))","v":""},{"$f":"IF(D7642=\"\",\" \",'Main page'!$F$21-(D7642))","v":" "},{"$f":"IF(D7642=\"\",\" \",VLOOKUP(R7642,'Main page'!$E$29:'Main page'!$G$41,3,TRUE))","v":" "}]
[null,null,null,null,null,null,null,null,null,null,null,null," "," "," "," ",{"$f":"IF(I7651=\"\",\"\",IF(I7651<='Main page'!$F$49,\"Core staff\",\"Senior staff\"))","v":""},{"$f":"IF(D7651=\"\",\" \",'Main page'!$F$21-(D7651))","v":" "},{"$f":"IF(D7651=\"\",\" \",VLOOKUP(R7651,'Main page'!$E$29:'Main page'!$G$41,3,TRUE))","v":" "}]
[null,null,null,null,null,null,null,null,null,null,null,null," "," "," "," ",{"$f":"IF(I7660=\"\",\"\",IF(I7660<='Main page'!$F$49,\"Core staff\",\"Senior staff\"))","v":""},{"$f":"IF(D7660=\"\",\" \",'Main page'!$F$21-(D7660))","v":" "},{"$f":"IF(D7660=\"\",\" \",VLOOKUP(R7660,'Main page'!$E$29:'Main page'!$G$41,3,TRUE))","v":" "}]
[null,null,null,null,null,null,null,null,null,null,null,null," "," "," "," ",{"$f":"IF(I7667=\"\",\"\",IF(I7667<='Main page'!$F$49,\"Core staff\",\"Senior staff\"))","v":""},{"$f":"IF(D7667=\"\",\" \",'Main page'!$F$21-(D7667))","v":" "},{"$f":"IF(D7667=\"\",\" \",VLOOKUP(R7667,'Main page'!$E$29:'Main page'!$G$41,3,TRUE))","v":" "}]
[null,null,null,null,null,null,null,null,null,null,null,null," "," "," "," ",{"$f":"IF(I7679=\"\",\"\",IF(I7679<='Main page'!$F$49,\"Core staff\",\"Senior staff\"))","v":""},{"$f":"IF(D7679=\"\",\" \",'Main page'!$F$21-(D7679))","v":" "},{"$f":"IF(D7679=\"\",\" \",VLOOKUP(R7679,'Main page'!$E$29:'Main page'!$G$41,3,TRUE))","v":" "}]
[null,null,null,null,null,null,null,null,null,null,null,null," "," "," "," ",{"$f":"IF(I7682=\"\",\"\",IF(I7682<='Main page'!$F$49,\"Core staff\",\"Senior staff\"))","v":""},{"$f":"IF(D7682=\"\",\" \",'Main page'!$F$21-(D7682))","v":" "},{"$f":"IF(D7682=\"\",\" \",VLOOKUP(R7682,'Main page'!$E$29:'Main page'!$G$41,3,TRUE))","v":" "}]
[null,null,null,null,null,null,null,null,null,null,null,null," "," "," "," ",{"$f":"IF(I7688=\"\",\"\",IF(I7688<='Main page'!$F$49,\"Core staff\",\"Senior staff\"))","v":""},{"$f":"IF(D7688=\"\",\" \",'Main page'!$F$21-(D7688))","v":" "},{"$f":"IF(D7688=\"\",\" \",VLOOKUP(R7688,'Main page'!$E$29:'Main page'!$G$41,3,TRUE))","v":" "}]
[null,null,null,null,null,null,null,null,null,null,null,null," "," "," "," ",{"$f":"IF(I7700=\"\",\"\",IF(I7700<='Main page'!$F$49,\"Core staff\",\"Senior staff\"))","v":""},{"$f":"IF(D7700=\"\",\" \",'Main page'!$F$21-(D7700))","v":" "},{"$f":"IF(D7700=\"\",\" \",VLOOKUP(R7700,'Main page'!$E$29:'Main page'!$G$41,3,TRUE))","v":" "}]
[null,null,null,null,null,null,null,null,null,null,null,null," "," "," "," ",{"$f":"IF(I7707=\"\",\"\",IF(I7707<='Main page'!$F$49,\"Core staff\",\"Senior staff\"))","v":""},{"$f":"IF(D7707=\"\",\" \",'Main page'!$F$21-(D7707))","v":" "},{"$f":"IF(D7707=\"\",\" \",VLOOKUP(R7707,'Main page'!$E$29:'Main page'!$G$41,3,TRUE))","v":" "}]
[null,null,null,null,null,null,null,null,null,null,null,null," "," "," "," ",{"$f":"IF(I7721=\"\",\"\",IF(I7721<='Main page'!$F$49,\"Core staff\",\"Senior staff\"))","v":""},{"$f":"IF(D7721=\"\",\" \",'Main page'!$F$21-(D7721))","v":" "},{"$f":"IF(D7721=\"\",\" \",VLOOKUP(R7721,'Main page'!$E$29:'Main page'!$G$41,3,TRUE))","v":" "}]
[null,null,null,null,null,null,null,null,null,null,null,null," "," "," "," ",{"$f":"IF(I7730=\"\",\"\",IF(I7730<='Main page'!$F$49,\"Core staff\",\"Senior staff\"))","v":""},{"$f":"IF(D7730=\"\",\" \",'Main page'!$F$21-(D7730))","v":" "},{"$f":"IF(D7730=\"\",\" \",VLOOKUP(R7730,'Main page'!$E$29:'Main page'!$G$41,3,TRUE))","v":" "}]
[null,null,null,null,null,null,null,null,null,null,null,null," "," "," "," ",{"$f":"IF(I7737=\"\",\"\",IF(I7737<='Main page'!$F$49,\"Core staff\",\"Senior staff\"))","v":""},{"$f":"IF(D7737=\"\",\" \",'Main page'!$F$21-(D7737))","v":" "},{"$f":"IF(D7737=\"\",\" \",VLOOKUP(R7737,'Main page'!$E$29:'Main page'!$G$41,3,TRUE))","v":" "}]
[null,null,null,null,null,null,null,null,null,null,null,null," "," "," "," ",{"$f":"IF(I7749=\"\",\"\",IF(I7749<='Main page'!$F$49,\"Core staff\",\"Senior staff\"))","v":""},{"$f":"IF(D7749=\"\",\" \",'Main page'!$F$21-(D7749))","v":" "},{"$f":"IF(D7749=\"\",\" \",VLOOKUP(R7749,'Main page'!$E$29:'Main page'!$G$41,3,TRUE))","v":" "}]
[null,null,null,null,null,null,null,null,null,null,null,null," "," "," "," ",{"$f":"IF(I7752=\"\",\"\",IF(I7752<='Main page'!$F$49,\"Core staff\",\"Senior staff\"))","v":""},{"$f":"IF(D7752=\"\",\" \",'Main page'!$F$21-(D7752))","v":" "},{"$f":"IF(D7752=\"\",\" \",VLOOKUP(R7752,'Main page'!$E$29:'Main page'!$G$41,3,TRUE))","v":" "}]
[null,null,null,null,null,null,null,null,null,null,null,null,{"$f":"IFERROR(J7758/G7758,\" \")","v":" "},{"$f":"IFERROR((M7758/$U$4)/H7758,\" \")","v":" "},{"$f":"IFERROR((N7758*75)*26.083,\" \")","v":" "},{"$f":"IF(G7758=0,\" \",IF(G7758=1,\"Full time\",\"Part time\"))","v":" "},{"$f":"IF(I7758=\"\",\"\",IF(I7758<='Main page'!$F$49,\"Core staff\",\"Senior staff\"))","v":""},{"$f":"IF(D7758=\"\",\" \",'Main page'!$F$21-(D7758))","v":" "},{"$f":"IF(D7758=\"\",\" \",VLOOKUP(R7758,'Main page'!$E$29:'Main page'!$G$41,3,TRUE))","v":" "}]
[null,null,null,null,null,null,null,null,null,null,null,null," "," "," "," ",{"$f":"IF(I7770=\"\",\"\",IF(I7770<='Main page'!$F$49,\"Core staff\",\"Senior staff\"))","v":""},{"$f":"IF(D7770=\"\",\" \",'Main page'!$F$21-(D7770))","v":" "},{"$f":"IF(D7770=\"\",\" \",VLOOKUP(R7770,'Main page'!$E$29:'Main page'!$G$41,3,TRUE))","v":" "}]
[null,null,null,null,null,null,null,null,null,null,null,null," "," "," "," ",{"$f":"IF(I7777=\"\",\"\",IF(I7777<='Main page'!$F$49,\"Core staff\",\"Senior staff\"))","v":""},{"$f":"IF(D7777=\"\",\" \",'Main page'!$F$21-(D7777))","v":" "},{"$f":"IF(D7777=\"\",\" \",VLOOKUP(R7777,'Main page'!$E$29:'Main page'!$G$41,3,TRUE))","v":" "}]
[null,null,null,null,null,null,null,null,null,null,null,null," "," "," "," ",{"$f":"IF(I7791=\"\",\"\",IF(I7791<='Main page'!$F$49,\"Core staff\",\"Senior staff\"))","v":""},{"$f":"IF(D7791=\"\",\" \",'Main page'!$F$21-(D7791))","v":" "},{"$f":"IF(D7791=\"\",\" \",VLOOKUP(R7791,'Main page'!$E$29:'Main page'!$G$41,3,TRUE))","v":" "}]
[null,null,null,null,null,null,null,null,null,null,null,null," "," "," "," ",{"$f":"IF(I7800=\"\",\"\",IF(I7800<='Main page'!$F$49,\"Core staff\",\"Senior staff\"))","v":""},{"$f":"IF(D7800=\"\",\" \",'Main page'!$F$21-(D7800))","v":" "},{"$f":"IF(D7800=\"\",\" \",VLOOKUP(R7800,'Main page'!$E$29:'Main page'!$G$41,3,TRUE))","v":" "}]
[null,null,null,null,null,null,null,null,null,null,null,null," "," "," "," ",{"$f":"IF(I7807=\"\",\"\",IF(I7807<='Main page'!$F$49,\"Core staff\",\"Senior staff\"))","v":""},{"$f":"IF(D7807=\"\",\" \",'Main page'!$F$21-(D7807))","v":" "},{"$f":"IF(D7807=\"\",\" \",VLOOKUP(R7807,'Main page'!$E$29:'Main page'!$G$41,3,TRUE))","v":" "}]
[null,null,null,null,null,null,null,null,null,null,null,null," "," "," "," ",{"$f":"IF(I7819=\"\",\"\",IF(I7819<='Main page'!$F$49,\"Core staff\",\"Senior staff\"))","v":""},{"$f":"IF(D7819=\"\",\" \",'Main page'!$F$21-(D7819))","v":" "},{"$f":"IF(D7819=\"\",\" \",VLOOKUP(R7819,'Main page'!$E$29:'Main page'!$G$41,3,TRUE))","v":" "}]
[null,null,null,null,null,null,null,null,null,null,null,null,{"$f":"IFERROR(J7822/G7822,\" \")","v":" "},{"$f":"IFERROR((M7822/$U$4)/H7822,\" \")","v":" "},{"$f":"IFERROR((N7822*75)*26.083,\" \")","v":" "},{"$f":"IF(G7822=0,\" \",IF(G7822=1,\"Full time\",\"Part time\"))","v":" "},{"$f":"IF(I7822=\"\",\"\",IF(I7822<='Main page'!$F$49,\"Core staff\",\"Senior staff\"))","v":""},{"$f":"IF(D7822=\"\",\" \",'Main page'!$F$21-(D7822))","v":" "},{"$f":"IF(D7822=\"\",\" \",VLOOKUP(R7822,'Main page'!$E$29:'Main page'!$G$41,3,TRUE))","v":" "}]
[null,null,null,null,null,null,null,null,null,null,null,null," "," "," "," ",{"$f":"IF(I7828=\"\",\"\",IF(I7828<='Main page'!$F$49,\"Core staff\",\"Senior staff\"))","v":""},{"$f":"IF(D7828=\"\",\" \",'Main page'!$F$21-(D7828))","v":" "},{"$f":"IF(D7828=\"\",\" \",VLOOKUP(R7828,'Main page'!$E$29:'Main page'!$G$41,3,TRUE))","v":" "}]
[null,null,null,null,null,null,null,null,null,null,null,null," "," "," "," ",{"$f":"IF(I7840=\"\",\"\",IF(I7840<='Main page'!$F$49,\"Core staff\",\"Senior staff\"))","v":""},{"$f":"IF(D7840=\"\",\" \",'Main page'!$F$21-(D7840))","v":" "},{"$f":"IF(D7840=\"\",\" \",VLOOKUP(R7840,'Main page'!$E$29:'Main page'!$G$41,3,TRUE))","v":" "}]
[null,null,null,null,null,null,null,null,null,null,null,null," "," "," "," ",{"$f":"IF(I7847=\"\",\"\",IF(I7847<='Main page'!$F$49,\"Core staff\",\"Senior staff\"))","v":""},{"$f":"IF(D7847=\"\",\" \",'Main page'!$F$21-(D7847))","v":" "},{"$f":"IF(D7847=\"\",\" \",VLOOKUP(R7847,'Main page'!$E$29:'Main page'!$G$41,3,TRUE))","v":" "}]
[null,null,null,null,null,null,null,null,null,null,null,null," "," "," "," ",{"$f":"IF(I7861=\"\",\"\",IF(I7861<='Main page'!$F$49,\"Core staff\",\"Senior staff\"))","v":""},{"$f":"IF(D7861=\"\",\" \",'Main page'!$F$21-(D7861))","v":" "},{"$f":"IF(D7861=\"\",\" \",VLOOKUP(R7861,'Main page'!$E$29:'Main page'!$G$41,3,TRUE))","v":" "}]
[null,null,null,null,null,null,null,null,null,null,null,null," "," "," "," ",{"$f":"IF(I7870=\"\",\"\",IF(I7870<='Main page'!$F$49,\"Core staff\",\"Senior staff\"))","v":""},{"$f":"IF(D7870=\"\",\" \",'Main page'!$F$21-(D7870))","v":" "},{"$f":"IF(D7870=\"\",\" \",VLOOKUP(R7870,'Main page'!$E$29:'Main page'!$G$41,3,TRUE))","v":" "}]
[null,null,null,null,null,null,null,null,null,null,null,null," "," "," "," ",{"$f":"IF(I7877=\"\",\"\",IF(I7877<='Main page'!$F$49,\"Core staff\",\"Senior staff\"))","v":""},{"$f":"IF(D7877=\"\",\" \",'Main page'!$F$21-(D7877))","v":" "},{"$f":"IF(D7877=\"\",\" \",VLOOKUP(R7877,'Main page'!$E$29:'Main page'!$G$41,3,TRUE))","v":" "}]
[null,null,null,null,null,null,null,null,null,null,null,null," "," "," "," ",{"$f":"IF(I7889=\"\",\"\",IF(I7889<='Main page'!$F$49,\"Core staff\",\"Senior staff\"))","v":""},{"$f":"IF(D7889=\"\",\" \",'Main page'!$F$21-(D7889))","v":" "},{"$f":"IF(D7889=\"\",\" \",VLOOKUP(R7889,'Main page'!$E$29:'Main page'!$G$41,3,TRUE))","v":" "}]
[null,null,null,null,null,null,null,null,null,null,null,null," "," "," "," ",{"$f":"IF(I7892=\"\",\"\",IF(I7892<='Main page'!$F$49,\"Core staff\",\"Senior staff\"))","v":""},{"$f":"IF(D7892=\"\",\" \",'Main page'!$F$21-(D7892))","v":" "},{"$f":"IF(D7892=\"\",\" \",VLOOKUP(R7892,'Main page'!$E$29:'Main page'!$G$41,3,TRUE))","v":" "}]
[null,null,null,null,null,null,null,null,null,null,null,null," "," "," "," ",{"$f":"IF(I7898=\"\",\"\",IF(I7898<='Main page'!$F$49,\"Core staff\",\"Senior staff\"))","v":""},{"$f":"IF(D7898=\"\",\" \",'Main page'!$F$21-(D7898))","v":" "},{"$f":"IF(D7898=\"\",\" \",VLOOKUP(R7898,'Main page'!$E$29:'Main page'!$G$41,3,TRUE))","v":" "}]
[null,null,null,null,null,null,null,null,null,null,null,null," "," "," "," ",{"$f":"IF(I7910=\"\",\"\",IF(I7910<='Main page'!$F$49,\"Core staff\",\"Senior staff\"))","v":""},{"$f":"IF(D7910=\"\",\" \",'Main page'!$F$21-(D7910))","v":" "},{"$f":"IF(D7910=\"\",\" \",VLOOKUP(R7910,'Main page'!$E$29:'Main page'!$G$41,3,TRUE))","v":" "}]
[null,null,null,null,null,null,null,null,null,null,null,null," "," "," "," ",{"$f":"IF(I7917=\"\",\"\",IF(I7917<='Main page'!$F$49,\"Core staff\",\"Senior staff\"))","v":""},{"$f":"IF(D7917=\"\",\" \",'Main page'!$F$21-(D7917))","v":" "},{"$f":"IF(D7917=\"\",\" \",VLOOKUP(R7917,'Main page'!$E$29:'Main page'!$G$41,3,TRUE))","v":" "}]
[null,null,null,null,null,null,null,null,null,null,null,null," "," "," "," ",{"$f":"IF(I7931=\"\",\"\",IF(I7931<='Main page'!$F$49,\"Core staff\",\"Senior staff\"))","v":""},{"$f":"IF(D7931=\"\",\" \",'Main page'!$F$21-(D7931))","v":" "},{"$f":"IF(D7931=\"\",\" \",VLOOKUP(R7931,'Main page'!$E$29:'Main page'!$G$41,3,TRUE))","v":" "}]
[null,null,null,null,null,null,null,null,null,null,null,null," "," "," "," ",{"$f":"IF(I7940=\"\",\"\",IF(I7940<='Main page'!$F$49,\"Core staff\",\"Senior staff\"))","v":""},{"$f":"IF(D7940=\"\",\" \",'Main page'!$F$21-(D7940))","v":" "},{"$f":"IF(D7940=\"\",\" \",VLOOKUP(R7940,'Main page'!$E$29:'Main page'!$G$41,3,TRUE))","v":" "}]
[null,null,null,null,null,null,null,null,null,null,null,null," "," "," "," ",{"$f":"IF(I7947=\"\",\"\",IF(I7947<='Main page'!$F$49,\"Core staff\",\"Senior staff\"))","v":""},{"$f":"IF(D7947=\"\",\" \",'Main page'!$F$21-(D7947))","v":" "},{"$f":"IF(D7947=\"\",\" \",VLOOKUP(R7947,'Main page'!$E$29:'Main page'!$G$41,3,TRUE))","v":" "}]
[null,null,null,null,null,null,null,null,null,null,null,null," "," "," "," ",{"$f":"IF(I7959=\"\",\"\",IF(I7959<='Main page'!$F$49,\"Core staff\",\"Senior staff\"))","v":""},{"$f":"IF(D7959=\"\",\" \",'Main page'!$F$21-(D7959))","v":" "},{"$f":"IF(D7959=\"\",\" \",VLOOKUP(R7959,'Main page'!$E$29:'Main page'!$G$41,3,TRUE))","v":" "}]
[null,null,null,null,null,null,null,null,null,null,null,null," "," "," "," ",{"$f":"IF(I7962=\"\",\"\",IF(I7962<='Main page'!$F$49,\"Core staff\",\"Senior staff\"))","v":""},{"$f":"IF(D7962=\"\",\" \",'Main page'!$F$21-(D7962))","v":" "},{"$f":"IF(D7962=\"\",\" \",VLOOKUP(R7962,'Main page'!$E$29:'Main page'!$G$41,3,TRUE))","v":" "}]
[null,null,null,null,null,null,null,null,null,null,null,null," "," "," "," ",{"$f":"IF(I7968=\"\",\"\",IF(I7968<='Main page'!$F$49,\"Core staff\",\"Senior staff\"))","v":""},{"$f":"IF(D7968=\"\",\" \",'Main page'!$F$21-(D7968))","v":" "},{"$f":"IF(D7968=\"\",\" \",VLOOKUP(R7968,'Main page'!$E$29:'Main page'!$G$41,3,TRUE))","v":" "}]
[null,null,null,null,null,null,null,null,null,null,null,null," "," "," "," ",{"$f":"IF(I7980=\"\",\"\",IF(I7980<='Main page'!$F$49,\"Core staff\",\"Senior staff\"))","v":""},{"$f":"IF(D7980=\"\",\" \",'Main page'!$F$21-(D7980))","v":" "},{"$f":"IF(D7980=\"\",\" \",VLOOKUP(R7980,'Main page'!$E$29:'Main page'!$G$41,3,TRUE))","v":" "}]
[null,null,null,null,null,null,null,null,null,null,null,null," "," "," "," ",{"$f":"IF(I7987=\"\",\"\",IF(I7987<='Main page'!$F$49,\"Core staff\",\"Senior staff\"))","v":""},{"$f":"IF(D7987=\"\",\" \",'Main page'!$F$21-(D7987))","v":" "},{"$f":"IF(D7987=\"\",\" \",VLOOKUP(R7987,'Main page'!$E$29:'Main page'!$G$41,3,TRUE))","v":" "}]
[null,null,null,null,null,null,null,null,null,null,null,null," "," "," "," ",{"$f":"IF(I8001=\"\",\"\",IF(I8001<='Main page'!$F$49,\"Core staff\",\"Senior staff\"))","v":""},{"$f":"IF(D8001=\"\",\" \",'Main page'!$F$21-(D8001))","v":" "},{"$f":"IF(D8001=\"\",\" \",VLOOKUP(R8001,'Main page'!$E$29:'Main page'!$G$41,3,TRUE))","v":" "}]
[null,null,null,null,null,null,null,null,null,null,null,null," "," "," "," ",{"$f":"IF(I8005=\"\",\"\",IF(I8005<='Main page'!$F$49,\"Core staff\",\"Senior staff\"))","v":""},{"$f":"IF(D8005=\"\",\" \",'Main page'!$F$21-(D8005))","v":" "},{"$f":"IF(D8005=\"\",\" \",VLOOKUP(R8005,'Main page'!$E$29:'Main page'!$G$41,3,TRUE))","v":" "}]
[null,null,null,null,null,null,null,null,null,null,null,null," "," "," "," ",{"$f":"IF(I8017=\"\",\"\",IF(I8017<='Main page'!$F$49,\"Core staff\",\"Senior staff\"))","v":""},{"$f":"IF(D8017=\"\",\" \",'Main page'!$F$21-(D8017))","v":" "},{"$f":"IF(D8017=\"\",\" \",VLOOKUP(R8017,'Main page'!$E$29:'Main page'!$G$41,3,TRUE))","v":" "}]
[null,null,null,null,null,null,null,null,null,null,null,null," "," "," "," ",{"$f":"IF(I8029=\"\",\"\",IF(I8029<='Main page'!$F$49,\"Core staff\",\"Senior staff\"))","v":""},{"$f":"IF(D8029=\"\",\" \",'Main page'!$F$21-(D8029))","v":" "},{"$f":"IF(D8029=\"\",\" \",VLOOKUP(R8029,'Main page'!$E$29:'Main page'!$G$41,3,TRUE))","v":" "}]
[null,null,null,null,null,null,null,null,null,null,null,null," "," "," "," ",{"$f":"IF(I8032=\"\",\"\",IF(I8032<='Main page'!$F$49,\"Core staff\",\"Senior staff\"))","v":""},{"$f":"IF(D8032=\"\",\" \",'Main page'!$F$21-(D8032))","v":" "},{"$f":"IF(D8032=\"\",\" \",VLOOKUP(R8032,'Main page'!$E$29:'Main page'!$G$41,3,TRUE))","v":" "}]
[null,null,null,null,null,null,null,null,null,null,null,null," "," "," "," ",{"$f":"IF(I8038=\"\",\"\",IF(I8038<='Main page'!$F$49,\"Core staff\",\"Senior staff\"))","v":""},{"$f":"IF(D8038=\"\",\" \",'Main page'!$F$21-(D8038))","v":" "},{"$f":"IF(D8038=\"\",\" \",VLOOKUP(R8038,'Main page'!$E$29:'Main page'!$G$41,3,TRUE))","v":" "}]
[null,null,null,null,null,null,null,null,null,null,null,null," "," "," "," ",{"$f":"IF(I8050=\"\",\"\",IF(I8050<='Main page'!$F$49,\"Core staff\",\"Senior staff\"))","v":""},{"$f":"IF(D8050=\"\",\" \",'Main page'!$F$21-(D8050))","v":" "},{"$f":"IF(D8050=\"\",\" \",VLOOKUP(R8050,'Main page'!$E$29:'Main page'!$G$41,3,TRUE))","v":" "}]
[null,null,null,null,null,null,null,null,null,null,null,null," "," "," "," ",{"$f":"IF(I8057=\"\",\"\",IF(I8057<='Main page'!$F$49,\"Core staff\",\"Senior staff\"))","v":""},{"$f":"IF(D8057=\"\",\" \",'Main page'!$F$21-(D8057))","v":" "},{"$f":"IF(D8057=\"\",\" \",VLOOKUP(R8057,'Main page'!$E$29:'Main page'!$G$41,3,TRUE))","v":" "}]
[null,null,null,null,null,null,null,null,null,null,null,null," "," "," "," ",{"$f":"IF(I8071=\"\",\"\",IF(I8071<='Main page'!$F$49,\"Core staff\",\"Senior staff\"))","v":""},{"$f":"IF(D8071=\"\",\" \",'Main page'!$F$21-(D8071))","v":" "},{"$f":"IF(D8071=\"\",\" \",VLOOKUP(R8071,'Main page'!$E$29:'Main page'!$G$41,3,TRUE))","v":" "}]
[null,null,null,null,null,null,null,null,null,null,null,null," "," "," "," ",{"$f":"IF(I8075=\"\",\"\",IF(I8075<='Main page'!$F$49,\"Core staff\",\"Senior staff\"))","v":""},{"$f":"IF(D8075=\"\",\" \",'Main page'!$F$21-(D8075))","v":" "},{"$f":"IF(D8075=\"\",\" \",VLOOKUP(R8075,'Main page'!$E$29:'Main page'!$G$41,3,TRUE))","v":" "}]
[null,null,null,null,null,null,null,null,null,null,null,null," "," "," "," ",{"$f":"IF(I8087=\"\",\"\",IF(I8087<='Main page'!$F$49,\"Core staff\",\"Senior staff\"))","v":""},{"$f":"IF(D8087=\"\",\" \",'Main page'!$F$21-(D8087))","v":" "},{"$f":"IF(D8087=\"\",\" \",VLOOKUP(R8087,'Main page'!$E$29:'Main page'!$G$41,3,TRUE))","v":" "}]
[null,null,null,null,null,null,null,null,null,null,null,null," "," "," "," ",{"$f":"IF(I8099=\"\",\"\",IF(I8099<='Main page'!$F$49,\"Core staff\",\"Senior staff\"))","v":""},{"$f":"IF(D8099=\"\",\" \",'Main page'!$F$21-(D8099))","v":" "},{"$f":"IF(D8099=\"\",\" \",VLOOKUP(R8099,'Main page'!$E$29:'Main page'!$G$41,3,TRUE))","v":" "}]
[null,null,null,null,null,null,null,null,null,null,null,null," "," "," "," ",{"$f":"IF(I8102=\"\",\"\",IF(I8102<='Main page'!$F$49,\"Core staff\",\"Senior staff\"))","v":""},{"$f":"IF(D8102=\"\",\" \",'Main page'!$F$21-(D8102))","v":" "},{"$f":"IF(D8102=\"\",\" \",VLOOKUP(R8102,'Main page'!$E$29:'Main page'!$G$41,3,TRUE))","v":" "}]
[null,null,null,null,null,null,null,null,null,null,null,null," "," "," "," ",{"$f":"IF(I8108=\"\",\"\",IF(I8108<='Main page'!$F$49,\"Core staff\",\"Senior staff\"))","v":""},{"$f":"IF(D8108=\"\",\" \",'Main page'!$F$21-(D8108))","v":" "},{"$f":"IF(D8108=\"\",\" \",VLOOKUP(R8108,'Main page'!$E$29:'Main page'!$G$41,3,TRUE))","v":" "}]
[null,null,null,null,null,null,null,null,null,null,null,null," "," "," "," ",{"$f":"IF(I8120=\"\",\"\",IF(I8120<='Main page'!$F$49,\"Core staff\",\"Senior staff\"))","v":""},{"$f":"IF(D8120=\"\",\" \",'Main page'!$F$21-(D8120))","v":" "},{"$f":"IF(D8120=\"\",\" \",VLOOKUP(R8120,'Main page'!$E$29:'Main page'!$G$41,3,TRUE))","v":" "}]
[null,null,null,null,null,null,null,null,null,null,null,null," "," "," "," ",{"$f":"IF(I8127=\"\",\"\",IF(I8127<='Main page'!$F$49,\"Core staff\",\"Senior staff\"))","v":""},{"$f":"IF(D8127=\"\",\" \",'Main page'!$F$21-(D8127))","v":" "},{"$f":"IF(D8127=\"\",\" \",VLOOKUP(R8127,'Main page'!$E$29:'Main page'!$G$41,3,TRUE))","v":" "}]
[null,null,null,null,null,null,null,null,null,null,null,null," "," "," "," ",{"$f":"IF(I8141=\"\",\"\",IF(I8141<='Main page'!$F$49,\"Core staff\",\"Senior staff\"))","v":""},{"$f":"IF(D8141=\"\",\" \",'Main page'!$F$21-(D8141))","v":" "},{"$f":"IF(D8141=\"\",\" \",VLOOKUP(R8141,'Main page'!$E$29:'Main page'!$G$41,3,TRUE))","v":" "}]
[null,null,null,null,null,null,null,null,null,null,null,null," "," "," "," ",{"$f":"IF(I8145=\"\",\"\",IF(I8145<='Main page'!$F$49,\"Core staff\",\"Senior staff\"))","v":""},{"$f":"IF(D8145=\"\",\" \",'Main page'!$F$21-(D8145))","v":" "},{"$f":"IF(D8145=\"\",\" \",VLOOKUP(R8145,'Main page'!$E$29:'Main page'!$G$41,3,TRUE))","v":" "}]
[null,null,null,null,null,null,null,null,null,null,null,null," "," "," "," ",{"$f":"IF(I8157=\"\",\"\",IF(I8157<='Main page'!$F$49,\"Core staff\",\"Senior staff\"))","v":""},{"$f":"IF(D8157=\"\",\" \",'Main page'!$F$21-(D8157))","v":" "},{"$f":"IF(D8157=\"\",\" \",VLOOKUP(R8157,'Main page'!$E$29:'Main page'!$G$41,3,TRUE))","v":" "}]
[null,null,null,null,null,null,null,null,null,null,null,null," "," "," "," ",{"$f":"IF(I8169=\"\",\"\",IF(I8169<='Main page'!$F$49,\"Core staff\",\"Senior staff\"))","v":""},{"$f":"IF(D8169=\"\",\" \",'Main page'!$F$21-(D8169))","v":" "},{"$f":"IF(D8169=\"\",\" \",VLOOKUP(R8169,'Main page'!$E$29:'Main page'!$G$41,3,TRUE))","v":" "}]
[null,null,null,null,null,null,null,null,null,null,null,null," "," "," "," ",{"$f":"IF(I8172=\"\",\"\",IF(I8172<='Main page'!$F$49,\"Core staff\",\"Senior staff\"))","v":""},{"$f":"IF(D8172=\"\",\" \",'Main page'!$F$21-(D8172))","v":" "},{"$f":"IF(D8172=\"\",\" \",VLOOKUP(R8172,'Main page'!$E$29:'Main page'!$G$41,3,TRUE))","v":" "}]
[null,null,null,null,null,null,null,null,null,null,null,null," "," "," "," ",{"$f":"IF(I8178=\"\",\"\",IF(I8178<='Main page'!$F$49,\"Core staff\",\"Senior staff\"))","v":""},{"$f":"IF(D8178=\"\",\" \",'Main page'!$F$21-(D8178))","v":" "},{"$f":"IF(D8178=\"\",\" \",VLOOKUP(R8178,'Main page'!$E$29:'Main page'!$G$41,3,TRUE))","v":" "}]
[null,null,null,null,null,null,null,null,null,null,null,null," "," "," "," ",{"$f":"IF(I8194=\"\",\"\",IF(I8194<='Main page'!$F$49,\"Core staff\",\"Senior staff\"))","v":""},{"$f":"IF(D8194=\"\",\" \",'Main page'!$F$21-(D8194))","v":" "},{"$f":"IF(D8194=\"\",\" \",VLOOKUP(R8194,'Main page'!$E$29:'Main page'!$G$41,3,TRUE))","v":" "}]
[null,null,null,null,null,null,null,null,null,null,null,null," "," "," "," ",{"$f":"IF(I8197=\"\",\"\",IF(I8197<='Main page'!$F$49,\"Core staff\",\"Senior staff\"))","v":""},{"$f":"IF(D8197=\"\",\" \",'Main page'!$F$21-(D8197))","v":" "},{"$f":"IF(D8197=\"\",\" \",VLOOKUP(R8197,'Main page'!$E$29:'Main page'!$G$41,3,TRUE))","v":" "}]
[null,null,null,null,null,null,null,null,null,null,null,null," "," "," "," ",{"$f":"IF(I8211=\"\",\"\",IF(I8211<='Main page'!$F$49,\"Core staff\",\"Senior staff\"))","v":""},{"$f":"IF(D8211=\"\",\" \",'Main page'!$F$21-(D8211))","v":" "},{"$f":"IF(D8211=\"\",\" \",VLOOKUP(R8211,'Main page'!$E$29:'Main page'!$G$41,3,TRUE))","v":" "}]
[null,null,null,null,null,null,null,null,null,null,null,null," "," "," "," ",{"$f":"IF(I8215=\"\",\"\",IF(I8215<='Main page'!$F$49,\"Core staff\",\"Senior staff\"))","v":""},{"$f":"IF(D8215=\"\",\" \",'Main page'!$F$21-(D8215))","v":" "},{"$f":"IF(D8215=\"\",\" \",VLOOKUP(R8215,'Main page'!$E$29:'Main page'!$G$41,3,TRUE))","v":" "}]
[null,null,null,null,null,null,null,null,null,null,null,null," "," "," "," ",{"$f":"IF(I8227=\"\",\"\",IF(I8227<='Main page'!$F$49,\"Core staff\",\"Senior staff\"))","v":""},{"$f":"IF(D8227=\"\",\" \",'Main page'!$F$21-(D8227))","v":" "},{"$f":"IF(D8227=\"\",\" \",VLOOKUP(R8227,'Main page'!$E$29:'Main page'!$G$41,3,TRUE))","v":" "}]
[null,null,null,null,null,null,null,null,null,null,null,null," "," "," "," ",{"$f":"IF(I8239=\"\",\"\",IF(I8239<='Main page'!$F$49,\"Core staff\",\"Senior staff\"))","v":""},{"$f":"IF(D8239=\"\",\" \",'Main page'!$F$21-(D8239))","v":" "},{"$f":"IF(D8239=\"\",\" \",VLOOKUP(R8239,'Main page'!$E$29:'Main page'!$G$41,3,TRUE))","v":" "}]
[null,null,null,null,null,null,null,null,null,null,null,null," "," "," "," ",{"$f":"IF(I8242=\"\",\"\",IF(I8242<='Main page'!$F$49,\"Core staff\",\"Senior staff\"))","v":""},{"$f":"IF(D8242=\"\",\" \",'Main page'!$F$21-(D8242))","v":" "},{"$f":"IF(D8242=\"\",\" \",VLOOKUP(R8242,'Main page'!$E$29:'Main page'!$G$41,3,TRUE))","v":" "}]
[null,null,null,null,null,null,null,null,null,null,null,null," "," "," "," ",{"$f":"IF(I8248=\"\",\"\",IF(I8248<='Main page'!$F$49,\"Core staff\",\"Senior staff\"))","v":""},{"$f":"IF(D8248=\"\",\" \",'Main page'!$F$21-(D8248))","v":" "},{"$f":"IF(D8248=\"\",\" \",VLOOKUP(R8248,'Main page'!$E$29:'Main page'!$G$41,3,TRUE))","v":" "}]
[null,null,null,null,null,null,null,null,null,null,null,null," "," "," "," ",{"$f":"IF(I8264=\"\",\"\",IF(I8264<='Main page'!$F$49,\"Core staff\",\"Senior staff\"))","v":""},{"$f":"IF(D8264=\"\",\" \",'Main page'!$F$21-(D8264))","v":" "},{"$f":"IF(D8264=\"\",\" \",VLOOKUP(R8264,'Main page'!$E$29:'Main page'!$G$41,3,TRUE))","v":" "}]
[null,null,null,null,null,null,null,null,null,null,null,null," "," "," "," ",{"$f":"IF(I8267=\"\",\"\",IF(I8267<='Main page'!$F$49,\"Core staff\",\"Senior staff\"))","v":""},{"$f":"IF(D8267=\"\",\" \",'Main page'!$F$21-(D8267))","v":" "},{"$f":"IF(D8267=\"\",\" \",VLOOKUP(R8267,'Main page'!$E$29:'Main page'!$G$41,3,TRUE))","v":" "}]
[null,null,null,null,null,null,null,null,null,null,null,null," "," "," "," ",{"$f":"IF(I8281=\"\",\"\",IF(I8281<='Main page'!$F$49,\"Core staff\",\"Senior staff\"))","v":""},{"$f":"IF(D8281=\"\",\" \",'Main page'!$F$21-(D8281))","v":" "},{"$f":"IF(D8281=\"\",\" \",VLOOKUP(R8281,'Main page'!$E$29:'Main page'!$G$41,3,TRUE))","v":" "}]
[null,null,null,null,null,null,null,null,null,null,null,null," "," "," "," ",{"$f":"IF(I8285=\"\",\"\",IF(I8285<='Main page'!$F$49,\"Core staff\",\"Senior staff\"))","v":""},{"$f":"IF(D8285=\"\",\" \",'Main page'!$F$21-(D8285))","v":" "},{"$f":"IF(D8285=\"\",\" \",VLOOKUP(R8285,'Main page'!$E$29:'Main page'!$G$41,3,TRUE))","v":" "}]
[null,null,null,null,null,null,null,null,null,null,null,null," "," "," "," ",{"$f":"IF(I8297=\"\",\"\",IF(I8297<='Main page'!$F$49,\"Core staff\",\"Senior staff\"))","v":""},{"$f":"IF(D8297=\"\",\" \",'Main page'!$F$21-(D8297))","v":" "},{"$f":"IF(D8297=\"\",\" \",VLOOKUP(R8297,'Main page'!$E$29:'Main page'!$G$41,3,TRUE))","v":" "}]
[null,null,null,null,null,null,null,null,null,null,null,null," "," "," "," ",{"$f":"IF(I8304=\"\",\"\",IF(I8304<='Main page'!$F$49,\"Core staff\",\"Senior staff\"))","v":""},{"$f":"IF(D8304=\"\",\" \",'Main page'!$F$21-(D8304))","v":" "},{"$f":"IF(D8304=\"\",\" \",VLOOKUP(R8304,'Main page'!$E$29:'Main page'!$G$41,3,TRUE))","v":" "}]
[null,null,null,null,null,null,null,null,null,null,null,null," "," "," "," ",{"$f":"IF(I8312=\"\",\"\",IF(I8312<='Main page'!$F$49,\"Core staff\",\"Senior staff\"))","v":""},{"$f":"IF(D8312=\"\",\" \",'Main page'!$F$21-(D8312))","v":" "},{"$f":"IF(D8312=\"\",\" \",VLOOKUP(R8312,'Main page'!$E$29:'Main page'!$G$41,3,TRUE))","v":" "}]
[null,null,null,null,null,null,null,null,null,null,null,null," "," "," "," ",{"$f":"IF(I8318=\"\",\"\",IF(I8318<='Main page'!$F$49,\"Core staff\",\"Senior staff\"))","v":""},{"$f":"IF(D8318=\"\",\" \",'Main page'!$F$21-(D8318))","v":" "},{"$f":"IF(D8318=\"\",\" \",VLOOKUP(R8318,'Main page'!$E$29:'Main page'!$G$41,3,TRUE))","v":" "}]
[null,null,null,null,null,null,null,null,null,null,null,null,{"$f":"IFERROR(J8334/G8334,\" \")","v":" "},{"$f":"IFERROR((M8334/$U$4)/H8334,\" \")","v":" "},{"$f":"IFERROR((N8334*75)*26.083,\" \")","v":" "},{"$f":"IF(G8334=0,\" \",IF(G8334=1,\"Full time\",\"Part time\"))","v":" "},{"$f":"IF(I8334=\"\",\"\",IF(I8334<='Main page'!$F$49,\"Core staff\",\"Senior staff\"))","v":""},{"$f":"IF(D8334=\"\",\" \",'Main page'!$F$21-(D8334))","v":" "},{"$f":"IF(D8334=\"\",\" \",VLOOKUP(R8334,'Main page'!$E$29:'Main page'!$G$41,3,TRUE))","v":" "}]
[null,null,null,null,null,null,null,null,null,null,null,null," "," "," "," ",{"$f":"IF(I8337=\"\",\"\",IF(I8337<='Main page'!$F$49,\"Core staff\",\"Senior staff\"))","v":""},{"$f":"IF(D8337=\"\",\" \",'Main page'!$F$21-(D8337))","v":" "},{"$f":"IF(D8337=\"\",\" \",VLOOKUP(R8337,'Main page'!$E$29:'Main page'!$G$41,3,TRUE))","v":" "}]
[null,null,null,null,null,null,null,null,null,null,null,null," "," "," "," ",{"$f":"IF(I8351=\"\",\"\",IF(I8351<='Main page'!$F$49,\"Core staff\",\"Senior staff\"))","v":""},{"$f":"IF(D8351=\"\",\" \",'Main page'!$F$21-(D8351))","v":" "},{"$f":"IF(D8351=\"\",\" \",VLOOKUP(R8351,'Main page'!$E$29:'Main page'!$G$41,3,TRUE))","v":" "}]
[null,null,null,null,null,null,null,null,null,null,null,null," "," "," "," ",{"$f":"IF(I8355=\"\",\"\",IF(I8355<='Main page'!$F$49,\"Core staff\",\"Senior staff\"))","v":""},{"$f":"IF(D8355=\"\",\" \",'Main page'!$F$21-(D8355))","v":" "},{"$f":"IF(D8355=\"\",\" \",VLOOKUP(R8355,'Main page'!$E$29:'Main page'!$G$41,3,TRUE))","v":" "}]
[null,null,null,null,null,null,null,null,null,null,null,null," "," "," "," ",{"$f":"IF(I8367=\"\",\"\",IF(I8367<='Main page'!$F$49,\"Core staff\",\"Senior staff\"))","v":""},{"$f":"IF(D8367=\"\",\" \",'Main page'!$F$21-(D8367))","v":" "},{"$f":"IF(D8367=\"\",\" \",VLOOKUP(R8367,'Main page'!$E$29:'Main page'!$G$41,3,TRUE))","v":" "}]
[null,null,null,null,null,null,null,null,null,null,null,null," "," "," "," ",{"$f":"IF(I8374=\"\",\"\",IF(I8374<='Main page'!$F$49,\"Core staff\",\"Senior staff\"))","v":""},{"$f":"IF(D8374=\"\",\" \",'Main page'!$F$21-(D8374))","v":" "},{"$f":"IF(D8374=\"\",\" \",VLOOKUP(R8374,'Main page'!$E$29:'Main page'!$G$41,3,TRUE))","v":" "}]
[null,null,null,null,null,null,null,null,null,null,null,null," "," "," "," ",{"$f":"IF(I8382=\"\",\"\",IF(I8382<='Main page'!$F$49,\"Core staff\",\"Senior staff\"))","v":""},{"$f":"IF(D8382=\"\",\" \",'Main page'!$F$21-(D8382))","v":" "},{"$f":"IF(D8382=\"\",\" \",VLOOKUP(R8382,'Main page'!$E$29:'Main page'!$G$41,3,TRUE))","v":" "}]
[null,null,null,null,null,null,null,null,null,null,null,null," "," "," "," ",{"$f":"IF(I8388=\"\",\"\",IF(I8388<='Main page'!$F$49,\"Core staff\",\"Senior staff\"))","v":""},{"$f":"IF(D8388=\"\",\" \",'Main page'!$F$21-(D8388))","v":" "},{"$f":"IF(D8388=\"\",\" \",VLOOKUP(R8388,'Main page'!$E$29:'Main page'!$G$41,3,TRUE))","v":" "}]
[null,null,null,null,null,null,null,null,null,null,null,null," "," "," "," ",{"$f":"IF(I8404=\"\",\"\",IF(I8404<='Main page'!$F$49,\"Core staff\",\"Senior staff\"))","v":""},{"$f":"IF(D8404=\"\",\" \",'Main page'!$F$21-(D8404))","v":" "},{"$f":"IF(D8404=\"\",\" \",VLOOKUP(R8404,'Main page'!$E$29:'Main page'!$G$41,3,TRUE))","v":" "}]
[null,null,null,null,null,null,null,null,null,null,null,null," "," "," "," ",{"$f":"IF(I8407=\"\",\"\",IF(I8407<='Main page'!$F$49,\"Core staff\",\"Senior staff\"))","v":""},{"$f":"IF(D8407=\"\",\" \",'Main page'!$F$21-(D8407))","v":" "},{"$f":"IF(D8407=\"\",\" \",VLOOKUP(R8407,'Main page'!$E$29:'Main page'!$G$41,3,TRUE))","v":" "}]
[null,null,null,null,null,null,null,null,null,null,null,null," "," "," "," ",{"$f":"IF(I8421=\"\",\"\",IF(I8421<='Main page'!$F$49,\"Core staff\",\"Senior staff\"))","v":""},{"$f":"IF(D8421=\"\",\" \",'Main page'!$F$21-(D8421))","v":" "},{"$f":"IF(D8421=\"\",\" \",VLOOKUP(R8421,'Main page'!$E$29:'Main page'!$G$41,3,TRUE))","v":" "}]
[null,null,null,null,null,null,null,null,null,null,null,null," "," "," "," ",{"$f":"IF(I8425=\"\",\"\",IF(I8425<='Main page'!$F$49,\"Core staff\",\"Senior staff\"))","v":""},{"$f":"IF(D8425=\"\",\" \",'Main page'!$F$21-(D8425))","v":" "},{"$f":"IF(D8425=\"\",\" \",VLOOKUP(R8425,'Main page'!$E$29:'Main page'!$G$41,3,TRUE))","v":" "}]
[null,null,null,null,null,null,null,null,null,null,null,null," "," "," "," ",{"$f":"IF(I8437=\"\",\"\",IF(I8437<='Main page'!$F$49,\"Core staff\",\"Senior staff\"))","v":""},{"$f":"IF(D8437=\"\",\" \",'Main page'!$F$21-(D8437))","v":" "},{"$f":"IF(D8437=\"\",\" \",VLOOKUP(R8437,'Main page'!$E$29:'Main page'!$G$41,3,TRUE))","v":" "}]
[null,null,null,null,null,null,null,null,null,null,null,null," "," "," "," ",{"$f":"IF(I8444=\"\",\"\",IF(I8444<='Main page'!$F$49,\"Core staff\",\"Senior staff\"))","v":""},{"$f":"IF(D8444=\"\",\" \",'Main page'!$F$21-(D8444))","v":" "},{"$f":"IF(D8444=\"\",\" \",VLOOKUP(R8444,'Main page'!$E$29:'Main page'!$G$41,3,TRUE))","v":" "}]
[null,null,null,null,null,null,null,null,null,null,null,null," "," "," "," ",{"$f":"IF(I8452=\"\",\"\",IF(I8452<='Main page'!$F$49,\"Core staff\",\"Senior staff\"))","v":""},{"$f":"IF(D8452=\"\",\" \",'Main page'!$F$21-(D8452))","v":" "},{"$f":"IF(D8452=\"\",\" \",VLOOKUP(R8452,'Main page'!$E$29:'Main page'!$G$41,3,TRUE))","v":" "}]
[null,null,null,null,null,null,null,null,null,null,null,null," "," "," "," ",{"$f":"IF(I8458=\"\",\"\",IF(I8458<='Main page'!$F$49,\"Core staff\",\"Senior staff\"))","v":""},{"$f":"IF(D8458=\"\",\" \",'Main page'!$F$21-(D8458))","v":" "},{"$f":"IF(D8458=\"\",\" \",VLOOKUP(R8458,'Main page'!$E$29:'Main page'!$G$41,3,TRUE))","v":" "}]
[null,null,null,null,null,null,null,null,null,null,null,null," "," "," "," ",{"$f":"IF(I8474=\"\",\"\",IF(I8474<='Main page'!$F$49,\"Core staff\",\"Senior staff\"))","v":""},{"$f":"IF(D8474=\"\",\" \",'Main page'!$F$21-(D8474))","v":" "},{"$f":"IF(D8474=\"\",\" \",VLOOKUP(R8474,'Main page'!$E$29:'Main page'!$G$41,3,TRUE))","v":" "}]
[null,null,null,null,null,null,null,null,null,null,null,null," "," "," "," ",{"$f":"IF(I8477=\"\",\"\",IF(I8477<='Main page'!$F$49,\"Core staff\",\"Senior staff\"))","v":""},{"$f":"IF(D8477=\"\",\" \",'Main page'!$F$21-(D8477))","v":" "},{"$f":"IF(D8477=\"\",\" \",VLOOKUP(R8477,'Main page'!$E$29:'Main page'!$G$41,3,TRUE))","v":" "}]
[null,null,null,null,null,null,null,null,null,null,null,null," "," "," "," ",{"$f":"IF(I8491=\"\",\"\",IF(I8491<='Main page'!$F$49,\"Core staff\",\"Senior staff\"))","v":""},{"$f":"IF(D8491=\"\",\" \",'Main page'!$F$21-(D8491))","v":" "},{"$f":"IF(D8491=\"\",\" \",VLOOKUP(R8491,'Main page'!$E$29:'Main page'!$G$41,3,TRUE))","v":" "}]
[null,null,null,null,null,null,null,null,null,null,null,null," "," "," "," ",{"$f":"IF(I8495=\"\",\"\",IF(I8495<='Main page'!$F$49,\"Core staff\",\"Senior staff\"))","v":""},{"$f":"IF(D8495=\"\",\" \",'Main page'!$F$21-(D8495))","v":" "},{"$f":"IF(D8495=\"\",\" \",VLOOKUP(R8495,'Main page'!$E$29:'Main page'!$G$41,3,TRUE))","v":" "}]
[null,null,null,null,null,null,null,null,null,null,null,null," "," "," "," ",{"$f":"IF(I8507=\"\",\"\",IF(I8507<='Main page'!$F$49,\"Core staff\",\"Senior staff\"))","v":""},{"$f":"IF(D8507=\"\",\" \",'Main page'!$F$21-(D8507))","v":" "},{"$f":"IF(D8507=\"\",\" \",VLOOKUP(R8507,'Main page'!$E$29:'Main page'!$G$41,3,TRUE))","v":" "}]
[null,null,null,null,null,null,null,null,null,null,null,null," "," "," "," ",{"$f":"IF(I8514=\"\",\"\",IF(I8514<='Main page'!$F$49,\"Core staff\",\"Senior staff\"))","v":""},{"$f":"IF(D8514=\"\",\" \",'Main page'!$F$21-(D8514))","v":" "},{"$f":"IF(D8514=\"\",\" \",VLOOKUP(R8514,'Main page'!$E$29:'Main page'!$G$41,3,TRUE))","v":" "}]
[null,null,null,null,null,null,null,null,null,null,null,null," "," "," "," ",{"$f":"IF(I8522=\"\",\"\",IF(I8522<='Main page'!$F$49,\"Core staff\",\"Senior staff\"))","v":""},{"$f":"IF(D8522=\"\",\" \",'Main page'!$F$21-(D8522))","v":" "},{"$f":"IF(D8522=\"\",\" \",VLOOKUP(R8522,'Main page'!$E$29:'Main page'!$G$41,3,TRUE))","v":" "}]
[null,null,null,null,null,null,null,null,null,null,null,null," "," "," "," ",{"$f":"IF(I8528=\"\",\"\",IF(I8528<='Main page'!$F$49,\"Core staff\",\"Senior staff\"))","v":""},{"$f":"IF(D8528=\"\",\" \",'Main page'!$F$21-(D8528))","v":" "},{"$f":"IF(D8528=\"\",\" \",VLOOKUP(R8528,'Main page'!$E$29:'Main page'!$G$41,3,TRUE))","v":" "}]
[null,null,null,null,null,null,null,null,null,null,null,null," "," "," "," ",{"$f":"IF(I8544=\"\",\"\",IF(I8544<='Main page'!$F$49,\"Core staff\",\"Senior staff\"))","v":""},{"$f":"IF(D8544=\"\",\" \",'Main page'!$F$21-(D8544))","v":" "},{"$f":"IF(D8544=\"\",\" \",VLOOKUP(R8544,'Main page'!$E$29:'Main page'!$G$41,3,TRUE))","v":" "}]
[null,null,null,null,null,null,null,null,null,null,null,null," "," "," "," ",{"$f":"IF(I8547=\"\",\"\",IF(I8547<='Main page'!$F$49,\"Core staff\",\"Senior staff\"))","v":""},{"$f":"IF(D8547=\"\",\" \",'Main page'!$F$21-(D8547))","v":" "},{"$f":"IF(D8547=\"\",\" \",VLOOKUP(R8547,'Main page'!$E$29:'Main page'!$G$41,3,TRUE))","v":" "}]
[null,null,null,null,null,null,null,null,null,null,null,null," "," "," "," ",{"$f":"IF(I8561=\"\",\"\",IF(I8561<='Main page'!$F$49,\"Core staff\",\"Senior staff\"))","v":""},{"$f":"IF(D8561=\"\",\" \",'Main page'!$F$21-(D8561))","v":" "},{"$f":"IF(D8561=\"\",\" \",VLOOKUP(R8561,'Main page'!$E$29:'Main page'!$G$41,3,TRUE))","v":" "}]
[null,null,null,null,null,null,null,null,null,null,null,null," "," "," "," ",{"$f":"IF(I8565=\"\",\"\",IF(I8565<='Main page'!$F$49,\"Core staff\",\"Senior staff\"))","v":""},{"$f":"IF(D8565=\"\",\" \",'Main page'!$F$21-(D8565))","v":" "},{"$f":"IF(D8565=\"\",\" \",VLOOKUP(R8565,'Main page'!$E$29:'Main page'!$G$41,3,TRUE))","v":" "}]
[null,null,null,null,null,null,null,null,null,null,null,null," "," "," "," ",{"$f":"IF(I8577=\"\",\"\",IF(I8577<='Main page'!$F$49,\"Core staff\",\"Senior staff\"))","v":""},{"$f":"IF(D8577=\"\",\" \",'Main page'!$F$21-(D8577))","v":" "},{"$f":"IF(D8577=\"\",\" \",VLOOKUP(R8577,'Main page'!$E$29:'Main page'!$G$41,3,TRUE))","v":" "}]
[null,null,null,null,null,null,null,null,null,null,null,null," "," "," "," ",{"$f":"IF(I8584=\"\",\"\",IF(I8584<='Main page'!$F$49,\"Core staff\",\"Senior staff\"))","v":""},{"$f":"IF(D8584=\"\",\" \",'Main page'!$F$21-(D8584))","v":" "},{"$f":"IF(D8584=\"\",\" \",VLOOKUP(R8584,'Main page'!$E$29:'Main page'!$G$41,3,TRUE))","v":" "}]
[null,null,null,null,null,null,null,null,null,null,null,null," "," "," "," ",{"$f":"IF(I8592=\"\",\"\",IF(I8592<='Main page'!$F$49,\"Core staff\",\"Senior staff\"))","v":""},{"$f":"IF(D8592=\"\",\" \",'Main page'!$F$21-(D8592))","v":" "},{"$f":"IF(D8592=\"\",\" \",VLOOKUP(R8592,'Main page'!$E$29:'Main page'!$G$41,3,TRUE))","v":" "}]
[null,null,null,null,null,null,null,null,null,null,null,null," "," "," "," ",{"$f":"IF(I8602=\"\",\"\",IF(I8602<='Main page'!$F$49,\"Core staff\",\"Senior staff\"))","v":""},{"$f":"IF(D8602=\"\",\" \",'Main page'!$F$21-(D8602))","v":" "},{"$f":"IF(D8602=\"\",\" \",VLOOKUP(R8602,'Main page'!$E$29:'Main page'!$G$41,3,TRUE))","v":" "}]
[null,null,null,null,null,null,null,null,null,null,null,null," "," "," "," ",{"$f":"IF(I8614=\"\",\"\",IF(I8614<='Main page'!$F$49,\"Core staff\",\"Senior staff\"))","v":""},{"$f":"IF(D8614=\"\",\" \",'Main page'!$F$21-(D8614))","v":" "},{"$f":"IF(D8614=\"\",\" \",VLOOKUP(R8614,'Main page'!$E$29:'Main page'!$G$41,3,TRUE))","v":" "}]
[null,null,null,null,null,null,null,null,null,null,null,null," "," "," "," ",{"$f":"IF(I8617=\"\",\"\",IF(I8617<='Main page'!$F$49,\"Core staff\",\"Senior staff\"))","v":""},{"$f":"IF(D8617=\"\",\" \",'Main page'!$F$21-(D8617))","v":" "},{"$f":"IF(D8617=\"\",\" \",VLOOKUP(R8617,'Main page'!$E$29:'Main page'!$G$41,3,TRUE))","v":" "}]
[null,null,null,null,null,null,null,null,null,null,null,null," "," "," "," ",{"$f":"IF(I8631=\"\",\"\",IF(I8631<='Main page'!$F$49,\"Core staff\",\"Senior staff\"))","v":""},{"$f":"IF(D8631=\"\",\" \",'Main page'!$F$21-(D8631))","v":" "},{"$f":"IF(D8631=\"\",\" \",VLOOKUP(R8631,'Main page'!$E$29:'Main page'!$G$41,3,TRUE))","v":" "}]
[null,null,null,null,null,null,null,null,null,null,null,null," "," "," "," ",{"$f":"IF(I8635=\"\",\"\",IF(I8635<='Main page'!$F$49,\"Core staff\",\"Senior staff\"))","v":""},{"$f":"IF(D8635=\"\",\" \",'Main page'!$F$21-(D8635))","v":" "},{"$f":"IF(D8635=\"\",\" \",VLOOKUP(R8635,'Main page'!$E$29:'Main page'!$G$41,3,TRUE))","v":" "}]
[null,null,null,null,null,null,null,null,null,null,null,null," "," "," "," ",{"$f":"IF(I8647=\"\",\"\",IF(I8647<='Main page'!$F$49,\"Core staff\",\"Senior staff\"))","v":""},{"$f":"IF(D8647=\"\",\" \",'Main page'!$F$21-(D8647))","v":" "},{"$f":"IF(D8647=\"\",\" \",VLOOKUP(R8647,'Main page'!$E$29:'Main page'!$G$41,3,TRUE))","v":" "}]
[null,null,null,null,null,null,null,null,null,null,null,null,{"$f":"IFERROR(J8654/G8654,\" \")","v":" "},{"$f":"IFERROR((M8654/$U$4)/H8654,\" \")","v":" "},{"$f":"IFERROR((N8654*75)*26.083,\" \")","v":" "},{"$f":"IF(G8654=0,\" \",IF(G8654=1,\"Full time\",\"Part time\"))","v":" "},{"$f":"IF(I8654=\"\",\"\",IF(I8654<='Main page'!$F$49,\"Core staff\",\"Senior staff\"))","v":""},{"$f":"IF(D8654=\"\",\" \",'Main page'!$F$21-(D8654))","v":" "},{"$f":"IF(D8654=\"\",\" \",VLOOKUP(R8654,'Main page'!$E$29:'Main page'!$G$41,3,TRUE))","v":" "}]
[null,null,null,null,null,null,null,null,null,null,null,null," "," "," "," ",{"$f":"IF(I8662=\"\",\"\",IF(I8662<='Main page'!$F$49,\"Core staff\",\"Senior staff\"))","v":""},{"$f":"IF(D8662=\"\",\" \",'Main page'!$F$21-(D8662))","v":" "},{"$f":"IF(D8662=\"\",\" \",VLOOKUP(R8662,'Main page'!$E$29:'Main page'!$G$41,3,TRUE))","v":" "}]
[null,null,null,null,null,null,null,null,null,null,null,null," "," "," "," ",{"$f":"IF(I8672=\"\",\"\",IF(I8672<='Main page'!$F$49,\"Core staff\",\"Senior staff\"))","v":""},{"$f":"IF(D8672=\"\",\" \",'Main page'!$F$21-(D8672))","v":" "},{"$f":"IF(D8672=\"\",\" \",VLOOKUP(R8672,'Main page'!$E$29:'Main page'!$G$41,3,TRUE))","v":" "}]
[null,null,null,null,null,null,null,null,null,null,null,null," "," "," "," ",{"$f":"IF(I8684=\"\",\"\",IF(I8684<='Main page'!$F$49,\"Core staff\",\"Senior staff\"))","v":""},{"$f":"IF(D8684=\"\",\" \",'Main page'!$F$21-(D8684))","v":" "},{"$f":"IF(D8684=\"\",\" \",VLOOKUP(R8684,'Main page'!$E$29:'Main page'!$G$41,3,TRUE))","v":" "}]
[null,null,null,null,null,null,null,null,null,null,null,null," "," "," "," ",{"$f":"IF(I8687=\"\",\"\",IF(I8687<='Main page'!$F$49,\"Core staff\",\"Senior staff\"))","v":""},{"$f":"IF(D8687=\"\",\" \",'Main page'!$F$21-(D8687))","v":" "},{"$f":"IF(D8687=\"\",\" \",VLOOKUP(R8687,'Main page'!$E$29:'Main page'!$G$41,3,TRUE))","v":" "}]
[null,null,null,null,null,null,null,null,null,null,null,null," "," "," "," ",{"$f":"IF(I8701=\"\",\"\",IF(I8701<='Main page'!$F$49,\"Core staff\",\"Senior staff\"))","v":""},{"$f":"IF(D8701=\"\",\" \",'Main page'!$F$21-(D8701))","v":" "},{"$f":"IF(D8701=\"\",\" \",VLOOKUP(R8701,'Main page'!$E$29:'Main page'!$G$41,3,TRUE))","v":" "}]
[null,null,null,null,null,null,null,null,null,null,null,null," "," "," "," ",{"$f":"IF(I8705=\"\",\"\",IF(I8705<='Main page'!$F$49,\"Core staff\",\"Senior staff\"))","v":""},{"$f":"IF(D8705=\"\",\" \",'Main page'!$F$21-(D8705))","v":" "},{"$f":"IF(D8705=\"\",\" \",VLOOKUP(R8705,'Main page'!$E$29:'Main page'!$G$41,3,TRUE))","v":" "}]
[null,null,null,null,null,null,null,null,null,null,null,null," "," "," "," ",{"$f":"IF(I8717=\"\",\"\",IF(I8717<='Main page'!$F$49,\"Core staff\",\"Senior staff\"))","v":""},{"$f":"IF(D8717=\"\",\" \",'Main page'!$F$21-(D8717))","v":" "},{"$f":"IF(D8717=\"\",\" \",VLOOKUP(R8717,'Main page'!$E$29:'Main page'!$G$41,3,TRUE))","v":" "}]
[null,null,null,null,null,null,null,null,null,null,null,null," "," "," "," ",{"$f":"IF(I8724=\"\",\"\",IF(I8724<='Main page'!$F$49,\"Core staff\",\"Senior staff\"))","v":""},{"$f":"IF(D8724=\"\",\" \",'Main page'!$F$21-(D8724))","v":" "},{"$f":"IF(D8724=\"\",\" \",VLOOKUP(R8724,'Main page'!$E$29:'Main page'!$G$41,3,TRUE))","v":" "}]
[null,null,null,null,null,null,null,null,null,null,null,null," "," "," "," ",{"$f":"IF(I8732=\"\",\"\",IF(I8732<='Main page'!$F$49,\"Core staff\",\"Senior staff\"))","v":""},{"$f":"IF(D8732=\"\",\" \",'Main page'!$F$21-(D8732))","v":" "},{"$f":"IF(D8732=\"\",\" \",VLOOKUP(R8732,'Main page'!$E$29:'Main page'!$G$41,3,TRUE))","v":" "}]
[null,null,null,null,null,null,null,null,null,null,null,null," "," "," "," ",{"$f":"IF(I8742=\"\",\"\",IF(I8742<='Main page'!$F$49,\"Core staff\",\"Senior staff\"))","v":""},{"$f":"IF(D8742=\"\",\" \",'Main page'!$F$21-(D8742))","v":" "},{"$f":"IF(D8742=\"\",\" \",VLOOKUP(R8742,'Main page'!$E$29:'Main page'!$G$41,3,TRUE))","v":" "}]
[null,null,null,null,null,null,null,null,null,null,null,null," "," "," "," ",{"$f":"IF(I8754=\"\",\"\",IF(I8754<='Main page'!$F$49,\"Core staff\",\"Senior staff\"))","v":""},{"$f":"IF(D8754=\"\",\" \",'Main page'!$F$21-(D8754))","v":" "},{"$f":"IF(D8754=\"\",\" \",VLOOKUP(R8754,'Main page'!$E$29:'Main page'!$G$41,3,TRUE))","v":" "}]
[null,null,null,null,null,null,null,null,null,null,null,null," "," "," "," ",{"$f":"IF(I8757=\"\",\"\",IF(I8757<='Main page'!$F$49,\"Core staff\",\"Senior staff\"))","v":""},{"$f":"IF(D8757=\"\",\" \",'Main page'!$F$21-(D8757))","v":" "},{"$f":"IF(D8757=\"\",\" \",VLOOKUP(R8757,'Main page'!$E$29:'Main page'!$G$41,3,TRUE))","v":" "}]
[null,null,null,null,null,null,null,null,null,null,null,null," "," "," "," ",{"$f":"IF(I8771=\"\",\"\",IF(I8771<='Main page'!$F$49,\"Core staff\",\"Senior staff\"))","v":""},{"$f":"IF(D8771=\"\",\" \",'Main page'!$F$21-(D8771))","v":" "},{"$f":"IF(D8771=\"\",\" \",VLOOKUP(R8771,'Main page'!$E$29:'Main page'!$G$41,3,TRUE))","v":" "}]
[null,null,null,null,null,null,null,null,null,null,null,null," "," "," "," ",{"$f":"IF(I8775=\"\",\"\",IF(I8775<='Main page'!$F$49,\"Core staff\",\"Senior staff\"))","v":""},{"$f":"IF(D8775=\"\",\" \",'Main page'!$F$21-(D8775))","v":" "},{"$f":"IF(D8775=\"\",\" \",VLOOKUP(R8775,'Main page'!$E$29:'Main page'!$G$41,3,TRUE))","v":" "}]
[null,null,null,null,null,null,null,null,null,null,null,null,{"$f":"IFERROR(J8782/G8782,\" \")","v":" "},{"$f":"IFERROR((M8782/$U$4)/H8782,\" \")","v":" "},{"$f":"IFERROR((N8782*75)*26.083,\" \")","v":" "},{"$f":"IF(G8782=0,\" \",IF(G8782=1,\"Full time\",\"Part time\"))","v":" "},{"$f":"IF(I8782=\"\",\"\",IF(I8782<='Main page'!$F$49,\"Core staff\",\"Senior staff\"))","v":""},{"$f":"IF(D8782=\"\",\" \",'Main page'!$F$21-(D8782))","v":" "},{"$f":"IF(D8782=\"\",\" \",VLOOKUP(R8782,'Main page'!$E$29:'Main page'!$G$41,3,TRUE))","v":" "}]
[null,null,null,null,null,null,null,null,null,null,null,null," "," "," "," ",{"$f":"IF(I8794=\"\",\"\",IF(I8794<='Main page'!$F$49,\"Core staff\",\"Senior staff\"))","v":""},{"$f":"IF(D8794=\"\",\" \",'Main page'!$F$21-(D8794))","v":" "},{"$f":"IF(D8794=\"\",\" \",VLOOKUP(R8794,'Main page'!$E$29:'Main page'!$G$41,3,TRUE))","v":" "}]
[null,null,null,null,null,null,null,null,null,null,null,null," "," "," "," ",{"$f":"IF(I8802=\"\",\"\",IF(I8802<='Main page'!$F$49,\"Core staff\",\"Senior staff\"))","v":""},{"$f":"IF(D8802=\"\",\" \",'Main page'!$F$21-(D8802))","v":" "},{"$f":"IF(D8802=\"\",\" \",VLOOKUP(R8802,'Main page'!$E$29:'Main page'!$G$41,3,TRUE))","v":" "}]
[null,null,null,null,null,null,null,null,null,null,null,null," "," "," "," ",{"$f":"IF(I8812=\"\",\"\",IF(I8812<='Main page'!$F$49,\"Core staff\",\"Senior staff\"))","v":""},{"$f":"IF(D8812=\"\",\" \",'Main page'!$F$21-(D8812))","v":" "},{"$f":"IF(D8812=\"\",\" \",VLOOKUP(R8812,'Main page'!$E$29:'Main page'!$G$41,3,TRUE))","v":" "}]
[null,null,null,null,null,null,null,null,null,null,null,null," "," "," "," ",{"$f":"IF(I8824=\"\",\"\",IF(I8824<='Main page'!$F$49,\"Core staff\",\"Senior staff\"))","v":""},{"$f":"IF(D8824=\"\",\" \",'Main page'!$F$21-(D8824))","v":" "},{"$f":"IF(D8824=\"\",\" \",VLOOKUP(R8824,'Main page'!$E$29:'Main page'!$G$41,3,TRUE))","v":" "}]
[null,null,null,null,null,null,null,null,null,null,null,null," "," "," "," ",{"$f":"IF(I8827=\"\",\"\",IF(I8827<='Main page'!$F$49,\"Core staff\",\"Senior staff\"))","v":""},{"$f":"IF(D8827=\"\",\" \",'Main page'!$F$21-(D8827))","v":" "},{"$f":"IF(D8827=\"\",\" \",VLOOKUP(R8827,'Main page'!$E$29:'Main page'!$G$41,3,TRUE))","v":" "}]
[null,null,null,null,null,null,null,null,null,null,null,null," "," "," "," ",{"$f":"IF(I8841=\"\",\"\",IF(I8841<='Main page'!$F$49,\"Core staff\",\"Senior staff\"))","v":""},{"$f":"IF(D8841=\"\",\" \",'Main page'!$F$21-(D8841))","v":" "},{"$f":"IF(D8841=\"\",\" \",VLOOKUP(R8841,'Main page'!$E$29:'Main page'!$G$41,3,TRUE))","v":" "}]
[null,null,null,null,null,null,null,null,null,null,null,null," "," "," "," ",{"$f":"IF(I8845=\"\",\"\",IF(I8845<='Main page'!$F$49,\"Core staff\",\"Senior staff\"))","v":""},{"$f":"IF(D8845=\"\",\" \",'Main page'!$F$21-(D8845))","v":" "},{"$f":"IF(D8845=\"\",\" \",VLOOKUP(R8845,'Main page'!$E$29:'Main page'!$G$41,3,TRUE))","v":" "}]
[null,null,null,null,null,null,null,null,null,null,null,null," "," "," "," ",{"$f":"IF(I8852=\"\",\"\",IF(I8852<='Main page'!$F$49,\"Core staff\",\"Senior staff\"))","v":""},{"$f":"IF(D8852=\"\",\" \",'Main page'!$F$21-(D8852))","v":" "},{"$f":"IF(D8852=\"\",\" \",VLOOKUP(R8852,'Main page'!$E$29:'Main page'!$G$41,3,TRUE))","v":" "}]
[null,null,null,null,null,null,null,null,null,null,null,null," "," "," "," ",{"$f":"IF(I8864=\"\",\"\",IF(I8864<='Main page'!$F$49,\"Core staff\",\"Senior staff\"))","v":""},{"$f":"IF(D8864=\"\",\" \",'Main page'!$F$21-(D8864))","v":" "},{"$f":"IF(D8864=\"\",\" \",VLOOKUP(R8864,'Main page'!$E$29:'Main page'!$G$41,3,TRUE))","v":" "}]
[null,null,null,null,null,null,null,null,null,null,null,null," "," "," "," ",{"$f":"IF(I8872=\"\",\"\",IF(I8872<='Main page'!$F$49,\"Core staff\",\"Senior staff\"))","v":""},{"$f":"IF(D8872=\"\",\" \",'Main page'!$F$21-(D8872))","v":" "},{"$f":"IF(D8872=\"\",\" \",VLOOKUP(R8872,'Main page'!$E$29:'Main page'!$G$41,3,TRUE))","v":" "}]
[null,null,null,null,null,null,null,null,null,null,null,null," "," "," "," ",{"$f":"IF(I8882=\"\",\"\",IF(I8882<='Main page'!$F$49,\"Core staff\",\"Senior staff\"))","v":""},{"$f":"IF(D8882=\"\",\" \",'Main page'!$F$21-(D8882))","v":" "},{"$f":"IF(D8882=\"\",\" \",VLOOKUP(R8882,'Main page'!$E$29:'Main page'!$G$41,3,TRUE))","v":" "}]
[null,null,null,null,null,null,null,null,null,null,null,null," "," "," "," ",{"$f":"IF(I8894=\"\",\"\",IF(I8894<='Main page'!$F$49,\"Core staff\",\"Senior staff\"))","v":""},{"$f":"IF(D8894=\"\",\" \",'Main page'!$F$21-(D8894))","v":" "},{"$f":"IF(D8894=\"\",\" \",VLOOKUP(R8894,'Main page'!$E$29:'Main page'!$G$41,3,TRUE))","v":" "}]
[null,null,null,null,null,null,null,null,null,null,null,null," "," "," "," ",{"$f":"IF(I8897=\"\",\"\",IF(I8897<='Main page'!$F$49,\"Core staff\",\"Senior staff\"))","v":""},{"$f":"IF(D8897=\"\",\" \",'Main page'!$F$21-(D8897))","v":" "},{"$f":"IF(D8897=\"\",\" \",VLOOKUP(R8897,'Main page'!$E$29:'Main page'!$G$41,3,TRUE))","v":" "}]
[null,null,null,null,null,null,null,null,null,null,null,null," "," "," "," ",{"$f":"IF(I8911=\"\",\"\",IF(I8911<='Main page'!$F$49,\"Core staff\",\"Senior staff\"))","v":""},{"$f":"IF(D8911=\"\",\" \",'Main page'!$F$21-(D8911))","v":" "},{"$f":"IF(D8911=\"\",\" \",VLOOKUP(R8911,'Main page'!$E$29:'Main page'!$G$41,3,TRUE))","v":" "}]
[null,null,null,null,null,null,null,null,null,null,null,null," "," "," "," ",{"$f":"IF(I8915=\"\",\"\",IF(I8915<='Main page'!$F$49,\"Core staff\",\"Senior staff\"))","v":""},{"$f":"IF(D8915=\"\",\" \",'Main page'!$F$21-(D8915))","v":" "},{"$f":"IF(D8915=\"\",\" \",VLOOKUP(R8915,'Main page'!$E$29:'Main page'!$G$41,3,TRUE))","v":" "}]
[null,null,null,null,null,null,null,null,null,null,null,null," "," "," "," ",{"$f":"IF(I8922=\"\",\"\",IF(I8922<='Main page'!$F$49,\"Core staff\",\"Senior staff\"))","v":""},{"$f":"IF(D8922=\"\",\" \",'Main page'!$F$21-(D8922))","v":" "},{"$f":"IF(D8922=\"\",\" \",VLOOKUP(R8922,'Main page'!$E$29:'Main page'!$G$41,3,TRUE))","v":" "}]
[null,null,null,null,null,null,null,null,null,null,null,null," "," "," "," ",{"$f":"IF(I8934=\"\",\"\",IF(I8934<='Main page'!$F$49,\"Core staff\",\"Senior staff\"))","v":""},{"$f":"IF(D8934=\"\",\" \",'Main page'!$F$21-(D8934))","v":" "},{"$f":"IF(D8934=\"\",\" \",VLOOKUP(R8934,'Main page'!$E$29:'Main page'!$G$41,3,TRUE))","v":" "}]
[null,null,null,null,null,null,null,null,null,null,null,null," "," "," "," ",{"$f":"IF(I8942=\"\",\"\",IF(I8942<='Main page'!$F$49,\"Core staff\",\"Senior staff\"))","v":""},{"$f":"IF(D8942=\"\",\" \",'Main page'!$F$21-(D8942))","v":" "},{"$f":"IF(D8942=\"\",\" \",VLOOKUP(R8942,'Main page'!$E$29:'Main page'!$G$41,3,TRUE))","v":" "}]
[null,null,null,null,null,null,null,null,null,null,null,null," "," "," "," ",{"$f":"IF(I8952=\"\",\"\",IF(I8952<='Main page'!$F$49,\"Core staff\",\"Senior staff\"))","v":""},{"$f":"IF(D8952=\"\",\" \",'Main page'!$F$21-(D8952))","v":" "},{"$f":"IF(D8952=\"\",\" \",VLOOKUP(R8952,'Main page'!$E$29:'Main page'!$G$41,3,TRUE))","v":" "}]
[null,null,null,null,null,null,null,null,null,null,null,null," "," "," "," ",{"$f":"IF(I8964=\"\",\"\",IF(I8964<='Main page'!$F$49,\"Core staff\",\"Senior staff\"))","v":""},{"$f":"IF(D8964=\"\",\" \",'Main page'!$F$21-(D8964))","v":" "},{"$f":"IF(D8964=\"\",\" \",VLOOKUP(R8964,'Main page'!$E$29:'Main page'!$G$41,3,TRUE))","v":" "}]
[null,null,null,null,null,null,null,null,null,null,null,null," "," "," "," ",{"$f":"IF(I8971=\"\",\"\",IF(I8971<='Main page'!$F$49,\"Core staff\",\"Senior staff\"))","v":""},{"$f":"IF(D8971=\"\",\" \",'Main page'!$F$21-(D8971))","v":" "},{"$f":"IF(D8971=\"\",\" \",VLOOKUP(R8971,'Main page'!$E$29:'Main page'!$G$41,3,TRUE))","v":" "}]
[null,null,null,null,null,null,null,null,null,null,null,null," "," "," "," ",{"$f":"IF(I8981=\"\",\"\",IF(I8981<='Main page'!$F$49,\"Core staff\",\"Senior staff\"))","v":""},{"$f":"IF(D8981=\"\",\" \",'Main page'!$F$21-(D8981))","v":" "},{"$f":"IF(D8981=\"\",\" \",VLOOKUP(R8981,'Main page'!$E$29:'Main page'!$G$41,3,TRUE))","v":" "}]
[null,null,null,null,null,null,null,null,null,null,null,null," "," "," "," ",{"$f":"IF(I8985=\"\",\"\",IF(I8985<='Main page'!$F$49,\"Core staff\",\"Senior staff\"))","v":""},{"$f":"IF(D8985=\"\",\" \",'Main page'!$F$21-(D8985))","v":" "},{"$f":"IF(D8985=\"\",\" \",VLOOKUP(R8985,'Main page'!$E$29:'Main page'!$G$41,3,TRUE))","v":" "}]
[null,null,null,null,null,null,null,null,null,null,null,null," "," "," "," ",{"$f":"IF(I8992=\"\",\"\",IF(I8992<='Main page'!$F$49,\"Core staff\",\"Senior staff\"))","v":""},{"$f":"IF(D8992=\"\",\" \",'Main page'!$F$21-(D8992))","v":" "},{"$f":"IF(D8992=\"\",\" \",VLOOKUP(R8992,'Main page'!$E$29:'Main page'!$G$41,3,TRUE))","v":" "}]
[null,null,null,null,null,null,null,null,null,null,null,null," "," "," "," ",{"$f":"IF(I9004=\"\",\"\",IF(I9004<='Main page'!$F$49,\"Core staff\",\"Senior staff\"))","v":""},{"$f":"IF(D9004=\"\",\" \",'Main page'!$F$21-(D9004))","v":" "},{"$f":"IF(D9004=\"\",\" \",VLOOKUP(R9004,'Main page'!$E$29:'Main page'!$G$41,3,TRUE))","v":" "}]
[null,null,null,null,null,null,null,null,null,null,null,null," "," "," "," ",{"$f":"IF(I9012=\"\",\"\",IF(I9012<='Main page'!$F$49,\"Core staff\",\"Senior staff\"))","v":""},{"$f":"IF(D9012=\"\",\" \",'Main page'!$F$21-(D9012))","v":" "},{"$f":"IF(D9012=\"\",\" \",VLOOKUP(R9012,'Main page'!$E$29:'Main page'!$G$41,3,TRUE))","v":" "}]
[null,null,null,null,null,null,null,null,null,null,null,null," "," "," "," ",{"$f":"IF(I9022=\"\",\"\",IF(I9022<='Main page'!$F$49,\"Core staff\",\"Senior staff\"))","v":""},{"$f":"IF(D9022=\"\",\" \",'Main page'!$F$21-(D9022))","v":" "},{"$f":"IF(D9022=\"\",\" \",VLOOKUP(R9022,'Main page'!$E$29:'Main page'!$G$41,3,TRUE))","v":" "}]
[null,null,null,null,null,null,null,null,null,null,null,null," "," "," "," ",{"$f":"IF(I9034=\"\",\"\",IF(I9034<='Main page'!$F$49,\"Core staff\",\"Senior staff\"))","v":""},{"$f":"IF(D9034=\"\",\" \",'Main page'!$F$21-(D9034))","v":" "},{"$f":"IF(D9034=\"\",\" \",VLOOKUP(R9034,'Main page'!$E$29:'Main page'!$G$41,3,TRUE))","v":" "}]
[null,null,null,null,null,null,null,null,null,null,null,null," "," "," "," ",{"$f":"IF(I9041=\"\",\"\",IF(I9041<='Main page'!$F$49,\"Core staff\",\"Senior staff\"))","v":""},{"$f":"IF(D9041=\"\",\" \",'Main page'!$F$21-(D9041))","v":" "},{"$f":"IF(D9041=\"\",\" \",VLOOKUP(R9041,'Main page'!$E$29:'Main page'!$G$41,3,TRUE))","v":" "}]
[null,null,null,null,null,null,null,null,null,null,null,null," "," "," "," ",{"$f":"IF(I9051=\"\",\"\",IF(I9051<='Main page'!$F$49,\"Core staff\",\"Senior staff\"))","v":""},{"$f":"IF(D9051=\"\",\" \",'Main page'!$F$21-(D9051))","v":" "},{"$f":"IF(D9051=\"\",\" \",VLOOKUP(R9051,'Main page'!$E$29:'Main page'!$G$41,3,TRUE))","v":" "}]
[null,null,null,null,null,null,null,null,null,null,null,null," "," "," "," ",{"$f":"IF(I9055=\"\",\"\",IF(I9055<='Main page'!$F$49,\"Core staff\",\"Senior staff\"))","v":""},{"$f":"IF(D9055=\"\",\" \",'Main page'!$F$21-(D9055))","v":" "},{"$f":"IF(D9055=\"\",\" \",VLOOKUP(R9055,'Main page'!$E$29:'Main page'!$G$41,3,TRUE))","v":" "}]
[null,null,null,null,null,null,null,null,null,null,null,null," "," "," "," ",{"$f":"IF(I9062=\"\",\"\",IF(I9062<='Main page'!$F$49,\"Core staff\",\"Senior staff\"))","v":""},{"$f":"IF(D9062=\"\",\" \",'Main page'!$F$21-(D9062))","v":" "},{"$f":"IF(D9062=\"\",\" \",VLOOKUP(R9062,'Main page'!$E$29:'Main page'!$G$41,3,TRUE))","v":" "}]
[null,null,null,null,null,null,null,null,null,null,null,null," "," "," "," ",{"$f":"IF(I9074=\"\",\"\",IF(I9074<='Main page'!$F$49,\"Core staff\",\"Senior staff\"))","v":""},{"$f":"IF(D9074=\"\",\" \",'Main page'!$F$21-(D9074))","v":" "},{"$f":"IF(D9074=\"\",\" \",VLOOKUP(R9074,'Main page'!$E$29:'Main page'!$G$41,3,TRUE))","v":" "}]
[null,null,null,null,null,null,null,null,null,null,null,null," "," "," "," ",{"$f":"IF(I9082=\"\",\"\",IF(I9082<='Main page'!$F$49,\"Core staff\",\"Senior staff\"))","v":""},{"$f":"IF(D9082=\"\",\" \",'Main page'!$F$21-(D9082))","v":" "},{"$f":"IF(D9082=\"\",\" \",VLOOKUP(R9082,'Main page'!$E$29:'Main page'!$G$41,3,TRUE))","v":" "}]
[null,null,null,null,null,null,null,null,null,null,null,null," "," "," "," ",{"$f":"IF(I9092=\"\",\"\",IF(I9092<='Main page'!$F$49,\"Core staff\",\"Senior staff\"))","v":""},{"$f":"IF(D9092=\"\",\" \",'Main page'!$F$21-(D9092))","v":" "},{"$f":"IF(D9092=\"\",\" \",VLOOKUP(R9092,'Main page'!$E$29:'Main page'!$G$41,3,TRUE))","v":" "}]
[null,null,null,null,null,null,null,null,null,null,null,null," "," "," "," ",{"$f":"IF(I9104=\"\",\"\",IF(I9104<='Main page'!$F$49,\"Core staff\",\"Senior staff\"))","v":""},{"$f":"IF(D9104=\"\",\" \",'Main page'!$F$21-(D9104))","v":" "},{"$f":"IF(D9104=\"\",\" \",VLOOKUP(R9104,'Main page'!$E$29:'Main page'!$G$41,3,TRUE))","v":" "}]
[null,null,null,null,null,null,null,null,null,null,null,null," "," "," "," ",{"$f":"IF(I9111=\"\",\"\",IF(I9111<='Main page'!$F$49,\"Core staff\",\"Senior staff\"))","v":""},{"$f":"IF(D9111=\"\",\" \",'Main page'!$F$21-(D9111))","v":" "},{"$f":"IF(D9111=\"\",\" \",VLOOKUP(R9111,'Main page'!$E$29:'Main page'!$G$41,3,TRUE))","v":" "}]
[null,null,null,null,null,null,null,null,null,null,null,null," "," "," "," ",{"$f":"IF(I9121=\"\",\"\",IF(I9121<='Main page'!$F$49,\"Core staff\",\"Senior staff\"))","v":""},{"$f":"IF(D9121=\"\",\" \",'Main page'!$F$21-(D9121))","v":" "},{"$f":"IF(D9121=\"\",\" \",VLOOKUP(R9121,'Main page'!$E$29:'Main page'!$G$41,3,TRUE))","v":" "}]
[null,null,null,null,null,null,null,null,null,null,null,null," "," "," "," ",{"$f":"IF(I9125=\"\",\"\",IF(I9125<='Main page'!$F$49,\"Core staff\",\"Senior staff\"))","v":""},{"$f":"IF(D9125=\"\",\" \",'Main page'!$F$21-(D9125))","v":" "},{"$f":"IF(D9125=\"\",\" \",VLOOKUP(R9125,'Main page'!$E$29:'Main page'!$G$41,3,TRUE))","v":" "}]
[null,null,null,null,null,null,null,null,null,null,null,null," "," "," "," ",{"$f":"IF(I9132=\"\",\"\",IF(I9132<='Main page'!$F$49,\"Core staff\",\"Senior staff\"))","v":""},{"$f":"IF(D9132=\"\",\" \",'Main page'!$F$21-(D9132))","v":" "},{"$f":"IF(D9132=\"\",\" \",VLOOKUP(R9132,'Main page'!$E$29:'Main page'!$G$41,3,TRUE))","v":" "}]
[null,null,null,null,null,null,null,null,null,null,null,null," "," "," "," ",{"$f":"IF(I9144=\"\",\"\",IF(I9144<='Main page'!$F$49,\"Core staff\",\"Senior staff\"))","v":""},{"$f":"IF(D9144=\"\",\" \",'Main page'!$F$21-(D9144))","v":" "},{"$f":"IF(D9144=\"\",\" \",VLOOKUP(R9144,'Main page'!$E$29:'Main page'!$G$41,3,TRUE))","v":" "}]
[null,null,null,null,null,null,null,null,null,null,null,null," "," "," "," ",{"$f":"IF(I9152=\"\",\"\",IF(I9152<='Main page'!$F$49,\"Core staff\",\"Senior staff\"))","v":""},{"$f":"IF(D9152=\"\",\" \",'Main page'!$F$21-(D9152))","v":" "},{"$f":"IF(D9152=\"\",\" \",VLOOKUP(R9152,'Main page'!$E$29:'Main page'!$G$41,3,TRUE))","v":" "}]
[null,null,null,null,null,null,null,null,null,null,null,null," "," "," "," ",{"$f":"IF(I9162=\"\",\"\",IF(I9162<='Main page'!$F$49,\"Core staff\",\"Senior staff\"))","v":""},{"$f":"IF(D9162=\"\",\" \",'Main page'!$F$21-(D9162))","v":" "},{"$f":"IF(D9162=\"\",\" \",VLOOKUP(R9162,'Main page'!$E$29:'Main page'!$G$41,3,TRUE))","v":" "}]
[null,null,null,null,null,null,null,null,null,null,null,null," "," "," "," ",{"$f":"IF(I9174=\"\",\"\",IF(I9174<='Main page'!$F$49,\"Core staff\",\"Senior staff\"))","v":""},{"$f":"IF(D9174=\"\",\" \",'Main page'!$F$21-(D9174))","v":" "},{"$f":"IF(D9174=\"\",\" \",VLOOKUP(R9174,'Main page'!$E$29:'Main page'!$G$41,3,TRUE))","v":" "}]
[null,null,null,null,null,null,null,null,null,null,null,null," "," "," "," ",{"$f":"IF(I9181=\"\",\"\",IF(I9181<='Main page'!$F$49,\"Core staff\",\"Senior staff\"))","v":""},{"$f":"IF(D9181=\"\",\" \",'Main page'!$F$21-(D9181))","v":" "},{"$f":"IF(D9181=\"\",\" \",VLOOKUP(R9181,'Main page'!$E$29:'Main page'!$G$41,3,TRUE))","v":" "}]
[null,null,null,null,null,null,null,null,null,null,null,null," "," "," "," ",{"$f":"IF(I9191=\"\",\"\",IF(I9191<='Main page'!$F$49,\"Core staff\",\"Senior staff\"))","v":""},{"$f":"IF(D9191=\"\",\" \",'Main page'!$F$21-(D9191))","v":" "},{"$f":"IF(D9191=\"\",\" \",VLOOKUP(R9191,'Main page'!$E$29:'Main page'!$G$41,3,TRUE))","v":" "}]
[null,null,null,null,null,null,null,null,null,null,null,null," "," "," "," ",{"$f":"IF(I9195=\"\",\"\",IF(I9195<='Main page'!$F$49,\"Core staff\",\"Senior staff\"))","v":""},{"$f":"IF(D9195=\"\",\" \",'Main page'!$F$21-(D9195))","v":" "},{"$f":"IF(D9195=\"\",\" \",VLOOKUP(R9195,'Main page'!$E$29:'Main page'!$G$41,3,TRUE))","v":" "}]
[null,null,null,null,null,null,null,null,null,null,null,null," "," "," "," ",{"$f":"IF(I9202=\"\",\"\",IF(I9202<='Main page'!$F$49,\"Core staff\",\"Senior staff\"))","v":""},{"$f":"IF(D9202=\"\",\" \",'Main page'!$F$21-(D9202))","v":" "},{"$f":"IF(D9202=\"\",\" \",VLOOKUP(R9202,'Main page'!$E$29:'Main page'!$G$41,3,TRUE))","v":" "}]
[null,null,null,null,null,null,null,null,null,null,null,null," "," "," "," ",{"$f":"IF(I9214=\"\",\"\",IF(I9214<='Main page'!$F$49,\"Core staff\",\"Senior staff\"))","v":""},{"$f":"IF(D9214=\"\",\" \",'Main page'!$F$21-(D9214))","v":" "},{"$f":"IF(D9214=\"\",\" \",VLOOKUP(R9214,'Main page'!$E$29:'Main page'!$G$41,3,TRUE))","v":" "}]
[null,null,null,null,null,null,null,null,null,null,null,null," "," "," "," ",{"$f":"IF(I9222=\"\",\"\",IF(I9222<='Main page'!$F$49,\"Core staff\",\"Senior staff\"))","v":""},{"$f":"IF(D9222=\"\",\" \",'Main page'!$F$21-(D9222))","v":" "},{"$f":"IF(D9222=\"\",\" \",VLOOKUP(R9222,'Main page'!$E$29:'Main page'!$G$41,3,TRUE))","v":" "}]
[null,null,null,null,null,null,null,null,null,null,null,null," "," "," "," ",{"$f":"IF(I9232=\"\",\"\",IF(I9232<='Main page'!$F$49,\"Core staff\",\"Senior staff\"))","v":""},{"$f":"IF(D9232=\"\",\" \",'Main page'!$F$21-(D9232))","v":" "},{"$f":"IF(D9232=\"\",\" \",VLOOKUP(R9232,'Main page'!$E$29:'Main page'!$G$41,3,TRUE))","v":" "}]
[null,null,null,null,null,null,null,null,null,null,null,null," "," "," "," ",{"$f":"IF(I9244=\"\",\"\",IF(I9244<='Main page'!$F$49,\"Core staff\",\"Senior staff\"))","v":""},{"$f":"IF(D9244=\"\",\" \",'Main page'!$F$21-(D9244))","v":" "},{"$f":"IF(D9244=\"\",\" \",VLOOKUP(R9244,'Main page'!$E$29:'Main page'!$G$41,3,TRUE))","v":" "}]
[null,null,null,null,null,null,null,null,null,null,null,null," "," "," "," ",{"$f":"IF(I9251=\"\",\"\",IF(I9251<='Main page'!$F$49,\"Core staff\",\"Senior staff\"))","v":""},{"$f":"IF(D9251=\"\",\" \",'Main page'!$F$21-(D9251))","v":" "},{"$f":"IF(D9251=\"\",\" \",VLOOKUP(R9251,'Main page'!$E$29:'Main page'!$G$41,3,TRUE))","v":" "}]
[null,null,null,null,null,null,null,null,null,null,null,null," "," "," "," ",{"$f":"IF(I9261=\"\",\"\",IF(I9261<='Main page'!$F$49,\"Core staff\",\"Senior staff\"))","v":""},{"$f":"IF(D9261=\"\",\" \",'Main page'!$F$21-(D9261))","v":" "},{"$f":"IF(D9261=\"\",\" \",VLOOKUP(R9261,'Main page'!$E$29:'Main page'!$G$41,3,TRUE))","v":" "}]
[null,null,null,null,null,null,null,null,null,null,null,null," "," "," "," ",{"$f":"IF(I9269=\"\",\"\",IF(I9269<='Main page'!$F$49,\"Core staff\",\"Senior staff\"))","v":""},{"$f":"IF(D9269=\"\",\" \",'Main page'!$F$21-(D9269))","v":" "},{"$f":"IF(D9269=\"\",\" \",VLOOKUP(R9269,'Main page'!$E$29:'Main page'!$G$41,3,TRUE))","v":" "}]
[null,null,null,null,null,null,null,null,null,null,null,null," "," "," "," ",{"$f":"IF(I9272=\"\",\"\",IF(I9272<='Main page'!$F$49,\"Core staff\",\"Senior staff\"))","v":""},{"$f":"IF(D9272=\"\",\" \",'Main page'!$F$21-(D9272))","v":" "},{"$f":"IF(D9272=\"\",\" \",VLOOKUP(R9272,'Main page'!$E$29:'Main page'!$G$41,3,TRUE))","v":" "}]
[null,null,null,null,null,null,null,null,null,null,null,null," "," "," "," ",{"$f":"IF(I9284=\"\",\"\",IF(I9284<='Main page'!$F$49,\"Core staff\",\"Senior staff\"))","v":""},{"$f":"IF(D9284=\"\",\" \",'Main page'!$F$21-(D9284))","v":" "},{"$f":"IF(D9284=\"\",\" \",VLOOKUP(R9284,'Main page'!$E$29:'Main page'!$G$41,3,TRUE))","v":" "}]
[null,null,null,null,null,null,null,null,null,null,null,null," "," "," "," ",{"$f":"IF(I9292=\"\",\"\",IF(I9292<='Main page'!$F$49,\"Core staff\",\"Senior staff\"))","v":""},{"$f":"IF(D9292=\"\",\" \",'Main page'!$F$21-(D9292))","v":" "},{"$f":"IF(D9292=\"\",\" \",VLOOKUP(R9292,'Main page'!$E$29:'Main page'!$G$41,3,TRUE))","v":" "}]
[null,null,null,null,null,null,null,null,null,null,null,null," "," "," "," ",{"$f":"IF(I9302=\"\",\"\",IF(I9302<='Main page'!$F$49,\"Core staff\",\"Senior staff\"))","v":""},{"$f":"IF(D9302=\"\",\" \",'Main page'!$F$21-(D9302))","v":" "},{"$f":"IF(D9302=\"\",\" \",VLOOKUP(R9302,'Main page'!$E$29:'Main page'!$G$41,3,TRUE))","v":" "}]
[null,null,null,null,null,null,null,null,null,null,null,null," "," "," "," ",{"$f":"IF(I9314=\"\",\"\",IF(I9314<='Main page'!$F$49,\"Core staff\",\"Senior staff\"))","v":""},{"$f":"IF(D9314=\"\",\" \",'Main page'!$F$21-(D9314))","v":" "},{"$f":"IF(D9314=\"\",\" \",VLOOKUP(R9314,'Main page'!$E$29:'Main page'!$G$41,3,TRUE))","v":" "}]
[null,null,null,null,null,null,null,null,null,null,null,null," "," "," "," ",{"$f":"IF(I9321=\"\",\"\",IF(I9321<='Main page'!$F$49,\"Core staff\",\"Senior staff\"))","v":""},{"$f":"IF(D9321=\"\",\" \",'Main page'!$F$21-(D9321))","v":" "},{"$f":"IF(D9321=\"\",\" \",VLOOKUP(R9321,'Main page'!$E$29:'Main page'!$G$41,3,TRUE))","v":" "}]
[null,null,null,null,null,null,null,null,null,null,null,null," "," "," "," ",{"$f":"IF(I9331=\"\",\"\",IF(I9331<='Main page'!$F$49,\"Core staff\",\"Senior staff\"))","v":""},{"$f":"IF(D9331=\"\",\" \",'Main page'!$F$21-(D9331))","v":" "},{"$f":"IF(D9331=\"\",\" \",VLOOKUP(R9331,'Main page'!$E$29:'Main page'!$G$41,3,TRUE))","v":" "}]
[null,null,null,null,null,null,null,null,null,null,null,null," "," "," "," ",{"$f":"IF(I9339=\"\",\"\",IF(I9339<='Main page'!$F$49,\"Core staff\",\"Senior staff\"))","v":""},{"$f":"IF(D9339=\"\",\" \",'Main page'!$F$21-(D9339))","v":" "},{"$f":"IF(D9339=\"\",\" \",VLOOKUP(R9339,'Main page'!$E$29:'Main page'!$G$41,3,TRUE))","v":" "}]
[null,null,null,null,null,null,null,null,null,null,null,null," "," "," "," ",{"$f":"IF(I9342=\"\",\"\",IF(I9342<='Main page'!$F$49,\"Core staff\",\"Senior staff\"))","v":""},{"$f":"IF(D9342=\"\",\" \",'Main page'!$F$21-(D9342))","v":" "},{"$f":"IF(D9342=\"\",\" \",VLOOKUP(R9342,'Main page'!$E$29:'Main page'!$G$41,3,TRUE))","v":" "}]
[null,null,null,null,null,null,null,null,null,null,null,null," "," "," "," ",{"$f":"IF(I9354=\"\",\"\",IF(I9354<='Main page'!$F$49,\"Core staff\",\"Senior staff\"))","v":""},{"$f":"IF(D9354=\"\",\" \",'Main page'!$F$21-(D9354))","v":" "},{"$f":"IF(D9354=\"\",\" \",VLOOKUP(R9354,'Main page'!$E$29:'Main page'!$G$41,3,TRUE))","v":" "}]
[null,null,null,null,null,null,null,null,null,null,null,null," "," "," "," ",{"$f":"IF(I9362=\"\",\"\",IF(I9362<='Main page'!$F$49,\"Core staff\",\"Senior staff\"))","v":""},{"$f":"IF(D9362=\"\",\" \",'Main page'!$F$21-(D9362))","v":" "},{"$f":"IF(D9362=\"\",\" \",VLOOKUP(R9362,'Main page'!$E$29:'Main page'!$G$41,3,TRUE))","v":" "}]
[null,null,null,null,null,null,null,null,null,null,null,null," "," "," "," ",{"$f":"IF(I9372=\"\",\"\",IF(I9372<='Main page'!$F$49,\"Core staff\",\"Senior staff\"))","v":""},{"$f":"IF(D9372=\"\",\" \",'Main page'!$F$21-(D9372))","v":" "},{"$f":"IF(D9372=\"\",\" \",VLOOKUP(R9372,'Main page'!$E$29:'Main page'!$G$41,3,TRUE))","v":" "}]
[null,null,null,null,null,null,null,null,null,null,null,null," "," "," "," ",{"$f":"IF(I9384=\"\",\"\",IF(I9384<='Main page'!$F$49,\"Core staff\",\"Senior staff\"))","v":""},{"$f":"IF(D9384=\"\",\" \",'Main page'!$F$21-(D9384))","v":" "},{"$f":"IF(D9384=\"\",\" \",VLOOKUP(R9384,'Main page'!$E$29:'Main page'!$G$41,3,TRUE))","v":" "}]
[null,null,null,null,null,null,null,null,null,null,null,null," "," "," "," ",{"$f":"IF(I9391=\"\",\"\",IF(I9391<='Main page'!$F$49,\"Core staff\",\"Senior staff\"))","v":""},{"$f":"IF(D9391=\"\",\" \",'Main page'!$F$21-(D9391))","v":" "},{"$f":"IF(D9391=\"\",\" \",VLOOKUP(R9391,'Main page'!$E$29:'Main page'!$G$41,3,TRUE))","v":" "}]
[null,null,null,null,null,null,null,null,null,null,null,null," "," "," "," ",{"$f":"IF(I9401=\"\",\"\",IF(I9401<='Main page'!$F$49,\"Core staff\",\"Senior staff\"))","v":""},{"$f":"IF(D9401=\"\",\" \",'Main page'!$F$21-(D9401))","v":" "},{"$f":"IF(D9401=\"\",\" \",VLOOKUP(R9401,'Main page'!$E$29:'Main page'!$G$41,3,TRUE))","v":" "}]
[null,null,null,null,null,null,null,null,null,null,null,null," "," "," "," ",{"$f":"IF(I9409=\"\",\"\",IF(I9409<='Main page'!$F$49,\"Core staff\",\"Senior staff\"))","v":""},{"$f":"IF(D9409=\"\",\" \",'Main page'!$F$21-(D9409))","v":" "},{"$f":"IF(D9409=\"\",\" \",VLOOKUP(R9409,'Main page'!$E$29:'Main page'!$G$41,3,TRUE))","v":" "}]
[null,null,null,null,null,null,null,null,null,null,null,null," "," "," "," ",{"$f":"IF(I9412=\"\",\"\",IF(I9412<='Main page'!$F$49,\"Core staff\",\"Senior staff\"))","v":""},{"$f":"IF(D9412=\"\",\" \",'Main page'!$F$21-(D9412))","v":" "},{"$f":"IF(D9412=\"\",\" \",VLOOKUP(R9412,'Main page'!$E$29:'Main page'!$G$41,3,TRUE))","v":" "}]
[null,null,null,null,null,null,null,null,null,null,null,null," "," "," "," ",{"$f":"IF(I9424=\"\",\"\",IF(I9424<='Main page'!$F$49,\"Core staff\",\"Senior staff\"))","v":""},{"$f":"IF(D9424=\"\",\" \",'Main page'!$F$21-(D9424))","v":" "},{"$f":"IF(D9424=\"\",\" \",VLOOKUP(R9424,'Main page'!$E$29:'Main page'!$G$41,3,TRUE))","v":" "}]
[null,null,null,null,null,null,null,null,null,null,null,null," "," "," "," ",{"$f":"IF(I9432=\"\",\"\",IF(I9432<='Main page'!$F$49,\"Core staff\",\"Senior staff\"))","v":""},{"$f":"IF(D9432=\"\",\" \",'Main page'!$F$21-(D9432))","v":" "},{"$f":"IF(D9432=\"\",\" \",VLOOKUP(R9432,'Main page'!$E$29:'Main page'!$G$41,3,TRUE))","v":" "}]
[null,null,null,null,null,null,null,null,null,null,null,null," "," "," "," ",{"$f":"IF(I9442=\"\",\"\",IF(I9442<='Main page'!$F$49,\"Core staff\",\"Senior staff\"))","v":""},{"$f":"IF(D9442=\"\",\" \",'Main page'!$F$21-(D9442))","v":" "},{"$f":"IF(D9442=\"\",\" \",VLOOKUP(R9442,'Main page'!$E$29:'Main page'!$G$41,3,TRUE))","v":" "}]
[null,null,null,null,null,null,null,null,null,null,null,null," "," "," "," ",{"$f":"IF(I9449=\"\",\"\",IF(I9449<='Main page'!$F$49,\"Core staff\",\"Senior staff\"))","v":""},{"$f":"IF(D9449=\"\",\" \",'Main page'!$F$21-(D9449))","v":" "},{"$f":"IF(D9449=\"\",\" \",VLOOKUP(R9449,'Main page'!$E$29:'Main page'!$G$41,3,TRUE))","v":" "}]
[null,null,null,null,null,null,null,null,null,null,null,null," "," "," "," ",{"$f":"IF(I9461=\"\",\"\",IF(I9461<='Main page'!$F$49,\"Core staff\",\"Senior staff\"))","v":""},{"$f":"IF(D9461=\"\",\" \",'Main page'!$F$21-(D9461))","v":" "},{"$f":"IF(D9461=\"\",\" \",VLOOKUP(R9461,'Main page'!$E$29:'Main page'!$G$41,3,TRUE))","v":" "}]
[null,null,null,null,null,null,null,null,null,null,null,null," "," "," "," ",{"$f":"IF(I9471=\"\",\"\",IF(I9471<='Main page'!$F$49,\"Core staff\",\"Senior staff\"))","v":""},{"$f":"IF(D9471=\"\",\" \",'Main page'!$F$21-(D9471))","v":" "},{"$f":"IF(D9471=\"\",\" \",VLOOKUP(R9471,'Main page'!$E$29:'Main page'!$G$41,3,TRUE))","v":" "}]
[null,null,null,null,null,null,null,null,null,null,null,null," "," "," "," ",{"$f":"IF(I9479=\"\",\"\",IF(I9479<='Main page'!$F$49,\"Core staff\",\"Senior staff\"))","v":""},{"$f":"IF(D9479=\"\",\" \",'Main page'!$F$21-(D9479))","v":" "},{"$f":"IF(D9479=\"\",\" \",VLOOKUP(R9479,'Main page'!$E$29:'Main page'!$G$41,3,TRUE))","v":" "}]
[null,null,null,null,null,null,null,null,null,null,null,null," "," "," "," ",{"$f":"IF(I9482=\"\",\"\",IF(I9482<='Main page'!$F$49,\"Core staff\",\"Senior staff\"))","v":""},{"$f":"IF(D9482=\"\",\" \",'Main page'!$F$21-(D9482))","v":" "},{"$f":"IF(D9482=\"\",\" \",VLOOKUP(R9482,'Main page'!$E$29:'Main page'!$G$41,3,TRUE))","v":" "}]
[null,null,null,null,null,null,null,null,null,null,null,null," "," "," "," ",{"$f":"IF(I9494=\"\",\"\",IF(I9494<='Main page'!$F$49,\"Core staff\",\"Senior staff\"))","v":""},{"$f":"IF(D9494=\"\",\" \",'Main page'!$F$21-(D9494))","v":" "},{"$f":"IF(D9494=\"\",\" \",VLOOKUP(R9494,'Main page'!$E$29:'Main page'!$G$41,3,TRUE))","v":" "}]
[null,null,null,null,null,null,null,null,null,null,null,null," "," "," "," ",{"$f":"IF(I9502=\"\",\"\",IF(I9502<='Main page'!$F$49,\"Core staff\",\"Senior staff\"))","v":""},{"$f":"IF(D9502=\"\",\" \",'Main page'!$F$21-(D9502))","v":" "},{"$f":"IF(D9502=\"\",\" \",VLOOKUP(R9502,'Main page'!$E$29:'Main page'!$G$41,3,TRUE))","v":" "}]
[null,null,null,null,null,null,null,null,null,null,null,null," "," "," "," ",{"$f":"IF(I9512=\"\",\"\",IF(I9512<='Main page'!$F$49,\"Core staff\",\"Senior staff\"))","v":""},{"$f":"IF(D9512=\"\",\" \",'Main page'!$F$21-(D9512))","v":" "},{"$f":"IF(D9512=\"\",\" \",VLOOKUP(R9512,'Main page'!$E$29:'Main page'!$G$41,3,TRUE))","v":" "}]
[null,null,null,null,null,null,null,null,null,null,null,null," "," "," "," ",{"$f":"IF(I9519=\"\",\"\",IF(I9519<='Main page'!$F$49,\"Core staff\",\"Senior staff\"))","v":""},{"$f":"IF(D9519=\"\",\" \",'Main page'!$F$21-(D9519))","v":" "},{"$f":"IF(D9519=\"\",\" \",VLOOKUP(R9519,'Main page'!$E$29:'Main page'!$G$41,3,TRUE))","v":" "}]
[null,null,null,null,null,null,null,null,null,null,null,null," "," "," "," ",{"$f":"IF(I9531=\"\",\"\",IF(I9531<='Main page'!$F$49,\"Core staff\",\"Senior staff\"))","v":""},{"$f":"IF(D9531=\"\",\" \",'Main page'!$F$21-(D9531))","v":" "},{"$f":"IF(D9531=\"\",\" \",VLOOKUP(R9531,'Main page'!$E$29:'Main page'!$G$41,3,TRUE))","v":" "}]
[null,null,null,null,null,null,null,null,null,null,null,null," "," "," "," ",{"$f":"IF(I9541=\"\",\"\",IF(I9541<='Main page'!$F$49,\"Core staff\",\"Senior staff\"))","v":""},{"$f":"IF(D9541=\"\",\" \",'Main page'!$F$21-(D9541))","v":" "},{"$f":"IF(D9541=\"\",\" \",VLOOKUP(R9541,'Main page'!$E$29:'Main page'!$G$41,3,TRUE))","v":" "}]
[null,null,null,null,null,null,null,null,null,null,null,null," "," "," "," ",{"$f":"IF(I9549=\"\",\"\",IF(I9549<='Main page'!$F$49,\"Core staff\",\"Senior staff\"))","v":""},{"$f":"IF(D9549=\"\",\" \",'Main page'!$F$21-(D9549))","v":" "},{"$f":"IF(D9549=\"\",\" \",VLOOKUP(R9549,'Main page'!$E$29:'Main page'!$G$41,3,TRUE))","v":" "}]
[null,null,null,null,null,null,null,null,null,null,null,null," "," "," "," ",{"$f":"IF(I9552=\"\",\"\",IF(I9552<='Main page'!$F$49,\"Core staff\",\"Senior staff\"))","v":""},{"$f":"IF(D9552=\"\",\" \",'Main page'!$F$21-(D9552))","v":" "},{"$f":"IF(D9552=\"\",\" \",VLOOKUP(R9552,'Main page'!$E$29:'Main page'!$G$41,3,TRUE))","v":" "}]
[null,null,null,null,null,null,null,null,null,null,null,null," "," "," "," ",{"$f":"IF(I9568=\"\",\"\",IF(I9568<='Main page'!$F$49,\"Core staff\",\"Senior staff\"))","v":""},{"$f":"IF(D9568=\"\",\" \",'Main page'!$F$21-(D9568))","v":" "},{"$f":"IF(D9568=\"\",\" \",VLOOKUP(R9568,'Main page'!$E$29:'Main page'!$G$41,3,TRUE))","v":" "}]
[null,null,null,null,null,null,null,null,null,null,null,null," "," "," "," ",{"$f":"IF(I9572=\"\",\"\",IF(I9572<='Main page'!$F$49,\"Core staff\",\"Senior staff\"))","v":""},{"$f":"IF(D9572=\"\",\" \",'Main page'!$F$21-(D9572))","v":" "},{"$f":"IF(D9572=\"\",\" \",VLOOKUP(R9572,'Main page'!$E$29:'Main page'!$G$41,3,TRUE))","v":" "}]
[null,null,null,null,null,null,null,null,null,null,null,null," "," "," "," ",{"$f":"IF(I9582=\"\",\"\",IF(I9582<='Main page'!$F$49,\"Core staff\",\"Senior staff\"))","v":""},{"$f":"IF(D9582=\"\",\" \",'Main page'!$F$21-(D9582))","v":" "},{"$f":"IF(D9582=\"\",\" \",VLOOKUP(R9582,'Main page'!$E$29:'Main page'!$G$41,3,TRUE))","v":" "}]
[null,null,null,null,null,null,null,null,null,null,null,null," "," "," "," ",{"$f":"IF(I9589=\"\",\"\",IF(I9589<='Main page'!$F$49,\"Core staff\",\"Senior staff\"))","v":""},{"$f":"IF(D9589=\"\",\" \",'Main page'!$F$21-(D9589))","v":" "},{"$f":"IF(D9589=\"\",\" \",VLOOKUP(R9589,'Main page'!$E$29:'Main page'!$G$41,3,TRUE))","v":" "}]
[null,null,null,null,null,null,null,null,null,null,null,null," "," "," "," ",{"$f":"IF(I9601=\"\",\"\",IF(I9601<='Main page'!$F$49,\"Core staff\",\"Senior staff\"))","v":""},{"$f":"IF(D9601=\"\",\" \",'Main page'!$F$21-(D9601))","v":" "},{"$f":"IF(D9601=\"\",\" \",VLOOKUP(R9601,'Main page'!$E$29:'Main page'!$G$41,3,TRUE))","v":" "}]
[null,null,null,null,null,null,null,null,null,null,null,null," "," "," "," ",{"$f":"IF(I9611=\"\",\"\",IF(I9611<='Main page'!$F$49,\"Core staff\",\"Senior staff\"))","v":""},{"$f":"IF(D9611=\"\",\" \",'Main page'!$F$21-(D9611))","v":" "},{"$f":"IF(D9611=\"\",\" \",VLOOKUP(R9611,'Main page'!$E$29:'Main page'!$G$41,3,TRUE))","v":" "}]
[null,null,null,null,null,null,null,null,null,null,null,null," "," "," "," ",{"$f":"IF(I9619=\"\",\"\",IF(I9619<='Main page'!$F$49,\"Core staff\",\"Senior staff\"))","v":""},{"$f":"IF(D9619=\"\",\" \",'Main page'!$F$21-(D9619))","v":" "},{"$f":"IF(D9619=\"\",\" \",VLOOKUP(R9619,'Main page'!$E$29:'Main page'!$G$41,3,TRUE))","v":" "}]
[null,null,null,null,null,null,null,null,null,null,null,null," "," "," "," ",{"$f":"IF(I9622=\"\",\"\",IF(I9622<='Main page'!$F$49,\"Core staff\",\"Senior staff\"))","v":""},{"$f":"IF(D9622=\"\",\" \",'Main page'!$F$21-(D9622))","v":" "},{"$f":"IF(D9622=\"\",\" \",VLOOKUP(R9622,'Main page'!$E$29:'Main page'!$G$41,3,TRUE))","v":" "}]
[null,null,null,null,null,null,null,null,null,null,null,null," "," "," "," ",{"$f":"IF(I9638=\"\",\"\",IF(I9638<='Main page'!$F$49,\"Core staff\",\"Senior staff\"))","v":""},{"$f":"IF(D9638=\"\",\" \",'Main page'!$F$21-(D9638))","v":" "},{"$f":"IF(D9638=\"\",\" \",VLOOKUP(R9638,'Main page'!$E$29:'Main page'!$G$41,3,TRUE))","v":" "}]
[null,null,null,null,null,null,null,null,null,null,null,null," "," "," "," ",{"$f":"IF(I9642=\"\",\"\",IF(I9642<='Main page'!$F$49,\"Core staff\",\"Senior staff\"))","v":""},{"$f":"IF(D9642=\"\",\" \",'Main page'!$F$21-(D9642))","v":" "},{"$f":"IF(D9642=\"\",\" \",VLOOKUP(R9642,'Main page'!$E$29:'Main page'!$G$41,3,TRUE))","v":" "}]
[null,null,null,null,null,null,null,null,null,null,null,null," "," "," "," ",{"$f":"IF(I9652=\"\",\"\",IF(I9652<='Main page'!$F$49,\"Core staff\",\"Senior staff\"))","v":""},{"$f":"IF(D9652=\"\",\" \",'Main page'!$F$21-(D9652))","v":" "},{"$f":"IF(D9652=\"\",\" \",VLOOKUP(R9652,'Main page'!$E$29:'Main page'!$G$41,3,TRUE))","v":" "}]
[null,null,null,null,null,null,null,null,null,null,null,null," "," "," "," ",{"$f":"IF(I9659=\"\",\"\",IF(I9659<='Main page'!$F$49,\"Core staff\",\"Senior staff\"))","v":""},{"$f":"IF(D9659=\"\",\" \",'Main page'!$F$21-(D9659))","v":" "},{"$f":"IF(D9659=\"\",\" \",VLOOKUP(R9659,'Main page'!$E$29:'Main page'!$G$41,3,TRUE))","v":" "}]
[null,null,null,null,null,null,null,null,null,null,null,null," "," "," "," ",{"$f":"IF(I9671=\"\",\"\",IF(I9671<='Main page'!$F$49,\"Core staff\",\"Senior staff\"))","v":""},{"$f":"IF(D9671=\"\",\" \",'Main page'!$F$21-(D9671))","v":" "},{"$f":"IF(D9671=\"\",\" \",VLOOKUP(R9671,'Main page'!$E$29:'Main page'!$G$41,3,TRUE))","v":" "}]
[null,null,null,null,null,null,null,null,null,null,null,null," "," "," "," ",{"$f":"IF(I9681=\"\",\"\",IF(I9681<='Main page'!$F$49,\"Core staff\",\"Senior staff\"))","v":""},{"$f":"IF(D9681=\"\",\" \",'Main page'!$F$21-(D9681))","v":" "},{"$f":"IF(D9681=\"\",\" \",VLOOKUP(R9681,'Main page'!$E$29:'Main page'!$G$41,3,TRUE))","v":" "}]
[null,null,null,null,null,null,null,null,null,null,null,null," "," "," "," ",{"$f":"IF(I9689=\"\",\"\",IF(I9689<='Main page'!$F$49,\"Core staff\",\"Senior staff\"))","v":""},{"$f":"IF(D9689=\"\",\" \",'Main page'!$F$21-(D9689))","v":" "},{"$f":"IF(D9689=\"\",\" \",VLOOKUP(R9689,'Main page'!$E$29:'Main page'!$G$41,3,TRUE))","v":" "}]
[null,null,null,null,null,null,null,null,null,null,null,null," "," "," "," ",{"$f":"IF(I9692=\"\",\"\",IF(I9692<='Main page'!$F$49,\"Core staff\",\"Senior staff\"))","v":""},{"$f":"IF(D9692=\"\",\" \",'Main page'!$F$21-(D9692))","v":" "},{"$f":"IF(D9692=\"\",\" \",VLOOKUP(R9692,'Main page'!$E$29:'Main page'!$G$41,3,TRUE))","v":" "}]
[null,null,null,null,null,null,null,null,null,null,null,null," "," "," "," ",{"$f":"IF(I9708=\"\",\"\",IF(I9708<='Main page'!$F$49,\"Core staff\",\"Senior staff\"))","v":""},{"$f":"IF(D9708=\"\",\" \",'Main page'!$F$21-(D9708))","v":" "},{"$f":"IF(D9708=\"\",\" \",VLOOKUP(R9708,'Main page'!$E$29:'Main page'!$G$41,3,TRUE))","v":" "}]
[null,null,null,null,null,null,null,null,null,null,null,null," "," "," "," ",{"$f":"IF(I9712=\"\",\"\",IF(I9712<='Main page'!$F$49,\"Core staff\",\"Senior staff\"))","v":""},{"$f":"IF(D9712=\"\",\" \",'Main page'!$F$21-(D9712))","v":" "},{"$f":"IF(D9712=\"\",\" \",VLOOKUP(R9712,'Main page'!$E$29:'Main page'!$G$41,3,TRUE))","v":" "}]
[null,null,null,null,null,null,null,null,null,null,null,null," "," "," "," ",{"$f":"IF(I9722=\"\",\"\",IF(I9722<='Main page'!$F$49,\"Core staff\",\"Senior staff\"))","v":""},{"$f":"IF(D9722=\"\",\" \",'Main page'!$F$21-(D9722))","v":" "},{"$f":"IF(D9722=\"\",\" \",VLOOKUP(R9722,'Main page'!$E$29:'Main page'!$G$41,3,TRUE))","v":" "}]
[null,null,null,null,null,null,null,null,null,null,null,null," "," "," "," ",{"$f":"IF(I9729=\"\",\"\",IF(I9729<='Main page'!$F$49,\"Core staff\",\"Senior staff\"))","v":""},{"$f":"IF(D9729=\"\",\" \",'Main page'!$F$21-(D9729))","v":" "},{"$f":"IF(D9729=\"\",\" \",VLOOKUP(R9729,'Main page'!$E$29:'Main page'!$G$41,3,TRUE))","v":" "}]
[null,null,null,null,null,null,null,null,null,null,null,null," "," "," "," ",{"$f":"IF(I9741=\"\",\"\",IF(I9741<='Main page'!$F$49,\"Core staff\",\"Senior staff\"))","v":""},{"$f":"IF(D9741=\"\",\" \",'Main page'!$F$21-(D9741))","v":" "},{"$f":"IF(D9741=\"\",\" \",VLOOKUP(R9741,'Main page'!$E$29:'Main page'!$G$41,3,TRUE))","v":" "}]
[null,null,null,null,null,null,null,null,null,null,null,null," "," "," "," ",{"$f":"IF(I9751=\"\",\"\",IF(I9751<='Main page'!$F$49,\"Core staff\",\"Senior staff\"))","v":""},{"$f":"IF(D9751=\"\",\" \",'Main page'!$F$21-(D9751))","v":" "},{"$f":"IF(D9751=\"\",\" \",VLOOKUP(R9751,'Main page'!$E$29:'Main page'!$G$41,3,TRUE))","v":" "}]
[null,null,null,null,null,null,null,null,null,null,null,null," "," "," "," ",{"$f":"IF(I9759=\"\",\"\",IF(I9759<='Main page'!$F$49,\"Core staff\",\"Senior staff\"))","v":""},{"$f":"IF(D9759=\"\",\" \",'Main page'!$F$21-(D9759))","v":" "},{"$f":"IF(D9759=\"\",\" \",VLOOKUP(R9759,'Main page'!$E$29:'Main page'!$G$41,3,TRUE))","v":" "}]
[null,null,null,null,null,null,null,null,null,null,null,null," "," "," "," ",{"$f":"IF(I9762=\"\",\"\",IF(I9762<='Main page'!$F$49,\"Core staff\",\"Senior staff\"))","v":""},{"$f":"IF(D9762=\"\",\" \",'Main page'!$F$21-(D9762))","v":" "},{"$f":"IF(D9762=\"\",\" \",VLOOKUP(R9762,'Main page'!$E$29:'Main page'!$G$41,3,TRUE))","v":" "}]
[null,null,null,null,null,null,null,null,null,null,null,null," "," "," "," ",{"$f":"IF(I9778=\"\",\"\",IF(I9778<='Main page'!$F$49,\"Core staff\",\"Senior staff\"))","v":""},{"$f":"IF(D9778=\"\",\" \",'Main page'!$F$21-(D9778))","v":" "},{"$f":"IF(D9778=\"\",\" \",VLOOKUP(R9778,'Main page'!$E$29:'Main page'!$G$41,3,TRUE))","v":" "}]
[null,null,null,null,null,null,null,null,null,null,null,null," "," "," "," ",{"$f":"IF(I9782=\"\",\"\",IF(I9782<='Main page'!$F$49,\"Core staff\",\"Senior staff\"))","v":""},{"$f":"IF(D9782=\"\",\" \",'Main page'!$F$21-(D9782))","v":" "},{"$f":"IF(D9782=\"\",\" \",VLOOKUP(R9782,'Main page'!$E$29:'Main page'!$G$41,3,TRUE))","v":" "}]
[null,null,null,null,null,null,null,null,null,null,null,null," "," "," "," ",{"$f":"IF(I9792=\"\",\"\",IF(I9792<='Main page'!$F$49,\"Core staff\",\"Senior staff\"))","v":""},{"$f":"IF(D9792=\"\",\" \",'Main page'!$F$21-(D9792))","v":" "},{"$f":"IF(D9792=\"\",\" \",VLOOKUP(R9792,'Main page'!$E$29:'Main page'!$G$41,3,TRUE))","v":" "}]
[null,null,null,null,null,null,null,null,null,null,null,null," "," "," "," ",{"$f":"IF(I9799=\"\",\"\",IF(I9799<='Main page'!$F$49,\"Core staff\",\"Senior staff\"))","v":""},{"$f":"IF(D9799=\"\",\" \",'Main page'!$F$21-(D9799))","v":" "},{"$f":"IF(D9799=\"\",\" \",VLOOKUP(R9799,'Main page'!$E$29:'Main page'!$G$41,3,TRUE))","v":" "}]
[null,null,null,null,null,null,null,null,null,null,null,null," "," "," "," ",{"$f":"IF(I9811=\"\",\"\",IF(I9811<='Main page'!$F$49,\"Core staff\",\"Senior staff\"))","v":""},{"$f":"IF(D9811=\"\",\" \",'Main page'!$F$21-(D9811))","v":" "},{"$f":"IF(D9811=\"\",\" \",VLOOKUP(R9811,'Main page'!$E$29:'Main page'!$G$41,3,TRUE))","v":" "}]
[null,null,null,null,null,null,null,null,null,null,null,null," "," "," "," ",{"$f":"IF(I9821=\"\",\"\",IF(I9821<='Main page'!$F$49,\"Core staff\",\"Senior staff\"))","v":""},{"$f":"IF(D9821=\"\",\" \",'Main page'!$F$21-(D9821))","v":" "},{"$f":"IF(D9821=\"\",\" \",VLOOKUP(R9821,'Main page'!$E$29:'Main page'!$G$41,3,TRUE))","v":" "}]
[null,null,null,null,null,null,null,null,null,null,null,null," "," "," "," ",{"$f":"IF(I9829=\"\",\"\",IF(I9829<='Main page'!$F$49,\"Core staff\",\"Senior staff\"))","v":""},{"$f":"IF(D9829=\"\",\" \",'Main page'!$F$21-(D9829))","v":" "},{"$f":"IF(D9829=\"\",\" \",VLOOKUP(R9829,'Main page'!$E$29:'Main page'!$G$41,3,TRUE))","v":" "}]
[null,null,null,null,null,null,null,null,null,null,null,null," "," "," "," ",{"$f":"IF(I9832=\"\",\"\",IF(I9832<='Main page'!$F$49,\"Core staff\",\"Senior staff\"))","v":""},{"$f":"IF(D9832=\"\",\" \",'Main page'!$F$21-(D9832))","v":" "},{"$f":"IF(D9832=\"\",\" \",VLOOKUP(R9832,'Main page'!$E$29:'Main page'!$G$41,3,TRUE))","v":" "}]
[null,null,null,null,null,null,null,null,null,null,null,null," "," "," "," ",{"$f":"IF(I9848=\"\",\"\",IF(I9848<='Main page'!$F$49,\"Core staff\",\"Senior staff\"))","v":""},{"$f":"IF(D9848=\"\",\" \",'Main page'!$F$21-(D9848))","v":" "},{"$f":"IF(D9848=\"\",\" \",VLOOKUP(R9848,'Main page'!$E$29:'Main page'!$G$41,3,TRUE))","v":" "}]
[null,null,null,null,null,null,null,null,null,null,null,null," "," "," "," ",{"$f":"IF(I9852=\"\",\"\",IF(I9852<='Main page'!$F$49,\"Core staff\",\"Senior staff\"))","v":""},{"$f":"IF(D9852=\"\",\" \",'Main page'!$F$21-(D9852))","v":" "},{"$f":"IF(D9852=\"\",\" \",VLOOKUP(R9852,'Main page'!$E$29:'Main page'!$G$41,3,TRUE))","v":" "}]
[null,null,null,null,null,null,null,null,null,null,null,null," "," "," "," ",{"$f":"IF(I9866=\"\",\"\",IF(I9866<='Main page'!$F$49,\"Core staff\",\"Senior staff\"))","v":""},{"$f":"IF(D9866=\"\",\" \",'Main page'!$F$21-(D9866))","v":" "},{"$f":"IF(D9866=\"\",\" \",VLOOKUP(R9866,'Main page'!$E$29:'Main page'!$G$41,3,TRUE))","v":" "}]
[null,null,null,null,null,null,null,null,null,null,null,null," "," "," "," ",{"$f":"IF(I9869=\"\",\"\",IF(I9869<='Main page'!$F$49,\"Core staff\",\"Senior staff\"))","v":""},{"$f":"IF(D9869=\"\",\" \",'Main page'!$F$21-(D9869))","v":" "},{"$f":"IF(D9869=\"\",\" \",VLOOKUP(R9869,'Main page'!$E$29:'Main page'!$G$41,3,TRUE))","v":" "}]
[null,null,null,null,null,null,null,null,null,null,null,null," "," "," "," ",{"$f":"IF(I9881=\"\",\"\",IF(I9881<='Main page'!$F$49,\"Core staff\",\"Senior staff\"))","v":""},{"$f":"IF(D9881=\"\",\" \",'Main page'!$F$21-(D9881))","v":" "},{"$f":"IF(D9881=\"\",\" \",VLOOKUP(R9881,'Main page'!$E$29:'Main page'!$G$41,3,TRUE))","v":" "}]
[null,null,null,null,null,null,null,null,null,null,null,null," "," "," "," ",{"$f":"IF(I9891=\"\",\"\",IF(I9891<='Main page'!$F$49,\"Core staff\",\"Senior staff\"))","v":""},{"$f":"IF(D9891=\"\",\" \",'Main page'!$F$21-(D9891))","v":" "},{"$f":"IF(D9891=\"\",\" \",VLOOKUP(R9891,'Main page'!$E$29:'Main page'!$G$41,3,TRUE))","v":" "}]
[null,null,null,null,null,null,null,null,null,null,null,null," "," "," "," ",{"$f":"IF(I9899=\"\",\"\",IF(I9899<='Main page'!$F$49,\"Core staff\",\"Senior staff\"))","v":""},{"$f":"IF(D9899=\"\",\" \",'Main page'!$F$21-(D9899))","v":" "},{"$f":"IF(D9899=\"\",\" \",VLOOKUP(R9899,'Main page'!$E$29:'Main page'!$G$41,3,TRUE))","v":" "}]
[null,null,null,null,null,null,null,null,null,null,null,null," "," "," "," ",{"$f":"IF(I9902=\"\",\"\",IF(I9902<='Main page'!$F$49,\"Core staff\",\"Senior staff\"))","v":""},{"$f":"IF(D9902=\"\",\" \",'Main page'!$F$21-(D9902))","v":" "},{"$f":"IF(D9902=\"\",\" \",VLOOKUP(R9902,'Main page'!$E$29:'Main page'!$G$41,3,TRUE))","v":" "}]
[null,null,null,null,null,null,null,null,null,null,null,null," "," "," "," ",{"$f":"IF(I9918=\"\",\"\",IF(I9918<='Main page'!$F$49,\"Core staff\",\"Senior staff\"))","v":""},{"$f":"IF(D9918=\"\",\" \",'Main page'!$F$21-(D9918))","v":" "},{"$f":"IF(D9918=\"\",\" \",VLOOKUP(R9918,'Main page'!$E$29:'Main page'!$G$41,3,TRUE))","v":" "}]
[null,null,null,null,null,null,null,null,null,null,null,null," "," "," "," ",{"$f":"IF(I9922=\"\",\"\",IF(I9922<='Main page'!$F$49,\"Core staff\",\"Senior staff\"))","v":""},{"$f":"IF(D9922=\"\",\" \",'Main page'!$F$21-(D9922))","v":" "},{"$f":"IF(D9922=\"\",\" \",VLOOKUP(R9922,'Main page'!$E$29:'Main page'!$G$41,3,TRUE))","v":" "}]
[null,null,null,null,null,null,null,null,null,null,null,null," "," "," "," ",{"$f":"IF(I9936=\"\",\"\",IF(I9936<='Main page'!$F$49,\"Core staff\",\"Senior staff\"))","v":""},{"$f":"IF(D9936=\"\",\" \",'Main page'!$F$21-(D9936))","v":" "},{"$f":"IF(D9936=\"\",\" \",VLOOKUP(R9936,'Main page'!$E$29:'Main page'!$G$41,3,TRUE))","v":" "}]
[null,null,null,null,null,null,null,null,null,null,null,null," "," "," "," ",{"$f":"IF(I9939=\"\",\"\",IF(I9939<='Main page'!$F$49,\"Core staff\",\"Senior staff\"))","v":""},{"$f":"IF(D9939=\"\",\" \",'Main page'!$F$21-(D9939))","v":" "},{"$f":"IF(D9939=\"\",\" \",VLOOKUP(R9939,'Main page'!$E$29:'Main page'!$G$41,3,TRUE))","v":" "}]
[null,null,null,null,null,null,null,null,null,null,null,null," "," "," "," ",{"$f":"IF(I9951=\"\",\"\",IF(I9951<='Main page'!$F$49,\"Core staff\",\"Senior staff\"))","v":""},{"$f":"IF(D9951=\"\",\" \",'Main page'!$F$21-(D9951))","v":" "},{"$f":"IF(D9951=\"\",\" \",VLOOKUP(R9951,'Main page'!$E$29:'Main page'!$G$41,3,TRUE))","v":" "}]
[null,null,null,null,null,null,null,null,null,null,null,null," "," "," "," ",{"$f":"IF(I9961=\"\",\"\",IF(I9961<='Main page'!$F$49,\"Core staff\",\"Senior staff\"))","v":""},{"$f":"IF(D9961=\"\",\" \",'Main page'!$F$21-(D9961))","v":" "},{"$f":"IF(D9961=\"\",\" \",VLOOKUP(R9961,'Main page'!$E$29:'Main page'!$G$41,3,TRUE))","v":" "}]
[null,null,null,null,null,null,null,null,null,null,null,null," "," "," "," ",{"$f":"IF(I9969=\"\",\"\",IF(I9969<='Main page'!$F$49,\"Core staff\",\"Senior staff\"))","v":""},{"$f":"IF(D9969=\"\",\" \",'Main page'!$F$21-(D9969))","v":" "},{"$f":"IF(D9969=\"\",\" \",VLOOKUP(R9969,'Main page'!$E$29:'Main page'!$G$41,3,TRUE))","v":" "}]
[null,null,null,null,null,null,null,null,null,null,null,null," "," "," "," ",{"$f":"IF(I9972=\"\",\"\",IF(I9972<='Main page'!$F$49,\"Core staff\",\"Senior staff\"))","v":""},{"$f":"IF(D9972=\"\",\" \",'Main page'!$F$21-(D9972))","v":" "},{"$f":"IF(D9972=\"\",\" \",VLOOKUP(R9972,'Main page'!$E$29:'Main page'!$G$41,3,TRUE))","v":" "}]
[null,null,null,null,null,null,null,null,null,null,null,null," "," "," "," ",{"$f":"IF(I9988=\"\",\"\",IF(I9988<='Main page'!$F$49,\"Core staff\",\"Senior staff\"))","v":""},{"$f":"IF(D9988=\"\",\" \",'Main page'!$F$21-(D9988))","v":" "},{"$f":"IF(D9988=\"\",\" \",VLOOKUP(R9988,'Main page'!$E$29:'Main page'!$G$41,3,TRUE))","v":" "}]
[null,null,null,null,null,null,null,null,null,null,null,null," "," "," "," ",{"$f":"IF(I9992=\"\",\"\",IF(I9992<='Main page'!$F$49,\"Core staff\",\"Senior staff\"))","v":""},{"$f":"IF(D9992=\"\",\" \",'Main page'!$F$21-(D9992))","v":" "},{"$f":"IF(D9992=\"\",\" \",VLOOKUP(R9992,'Main page'!$E$29:'Main page'!$G$41,3,TRUE))","v":" "}]
[null,null,null,null,null,null,null,null,null,null,null,null," "," "," "," ",{"$f":"IF(I10006=\"\",\"\",IF(I10006<='Main page'!$F$49,\"Core staff\",\"Senior staff\"))","v":""},{"$f":"IF(D10006=\"\",\" \",'Main page'!$F$21-(D10006))","v":" "},{"$f":"IF(D10006=\"\",\" \",VLOOKUP(R10006,'Main page'!$E$29:'Main page'!$G$41,3,TRUE))","v":" "}]
[null,null,null,null,null,null,null,null,null,null,null,null," "," "," "," ",{"$f":"IF(I10009=\"\",\"\",IF(I10009<='Main page'!$F$49,\"Core staff\",\"Senior staff\"))","v":""},{"$f":"IF(D10009=\"\",\" \",'Main page'!$F$21-(D10009))","v":" "},{"$f":"IF(D10009=\"\",\" \",VLOOKUP(R10009,'Main page'!$E$29:'Main page'!$G$41,3,TRUE))","v":" "}]
[null,null,null,null,null,null,null,null,null,null,null,null," "," "," "," ",{"$f":"IF(I10021=\"\",\"\",IF(I10021<='Main page'!$F$49,\"Core staff\",\"Senior staff\"))","v":""},{"$f":"IF(D10021=\"\",\" \",'Main page'!$F$21-(D10021))","v":" "},{"$f":"IF(D10021=\"\",\" \",VLOOKUP(R10021,'Main page'!$E$29:'Main page'!$G$41,3,TRUE))","v":" "}]
[null,null,null,null,null,null,null,null,null,null,null,null," "," "," "," ",{"$f":"IF(I10031=\"\",\"\",IF(I10031<='Main page'!$F$49,\"Core staff\",\"Senior staff\"))","v":""},{"$f":"IF(D10031=\"\",\" \",'Main page'!$F$21-(D10031))","v":" "},{"$f":"IF(D10031=\"\",\" \",VLOOKUP(R10031,'Main page'!$E$29:'Main page'!$G$41,3,TRUE))","v":" "}]
[null,null,null,null,null,null,null,null,null,null,null,null," "," "," "," ",{"$f":"IF(I10039=\"\",\"\",IF(I10039<='Main page'!$F$49,\"Core staff\",\"Senior staff\"))","v":""},{"$f":"IF(D10039=\"\",\" \",'Main page'!$F$21-(D10039))","v":" "},{"$f":"IF(D10039=\"\",\" \",VLOOKUP(R10039,'Main page'!$E$29:'Main page'!$G$41,3,TRUE))","v":" "}]
[null,null,null,null,null,null,null,null,null,null,null,null," "," "," "," ",{"$f":"IF(I10046=\"\",\"\",IF(I10046<='Main page'!$F$49,\"Core staff\",\"Senior staff\"))","v":""},{"$f":"IF(D10046=\"\",\" \",'Main page'!$F$21-(D10046))","v":" "},{"$f":"IF(D10046=\"\",\" \",VLOOKUP(R10046,'Main page'!$E$29:'Main page'!$G$41,3,TRUE))","v":" "}]
[null,null,null,null,null,null,null,null,null,null,null,null," "," "," "," ",{"$f":"IF(I10058=\"\",\"\",IF(I10058<='Main page'!$F$49,\"Core staff\",\"Senior staff\"))","v":""},{"$f":"IF(D10058=\"\",\" \",'Main page'!$F$21-(D10058))","v":" "},{"$f":"IF(D10058=\"\",\" \",VLOOKUP(R10058,'Main page'!$E$29:'Main page'!$G$41,3,TRUE))","v":" "}]
[null,null,null,null,null,null,null,null,null,null,null,null,{"$f":"IFERROR(J10062/G10062,\" \")","v":" "},{"$f":"IFERROR((M10062/$U$4)/H10062,\" \")","v":" "},{"$f":"IFERROR((N10062*75)*26.083,\" \")","v":" "},{"$f":"IF(G10062=0,\" \",IF(G10062=1,\"Full time\",\"Part time\"))","v":" "},{"$f":"IF(I10062=\"\",\"\",IF(I10062<='Main page'!$F$49,\"Core staff\",\"Senior staff\"))","v":""},{"$f":"IF(D10062=\"\",\" \",'Main page'!$F$21-(D10062))","v":" "},{"$f":"IF(D10062=\"\",\" \",VLOOKUP(R10062,'Main page'!$E$29:'Main page'!$G$41,3,TRUE))","v":" "}]
[null,null,null,null,null,null,null,null,null,null,null,null," "," "," "," ",{"$f":"IF(I10076=\"\",\"\",IF(I10076<='Main page'!$F$49,\"Core staff\",\"Senior staff\"))","v":""},{"$f":"IF(D10076=\"\",\" \",'Main page'!$F$21-(D10076))","v":" "},{"$f":"IF(D10076=\"\",\" \",VLOOKUP(R10076,'Main page'!$E$29:'Main page'!$G$41,3,TRUE))","v":" "}]
[null,null,null,null,null,null,null,null,null,null,null,null," "," "," "," ",{"$f":"IF(I10079=\"\",\"\",IF(I10079<='Main page'!$F$49,\"Core staff\",\"Senior staff\"))","v":""},{"$f":"IF(D10079=\"\",\" \",'Main page'!$F$21-(D10079))","v":" "},{"$f":"IF(D10079=\"\",\" \",VLOOKUP(R10079,'Main page'!$E$29:'Main page'!$G$41,3,TRUE))","v":" "}]
[null,null,null,null,null,null,null,null,null,null,null,null," "," "," "," ",{"$f":"IF(I10091=\"\",\"\",IF(I10091<='Main page'!$F$49,\"Core staff\",\"Senior staff\"))","v":""},{"$f":"IF(D10091=\"\",\" \",'Main page'!$F$21-(D10091))","v":" "},{"$f":"IF(D10091=\"\",\" \",VLOOKUP(R10091,'Main page'!$E$29:'Main page'!$G$41,3,TRUE))","v":" "}]
[null,null,null,null,null,null,null,null,null,null,null,null," "," "," "," ",{"$f":"IF(I10101=\"\",\"\",IF(I10101<='Main page'!$F$49,\"Core staff\",\"Senior staff\"))","v":""},{"$f":"IF(D10101=\"\",\" \",'Main page'!$F$21-(D10101))","v":" "},{"$f":"IF(D10101=\"\",\" \",VLOOKUP(R10101,'Main page'!$E$29:'Main page'!$G$41,3,TRUE))","v":" "}]
[null,null,null,null,null,null,null,null,null,null,null,null," "," "," "," ",{"$f":"IF(I10109=\"\",\"\",IF(I10109<='Main page'!$F$49,\"Core staff\",\"Senior staff\"))","v":""},{"$f":"IF(D10109=\"\",\" \",'Main page'!$F$21-(D10109))","v":" "},{"$f":"IF(D10109=\"\",\" \",VLOOKUP(R10109,'Main page'!$E$29:'Main page'!$G$41,3,TRUE))","v":" "}]
[null,null,null,null,null,null,null,null,null,null,null,null," "," "," "," ",{"$f":"IF(I10116=\"\",\"\",IF(I10116<='Main page'!$F$49,\"Core staff\",\"Senior staff\"))","v":""},{"$f":"IF(D10116=\"\",\" \",'Main page'!$F$21-(D10116))","v":" "},{"$f":"IF(D10116=\"\",\" \",VLOOKUP(R10116,'Main page'!$E$29:'Main page'!$G$41,3,TRUE))","v":" "}]
[null,null,null,null,null,null,null,null,null,null,null,null," "," "," "," ",{"$f":"IF(I10128=\"\",\"\",IF(I10128<='Main page'!$F$49,\"Core staff\",\"Senior staff\"))","v":""},{"$f":"IF(D10128=\"\",\" \",'Main page'!$F$21-(D10128))","v":" "},{"$f":"IF(D10128=\"\",\" \",VLOOKUP(R10128,'Main page'!$E$29:'Main page'!$G$41,3,TRUE))","v":" "}]
[null,null,null,null,null,null,null,null,null,null,null,null," "," "," "," ",{"$f":"IF(I10132=\"\",\"\",IF(I10132<='Main page'!$F$49,\"Core staff\",\"Senior staff\"))","v":""},{"$f":"IF(D10132=\"\",\" \",'Main page'!$F$21-(D10132))","v":" "},{"$f":"IF(D10132=\"\",\" \",VLOOKUP(R10132,'Main page'!$E$29:'Main page'!$G$41,3,TRUE))","v":" "}]
[null,null,null,null,null,null,null,null,null,null,null,null," "," "," "," ",{"$f":"IF(I10146=\"\",\"\",IF(I10146<='Main page'!$F$49,\"Core staff\",\"Senior staff\"))","v":""},{"$f":"IF(D10146=\"\",\" \",'Main page'!$F$21-(D10146))","v":" "},{"$f":"IF(D10146=\"\",\" \",VLOOKUP(R10146,'Main page'!$E$29:'Main page'!$G$41,3,TRUE))","v":" "}]
[null,null,null,null,null,null,null,null,null,null,null,null," "," "," "," ",{"$f":"IF(I10149=\"\",\"\",IF(I10149<='Main page'!$F$49,\"Core staff\",\"Senior staff\"))","v":""},{"$f":"IF(D10149=\"\",\" \",'Main page'!$F$21-(D10149))","v":" "},{"$f":"IF(D10149=\"\",\" \",VLOOKUP(R10149,'Main page'!$E$29:'Main page'!$G$41,3,TRUE))","v":" "}]
[null,null,null,null,null,null,null,null,null,null,null,null," "," "," "," ",{"$f":"IF(I10161=\"\",\"\",IF(I10161<='Main page'!$F$49,\"Core staff\",\"Senior staff\"))","v":""},{"$f":"IF(D10161=\"\",\" \",'Main page'!$F$21-(D10161))","v":" "},{"$f":"IF(D10161=\"\",\" \",VLOOKUP(R10161,'Main page'!$E$29:'Main page'!$G$41,3,TRUE))","v":" "}]
[null,null,null,null,null,null,null,null,null,null,null,null," "," "," "," ",{"$f":"IF(I10171=\"\",\"\",IF(I10171<='Main page'!$F$49,\"Core staff\",\"Senior staff\"))","v":""},{"$f":"IF(D10171=\"\",\" \",'Main page'!$F$21-(D10171))","v":" "},{"$f":"IF(D10171=\"\",\" \",VLOOKUP(R10171,'Main page'!$E$29:'Main page'!$G$41,3,TRUE))","v":" "}]
[null,null,null,null,null,null,null,null,null,null,null,null," "," "," "," ",{"$f":"IF(I10179=\"\",\"\",IF(I10179<='Main page'!$F$49,\"Core staff\",\"Senior staff\"))","v":""},{"$f":"IF(D10179=\"\",\" \",'Main page'!$F$21-(D10179))","v":" "},{"$f":"IF(D10179=\"\",\" \",VLOOKUP(R10179,'Main page'!$E$29:'Main page'!$G$41,3,TRUE))","v":" "}]
[null,null,null,null,null,null,null,null,null,null,null,null," "," "," "," ",{"$f":"IF(I10186=\"\",\"\",IF(I10186<='Main page'!$F$49,\"Core staff\",\"Senior staff\"))","v":""},{"$f":"IF(D10186=\"\",\" \",'Main page'!$F$21-(D10186))","v":" "},{"$f":"IF(D10186=\"\",\" \",VLOOKUP(R10186,'Main page'!$E$29:'Main page'!$G$41,3,TRUE))","v":" "}]
[null,null,null,null,null,null,null,null,null,null,null,null," "," "," "," ",{"$f":"IF(I10198=\"\",\"\",IF(I10198<='Main page'!$F$49,\"Core staff\",\"Senior staff\"))","v":""},{"$f":"IF(D10198=\"\",\" \",'Main page'!$F$21-(D10198))","v":" "},{"$f":"IF(D10198=\"\",\" \",VLOOKUP(R10198,'Main page'!$E$29:'Main page'!$G$41,3,TRUE))","v":" "}]
[null,null,null,null,null,null,null,null,null,null,null,null," "," "," "," ",{"$f":"IF(I10202=\"\",\"\",IF(I10202<='Main page'!$F$49,\"Core staff\",\"Senior staff\"))","v":""},{"$f":"IF(D10202=\"\",\" \",'Main page'!$F$21-(D10202))","v":" "},{"$f":"IF(D10202=\"\",\" \",VLOOKUP(R10202,'Main page'!$E$29:'Main page'!$G$41,3,TRUE))","v":" "}]
[null,null,null,null,null,null,null,null,null,null,null,null," "," "," "," ",{"$f":"IF(I10216=\"\",\"\",IF(I10216<='Main page'!$F$49,\"Core staff\",\"Senior staff\"))","v":""},{"$f":"IF(D10216=\"\",\" \",'Main page'!$F$21-(D10216))","v":" "},{"$f":"IF(D10216=\"\",\" \",VLOOKUP(R10216,'Main page'!$E$29:'Main page'!$G$41,3,TRUE))","v":" "}]
[null,null,null,null,null,null,null,null,null,null,null,null," "," "," "," ",{"$f":"IF(I10219=\"\",\"\",IF(I10219<='Main page'!$F$49,\"Core staff\",\"Senior staff\"))","v":""},{"$f":"IF(D10219=\"\",\" \",'Main page'!$F$21-(D10219))","v":" "},{"$f":"IF(D10219=\"\",\" \",VLOOKUP(R10219,'Main page'!$E$29:'Main page'!$G$41,3,TRUE))","v":" "}]
[null,null,null,null,null,null,null,null,null,null,null,null," "," "," "," ",{"$f":"IF(I10226=\"\",\"\",IF(I10226<='Main page'!$F$49,\"Core staff\",\"Senior staff\"))","v":""},{"$f":"IF(D10226=\"\",\" \",'Main page'!$F$21-(D10226))","v":" "},{"$f":"IF(D10226=\"\",\" \",VLOOKUP(R10226,'Main page'!$E$29:'Main page'!$G$41,3,TRUE))","v":" "}]
[null,null,null,null,null,null,null,null,null,null,null,null," "," "," "," ",{"$f":"IF(I10241=\"\",\"\",IF(I10241<='Main page'!$F$49,\"Core staff\",\"Senior staff\"))","v":""},{"$f":"IF(D10241=\"\",\" \",'Main page'!$F$21-(D10241))","v":" "},{"$f":"IF(D10241=\"\",\" \",VLOOKUP(R10241,'Main page'!$E$29:'Main page'!$G$41,3,TRUE))","v":" "}]
[null,null,null,null,null,null,null,null,null,null,null,null," "," "," "," ",{"$f":"IF(I10249=\"\",\"\",IF(I10249<='Main page'!$F$49,\"Core staff\",\"Senior staff\"))","v":""},{"$f":"IF(D10249=\"\",\" \",'Main page'!$F$21-(D10249))","v":" "},{"$f":"IF(D10249=\"\",\" \",VLOOKUP(R10249,'Main page'!$E$29:'Main page'!$G$41,3,TRUE))","v":" "}]
[null,null,null,null,null,null,null,null,null,null,null,null," "," "," "," ",{"$f":"IF(I10256=\"\",\"\",IF(I10256<='Main page'!$F$49,\"Core staff\",\"Senior staff\"))","v":""},{"$f":"IF(D10256=\"\",\" \",'Main page'!$F$21-(D10256))","v":" "},{"$f":"IF(D10256=\"\",\" \",VLOOKUP(R10256,'Main page'!$E$29:'Main page'!$G$41,3,TRUE))","v":" "}]
[null,null,null,null,null,null,null,null,null,null,null,null," "," "," "," ",{"$f":"IF(I10268=\"\",\"\",IF(I10268<='Main page'!$F$49,\"Core staff\",\"Senior staff\"))","v":""},{"$f":"IF(D10268=\"\",\" \",'Main page'!$F$21-(D10268))","v":" "},{"$f":"IF(D10268=\"\",\" \",VLOOKUP(R10268,'Main page'!$E$29:'Main page'!$G$41,3,TRUE))","v":" "}]
[null,null,null,null,null,null,null,null,null,null,null,null," "," "," "," ",{"$f":"IF(I10272=\"\",\"\",IF(I10272<='Main page'!$F$49,\"Core staff\",\"Senior staff\"))","v":""},{"$f":"IF(D10272=\"\",\" \",'Main page'!$F$21-(D10272))","v":" "},{"$f":"IF(D10272=\"\",\" \",VLOOKUP(R10272,'Main page'!$E$29:'Main page'!$G$41,3,TRUE))","v":" "}]
[null,null,null,null,null,null,null,null,null,null,null,null," "," "," "," ",{"$f":"IF(I10286=\"\",\"\",IF(I10286<='Main page'!$F$49,\"Core staff\",\"Senior staff\"))","v":""},{"$f":"IF(D10286=\"\",\" \",'Main page'!$F$21-(D10286))","v":" "},{"$f":"IF(D10286=\"\",\" \",VLOOKUP(R10286,'Main page'!$E$29:'Main page'!$G$41,3,TRUE))","v":" "}]
[null,null,null,null,null,null,null,null,null,null,null,null," "," "," "," ",{"$f":"IF(I10289=\"\",\"\",IF(I10289<='Main page'!$F$49,\"Core staff\",\"Senior staff\"))","v":""},{"$f":"IF(D10289=\"\",\" \",'Main page'!$F$21-(D10289))","v":" "},{"$f":"IF(D10289=\"\",\" \",VLOOKUP(R10289,'Main page'!$E$29:'Main page'!$G$41,3,TRUE))","v":" "}]
[null,null,null,null,null,null,null,null,null,null,null,null," "," "," "," ",{"$f":"IF(I10296=\"\",\"\",IF(I10296<='Main page'!$F$49,\"Core staff\",\"Senior staff\"))","v":""},{"$f":"IF(D10296=\"\",\" \",'Main page'!$F$21-(D10296))","v":" "},{"$f":"IF(D10296=\"\",\" \",VLOOKUP(R10296,'Main page'!$E$29:'Main page'!$G$41,3,TRUE))","v":" "}]
[null,null,null,null,null,null,null,null,null,null,null,null," "," "," "," ",{"$f":"IF(I10311=\"\",\"\",IF(I10311<='Main page'!$F$49,\"Core staff\",\"Senior staff\"))","v":""},{"$f":"IF(D10311=\"\",\" \",'Main page'!$F$21-(D10311))","v":" "},{"$f":"IF(D10311=\"\",\" \",VLOOKUP(R10311,'Main page'!$E$29:'Main page'!$G$41,3,TRUE))","v":" "}]
[null,null,null,null,null,null,null,null,null,null,null,null," "," "," "," ",{"$f":"IF(I10319=\"\",\"\",IF(I10319<='Main page'!$F$49,\"Core staff\",\"Senior staff\"))","v":""},{"$f":"IF(D10319=\"\",\" \",'Main page'!$F$21-(D10319))","v":" "},{"$f":"IF(D10319=\"\",\" \",VLOOKUP(R10319,'Main page'!$E$29:'Main page'!$G$41,3,TRUE))","v":" "}]
[null,null,null,null,null,null,null,null,null,null,null,null," "," "," "," ",{"$f":"IF(I10326=\"\",\"\",IF(I10326<='Main page'!$F$49,\"Core staff\",\"Senior staff\"))","v":""},{"$f":"IF(D10326=\"\",\" \",'Main page'!$F$21-(D10326))","v":" "},{"$f":"IF(D10326=\"\",\" \",VLOOKUP(R10326,'Main page'!$E$29:'Main page'!$G$41,3,TRUE))","v":" "}]
[null,null,null,null,null,null,null,null,null,null,null,null," "," "," "," ",{"$f":"IF(I10338=\"\",\"\",IF(I10338<='Main page'!$F$49,\"Core staff\",\"Senior staff\"))","v":""},{"$f":"IF(D10338=\"\",\" \",'Main page'!$F$21-(D10338))","v":" "},{"$f":"IF(D10338=\"\",\" \",VLOOKUP(R10338,'Main page'!$E$29:'Main page'!$G$41,3,TRUE))","v":" "}]
[null,null,null,null,null,null,null,null,null,null,null,null," "," "," "," ",{"$f":"IF(I10342=\"\",\"\",IF(I10342<='Main page'!$F$49,\"Core staff\",\"Senior staff\"))","v":""},{"$f":"IF(D10342=\"\",\" \",'Main page'!$F$21-(D10342))","v":" "},{"$f":"IF(D10342=\"\",\" \",VLOOKUP(R10342,'Main page'!$E$29:'Main page'!$G$41,3,TRUE))","v":" "}]
[null,null,null,null,null,null,null,null,null,null,null,null," "," "," "," ",{"$f":"IF(I10356=\"\",\"\",IF(I10356<='Main page'!$F$49,\"Core staff\",\"Senior staff\"))","v":""},{"$f":"IF(D10356=\"\",\" \",'Main page'!$F$21-(D10356))","v":" "},{"$f":"IF(D10356=\"\",\" \",VLOOKUP(R10356,'Main page'!$E$29:'Main page'!$G$41,3,TRUE))","v":" "}]
[null,null,null,null,null,null,null,null,null,null,null,null," "," "," "," ",{"$f":"IF(I10359=\"\",\"\",IF(I10359<='Main page'!$F$49,\"Core staff\",\"Senior staff\"))","v":""},{"$f":"IF(D10359=\"\",\" \",'Main page'!$F$21-(D10359))","v":" "},{"$f":"IF(D10359=\"\",\" \",VLOOKUP(R10359,'Main page'!$E$29:'Main page'!$G$41,3,TRUE))","v":" "}]
[null,null,null,null,null,null,null,null,null,null,null,null," "," "," "," ",{"$f":"IF(I10366=\"\",\"\",IF(I10366<='Main page'!$F$49,\"Core staff\",\"Senior staff\"))","v":""},{"$f":"IF(D10366=\"\",\" \",'Main page'!$F$21-(D10366))","v":" "},{"$f":"IF(D10366=\"\",\" \",VLOOKUP(R10366,'Main page'!$E$29:'Main page'!$G$41,3,TRUE))","v":" "}]
[null,null,null,null,null,null,null,null,null,null,null,null," "," "," "," ",{"$f":"IF(I10381=\"\",\"\",IF(I10381<='Main page'!$F$49,\"Core staff\",\"Senior staff\"))","v":""},{"$f":"IF(D10381=\"\",\" \",'Main page'!$F$21-(D10381))","v":" "},{"$f":"IF(D10381=\"\",\" \",VLOOKUP(R10381,'Main page'!$E$29:'Main page'!$G$41,3,TRUE))","v":" "}]
[null,null,null,null,null,null,null,null,null,null,null,null," "," "," "," ",{"$f":"IF(I10389=\"\",\"\",IF(I10389<='Main page'!$F$49,\"Core staff\",\"Senior staff\"))","v":""},{"$f":"IF(D10389=\"\",\" \",'Main page'!$F$21-(D10389))","v":" "},{"$f":"IF(D10389=\"\",\" \",VLOOKUP(R10389,'Main page'!$E$29:'Main page'!$G$41,3,TRUE))","v":" "}]
[null,null,null,null,null,null,null,null,null,null,null,null," "," "," "," ",{"$f":"IF(I10396=\"\",\"\",IF(I10396<='Main page'!$F$49,\"Core staff\",\"Senior staff\"))","v":""},{"$f":"IF(D10396=\"\",\" \",'Main page'!$F$21-(D10396))","v":" "},{"$f":"IF(D10396=\"\",\" \",VLOOKUP(R10396,'Main page'!$E$29:'Main page'!$G$41,3,TRUE))","v":" "}]
[null,null,null,null,null,null,null,null,null,null,null,null," "," "," "," ",{"$f":"IF(I10408=\"\",\"\",IF(I10408<='Main page'!$F$49,\"Core staff\",\"Senior staff\"))","v":""},{"$f":"IF(D10408=\"\",\" \",'Main page'!$F$21-(D10408))","v":" "},{"$f":"IF(D10408=\"\",\" \",VLOOKUP(R10408,'Main page'!$E$29:'Main page'!$G$41,3,TRUE))","v":" "}]
[null,null,null,null,null,null,null,null,null,null,null,null," "," "," "," ",{"$f":"IF(I10412=\"\",\"\",IF(I10412<='Main page'!$F$49,\"Core staff\",\"Senior staff\"))","v":""},{"$f":"IF(D10412=\"\",\" \",'Main page'!$F$21-(D10412))","v":" "},{"$f":"IF(D10412=\"\",\" \",VLOOKUP(R10412,'Main page'!$E$29:'Main page'!$G$41,3,TRUE))","v":" "}]
[null,null,null,null,null,null,null,null,null,null,null,null," "," "," "," ",{"$f":"IF(I10426=\"\",\"\",IF(I10426<='Main page'!$F$49,\"Core staff\",\"Senior staff\"))","v":""},{"$f":"IF(D10426=\"\",\" \",'Main page'!$F$21-(D10426))","v":" "},{"$f":"IF(D10426=\"\",\" \",VLOOKUP(R10426,'Main page'!$E$29:'Main page'!$G$41,3,TRUE))","v":" "}]
[null,null,null,null,null,null,null,null,null,null,null,null," "," "," "," ",{"$f":"IF(I10429=\"\",\"\",IF(I10429<='Main page'!$F$49,\"Core staff\",\"Senior staff\"))","v":""},{"$f":"IF(D10429=\"\",\" \",'Main page'!$F$21-(D10429))","v":" "},{"$f":"IF(D10429=\"\",\" \",VLOOKUP(R10429,'Main page'!$E$29:'Main page'!$G$41,3,TRUE))","v":" "}]
[null,null,null,null,null,null,null,null,null,null,null,null," "," "," "," ",{"$f":"IF(I10436=\"\",\"\",IF(I10436<='Main page'!$F$49,\"Core staff\",\"Senior staff\"))","v":""},{"$f":"IF(D10436=\"\",\" \",'Main page'!$F$21-(D10436))","v":" "},{"$f":"IF(D10436=\"\",\" \",VLOOKUP(R10436,'Main page'!$E$29:'Main page'!$G$41,3,TRUE))","v":" "}]
[null,null,null,null,null,null,null,null,null,null,null,null," "," "," "," ",{"$f":"IF(I10451=\"\",\"\",IF(I10451<='Main page'!$F$49,\"Core staff\",\"Senior staff\"))","v":""},{"$f":"IF(D10451=\"\",\" \",'Main page'!$F$21-(D10451))","v":" "},{"$f":"IF(D10451=\"\",\" \",VLOOKUP(R10451,'Main page'!$E$29:'Main page'!$G$41,3,TRUE))","v":" "}]
[null,null,null,null,null,null,null,null,null,null,null,null," "," "," "," ",{"$f":"IF(I10459=\"\",\"\",IF(I10459<='Main page'!$F$49,\"Core staff\",\"Senior staff\"))","v":""},{"$f":"IF(D10459=\"\",\" \",'Main page'!$F$21-(D10459))","v":" "},{"$f":"IF(D10459=\"\",\" \",VLOOKUP(R10459,'Main page'!$E$29:'Main page'!$G$41,3,TRUE))","v":" "}]
[null,null,null,null,null,null,null,null,null,null,null,null," "," "," "," ",{"$f":"IF(I10466=\"\",\"\",IF(I10466<='Main page'!$F$49,\"Core staff\",\"Senior staff\"))","v":""},{"$f":"IF(D10466=\"\",\" \",'Main page'!$F$21-(D10466))","v":" "},{"$f":"IF(D10466=\"\",\" \",VLOOKUP(R10466,'Main page'!$E$29:'Main page'!$G$41,3,TRUE))","v":" "}]
[null,null,null,null,null,null,null,null,null,null,null,null," "," "," "," ",{"$f":"IF(I10478=\"\",\"\",IF(I10478<='Main page'!$F$49,\"Core staff\",\"Senior staff\"))","v":""},{"$f":"IF(D10478=\"\",\" \",'Main page'!$F$21-(D10478))","v":" "},{"$f":"IF(D10478=\"\",\" \",VLOOKUP(R10478,'Main page'!$E$29:'Main page'!$G$41,3,TRUE))","v":" "}]
[null,null,null,null,null,null,null,null,null,null,null,null," "," "," "," ",{"$f":"IF(I10482=\"\",\"\",IF(I10482<='Main page'!$F$49,\"Core staff\",\"Senior staff\"))","v":""},{"$f":"IF(D10482=\"\",\" \",'Main page'!$F$21-(D10482))","v":" "},{"$f":"IF(D10482=\"\",\" \",VLOOKUP(R10482,'Main page'!$E$29:'Main page'!$G$41,3,TRUE))","v":" "}]
[null,null,null,null,null,null,null,null,null,null,null,null," "," "," "," ",{"$f":"IF(I10496=\"\",\"\",IF(I10496<='Main page'!$F$49,\"Core staff\",\"Senior staff\"))","v":""},{"$f":"IF(D10496=\"\",\" \",'Main page'!$F$21-(D10496))","v":" "},{"$f":"IF(D10496=\"\",\" \",VLOOKUP(R10496,'Main page'!$E$29:'Main page'!$G$41,3,TRUE))","v":" "}]
[null,null,null,null,null,null,null,null,null,null,null,null," "," "," "," ",{"$f":"IF(I10499=\"\",\"\",IF(I10499<='Main page'!$F$49,\"Core staff\",\"Senior staff\"))","v":""},{"$f":"IF(D10499=\"\",\" \",'Main page'!$F$21-(D10499))","v":" "},{"$f":"IF(D10499=\"\",\" \",VLOOKUP(R10499,'Main page'!$E$29:'Main page'!$G$41,3,TRUE))","v":" "}]
[null,null,null,null,null,null,null,null,null,null,null,null," "," "," "," ",{"$f":"IF(I10506=\"\",\"\",IF(I10506<='Main page'!$F$49,\"Core staff\",\"Senior staff\"))","v":""},{"$f":"IF(D10506=\"\",\" \",'Main page'!$F$21-(D10506))","v":" "},{"$f":"IF(D10506=\"\",\" \",VLOOKUP(R10506,'Main page'!$E$29:'Main page'!$G$41,3,TRUE))","v":" "}]
[null,null,null,null,null,null,null,null,null,null,null,null," "," "," "," ",{"$f":"IF(I10521=\"\",\"\",IF(I10521<='Main page'!$F$49,\"Core staff\",\"Senior staff\"))","v":""},{"$f":"IF(D10521=\"\",\" \",'Main page'!$F$21-(D10521))","v":" "},{"$f":"IF(D10521=\"\",\" \",VLOOKUP(R10521,'Main page'!$E$29:'Main page'!$G$41,3,TRUE))","v":" "}]
[null,null,null,null,null,null,null,null,null,null,null,null," "," "," "," ",{"$f":"IF(I10524=\"\",\"\",IF(I10524<='Main page'!$F$49,\"Core staff\",\"Senior staff\"))","v":""},{"$f":"IF(D10524=\"\",\" \",'Main page'!$F$21-(D10524))","v":" "},{"$f":"IF(D10524=\"\",\" \",VLOOKUP(R10524,'Main page'!$E$29:'Main page'!$G$41,3,TRUE))","v":" "}]
[null,null,null,null,null,null,null,null,null,null,null,null," "," "," "," ",{"$f":"IF(I10536=\"\",\"\",IF(I10536<='Main page'!$F$49,\"Core staff\",\"Senior staff\"))","v":""},{"$f":"IF(D10536=\"\",\" \",'Main page'!$F$21-(D10536))","v":" "},{"$f":"IF(D10536=\"\",\" \",VLOOKUP(R10536,'Main page'!$E$29:'Main page'!$G$41,3,TRUE))","v":" "}]
[null,null,null,null,null,null,null,null,null,null,null,null," "," "," "," ",{"$f":"IF(I10548=\"\",\"\",IF(I10548<='Main page'!$F$49,\"Core staff\",\"Senior staff\"))","v":""},{"$f":"IF(D10548=\"\",\" \",'Main page'!$F$21-(D10548))","v":" "},{"$f":"IF(D10548=\"\",\" \",VLOOKUP(R10548,'Main page'!$E$29:'Main page'!$G$41,3,TRUE))","v":" "}]
[null,null,null,null,null,null,null,null,null,null,null,null," "," "," "," ",{"$f":"IF(I10552=\"\",\"\",IF(I10552<='Main page'!$F$49,\"Core staff\",\"Senior staff\"))","v":""},{"$f":"IF(D10552=\"\",\" \",'Main page'!$F$21-(D10552))","v":" "},{"$f":"IF(D10552=\"\",\" \",VLOOKUP(R10552,'Main page'!$E$29:'Main page'!$G$41,3,TRUE))","v":" "}]
[null,null,null,null,null,null,null,null,null,null,null,null," "," "," "," ",{"$f":"IF(I10566=\"\",\"\",IF(I10566<='Main page'!$F$49,\"Core staff\",\"Senior staff\"))","v":""},{"$f":"IF(D10566=\"\",\" \",'Main page'!$F$21-(D10566))","v":" "},{"$f":"IF(D10566=\"\",\" \",VLOOKUP(R10566,'Main page'!$E$29:'Main page'!$G$41,3,TRUE))","v":" "}]
[null,null,null,null,null,null,null,null,null,null,null,null," "," "," "," ",{"$f":"IF(I10569=\"\",\"\",IF(I10569<='Main page'!$F$49,\"Core staff\",\"Senior staff\"))","v":""},{"$f":"IF(D10569=\"\",\" \",'Main page'!$F$21-(D10569))","v":" "},{"$f":"IF(D10569=\"\",\" \",VLOOKUP(R10569,'Main page'!$E$29:'Main page'!$G$41,3,TRUE))","v":" "}]
[null,null,null,null,null,null,null,null,null,null,null,null," "," "," "," ",{"$f":"IF(I10576=\"\",\"\",IF(I10576<='Main page'!$F$49,\"Core staff\",\"Senior staff\"))","v":""},{"$f":"IF(D10576=\"\",\" \",'Main page'!$F$21-(D10576))","v":" "},{"$f":"IF(D10576=\"\",\" \",VLOOKUP(R10576,'Main page'!$E$29:'Main page'!$G$41,3,TRUE))","v":" "}]
[null,null,null,null,null,null,null,null,null,null,null,null," "," "," "," ",{"$f":"IF(I10591=\"\",\"\",IF(I10591<='Main page'!$F$49,\"Core staff\",\"Senior staff\"))","v":""},{"$f":"IF(D10591=\"\",\" \",'Main page'!$F$21-(D10591))","v":" "},{"$f":"IF(D10591=\"\",\" \",VLOOKUP(R10591,'Main page'!$E$29:'Main page'!$G$41,3,TRUE))","v":" "}]
[null,null,null,null,null,null,null,null,null,null,null,null," "," "," "," ",{"$f":"IF(I10594=\"\",\"\",IF(I10594<='Main page'!$F$49,\"Core staff\",\"Senior staff\"))","v":""},{"$f":"IF(D10594=\"\",\" \",'Main page'!$F$21-(D10594))","v":" "},{"$f":"IF(D10594=\"\",\" \",VLOOKUP(R10594,'Main page'!$E$29:'Main page'!$G$41,3,TRUE))","v":" "}]
[null,null,null,null,null,null,null,null,null,null,null,null," "," "," "," ",{"$f":"IF(I10606=\"\",\"\",IF(I10606<='Main page'!$F$49,\"Core staff\",\"Senior staff\"))","v":""},{"$f":"IF(D10606=\"\",\" \",'Main page'!$F$21-(D10606))","v":" "},{"$f":"IF(D10606=\"\",\" \",VLOOKUP(R10606,'Main page'!$E$29:'Main page'!$G$41,3,TRUE))","v":" "}]
[null,null,null,null,null,null,null,null,null,null,null,null," "," "," "," ",{"$f":"IF(I10618=\"\",\"\",IF(I10618<='Main page'!$F$49,\"Core staff\",\"Senior staff\"))","v":""},{"$f":"IF(D10618=\"\",\" \",'Main page'!$F$21-(D10618))","v":" "},{"$f":"IF(D10618=\"\",\" \",VLOOKUP(R10618,'Main page'!$E$29:'Main page'!$G$41,3,TRUE))","v":" "}]
[null,null,null,null,null,null,null,null,null,null,null,null," "," "," "," ",{"$f":"IF(I10622=\"\",\"\",IF(I10622<='Main page'!$F$49,\"Core staff\",\"Senior staff\"))","v":""},{"$f":"IF(D10622=\"\",\" \",'Main page'!$F$21-(D10622))","v":" "},{"$f":"IF(D10622=\"\",\" \",VLOOKUP(R10622,'Main page'!$E$29:'Main page'!$G$41,3,TRUE))","v":" "}]
[null,null,null,null,null,null,null,null,null,null,null,null," "," "," "," ",{"$f":"IF(I10636=\"\",\"\",IF(I10636<='Main page'!$F$49,\"Core staff\",\"Senior staff\"))","v":""},{"$f":"IF(D10636=\"\",\" \",'Main page'!$F$21-(D10636))","v":" "},{"$f":"IF(D10636=\"\",\" \",VLOOKUP(R10636,'Main page'!$E$29:'Main page'!$G$41,3,TRUE))","v":" "}]
[null,null,null,null,null,null,null,null,null,null,null,null," "," "," "," ",{"$f":"IF(I10643=\"\",\"\",IF(I10643<='Main page'!$F$49,\"Core staff\",\"Senior staff\"))","v":""},{"$f":"IF(D10643=\"\",\" \",'Main page'!$F$21-(D10643))","v":" "},{"$f":"IF(D10643=\"\",\" \",VLOOKUP(R10643,'Main page'!$E$29:'Main page'!$G$41,3,TRUE))","v":" "}]
[null,null,null,null,null,null,null,null,null,null,null,null," "," "," "," ",{"$f":"IF(I10646=\"\",\"\",IF(I10646<='Main page'!$F$49,\"Core staff\",\"Senior staff\"))","v":""},{"$f":"IF(D10646=\"\",\" \",'Main page'!$F$21-(D10646))","v":" "},{"$f":"IF(D10646=\"\",\" \",VLOOKUP(R10646,'Main page'!$E$29:'Main page'!$G$41,3,TRUE))","v":" "}]
[null,null,null,null,null,null,null,null,null,null,null,null," "," "," "," ",{"$f":"IF(I10661=\"\",\"\",IF(I10661<='Main page'!$F$49,\"Core staff\",\"Senior staff\"))","v":""},{"$f":"IF(D10661=\"\",\" \",'Main page'!$F$21-(D10661))","v":" "},{"$f":"IF(D10661=\"\",\" \",VLOOKUP(R10661,'Main page'!$E$29:'Main page'!$G$41,3,TRUE))","v":" "}]
[null,null,null,null,null,null,null,null,null,null,null,null," "," "," "," ",{"$f":"IF(I10664=\"\",\"\",IF(I10664<='Main page'!$F$49,\"Core staff\",\"Senior staff\"))","v":""},{"$f":"IF(D10664=\"\",\" \",'Main page'!$F$21-(D10664))","v":" "},{"$f":"IF(D10664=\"\",\" \",VLOOKUP(R10664,'Main page'!$E$29:'Main page'!$G$41,3,TRUE))","v":" "}]
[null,null,null,null,null,null,null,null,null,null,null,null," "," "," "," ",{"$f":"IF(I10676=\"\",\"\",IF(I10676<='Main page'!$F$49,\"Core staff\",\"Senior staff\"))","v":""},{"$f":"IF(D10676=\"\",\" \",'Main page'!$F$21-(D10676))","v":" "},{"$f":"IF(D10676=\"\",\" \",VLOOKUP(R10676,'Main page'!$E$29:'Main page'!$G$41,3,TRUE))","v":" "}]
[null,null,null,null,null,null,null,null,null,null,null,null," "," "," "," ",{"$f":"IF(I10688=\"\",\"\",IF(I10688<='Main page'!$F$49,\"Core staff\",\"Senior staff\"))","v":""},{"$f":"IF(D10688=\"\",\" \",'Main page'!$F$21-(D10688))","v":" "},{"$f":"IF(D10688=\"\",\" \",VLOOKUP(R10688,'Main page'!$E$29:'Main page'!$G$41,3,TRUE))","v":" "}]
[null,null,null,null,null,null,null,null,null,null,null,null," "," "," "," ",{"$f":"IF(I10692=\"\",\"\",IF(I10692<='Main page'!$F$49,\"Core staff\",\"Senior staff\"))","v":""},{"$f":"IF(D10692=\"\",\" \",'Main page'!$F$21-(D10692))","v":" "},{"$f":"IF(D10692=\"\",\" \",VLOOKUP(R10692,'Main page'!$E$29:'Main page'!$G$41,3,TRUE))","v":" "}]
[null,null,null,null,null,null,null,null,null,null,null,null," "," "," "," ",{"$f":"IF(I10706=\"\",\"\",IF(I10706<='Main page'!$F$49,\"Core staff\",\"Senior staff\"))","v":""},{"$f":"IF(D10706=\"\",\" \",'Main page'!$F$21-(D10706))","v":" "},{"$f":"IF(D10706=\"\",\" \",VLOOKUP(R10706,'Main page'!$E$29:'Main page'!$G$41,3,TRUE))","v":" "}]
[null,null,null,null,null,null,null,null,null,null,null,null," "," "," "," ",{"$f":"IF(I10713=\"\",\"\",IF(I10713<='Main page'!$F$49,\"Core staff\",\"Senior staff\"))","v":""},{"$f":"IF(D10713=\"\",\" \",'Main page'!$F$21-(D10713))","v":" "},{"$f":"IF(D10713=\"\",\" \",VLOOKUP(R10713,'Main page'!$E$29:'Main page'!$G$41,3,TRUE))","v":" "}]
[null,null,null,null,null,null,null,null,null,null,null,null," "," "," "," ",{"$f":"IF(I10716=\"\",\"\",IF(I10716<='Main page'!$F$49,\"Core staff\",\"Senior staff\"))","v":""},{"$f":"IF(D10716=\"\",\" \",'Main page'!$F$21-(D10716))","v":" "},{"$f":"IF(D10716=\"\",\" \",VLOOKUP(R10716,'Main page'!$E$29:'Main page'!$G$41,3,TRUE))","v":" "}]
[null,null,null,null,null,null,null,null,null,null,null,null," "," "," "," ",{"$f":"IF(I10731=\"\",\"\",IF(I10731<='Main page'!$F$49,\"Core staff\",\"Senior staff\"))","v":""},{"$f":"IF(D10731=\"\",\" \",'Main page'!$F$21-(D10731))","v":" "},{"$f":"IF(D10731=\"\",\" \",VLOOKUP(R10731,'Main page'!$E$29:'Main page'!$G$41,3,TRUE))","v":" "}]
[null,null,null,null,null,null,null,null,null,null,null,null," "," "," "," ",{"$f":"IF(I10734=\"\",\"\",IF(I10734<='Main page'!$F$49,\"Core staff\",\"Senior staff\"))","v":""},{"$f":"IF(D10734=\"\",\" \",'Main page'!$F$21-(D10734))","v":" "},{"$f":"IF(D10734=\"\",\" \",VLOOKUP(R10734,'Main page'!$E$29:'Main page'!$G$41,3,TRUE))","v":" "}]
[null,null,null,null,null,null,null,null,null,null,null,null," "," "," "," ",{"$f":"IF(I10746=\"\",\"\",IF(I10746<='Main page'!$F$49,\"Core staff\",\"Senior staff\"))","v":""},{"$f":"IF(D10746=\"\",\" \",'Main page'!$F$21-(D10746))","v":" "},{"$f":"IF(D10746=\"\",\" \",VLOOKUP(R10746,'Main page'!$E$29:'Main page'!$G$41,3,TRUE))","v":" "}]
[null,null,null,null,null,null,null,null,null,null,null,null," "," "," "," ",{"$f":"IF(I10758=\"\",\"\",IF(I10758<='Main page'!$F$49,\"Core staff\",\"Senior staff\"))","v":""},{"$f":"IF(D10758=\"\",\" \",'Main page'!$F$21-(D10758))","v":" "},{"$f":"IF(D10758=\"\",\" \",VLOOKUP(R10758,'Main page'!$E$29:'Main page'!$G$41,3,TRUE))","v":" "}]
[null,null,null,null,null,null,null,null,null,null,null,null," "," "," "," ",{"$f":"IF(I10765=\"\",\"\",IF(I10765<='Main page'!$F$49,\"Core staff\",\"Senior staff\"))","v":""},{"$f":"IF(D10765=\"\",\" \",'Main page'!$F$21-(D10765))","v":" "},{"$f":"IF(D10765=\"\",\" \",VLOOKUP(R10765,'Main page'!$E$29:'Main page'!$G$41,3,TRUE))","v":" "}]
[null,null,null,null,null,null,null,null,null,null,null,null," "," "," "," ",{"$f":"IF(I10772=\"\",\"\",IF(I10772<='Main page'!$F$49,\"Core staff\",\"Senior staff\"))","v":""},{"$f":"IF(D10772=\"\",\" \",'Main page'!$F$21-(D10772))","v":" "},{"$f":"IF(D10772=\"\",\" \",VLOOKUP(R10772,'Main page'!$E$29:'Main page'!$G$41,3,TRUE))","v":" "}]
[null,null,null,null,null,null,null,null,null,null,null,null," "," "," "," ",{"$f":"IF(I10783=\"\",\"\",IF(I10783<='Main page'!$F$49,\"Core staff\",\"Senior staff\"))","v":""},{"$f":"IF(D10783=\"\",\" \",'Main page'!$F$21-(D10783))","v":" "},{"$f":"IF(D10783=\"\",\" \",VLOOKUP(R10783,'Main page'!$E$29:'Main page'!$G$41,3,TRUE))","v":" "}]
[null,null,null,null,null,null,null,null,null,null,null,null," "," "," "," ",{"$f":"IF(I10786=\"\",\"\",IF(I10786<='Main page'!$F$49,\"Core staff\",\"Senior staff\"))","v":""},{"$f":"IF(D10786=\"\",\" \",'Main page'!$F$21-(D10786))","v":" "},{"$f":"IF(D10786=\"\",\" \",VLOOKUP(R10786,'Main page'!$E$29:'Main page'!$G$41,3,TRUE))","v":" "}]
[null,null,null,null,null,null,null,null,null,null,null,null," "," "," "," ",{"$f":"IF(I10798=\"\",\"\",IF(I10798<='Main page'!$F$49,\"Core staff\",\"Senior staff\"))","v":""},{"$f":"IF(D10798=\"\",\" \",'Main page'!$F$21-(D10798))","v":" "},{"$f":"IF(D10798=\"\",\" \",VLOOKUP(R10798,'Main page'!$E$29:'Main page'!$G$41,3,TRUE))","v":" "}]
[null,null,null,null,null,null,null,null,null,null,null,null," "," "," "," ",{"$f":"IF(I10811=\"\",\"\",IF(I10811<='Main page'!$F$49,\"Core staff\",\"Senior staff\"))","v":""},{"$f":"IF(D10811=\"\",\" \",'Main page'!$F$21-(D10811))","v":" "},{"$f":"IF(D10811=\"\",\" \",VLOOKUP(R10811,'Main page'!$E$29:'Main page'!$G$41,3,TRUE))","v":" "}]
[null,null,null,null,null,null,null,null,null,null,null,null," "," "," "," ",{"$f":"IF(I10816=\"\",\"\",IF(I10816<='Main page'!$F$49,\"Core staff\",\"Senior staff\"))","v":""},{"$f":"IF(D10816=\"\",\" \",'Main page'!$F$21-(D10816))","v":" "},{"$f":"IF(D10816=\"\",\" \",VLOOKUP(R10816,'Main page'!$E$29:'Main page'!$G$41,3,TRUE))","v":" "}]
[null,null,null,null,null,null,null,null,null,null,null,null," "," "," "," ",{"$f":"IF(I10823=\"\",\"\",IF(I10823<='Main page'!$F$49,\"Core staff\",\"Senior staff\"))","v":""},{"$f":"IF(D10823=\"\",\" \",'Main page'!$F$21-(D10823))","v":" "},{"$f":"IF(D10823=\"\",\" \",VLOOKUP(R10823,'Main page'!$E$29:'Main page'!$G$41,3,TRUE))","v":" "}]
[null,null,null,null,null,null,null,null,null,null,null,null," "," "," "," ",{"$f":"IF(I10835=\"\",\"\",IF(I10835<='Main page'!$F$49,\"Core staff\",\"Senior staff\"))","v":""},{"$f":"IF(D10835=\"\",\" \",'Main page'!$F$21-(D10835))","v":" "},{"$f":"IF(D10835=\"\",\" \",VLOOKUP(R10835,'Main page'!$E$29:'Main page'!$G$41,3,TRUE))","v":" "}]
[null,null,null,null,null,null,null,null,null,null,null,null," "," "," "," ",{"$f":"IF(I10842=\"\",\"\",IF(I10842<='Main page'!$F$49,\"Core staff\",\"Senior staff\"))","v":""},{"$f":"IF(D10842=\"\",\" \",'Main page'!$F$21-(D10842))","v":" "},{"$f":"IF(D10842=\"\",\" \",VLOOKUP(R10842,'Main page'!$E$29:'Main page'!$G$41,3,TRUE))","v":" "}]
[null,null,null,null,null,null,null,null,null,null,null,null," "," "," "," ",{"$f":"IF(I10853=\"\",\"\",IF(I10853<='Main page'!$F$49,\"Core staff\",\"Senior staff\"))","v":""},{"$f":"IF(D10853=\"\",\" \",'Main page'!$F$21-(D10853))","v":" "},{"$f":"IF(D10853=\"\",\" \",VLOOKUP(R10853,'Main page'!$E$29:'Main page'!$G$41,3,TRUE))","v":" "}]
[null,null,null,null,null,null,null,null,null,null,null,null," "," "," "," ",{"$f":"IF(I10856=\"\",\"\",IF(I10856<='Main page'!$F$49,\"Core staff\",\"Senior staff\"))","v":""},{"$f":"IF(D10856=\"\",\" \",'Main page'!$F$21-(D10856))","v":" "},{"$f":"IF(D10856=\"\",\" \",VLOOKUP(R10856,'Main page'!$E$29:'Main page'!$G$41,3,TRUE))","v":" "}]
[null,null,null,null,null,null,null,null,null,null,null,null," "," "," "," ",{"$f":"IF(I10868=\"\",\"\",IF(I10868<='Main page'!$F$49,\"Core staff\",\"Senior staff\"))","v":""},{"$f":"IF(D10868=\"\",\" \",'Main page'!$F$21-(D10868))","v":" "},{"$f":"IF(D10868=\"\",\" \",VLOOKUP(R10868,'Main page'!$E$29:'Main page'!$G$41,3,TRUE))","v":" "}]
[null,null,null,null,null,null,null,null,null,null,null,null," "," "," "," ",{"$f":"IF(I10881=\"\",\"\",IF(I10881<='Main page'!$F$49,\"Core staff\",\"Senior staff\"))","v":""},{"$f":"IF(D10881=\"\",\" \",'Main page'!$F$21-(D10881))","v":" "},{"$f":"IF(D10881=\"\",\" \",VLOOKUP(R10881,'Main page'!$E$29:'Main page'!$G$41,3,TRUE))","v":" "}]
[null,null,null,null,null,null,null,null,null,null,null,null," "," "," "," ",{"$f":"IF(I10886=\"\",\"\",IF(I10886<='Main page'!$F$49,\"Core staff\",\"Senior staff\"))","v":""},{"$f":"IF(D10886=\"\",\" \",'Main page'!$F$21-(D10886))","v":" "},{"$f":"IF(D10886=\"\",\" \",VLOOKUP(R10886,'Main page'!$E$29:'Main page'!$G$41,3,TRUE))","v":" "}]
[null,null,null,null,null,null,null,null,null,null,null,null," "," "," "," ",{"$f":"IF(I10893=\"\",\"\",IF(I10893<='Main page'!$F$49,\"Core staff\",\"Senior staff\"))","v":""},{"$f":"IF(D10893=\"\",\" \",'Main page'!$F$21-(D10893))","v":" "},{"$f":"IF(D10893=\"\",\" \",VLOOKUP(R10893,'Main page'!$E$29:'Main page'!$G$41,3,TRUE))","v":" "}]
[null,null,null,null,null,null,null,null,null,null,null,null," "," "," "," ",{"$f":"IF(I10905=\"\",\"\",IF(I10905<='Main page'!$F$49,\"Core staff\",\"Senior staff\"))","v":""},{"$f":"IF(D10905=\"\",\" \",'Main page'!$F$21-(D10905))","v":" "},{"$f":"IF(D10905=\"\",\" \",VLOOKUP(R10905,'Main page'!$E$29:'Main page'!$G$41,3,TRUE))","v":" "}]
[null,null,null,null,null,null,null,null,null,null,null,null," "," "," "," ",{"$f":"IF(I10912=\"\",\"\",IF(I10912<='Main page'!$F$49,\"Core staff\",\"Senior staff\"))","v":""},{"$f":"IF(D10912=\"\",\" \",'Main page'!$F$21-(D10912))","v":" "},{"$f":"IF(D10912=\"\",\" \",VLOOKUP(R10912,'Main page'!$E$29:'Main page'!$G$41,3,TRUE))","v":" "}]
[null,null,null,null,null,null,null,null,null,null,null,null," "," "," "," ",{"$f":"IF(I10923=\"\",\"\",IF(I10923<='Main page'!$F$49,\"Core staff\",\"Senior staff\"))","v":""},{"$f":"IF(D10923=\"\",\" \",'Main page'!$F$21-(D10923))","v":" "},{"$f":"IF(D10923=\"\",\" \",VLOOKUP(R10923,'Main page'!$E$29:'Main page'!$G$41,3,TRUE))","v":" "}]
[null,null,null,null,null,null,null,null,null,null,null,null," "," "," "," ",{"$f":"IF(I10926=\"\",\"\",IF(I10926<='Main page'!$F$49,\"Core staff\",\"Senior staff\"))","v":""},{"$f":"IF(D10926=\"\",\" \",'Main page'!$F$21-(D10926))","v":" "},{"$f":"IF(D10926=\"\",\" \",VLOOKUP(R10926,'Main page'!$E$29:'Main page'!$G$41,3,TRUE))","v":" "}]
[null,null,null,null,null,null,null,null,null,null,null,null," "," "," "," ",{"$f":"IF(I10938=\"\",\"\",IF(I10938<='Main page'!$F$49,\"Core staff\",\"Senior staff\"))","v":""},{"$f":"IF(D10938=\"\",\" \",'Main page'!$F$21-(D10938))","v":" "},{"$f":"IF(D10938=\"\",\" \",VLOOKUP(R10938,'Main page'!$E$29:'Main page'!$G$41,3,TRUE))","v":" "}]
[null,null,null,null,null,null,null,null,null,null,null,null," "," "," "," ",{"$f":"IF(I10951=\"\",\"\",IF(I10951<='Main page'!$F$49,\"Core staff\",\"Senior staff\"))","v":""},{"$f":"IF(D10951=\"\",\" \",'Main page'!$F$21-(D10951))","v":" "},{"$f":"IF(D10951=\"\",\" \",VLOOKUP(R10951,'Main page'!$E$29:'Main page'!$G$41,3,TRUE))","v":" "}]
[null,null,null,null,null,null,null,null,null,null,null,null," "," "," "," ",{"$f":"IF(I10956=\"\",\"\",IF(I10956<='Main page'!$F$49,\"Core staff\",\"Senior staff\"))","v":""},{"$f":"IF(D10956=\"\",\" \",'Main page'!$F$21-(D10956))","v":" "},{"$f":"IF(D10956=\"\",\" \",VLOOKUP(R10956,'Main page'!$E$29:'Main page'!$G$41,3,TRUE))","v":" "}]
[null,null,null,null,null,null,null,null,null,null,null,null," "," "," "," ",{"$f":"IF(I10963=\"\",\"\",IF(I10963<='Main page'!$F$49,\"Core staff\",\"Senior staff\"))","v":""},{"$f":"IF(D10963=\"\",\" \",'Main page'!$F$21-(D10963))","v":" "},{"$f":"IF(D10963=\"\",\" \",VLOOKUP(R10963,'Main page'!$E$29:'Main page'!$G$41,3,TRUE))","v":" "}]
[null,null,null,null,null,null,null,null,null,null,null,null," "," "," "," ",{"$f":"IF(I10975=\"\",\"\",IF(I10975<='Main page'!$F$49,\"Core staff\",\"Senior staff\"))","v":""},{"$f":"IF(D10975=\"\",\" \",'Main page'!$F$21-(D10975))","v":" "},{"$f":"IF(D10975=\"\",\" \",VLOOKUP(R10975,'Main page'!$E$29:'Main page'!$G$41,3,TRUE))","v":" "}]
[null,null,null,null,null,null,null,null,null,null,null,null," "," "," "," ",{"$f":"IF(I10982=\"\",\"\",IF(I10982<='Main page'!$F$49,\"Core staff\",\"Senior staff\"))","v":""},{"$f":"IF(D10982=\"\",\" \",'Main page'!$F$21-(D10982))","v":" "},{"$f":"IF(D10982=\"\",\" \",VLOOKUP(R10982,'Main page'!$E$29:'Main page'!$G$41,3,TRUE))","v":" "}]
[null,null,null,null,null,null,null,null,null,null,null,null," "," "," "," ",{"$f":"IF(I10993=\"\",\"\",IF(I10993<='Main page'!$F$49,\"Core staff\",\"Senior staff\"))","v":""},{"$f":"IF(D10993=\"\",\" \",'Main page'!$F$21-(D10993))","v":" "},{"$f":"IF(D10993=\"\",\" \",VLOOKUP(R10993,'Main page'!$E$29:'Main page'!$G$41,3,TRUE))","v":" "}]
[null,null,null,null,null,null,null,null,null,null,null,null," "," "," "," ",{"$f":"IF(I10996=\"\",\"\",IF(I10996<='Main page'!$F$49,\"Core staff\",\"Senior staff\"))","v":""},{"$f":"IF(D10996=\"\",\" \",'Main page'!$F$21-(D10996))","v":" "},{"$f":"IF(D10996=\"\",\" \",VLOOKUP(R10996,'Main page'!$E$29:'Main page'!$G$41,3,TRUE))","v":" "}]
[null,null,null,null,null,null,null,null,null,null,null,null," "," "," "," ",{"$f":"IF(I11012=\"\",\"\",IF(I11012<='Main page'!$F$49,\"Core staff\",\"Senior staff\"))","v":""},{"$f":"IF(D11012=\"\",\" \",'Main page'!$F$21-(D11012))","v":" "},{"$f":"IF(D11012=\"\",\" \",VLOOKUP(R11012,'Main page'!$E$29:'Main page'!$G$41,3,TRUE))","v":" "}]
[null,null,null,null,null,null,null,null,null,null,null,null," "," "," "," ",{"$f":"IF(I11021=\"\",\"\",IF(I11021<='Main page'!$F$49,\"Core staff\",\"Senior staff\"))","v":""},{"$f":"IF(D11021=\"\",\" \",'Main page'!$F$21-(D11021))","v":" "},{"$f":"IF(D11021=\"\",\" \",VLOOKUP(R11021,'Main page'!$E$29:'Main page'!$G$41,3,TRUE))","v":" "}]
[null,null,null,null,null,null,null,null,null,null,null,null," "," "," "," ",{"$f":"IF(I11026=\"\",\"\",IF(I11026<='Main page'!$F$49,\"Core staff\",\"Senior staff\"))","v":""},{"$f":"IF(D11026=\"\",\" \",'Main page'!$F$21-(D11026))","v":" "},{"$f":"IF(D11026=\"\",\" \",VLOOKUP(R11026,'Main page'!$E$29:'Main page'!$G$41,3,TRUE))","v":" "}]
[null,null,null,null,null,null,null,null,null,null,null,null," "," "," "," ",{"$f":"IF(I11033=\"\",\"\",IF(I11033<='Main page'!$F$49,\"Core staff\",\"Senior staff\"))","v":""},{"$f":"IF(D11033=\"\",\" \",'Main page'!$F$21-(D11033))","v":" "},{"$f":"IF(D11033=\"\",\" \",VLOOKUP(R11033,'Main page'!$E$29:'Main page'!$G$41,3,TRUE))","v":" "}]
[null,null,null,null,null,null,null,null,null,null,null,null," "," "," "," ",{"$f":"IF(I11045=\"\",\"\",IF(I11045<='Main page'!$F$49,\"Core staff\",\"Senior staff\"))","v":""},{"$f":"IF(D11045=\"\",\" \",'Main page'!$F$21-(D11045))","v":" "},{"$f":"IF(D11045=\"\",\" \",VLOOKUP(R11045,'Main page'!$E$29:'Main page'!$G$41,3,TRUE))","v":" "}]
[null,null,null,null,null,null,null,null,null,null,null,null," "," "," "," ",{"$f":"IF(I11052=\"\",\"\",IF(I11052<='Main page'!$F$49,\"Core staff\",\"Senior staff\"))","v":""},{"$f":"IF(D11052=\"\",\" \",'Main page'!$F$21-(D11052))","v":" "},{"$f":"IF(D11052=\"\",\" \",VLOOKUP(R11052,'Main page'!$E$29:'Main page'!$G$41,3,TRUE))","v":" "}]
[null,null,null,null,null,null,null,null,null,null,null,null," "," "," "," ",{"$f":"IF(I11063=\"\",\"\",IF(I11063<='Main page'!$F$49,\"Core staff\",\"Senior staff\"))","v":""},{"$f":"IF(D11063=\"\",\" \",'Main page'!$F$21-(D11063))","v":" "},{"$f":"IF(D11063=\"\",\" \",VLOOKUP(R11063,'Main page'!$E$29:'Main page'!$G$41,3,TRUE))","v":" "}]
[null,null,null,null,null,null,null,null,null,null,null,null," "," "," "," ",{"$f":"IF(I11066=\"\",\"\",IF(I11066<='Main page'!$F$49,\"Core staff\",\"Senior staff\"))","v":""},{"$f":"IF(D11066=\"\",\" \",'Main page'!$F$21-(D11066))","v":" "},{"$f":"IF(D11066=\"\",\" \",VLOOKUP(R11066,'Main page'!$E$29:'Main page'!$G$41,3,TRUE))","v":" "}]
[null,null,null,null,null,null,null,null,null,null,null,null," "," "," "," ",{"$f":"IF(I11082=\"\",\"\",IF(I11082<='Main page'!$F$49,\"Core staff\",\"Senior staff\"))","v":""},{"$f":"IF(D11082=\"\",\" \",'Main page'!$F$21-(D11082))","v":" "},{"$f":"IF(D11082=\"\",\" \",VLOOKUP(R11082,'Main page'!$E$29:'Main page'!$G$41,3,TRUE))","v":" "}]
[null,null,null,null,null,null,null,null,null,null,null,null," "," "," "," ",{"$f":"IF(I11091=\"\",\"\",IF(I11091<='Main page'!$F$49,\"Core staff\",\"Senior staff\"))","v":""},{"$f":"IF(D11091=\"\",\" \",'Main page'!$F$21-(D11091))","v":" "},{"$f":"IF(D11091=\"\",\" \",VLOOKUP(R11091,'Main page'!$E$29:'Main page'!$G$41,3,TRUE))","v":" "}]
[null,null,null,null,null,null,null,null,null,null,null,null," "," "," "," ",{"$f":"IF(I11096=\"\",\"\",IF(I11096<='Main page'!$F$49,\"Core staff\",\"Senior staff\"))","v":""},{"$f":"IF(D11096=\"\",\" \",'Main page'!$F$21-(D11096))","v":" "},{"$f":"IF(D11096=\"\",\" \",VLOOKUP(R11096,'Main page'!$E$29:'Main page'!$G$41,3,TRUE))","v":" "}]
[null,null,null,null,null,null,null,null,null,null,null,null," "," "," "," ",{"$f":"IF(I11103=\"\",\"\",IF(I11103<='Main page'!$F$49,\"Core staff\",\"Senior staff\"))","v":""},{"$f":"IF(D11103=\"\",\" \",'Main page'!$F$21-(D11103))","v":" "},{"$f":"IF(D11103=\"\",\" \",VLOOKUP(R11103,'Main page'!$E$29:'Main page'!$G$41,3,TRUE))","v":" "}]
[null,null,null,null,null,null,null,null,null,null,null,null," "," "," "," ",{"$f":"IF(I11115=\"\",\"\",IF(I11115<='Main page'!$F$49,\"Core staff\",\"Senior staff\"))","v":""},{"$f":"IF(D11115=\"\",\" \",'Main page'!$F$21-(D11115))","v":" "},{"$f":"IF(D11115=\"\",\" \",VLOOKUP(R11115,'Main page'!$E$29:'Main page'!$G$41,3,TRUE))","v":" "}]
[null,null,null,null,null,null,null,null,null,null,null,null," "," "," "," ",{"$f":"IF(I11122=\"\",\"\",IF(I11122<='Main page'!$F$49,\"Core staff\",\"Senior staff\"))","v":""},{"$f":"IF(D11122=\"\",\" \",'Main page'!$F$21-(D11122))","v":" "},{"$f":"IF(D11122=\"\",\" \",VLOOKUP(R11122,'Main page'!$E$29:'Main page'!$G$41,3,TRUE))","v":" "}]
[null,null,null,null,null,null,null,null,null,null,null,null," "," "," "," ",{"$f":"IF(I11133=\"\",\"\",IF(I11133<='Main page'!$F$49,\"Core staff\",\"Senior staff\"))","v":""},{"$f":"IF(D11133=\"\",\" \",'Main page'!$F$21-(D11133))","v":" "},{"$f":"IF(D11133=\"\",\" \",VLOOKUP(R11133,'Main page'!$E$29:'Main page'!$G$41,3,TRUE))","v":" "}]
[null,null,null,null,null,null,null,null,null,null,null,null," "," "," "," ",{"$f":"IF(I11136=\"\",\"\",IF(I11136<='Main page'!$F$49,\"Core staff\",\"Senior staff\"))","v":""},{"$f":"IF(D11136=\"\",\" \",'Main page'!$F$21-(D11136))","v":" "},{"$f":"IF(D11136=\"\",\" \",VLOOKUP(R11136,'Main page'!$E$29:'Main page'!$G$41,3,TRUE))","v":" "}]
[null,null,null,null,null,null,null,null,null,null,null,null," "," "," "," ",{"$f":"IF(I11152=\"\",\"\",IF(I11152<='Main page'!$F$49,\"Core staff\",\"Senior staff\"))","v":""},{"$f":"IF(D11152=\"\",\" \",'Main page'!$F$21-(D11152))","v":" "},{"$f":"IF(D11152=\"\",\" \",VLOOKUP(R11152,'Main page'!$E$29:'Main page'!$G$41,3,TRUE))","v":" "}]
[null,null,null,null,null,null,null,null,null,null,null,null," "," "," "," ",{"$f":"IF(I11161=\"\",\"\",IF(I11161<='Main page'!$F$49,\"Core staff\",\"Senior staff\"))","v":""},{"$f":"IF(D11161=\"\",\" \",'Main page'!$F$21-(D11161))","v":" "},{"$f":"IF(D11161=\"\",\" \",VLOOKUP(R11161,'Main page'!$E$29:'Main page'!$G$41,3,TRUE))","v":" "}]
[null,null,null,null,null,null,null,null,null,null,null,null," "," "," "," ",{"$f":"IF(I11166=\"\",\"\",IF(I11166<='Main page'!$F$49,\"Core staff\",\"Senior staff\"))","v":""},{"$f":"IF(D11166=\"\",\" \",'Main page'!$F$21-(D11166))","v":" "},{"$f":"IF(D11166=\"\",\" \",VLOOKUP(R11166,'Main page'!$E$29:'Main page'!$G$41,3,TRUE))","v":" "}]
[null,null,null,null,null,null,null,null,null,null,null,null," "," "," "," ",{"$f":"IF(I11173=\"\",\"\",IF(I11173<='Main page'!$F$49,\"Core staff\",\"Senior staff\"))","v":""},{"$f":"IF(D11173=\"\",\" \",'Main page'!$F$21-(D11173))","v":" "},{"$f":"IF(D11173=\"\",\" \",VLOOKUP(R11173,'Main page'!$E$29:'Main page'!$G$41,3,TRUE))","v":" "}]
[null,null,null,null,null,null,null,null,null,null,null,null," "," "," "," ",{"$f":"IF(I11185=\"\",\"\",IF(I11185<='Main page'!$F$49,\"Core staff\",\"Senior staff\"))","v":""},{"$f":"IF(D11185=\"\",\" \",'Main page'!$F$21-(D11185))","v":" "},{"$f":"IF(D11185=\"\",\" \",VLOOKUP(R11185,'Main page'!$E$29:'Main page'!$G$41,3,TRUE))","v":" "}]
[null,null,null,null,null,null,null,null,null,null,null,null," "," "," "," ",{"$f":"IF(I11192=\"\",\"\",IF(I11192<='Main page'!$F$49,\"Core staff\",\"Senior staff\"))","v":""},{"$f":"IF(D11192=\"\",\" \",'Main page'!$F$21-(D11192))","v":" "},{"$f":"IF(D11192=\"\",\" \",VLOOKUP(R11192,'Main page'!$E$29:'Main page'!$G$41,3,TRUE))","v":" "}]
[null,null,null,null,null,null,null,null,null,null,null,null," "," "," "," ",{"$f":"IF(I11203=\"\",\"\",IF(I11203<='Main page'!$F$49,\"Core staff\",\"Senior staff\"))","v":""},{"$f":"IF(D11203=\"\",\" \",'Main page'!$F$21-(D11203))","v":" "},{"$f":"IF(D11203=\"\",\" \",VLOOKUP(R11203,'Main page'!$E$29:'Main page'!$G$41,3,TRUE))","v":" "}]
[null,null,null,null,null,null,null,null,null,null,null,null," "," "," "," ",{"$f":"IF(I11206=\"\",\"\",IF(I11206<='Main page'!$F$49,\"Core staff\",\"Senior staff\"))","v":""},{"$f":"IF(D11206=\"\",\" \",'Main page'!$F$21-(D11206))","v":" "},{"$f":"IF(D11206=\"\",\" \",VLOOKUP(R11206,'Main page'!$E$29:'Main page'!$G$41,3,TRUE))","v":" "}]
[null,null,null,null,null,null,null,null,null,null,null,null," "," "," "," ",{"$f":"IF(I11222=\"\",\"\",IF(I11222<='Main page'!$F$49,\"Core staff\",\"Senior staff\"))","v":""},{"$f":"IF(D11222=\"\",\" \",'Main page'!$F$21-(D11222))","v":" "},{"$f":"IF(D11222=\"\",\" \",VLOOKUP(R11222,'Main page'!$E$29:'Main page'!$G$41,3,TRUE))","v":" "}]
[null,null,null,null,null,null,null,null,null,null,null,null," "," "," "," ",{"$f":"IF(I11231=\"\",\"\",IF(I11231<='Main page'!$F$49,\"Core staff\",\"Senior staff\"))","v":""},{"$f":"IF(D11231=\"\",\" \",'Main page'!$F$21-(D11231))","v":" "},{"$f":"IF(D11231=\"\",\" \",VLOOKUP(R11231,'Main page'!$E$29:'Main page'!$G$41,3,TRUE))","v":" "}]
[null,null,null,null,null,null,null,null,null,null,null,null," "," "," "," ",{"$f":"IF(I11236=\"\",\"\",IF(I11236<='Main page'!$F$49,\"Core staff\",\"Senior staff\"))","v":""},{"$f":"IF(D11236=\"\",\" \",'Main page'!$F$21-(D11236))","v":" "},{"$f":"IF(D11236=\"\",\" \",VLOOKUP(R11236,'Main page'!$E$29:'Main page'!$G$41,3,TRUE))","v":" "}]
[null,null,null,null,null,null,null,null,null,null,null,null," "," "," "," ",{"$f":"IF(I11243=\"\",\"\",IF(I11243<='Main page'!$F$49,\"Core staff\",\"Senior staff\"))","v":""},{"$f":"IF(D11243=\"\",\" \",'Main page'!$F$21-(D11243))","v":" "},{"$f":"IF(D11243=\"\",\" \",VLOOKUP(R11243,'Main page'!$E$29:'Main page'!$G$41,3,TRUE))","v":" "}]
[null,null,null,null,null,null,null,null,null,null,null,null," "," "," "," ",{"$f":"IF(I11255=\"\",\"\",IF(I11255<='Main page'!$F$49,\"Core staff\",\"Senior staff\"))","v":""},{"$f":"IF(D11255=\"\",\" \",'Main page'!$F$21-(D11255))","v":" "},{"$f":"IF(D11255=\"\",\" \",VLOOKUP(R11255,'Main page'!$E$29:'Main page'!$G$41,3,TRUE))","v":" "}]
[null,null,null,null,null,null,null,null,null,null,null,null," "," "," "," ",{"$f":"IF(I11262=\"\",\"\",IF(I11262<='Main page'!$F$49,\"Core staff\",\"Senior staff\"))","v":""},{"$f":"IF(D11262=\"\",\" \",'Main page'!$F$21-(D11262))","v":" "},{"$f":"IF(D11262=\"\",\" \",VLOOKUP(R11262,'Main page'!$E$29:'Main page'!$G$41,3,TRUE))","v":" "}]
[null,null,null,null,null,null,null,null,null,null,null,null," "," "," "," ",{"$f":"IF(I11273=\"\",\"\",IF(I11273<='Main page'!$F$49,\"Core staff\",\"Senior staff\"))","v":""},{"$f":"IF(D11273=\"\",\" \",'Main page'!$F$21-(D11273))","v":" "},{"$f":"IF(D11273=\"\",\" \",VLOOKUP(R11273,'Main page'!$E$29:'Main page'!$G$41,3,TRUE))","v":" "}]
[null,null,null,null,null,null,null,null,null,null,null,null," "," "," "," ",{"$f":"IF(I11276=\"\",\"\",IF(I11276<='Main page'!$F$49,\"Core staff\",\"Senior staff\"))","v":""},{"$f":"IF(D11276=\"\",\" \",'Main page'!$F$21-(D11276))","v":" "},{"$f":"IF(D11276=\"\",\" \",VLOOKUP(R11276,'Main page'!$E$29:'Main page'!$G$41,3,TRUE))","v":" "}]
[null,null,null,null,null,null,null,null,null,null,null,null," "," "," "," ",{"$f":"IF(I11292=\"\",\"\",IF(I11292<='Main page'!$F$49,\"Core staff\",\"Senior staff\"))","v":""},{"$f":"IF(D11292=\"\",\" \",'Main page'!$F$21-(D11292))","v":" "},{"$f":"IF(D11292=\"\",\" \",VLOOKUP(R11292,'Main page'!$E$29:'Main page'!$G$41,3,TRUE))","v":" "}]
[null,null,null,null,null,null,null,null,null,null,null,null," "," "," "," ",{"$f":"IF(I11301=\"\",\"\",IF(I11301<='Main page'!$F$49,\"Core staff\",\"Senior staff\"))","v":""},{"$f":"IF(D11301=\"\",\" \",'Main page'!$F$21-(D11301))","v":" "},{"$f":"IF(D11301=\"\",\" \",VLOOKUP(R11301,'Main page'!$E$29:'Main page'!$G$41,3,TRUE))","v":" "}]
[null,null,null,null,null,null,null,null,null,null,null,null," "," "," "," ",{"$f":"IF(I11310=\"\",\"\",IF(I11310<='Main page'!$F$49,\"Core staff\",\"Senior staff\"))","v":""},{"$f":"IF(D11310=\"\",\" \",'Main page'!$F$21-(D11310))","v":" "},{"$f":"IF(D11310=\"\",\" \",VLOOKUP(R11310,'Main page'!$E$29:'Main page'!$G$41,3,TRUE))","v":" "}]
[null,null,null,null,null,null,null,null,null,null,null,null," "," "," "," ",{"$f":"IF(I11313=\"\",\"\",IF(I11313<='Main page'!$F$49,\"Core staff\",\"Senior staff\"))","v":""},{"$f":"IF(D11313=\"\",\" \",'Main page'!$F$21-(D11313))","v":" "},{"$f":"IF(D11313=\"\",\" \",VLOOKUP(R11313,'Main page'!$E$29:'Main page'!$G$41,3,TRUE))","v":" "}]
[null,null,null,null,null,null,null,null,null,null,null,null," "," "," "," ",{"$f":"IF(I11325=\"\",\"\",IF(I11325<='Main page'!$F$49,\"Core staff\",\"Senior staff\"))","v":""},{"$f":"IF(D11325=\"\",\" \",'Main page'!$F$21-(D11325))","v":" "},{"$f":"IF(D11325=\"\",\" \",VLOOKUP(R11325,'Main page'!$E$29:'Main page'!$G$41,3,TRUE))","v":" "}]
[null,null,null,null,null,null,null,null,null,null,null,null," "," "," "," ",{"$f":"IF(I11332=\"\",\"\",IF(I11332<='Main page'!$F$49,\"Core staff\",\"Senior staff\"))","v":""},{"$f":"IF(D11332=\"\",\" \",'Main page'!$F$21-(D11332))","v":" "},{"$f":"IF(D11332=\"\",\" \",VLOOKUP(R11332,'Main page'!$E$29:'Main page'!$G$41,3,TRUE))","v":" "}]
[null,null,null,null,null,null,null,null,null,null,null,null," "," "," "," ",{"$f":"IF(I11343=\"\",\"\",IF(I11343<='Main page'!$F$49,\"Core staff\",\"Senior staff\"))","v":""},{"$f":"IF(D11343=\"\",\" \",'Main page'!$F$21-(D11343))","v":" "},{"$f":"IF(D11343=\"\",\" \",VLOOKUP(R11343,'Main page'!$E$29:'Main page'!$G$41,3,TRUE))","v":" "}]
[null,null,null,null,null,null,null,null,null,null,null,null," "," "," "," ",{"$f":"IF(I11346=\"\",\"\",IF(I11346<='Main page'!$F$49,\"Core staff\",\"Senior staff\"))","v":""},{"$f":"IF(D11346=\"\",\" \",'Main page'!$F$21-(D11346))","v":" "},{"$f":"IF(D11346=\"\",\" \",VLOOKUP(R11346,'Main page'!$E$29:'Main page'!$G$41,3,TRUE))","v":" "}]
[null,null,null,null,null,null,null,null,null,null,null,null," "," "," "," ",{"$f":"IF(I11362=\"\",\"\",IF(I11362<='Main page'!$F$49,\"Core staff\",\"Senior staff\"))","v":""},{"$f":"IF(D11362=\"\",\" \",'Main page'!$F$21-(D11362))","v":" "},{"$f":"IF(D11362=\"\",\" \",VLOOKUP(R11362,'Main page'!$E$29:'Main page'!$G$41,3,TRUE))","v":" "}]
[null,null,null,null,null,null,null,null,null,null,null,null," "," "," "," ",{"$f":"IF(I11371=\"\",\"\",IF(I11371<='Main page'!$F$49,\"Core staff\",\"Senior staff\"))","v":""},{"$f":"IF(D11371=\"\",\" \",'Main page'!$F$21-(D11371))","v":" "},{"$f":"IF(D11371=\"\",\" \",VLOOKUP(R11371,'Main page'!$E$29:'Main page'!$G$41,3,TRUE))","v":" "}]
[null,null,null,null,null,null,null,null,null,null,null,null," "," "," "," ",{"$f":"IF(I11380=\"\",\"\",IF(I11380<='Main page'!$F$49,\"Core staff\",\"Senior staff\"))","v":""},{"$f":"IF(D11380=\"\",\" \",'Main page'!$F$21-(D11380))","v":" "},{"$f":"IF(D11380=\"\",\" \",VLOOKUP(R11380,'Main page'!$E$29:'Main page'!$G$41,3,TRUE))","v":" "}]
[null,null,null,null,null,null,null,null,null,null,null,null," "," "," "," ",{"$f":"IF(I11383=\"\",\"\",IF(I11383<='Main page'!$F$49,\"Core staff\",\"Senior staff\"))","v":""},{"$f":"IF(D11383=\"\",\" \",'Main page'!$F$21-(D11383))","v":" "},{"$f":"IF(D11383=\"\",\" \",VLOOKUP(R11383,'Main page'!$E$29:'Main page'!$G$41,3,TRUE))","v":" "}]
[null,null,null,null,null,null,null,null,null,null,null,null," "," "," "," ",{"$f":"IF(I11395=\"\",\"\",IF(I11395<='Main page'!$F$49,\"Core staff\",\"Senior staff\"))","v":""},{"$f":"IF(D11395=\"\",\" \",'Main page'!$F$21-(D11395))","v":" "},{"$f":"IF(D11395=\"\",\" \",VLOOKUP(R11395,'Main page'!$E$29:'Main page'!$G$41,3,TRUE))","v":" "}]
[null,null,null,null,null,null,null,null,null,null,null,null," "," "," "," ",{"$f":"IF(I11402=\"\",\"\",IF(I11402<='Main page'!$F$49,\"Core staff\",\"Senior staff\"))","v":""},{"$f":"IF(D11402=\"\",\" \",'Main page'!$F$21-(D11402))","v":" "},{"$f":"IF(D11402=\"\",\" \",VLOOKUP(R11402,'Main page'!$E$29:'Main page'!$G$41,3,TRUE))","v":" "}]
[null,null,null,null,null,null,null,null,null,null,null,null," "," "," "," ",{"$f":"IF(I11413=\"\",\"\",IF(I11413<='Main page'!$F$49,\"Core staff\",\"Senior staff\"))","v":""},{"$f":"IF(D11413=\"\",\" \",'Main page'!$F$21-(D11413))","v":" "},{"$f":"IF(D11413=\"\",\" \",VLOOKUP(R11413,'Main page'!$E$29:'Main page'!$G$41,3,TRUE))","v":" "}]
[null,null,null,null,null,null,null,null,null,null,null,null," "," "," "," ",{"$f":"IF(I11416=\"\",\"\",IF(I11416<='Main page'!$F$49,\"Core staff\",\"Senior staff\"))","v":""},{"$f":"IF(D11416=\"\",\" \",'Main page'!$F$21-(D11416))","v":" "},{"$f":"IF(D11416=\"\",\" \",VLOOKUP(R11416,'Main page'!$E$29:'Main page'!$G$41,3,TRUE))","v":" "}]
[null,null,null,null,null,null,null,null,null,null,null,null," "," "," "," ",{"$f":"IF(I11432=\"\",\"\",IF(I11432<='Main page'!$F$49,\"Core staff\",\"Senior staff\"))","v":""},{"$f":"IF(D11432=\"\",\" \",'Main page'!$F$21-(D11432))","v":" "},{"$f":"IF(D11432=\"\",\" \",VLOOKUP(R11432,'Main page'!$E$29:'Main page'!$G$41,3,TRUE))","v":" "}]
[null,null,null,null,null,null,null,null,null,null,null,null," "," "," "," ",{"$f":"IF(I11441=\"\",\"\",IF(I11441<='Main page'!$F$49,\"Core staff\",\"Senior staff\"))","v":""},{"$f":"IF(D11441=\"\",\" \",'Main page'!$F$21-(D11441))","v":" "},{"$f":"IF(D11441=\"\",\" \",VLOOKUP(R11441,'Main page'!$E$29:'Main page'!$G$41,3,TRUE))","v":" "}]
[null,null,null,null,null,null,null,null,null,null,null,null," "," "," "," ",{"$f":"IF(I11450=\"\",\"\",IF(I11450<='Main page'!$F$49,\"Core staff\",\"Senior staff\"))","v":""},{"$f":"IF(D11450=\"\",\" \",'Main page'!$F$21-(D11450))","v":" "},{"$f":"IF(D11450=\"\",\" \",VLOOKUP(R11450,'Main page'!$E$29:'Main page'!$G$41,3,TRUE))","v":" "}]
[null,null,null,null,null,null,null,null,null,null,null,null," "," "," "," ",{"$f":"IF(I11453=\"\",\"\",IF(I11453<='Main page'!$F$49,\"Core staff\",\"Senior staff\"))","v":""},{"$f":"IF(D11453=\"\",\" \",'Main page'!$F$21-(D11453))","v":" "},{"$f":"IF(D11453=\"\",\" \",VLOOKUP(R11453,'Main page'!$E$29:'Main page'!$G$41,3,TRUE))","v":" "}]
[null,null,null,null,null,null,null,null,null,null,null,null," "," "," "," ",{"$f":"IF(I11465=\"\",\"\",IF(I11465<='Main page'!$F$49,\"Core staff\",\"Senior staff\"))","v":""},{"$f":"IF(D11465=\"\",\" \",'Main page'!$F$21-(D11465))","v":" "},{"$f":"IF(D11465=\"\",\" \",VLOOKUP(R11465,'Main page'!$E$29:'Main page'!$G$41,3,TRUE))","v":" "}]
[null,null,null,null,null,null,null,null,null,null,null,null," "," "," "," ",{"$f":"IF(I11472=\"\",\"\",IF(I11472<='Main page'!$F$49,\"Core staff\",\"Senior staff\"))","v":""},{"$f":"IF(D11472=\"\",\" \",'Main page'!$F$21-(D11472))","v":" "},{"$f":"IF(D11472=\"\",\" \",VLOOKUP(R11472,'Main page'!$E$29:'Main page'!$G$41,3,TRUE))","v":" "}]
[null,null,null,null,null,null,null,null,null,null,null,null," "," "," "," ",{"$f":"IF(I11483=\"\",\"\",IF(I11483<='Main page'!$F$49,\"Core staff\",\"Senior staff\"))","v":""},{"$f":"IF(D11483=\"\",\" \",'Main page'!$F$21-(D11483))","v":" "},{"$f":"IF(D11483=\"\",\" \",VLOOKUP(R11483,'Main page'!$E$29:'Main page'!$G$41,3,TRUE))","v":" "}]
[null,null,null,null,null,null,null,null,null,null,null,null," "," "," "," ",{"$f":"IF(I11490=\"\",\"\",IF(I11490<='Main page'!$F$49,\"Core staff\",\"Senior staff\"))","v":""},{"$f":"IF(D11490=\"\",\" \",'Main page'!$F$21-(D11490))","v":" "},{"$f":"IF(D11490=\"\",\" \",VLOOKUP(R11490,'Main page'!$E$29:'Main page'!$G$41,3,TRUE))","v":" "}]
[null,null,null,null,null,null,null,null,null,null,null,null," "," "," "," ",{"$f":"IF(I11502=\"\",\"\",IF(I11502<='Main page'!$F$49,\"Core staff\",\"Senior staff\"))","v":""},{"$f":"IF(D11502=\"\",\" \",'Main page'!$F$21-(D11502))","v":" "},{"$f":"IF(D11502=\"\",\" \",VLOOKUP(R11502,'Main page'!$E$29:'Main page'!$G$41,3,TRUE))","v":" "}]
[null,null,null,null,null,null,null,null,null,null,null,null," "," "," "," ",{"$f":"IF(I11511=\"\",\"\",IF(I11511<='Main page'!$F$49,\"Core staff\",\"Senior staff\"))","v":""},{"$f":"IF(D11511=\"\",\" \",'Main page'!$F$21-(D11511))","v":" "},{"$f":"IF(D11511=\"\",\" \",VLOOKUP(R11511,'Main page'!$E$29:'Main page'!$G$41,3,TRUE))","v":" "}]
[null,null,null,null,null,null,null,null,null,null,null,null," "," "," "," ",{"$f":"IF(I11520=\"\",\"\",IF(I11520<='Main page'!$F$49,\"Core staff\",\"Senior staff\"))","v":""},{"$f":"IF(D11520=\"\",\" \",'Main page'!$F$21-(D11520))","v":" "},{"$f":"IF(D11520=\"\",\" \",VLOOKUP(R11520,'Main page'!$E$29:'Main page'!$G$41,3,TRUE))","v":" "}]
[null,null,null,null,null,null,null,null,null,null,null,null," "," "," "," ",{"$f":"IF(I11523=\"\",\"\",IF(I11523<='Main page'!$F$49,\"Core staff\",\"Senior staff\"))","v":""},{"$f":"IF(D11523=\"\",\" \",'Main page'!$F$21-(D11523))","v":" "},{"$f":"IF(D11523=\"\",\" \",VLOOKUP(R11523,'Main page'!$E$29:'Main page'!$G$41,3,TRUE))","v":" "}]
[null,null,null,null,null,null,null,null,null,null,null,null," "," "," "," ",{"$f":"IF(I11535=\"\",\"\",IF(I11535<='Main page'!$F$49,\"Core staff\",\"Senior staff\"))","v":""},{"$f":"IF(D11535=\"\",\" \",'Main page'!$F$21-(D11535))","v":" "},{"$f":"IF(D11535=\"\",\" \",VLOOKUP(R11535,'Main page'!$E$29:'Main page'!$G$41,3,TRUE))","v":" "}]
[null,null,null,null,null,null,null,null,null,null,null,null," "," "," "," ",{"$f":"IF(I11542=\"\",\"\",IF(I11542<='Main page'!$F$49,\"Core staff\",\"Senior staff\"))","v":""},{"$f":"IF(D11542=\"\",\" \",'Main page'!$F$21-(D11542))","v":" "},{"$f":"IF(D11542=\"\",\" \",VLOOKUP(R11542,'Main page'!$E$29:'Main page'!$G$41,3,TRUE))","v":" "}]
[null,null,null,null,null,null,null,null,null,null,null,null," "," "," "," ",{"$f":"IF(I11553=\"\",\"\",IF(I11553<='Main page'!$F$49,\"Core staff\",\"Senior staff\"))","v":""},{"$f":"IF(D11553=\"\",\" \",'Main page'!$F$21-(D11553))","v":" "},{"$f":"IF(D11553=\"\",\" \",VLOOKUP(R11553,'Main page'!$E$29:'Main page'!$G$41,3,TRUE))","v":" "}]
[null,null,null,null,null,null,null,null,null,null,null,null," "," "," "," ",{"$f":"IF(I11560=\"\",\"\",IF(I11560<='Main page'!$F$49,\"Core staff\",\"Senior staff\"))","v":""},{"$f":"IF(D11560=\"\",\" \",'Main page'!$F$21-(D11560))","v":" "},{"$f":"IF(D11560=\"\",\" \",VLOOKUP(R11560,'Main page'!$E$29:'Main page'!$G$41,3,TRUE))","v":" "}]
[null,null,null,null,null,null,null,null,null,null,null,null," "," "," "," ",{"$f":"IF(I11572=\"\",\"\",IF(I11572<='Main page'!$F$49,\"Core staff\",\"Senior staff\"))","v":""},{"$f":"IF(D11572=\"\",\" \",'Main page'!$F$21-(D11572))","v":" "},{"$f":"IF(D11572=\"\",\" \",VLOOKUP(R11572,'Main page'!$E$29:'Main page'!$G$41,3,TRUE))","v":" "}]
[null,null,null,null,null,null,null,null,null,null,null,null," "," "," "," ",{"$f":"IF(I11581=\"\",\"\",IF(I11581<='Main page'!$F$49,\"Core staff\",\"Senior staff\"))","v":""},{"$f":"IF(D11581=\"\",\" \",'Main page'!$F$21-(D11581))","v":" "},{"$f":"IF(D11581=\"\",\" \",VLOOKUP(R11581,'Main page'!$E$29:'Main page'!$G$41,3,TRUE))","v":" "}]
[null,null,null,null,null,null,null,null,null,null,null,null," "," "," "," ",{"$f":"IF(I11590=\"\",\"\",IF(I11590<='Main page'!$F$49,\"Core staff\",\"Senior staff\"))","v":""},{"$f":"IF(D11590=\"\",\" \",'Main page'!$F$21-(D11590))","v":" "},{"$f":"IF(D11590=\"\",\" \",VLOOKUP(R11590,'Main page'!$E$29:'Main page'!$G$41,3,TRUE))","v":" "}]
[null,null,null,null,null,null,null,null,null,null,null,null," "," "," "," ",{"$f":"IF(I11593=\"\",\"\",IF(I11593<='Main page'!$F$49,\"Core staff\",\"Senior staff\"))","v":""},{"$f":"IF(D11593=\"\",\" \",'Main page'!$F$21-(D11593))","v":" "},{"$f":"IF(D11593=\"\",\" \",VLOOKUP(R11593,'Main page'!$E$29:'Main page'!$G$41,3,TRUE))","v":" "}]
[null,null,null,null,null,null,null,null,null,null,null,null," "," "," "," ",{"$f":"IF(I11600=\"\",\"\",IF(I11600<='Main page'!$F$49,\"Core staff\",\"Senior staff\"))","v":""},{"$f":"IF(D11600=\"\",\" \",'Main page'!$F$21-(D11600))","v":" "},{"$f":"IF(D11600=\"\",\" \",VLOOKUP(R11600,'Main page'!$E$29:'Main page'!$G$41,3,TRUE))","v":" "}]
[null,null,null,null,null,null,null,null,null,null,null,null," "," "," "," ",{"$f":"IF(I11612=\"\",\"\",IF(I11612<='Main page'!$F$49,\"Core staff\",\"Senior staff\"))","v":""},{"$f":"IF(D11612=\"\",\" \",'Main page'!$F$21-(D11612))","v":" "},{"$f":"IF(D11612=\"\",\" \",VLOOKUP(R11612,'Main page'!$E$29:'Main page'!$G$41,3,TRUE))","v":" "}]
[null,null,null,null,null,null,null,null,null,null,null,null," "," "," "," ",{"$f":"IF(I11623=\"\",\"\",IF(I11623<='Main page'!$F$49,\"Core staff\",\"Senior staff\"))","v":""},{"$f":"IF(D11623=\"\",\" \",'Main page'!$F$21-(D11623))","v":" "},{"$f":"IF(D11623=\"\",\" \",VLOOKUP(R11623,'Main page'!$E$29:'Main page'!$G$41,3,TRUE))","v":" "}]
[null,null,null,null,null,null,null,null,null,null,null,null," "," "," "," ",{"$f":"IF(I11630=\"\",\"\",IF(I11630<='Main page'!$F$49,\"Core staff\",\"Senior staff\"))","v":""},{"$f":"IF(D11630=\"\",\" \",'Main page'!$F$21-(D11630))","v":" "},{"$f":"IF(D11630=\"\",\" \",VLOOKUP(R11630,'Main page'!$E$29:'Main page'!$G$41,3,TRUE))","v":" "}]
[null,null,null,null,null,null,null,null,null,null,null,null," "," "," "," ",{"$f":"IF(I11642=\"\",\"\",IF(I11642<='Main page'!$F$49,\"Core staff\",\"Senior staff\"))","v":""},{"$f":"IF(D11642=\"\",\" \",'Main page'!$F$21-(D11642))","v":" "},{"$f":"IF(D11642=\"\",\" \",VLOOKUP(R11642,'Main page'!$E$29:'Main page'!$G$41,3,TRUE))","v":" "}]
[null,null,null,null,null,null,null,null,null,null,null,null," "," "," "," ",{"$f":"IF(I11651=\"\",\"\",IF(I11651<='Main page'!$F$49,\"Core staff\",\"Senior staff\"))","v":""},{"$f":"IF(D11651=\"\",\" \",'Main page'!$F$21-(D11651))","v":" "},{"$f":"IF(D11651=\"\",\" \",VLOOKUP(R11651,'Main page'!$E$29:'Main page'!$G$41,3,TRUE))","v":" "}]
[null,null,null,null,null,null,null,null,null,null,null,null," "," "," "," ",{"$f":"IF(I11660=\"\",\"\",IF(I11660<='Main page'!$F$49,\"Core staff\",\"Senior staff\"))","v":""},{"$f":"IF(D11660=\"\",\" \",'Main page'!$F$21-(D11660))","v":" "},{"$f":"IF(D11660=\"\",\" \",VLOOKUP(R11660,'Main page'!$E$29:'Main page'!$G$41,3,TRUE))","v":" "}]
[null,null,null,null,null,null,null,null,null,null,null,null," "," "," "," ",{"$f":"IF(I11663=\"\",\"\",IF(I11663<='Main page'!$F$49,\"Core staff\",\"Senior staff\"))","v":""},{"$f":"IF(D11663=\"\",\" \",'Main page'!$F$21-(D11663))","v":" "},{"$f":"IF(D11663=\"\",\" \",VLOOKUP(R11663,'Main page'!$E$29:'Main page'!$G$41,3,TRUE))","v":" "}]
[null,null,null,null,null,null,null,null,null,null,null,null," "," "," "," ",{"$f":"IF(I11670=\"\",\"\",IF(I11670<='Main page'!$F$49,\"Core staff\",\"Senior staff\"))","v":""},{"$f":"IF(D11670=\"\",\" \",'Main page'!$F$21-(D11670))","v":" "},{"$f":"IF(D11670=\"\",\" \",VLOOKUP(R11670,'Main page'!$E$29:'Main page'!$G$41,3,TRUE))","v":" "}]
[null,null,null,null,null,null,null,null,null,null,null,null," "," "," "," ",{"$f":"IF(I11682=\"\",\"\",IF(I11682<='Main page'!$F$49,\"Core staff\",\"Senior staff\"))","v":""},{"$f":"IF(D11682=\"\",\" \",'Main page'!$F$21-(D11682))","v":" "},{"$f":"IF(D11682=\"\",\" \",VLOOKUP(R11682,'Main page'!$E$29:'Main page'!$G$41,3,TRUE))","v":" "}]
[null,null,null,null,null,null,null,null,null,null,null,null," "," "," "," ",{"$f":"IF(I11693=\"\",\"\",IF(I11693<='Main page'!$F$49,\"Core staff\",\"Senior staff\"))","v":""},{"$f":"IF(D11693=\"\",\" \",'Main page'!$F$21-(D11693))","v":" "},{"$f":"IF(D11693=\"\",\" \",VLOOKUP(R11693,'Main page'!$E$29:'Main page'!$G$41,3,TRUE))","v":" "}]
[null,null,null,null,null,null,null,null,null,null,null,null," "," "," "," ",{"$f":"IF(I11700=\"\",\"\",IF(I11700<='Main page'!$F$49,\"Core staff\",\"Senior staff\"))","v":""},{"$f":"IF(D11700=\"\",\" \",'Main page'!$F$21-(D11700))","v":" "},{"$f":"IF(D11700=\"\",\" \",VLOOKUP(R11700,'Main page'!$E$29:'Main page'!$G$41,3,TRUE))","v":" "}]
[null,null,null,null,null,null,null,null,null,null,null,null," "," "," "," ",{"$f":"IF(I11712=\"\",\"\",IF(I11712<='Main page'!$F$49,\"Core staff\",\"Senior staff\"))","v":""},{"$f":"IF(D11712=\"\",\" \",'Main page'!$F$21-(D11712))","v":" "},{"$f":"IF(D11712=\"\",\" \",VLOOKUP(R11712,'Main page'!$E$29:'Main page'!$G$41,3,TRUE))","v":" "}]
[null,null,null,null,null,null,null,null,null,null,null,null," "," "," "," ",{"$f":"IF(I11721=\"\",\"\",IF(I11721<='Main page'!$F$49,\"Core staff\",\"Senior staff\"))","v":""},{"$f":"IF(D11721=\"\",\" \",'Main page'!$F$21-(D11721))","v":" "},{"$f":"IF(D11721=\"\",\" \",VLOOKUP(R11721,'Main page'!$E$29:'Main page'!$G$41,3,TRUE))","v":" "}]
[null,null,null,null,null,null,null,null,null,null,null,null," "," "," "," ",{"$f":"IF(I11730=\"\",\"\",IF(I11730<='Main page'!$F$49,\"Core staff\",\"Senior staff\"))","v":""},{"$f":"IF(D11730=\"\",\" \",'Main page'!$F$21-(D11730))","v":" "},{"$f":"IF(D11730=\"\",\" \",VLOOKUP(R11730,'Main page'!$E$29:'Main page'!$G$41,3,TRUE))","v":" "}]
[null,null,null,null,null,null,null,null,null,null,null,null," "," "," "," ",{"$f":"IF(I11733=\"\",\"\",IF(I11733<='Main page'!$F$49,\"Core staff\",\"Senior staff\"))","v":""},{"$f":"IF(D11733=\"\",\" \",'Main page'!$F$21-(D11733))","v":" "},{"$f":"IF(D11733=\"\",\" \",VLOOKUP(R11733,'Main page'!$E$29:'Main page'!$G$41,3,TRUE))","v":" "}]
[null,null,null,null,null,null,null,null,null,null,null,null," "," "," "," ",{"$f":"IF(I11740=\"\",\"\",IF(I11740<='Main page'!$F$49,\"Core staff\",\"Senior staff\"))","v":""},{"$f":"IF(D11740=\"\",\" \",'Main page'!$F$21-(D11740))","v":" "},{"$f":"IF(D11740=\"\",\" \",VLOOKUP(R11740,'Main page'!$E$29:'Main page'!$G$41,3,TRUE))","v":" "}]
[null,null,null,null,null,null,null,null,null,null,null,null," "," "," "," ",{"$f":"IF(I11752=\"\",\"\",IF(I11752<='Main page'!$F$49,\"Core staff\",\"Senior staff\"))","v":""},{"$f":"IF(D11752=\"\",\" \",'Main page'!$F$21-(D11752))","v":" "},{"$f":"IF(D11752=\"\",\" \",VLOOKUP(R11752,'Main page'!$E$29:'Main page'!$G$41,3,TRUE))","v":" "}]
[null,null,null,null,null,null,null,null,null,null,null,null," "," "," "," ",{"$f":"IF(I11763=\"\",\"\",IF(I11763<='Main page'!$F$49,\"Core staff\",\"Senior staff\"))","v":""},{"$f":"IF(D11763=\"\",\" \",'Main page'!$F$21-(D11763))","v":" "},{"$f":"IF(D11763=\"\",\" \",VLOOKUP(R11763,'Main page'!$E$29:'Main page'!$G$41,3,TRUE))","v":" "}]
[null,null,null,null,null,null,null,null,null,null,null,null," "," "," "," ",{"$f":"IF(I11770=\"\",\"\",IF(I11770<='Main page'!$F$49,\"Core staff\",\"Senior staff\"))","v":""},{"$f":"IF(D11770=\"\",\" \",'Main page'!$F$21-(D11770))","v":" "},{"$f":"IF(D11770=\"\",\" \",VLOOKUP(R11770,'Main page'!$E$29:'Main page'!$G$41,3,TRUE))","v":" "}]
[null,null,null,null,null,null,null,null,null,null,null,null," "," "," "," ",{"$f":"IF(I11782=\"\",\"\",IF(I11782<='Main page'!$F$49,\"Core staff\",\"Senior staff\"))","v":""},{"$f":"IF(D11782=\"\",\" \",'Main page'!$F$21-(D11782))","v":" "},{"$f":"IF(D11782=\"\",\" \",VLOOKUP(R11782,'Main page'!$E$29:'Main page'!$G$41,3,TRUE))","v":" "}]
[null,null,null,null,null,null,null,null,null,null,null,null," "," "," "," ",{"$f":"IF(I11791=\"\",\"\",IF(I11791<='Main page'!$F$49,\"Core staff\",\"Senior staff\"))","v":""},{"$f":"IF(D11791=\"\",\" \",'Main page'!$F$21-(D11791))","v":" "},{"$f":"IF(D11791=\"\",\" \",VLOOKUP(R11791,'Main page'!$E$29:'Main page'!$G$41,3,TRUE))","v":" "}]
[null,null,null,null,null,null,null,null,null,null,null,null," "," "," "," ",{"$f":"IF(I11800=\"\",\"\",IF(I11800<='Main page'!$F$49,\"Core staff\",\"Senior staff\"))","v":""},{"$f":"IF(D11800=\"\",\" \",'Main page'!$F$21-(D11800))","v":" "},{"$f":"IF(D11800=\"\",\" \",VLOOKUP(R11800,'Main page'!$E$29:'Main page'!$G$41,3,TRUE))","v":" "}]
[null,null,null,null,null,null,null,null,null,null,null,null," "," "," "," ",{"$f":"IF(I11803=\"\",\"\",IF(I11803<='Main page'!$F$49,\"Core staff\",\"Senior staff\"))","v":""},{"$f":"IF(D11803=\"\",\" \",'Main page'!$F$21-(D11803))","v":" "},{"$f":"IF(D11803=\"\",\" \",VLOOKUP(R11803,'Main page'!$E$29:'Main page'!$G$41,3,TRUE))","v":" "}]
[null,null,null,null,null,null,null,null,null,null,null,null," "," "," "," ",{"$f":"IF(I11810=\"\",\"\",IF(I11810<='Main page'!$F$49,\"Core staff\",\"Senior staff\"))","v":""},{"$f":"IF(D11810=\"\",\" \",'Main page'!$F$21-(D11810))","v":" "},{"$f":"IF(D11810=\"\",\" \",VLOOKUP(R11810,'Main page'!$E$29:'Main page'!$G$41,3,TRUE))","v":" "}]
[null,null,null,null,null,null,null,null,null,null,null,null," "," "," "," ",{"$f":"IF(I11822=\"\",\"\",IF(I11822<='Main page'!$F$49,\"Core staff\",\"Senior staff\"))","v":""},{"$f":"IF(D11822=\"\",\" \",'Main page'!$F$21-(D11822))","v":" "},{"$f":"IF(D11822=\"\",\" \",VLOOKUP(R11822,'Main page'!$E$29:'Main page'!$G$41,3,TRUE))","v":" "}]
[null,null,null,null,null,null,null,null,null,null,null,null," "," "," "," ",{"$f":"IF(I11833=\"\",\"\",IF(I11833<='Main page'!$F$49,\"Core staff\",\"Senior staff\"))","v":""},{"$f":"IF(D11833=\"\",\" \",'Main page'!$F$21-(D11833))","v":" "},{"$f":"IF(D11833=\"\",\" \",VLOOKUP(R11833,'Main page'!$E$29:'Main page'!$G$41,3,TRUE))","v":" "}]
[null,null,null,null,null,null,null,null,null,null,null,null," "," "," "," ",{"$f":"IF(I11840=\"\",\"\",IF(I11840<='Main page'!$F$49,\"Core staff\",\"Senior staff\"))","v":""},{"$f":"IF(D11840=\"\",\" \",'Main page'!$F$21-(D11840))","v":" "},{"$f":"IF(D11840=\"\",\" \",VLOOKUP(R11840,'Main page'!$E$29:'Main page'!$G$41,3,TRUE))","v":" "}]
[null,null,null,null,null,null,null,null,null,null,null,null," "," "," "," ",{"$f":"IF(I11852=\"\",\"\",IF(I11852<='Main page'!$F$49,\"Core staff\",\"Senior staff\"))","v":""},{"$f":"IF(D11852=\"\",\" \",'Main page'!$F$21-(D11852))","v":" "},{"$f":"IF(D11852=\"\",\" \",VLOOKUP(R11852,'Main page'!$E$29:'Main page'!$G$41,3,TRUE))","v":" "}]
[null,null,null,null,null,null,null,null,null,null,null,null," "," "," "," ",{"$f":"IF(I11861=\"\",\"\",IF(I11861<='Main page'!$F$49,\"Core staff\",\"Senior staff\"))","v":""},{"$f":"IF(D11861=\"\",\" \",'Main page'!$F$21-(D11861))","v":" "},{"$f":"IF(D11861=\"\",\" \",VLOOKUP(R11861,'Main page'!$E$29:'Main page'!$G$41,3,TRUE))","v":" "}]
[null,null,null,null,null,null,null,null,null,null,null,null," "," "," "," ",{"$f":"IF(I11870=\"\",\"\",IF(I11870<='Main page'!$F$49,\"Core staff\",\"Senior staff\"))","v":""},{"$f":"IF(D11870=\"\",\" \",'Main page'!$F$21-(D11870))","v":" "},{"$f":"IF(D11870=\"\",\" \",VLOOKUP(R11870,'Main page'!$E$29:'Main page'!$G$41,3,TRUE))","v":" "}]
[null,null,null,null,null,null,null,null,null,null,null,null," "," "," "," ",{"$f":"IF(I11873=\"\",\"\",IF(I11873<='Main page'!$F$49,\"Core staff\",\"Senior staff\"))","v":""},{"$f":"IF(D11873=\"\",\" \",'Main page'!$F$21-(D11873))","v":" "},{"$f":"IF(D11873=\"\",\" \",VLOOKUP(R11873,'Main page'!$E$29:'Main page'!$G$41,3,TRUE))","v":" "}]
[null,null,null,null,null,null,null,null,null,null,null,null," "," "," "," ",{"$f":"IF(I11880=\"\",\"\",IF(I11880<='Main page'!$F$49,\"Core staff\",\"Senior staff\"))","v":""},{"$f":"IF(D11880=\"\",\" \",'Main page'!$F$21-(D11880))","v":" "},{"$f":"IF(D11880=\"\",\" \",VLOOKUP(R11880,'Main page'!$E$29:'Main page'!$G$41,3,TRUE))","v":" "}]
[null,null,null,null,null,null,null,null,null,null,null,null," "," "," "," ",{"$f":"IF(I11892=\"\",\"\",IF(I11892<='Main page'!$F$49,\"Core staff\",\"Senior staff\"))","v":""},{"$f":"IF(D11892=\"\",\" \",'Main page'!$F$21-(D11892))","v":" "},{"$f":"IF(D11892=\"\",\" \",VLOOKUP(R11892,'Main page'!$E$29:'Main page'!$G$41,3,TRUE))","v":" "}]
[null,null,null,null,null,null,null,null,null,null,null,null," "," "," "," ",{"$f":"IF(I11898=\"\",\"\",IF(I11898<='Main page'!$F$49,\"Core staff\",\"Senior staff\"))","v":""},{"$f":"IF(D11898=\"\",\" \",'Main page'!$F$21-(D11898))","v":" "},{"$f":"IF(D11898=\"\",\" \",VLOOKUP(R11898,'Main page'!$E$29:'Main page'!$G$41,3,TRUE))","v":" "}]
[null,null,null,null,null,null,null,null,null,null,null,null," "," "," "," ",{"$f":"IF(I11910=\"\",\"\",IF(I11910<='Main page'!$F$49,\"Core staff\",\"Senior staff\"))","v":""},{"$f":"IF(D11910=\"\",\" \",'Main page'!$F$21-(D11910))","v":" "},{"$f":"IF(D11910=\"\",\" \",VLOOKUP(R11910,'Main page'!$E$29:'Main page'!$G$41,3,TRUE))","v":" "}]
[null,null,null,null,null,null,null,null,null,null,null,null," "," "," "," ",{"$f":"IF(I11922=\"\",\"\",IF(I11922<='Main page'!$F$49,\"Core staff\",\"Senior staff\"))","v":""},{"$f":"IF(D11922=\"\",\" \",'Main page'!$F$21-(D11922))","v":" "},{"$f":"IF(D11922=\"\",\" \",VLOOKUP(R11922,'Main page'!$E$29:'Main page'!$G$41,3,TRUE))","v":" "}]
[null,null,null,null,null,null,null,null,null,null,null,null," "," "," "," ",{"$f":"IF(I11931=\"\",\"\",IF(I11931<='Main page'!$F$49,\"Core staff\",\"Senior staff\"))","v":""},{"$f":"IF(D11931=\"\",\" \",'Main page'!$F$21-(D11931))","v":" "},{"$f":"IF(D11931=\"\",\" \",VLOOKUP(R11931,'Main page'!$E$29:'Main page'!$G$41,3,TRUE))","v":" "}]
[null,null,null,null,null,null,null,null,null,null,null,null," "," "," "," ",{"$f":"IF(I11940=\"\",\"\",IF(I11940<='Main page'!$F$49,\"Core staff\",\"Senior staff\"))","v":""},{"$f":"IF(D11940=\"\",\" \",'Main page'!$F$21-(D11940))","v":" "},{"$f":"IF(D11940=\"\",\" \",VLOOKUP(R11940,'Main page'!$E$29:'Main page'!$G$41,3,TRUE))","v":" "}]
[null,null,null,null,null,null,null,null,null,null,null,null," "," "," "," ",{"$f":"IF(I11943=\"\",\"\",IF(I11943<='Main page'!$F$49,\"Core staff\",\"Senior staff\"))","v":""},{"$f":"IF(D11943=\"\",\" \",'Main page'!$F$21-(D11943))","v":" "},{"$f":"IF(D11943=\"\",\" \",VLOOKUP(R11943,'Main page'!$E$29:'Main page'!$G$41,3,TRUE))","v":" "}]
[null,null,null,null,null,null,null,null,null,null,null,null," "," "," "," ",{"$f":"IF(I11950=\"\",\"\",IF(I11950<='Main page'!$F$49,\"Core staff\",\"Senior staff\"))","v":""},{"$f":"IF(D11950=\"\",\" \",'Main page'!$F$21-(D11950))","v":" "},{"$f":"IF(D11950=\"\",\" \",VLOOKUP(R11950,'Main page'!$E$29:'Main page'!$G$41,3,TRUE))","v":" "}]
[null,null,null,null,null,null,null,null,null,null,null,null," "," "," "," ",{"$f":"IF(I11962=\"\",\"\",IF(I11962<='Main page'!$F$49,\"Core staff\",\"Senior staff\"))","v":""},{"$f":"IF(D11962=\"\",\" \",'Main page'!$F$21-(D11962))","v":" "},{"$f":"IF(D11962=\"\",\" \",VLOOKUP(R11962,'Main page'!$E$29:'Main page'!$G$41,3,TRUE))","v":" "}]
[null,null,null,null,null,null,null,null,null,null,null,null," "," "," "," ",{"$f":"IF(I11968=\"\",\"\",IF(I11968<='Main page'!$F$49,\"Core staff\",\"Senior staff\"))","v":""},{"$f":"IF(D11968=\"\",\" \",'Main page'!$F$21-(D11968))","v":" "},{"$f":"IF(D11968=\"\",\" \",VLOOKUP(R11968,'Main page'!$E$29:'Main page'!$G$41,3,TRUE))","v":" "}]
[null,null,null,null,null,null,null,null,null,null,null,null," "," "," "," ",{"$f":"IF(I11980=\"\",\"\",IF(I11980<='Main page'!$F$49,\"Core staff\",\"Senior staff\"))","v":""},{"$f":"IF(D11980=\"\",\" \",'Main page'!$F$21-(D11980))","v":" "},{"$f":"IF(D11980=\"\",\" \",VLOOKUP(R11980,'Main page'!$E$29:'Main page'!$G$41,3,TRUE))","v":" "}]
[null,null,null,null,null,null,null,null,null,null,null,null," "," "," "," ",{"$f":"IF(I11992=\"\",\"\",IF(I11992<='Main page'!$F$49,\"Core staff\",\"Senior staff\"))","v":""},{"$f":"IF(D11992=\"\",\" \",'Main page'!$F$21-(D11992))","v":" "},{"$f":"IF(D11992=\"\",\" \",VLOOKUP(R11992,'Main page'!$E$29:'Main page'!$G$41,3,TRUE))","v":" "}]
[null,null,null,null,null,null,null,null,null,null,null,null," "," "," "," ",{"$f":"IF(I12001=\"\",\"\",IF(I12001<='Main page'!$F$49,\"Core staff\",\"Senior staff\"))","v":""},{"$f":"IF(D12001=\"\",\" \",'Main page'!$F$21-(D12001))","v":" "},{"$f":"IF(D12001=\"\",\" \",VLOOKUP(R12001,'Main page'!$E$29:'Main page'!$G$41,3,TRUE))","v":" "}]
[null,null,null,null,null,null,null,null,null,null,null,null," "," "," "," ",{"$f":"IF(I12010=\"\",\"\",IF(I12010<='Main page'!$F$49,\"Core staff\",\"Senior staff\"))","v":""},{"$f":"IF(D12010=\"\",\" \",'Main page'!$F$21-(D12010))","v":" "},{"$f":"IF(D12010=\"\",\" \",VLOOKUP(R12010,'Main page'!$E$29:'Main page'!$G$41,3,TRUE))","v":" "}]
[null,null,null,null,null,null,null,null,null,null,null,null," "," "," "," ",{"$f":"IF(I12013=\"\",\"\",IF(I12013<='Main page'!$F$49,\"Core staff\",\"Senior staff\"))","v":""},{"$f":"IF(D12013=\"\",\" \",'Main page'!$F$21-(D12013))","v":" "},{"$f":"IF(D12013=\"\",\" \",VLOOKUP(R12013,'Main page'!$E$29:'Main page'!$G$41,3,TRUE))","v":" "}]
[null,null,null,null,null,null,null,null,null,null,null,null," "," "," "," ",{"$f":"IF(I12020=\"\",\"\",IF(I12020<='Main page'!$F$49,\"Core staff\",\"Senior staff\"))","v":""},{"$f":"IF(D12020=\"\",\" \",'Main page'!$F$21-(D12020))","v":" "},{"$f":"IF(D12020=\"\",\" \",VLOOKUP(R12020,'Main page'!$E$29:'Main page'!$G$41,3,TRUE))","v":" "}]
[null,null,null,null,null,null,null,null,null,null,null,null," "," "," "," ",{"$f":"IF(I12032=\"\",\"\",IF(I12032<='Main page'!$F$49,\"Core staff\",\"Senior staff\"))","v":""},{"$f":"IF(D12032=\"\",\" \",'Main page'!$F$21-(D12032))","v":" "},{"$f":"IF(D12032=\"\",\" \",VLOOKUP(R12032,'Main page'!$E$29:'Main page'!$G$41,3,TRUE))","v":" "}]
[null,null,null,null,null,null,null,null,null,null,null,null," "," "," "," ",{"$f":"IF(I12038=\"\",\"\",IF(I12038<='Main page'!$F$49,\"Core staff\",\"Senior staff\"))","v":""},{"$f":"IF(D12038=\"\",\" \",'Main page'!$F$21-(D12038))","v":" "},{"$f":"IF(D12038=\"\",\" \",VLOOKUP(R12038,'Main page'!$E$29:'Main page'!$G$41,3,TRUE))","v":" "}]
[null,null,null,null,null,null,null,null,null,null,null,null," "," "," "," ",{"$f":"IF(I12050=\"\",\"\",IF(I12050<='Main page'!$F$49,\"Core staff\",\"Senior staff\"))","v":""},{"$f":"IF(D12050=\"\",\" \",'Main page'!$F$21-(D12050))","v":" "},{"$f":"IF(D12050=\"\",\" \",VLOOKUP(R12050,'Main page'!$E$29:'Main page'!$G$41,3,TRUE))","v":" "}]
[null,null,null,null,null,null,null,null,null,null,null,null," "," "," "," ",{"$f":"IF(I12062=\"\",\"\",IF(I12062<='Main page'!$F$49,\"Core staff\",\"Senior staff\"))","v":""},{"$f":"IF(D12062=\"\",\" \",'Main page'!$F$21-(D12062))","v":" "},{"$f":"IF(D12062=\"\",\" \",VLOOKUP(R12062,'Main page'!$E$29:'Main page'!$G$41,3,TRUE))","v":" "}]
[null,null,null,null,null,null,null,null,null,null,null,null," "," "," "," ",{"$f":"IF(I12071=\"\",\"\",IF(I12071<='Main page'!$F$49,\"Core staff\",\"Senior staff\"))","v":""},{"$f":"IF(D12071=\"\",\" \",'Main page'!$F$21-(D12071))","v":" "},{"$f":"IF(D12071=\"\",\" \",VLOOKUP(R12071,'Main page'!$E$29:'Main page'!$G$41,3,TRUE))","v":" "}]
[null,null,null,null,null,null,null,null,null,null,null,null," "," "," "," ",{"$f":"IF(I12080=\"\",\"\",IF(I12080<='Main page'!$F$49,\"Core staff\",\"Senior staff\"))","v":""},{"$f":"IF(D12080=\"\",\" \",'Main page'!$F$21-(D12080))","v":" "},{"$f":"IF(D12080=\"\",\" \",VLOOKUP(R12080,'Main page'!$E$29:'Main page'!$G$41,3,TRUE))","v":" "}]
[null,null,null,null,null,null,null,null,null,null,null,null," "," "," "," ",{"$f":"IF(I12087=\"\",\"\",IF(I12087<='Main page'!$F$49,\"Core staff\",\"Senior staff\"))","v":""},{"$f":"IF(D12087=\"\",\" \",'Main page'!$F$21-(D12087))","v":" "},{"$f":"IF(D12087=\"\",\" \",VLOOKUP(R12087,'Main page'!$E$29:'Main page'!$G$41,3,TRUE))","v":" "}]
[null,null,null,null,null,null,null,null,null,null,null,null," "," "," "," ",{"$f":"IF(I12090=\"\",\"\",IF(I12090<='Main page'!$F$49,\"Core staff\",\"Senior staff\"))","v":""},{"$f":"IF(D12090=\"\",\" \",'Main page'!$F$21-(D12090))","v":" "},{"$f":"IF(D12090=\"\",\" \",VLOOKUP(R12090,'Main page'!$E$29:'Main page'!$G$41,3,TRUE))","v":" "}]
[null,null,null,null,null,null,null,null,null,null,null,null," "," "," "," ",{"$f":"IF(I12102=\"\",\"\",IF(I12102<='Main page'!$F$49,\"Core staff\",\"Senior staff\"))","v":""},{"$f":"IF(D12102=\"\",\" \",'Main page'!$F$21-(D12102))","v":" "},{"$f":"IF(D12102=\"\",\" \",VLOOKUP(R12102,'Main page'!$E$29:'Main page'!$G$41,3,TRUE))","v":" "}]
[null,null,null,null,null,null,null,null,null,null,null,null," "," "," "," ",{"$f":"IF(I12108=\"\",\"\",IF(I12108<='Main page'!$F$49,\"Core staff\",\"Senior staff\"))","v":""},{"$f":"IF(D12108=\"\",\" \",'Main page'!$F$21-(D12108))","v":" "},{"$f":"IF(D12108=\"\",\" \",VLOOKUP(R12108,'Main page'!$E$29:'Main page'!$G$41,3,TRUE))","v":" "}]
[null,null,null,null,null,null,null,null,null,null,null,null," "," "," "," ",{"$f":"IF(I12120=\"\",\"\",IF(I12120<='Main page'!$F$49,\"Core staff\",\"Senior staff\"))","v":""},{"$f":"IF(D12120=\"\",\" \",'Main page'!$F$21-(D12120))","v":" "},{"$f":"IF(D12120=\"\",\" \",VLOOKUP(R12120,'Main page'!$E$29:'Main page'!$G$41,3,TRUE))","v":" "}]
[null,null,null,null,null,null,null,null,null,null,null,null," "," "," "," ",{"$f":"IF(I12132=\"\",\"\",IF(I12132<='Main page'!$F$49,\"Core staff\",\"Senior staff\"))","v":""},{"$f":"IF(D12132=\"\",\" \",'Main page'!$F$21-(D12132))","v":" "},{"$f":"IF(D12132=\"\",\" \",VLOOKUP(R12132,'Main page'!$E$29:'Main page'!$G$41,3,TRUE))","v":" "}]
[null,null,null,null,null,null,null,null,null,null,null,null," "," "," "," ",{"$f":"IF(I12141=\"\",\"\",IF(I12141<='Main page'!$F$49,\"Core staff\",\"Senior staff\"))","v":""},{"$f":"IF(D12141=\"\",\" \",'Main page'!$F$21-(D12141))","v":" "},{"$f":"IF(D12141=\"\",\" \",VLOOKUP(R12141,'Main page'!$E$29:'Main page'!$G$41,3,TRUE))","v":" "}]
[null,null,null,null,null,null,null,null,null,null,null,null," "," "," "," ",{"$f":"IF(I12150=\"\",\"\",IF(I12150<='Main page'!$F$49,\"Core staff\",\"Senior staff\"))","v":""},{"$f":"IF(D12150=\"\",\" \",'Main page'!$F$21-(D12150))","v":" "},{"$f":"IF(D12150=\"\",\" \",VLOOKUP(R12150,'Main page'!$E$29:'Main page'!$G$41,3,TRUE))","v":" "}]
[null,null,null,null,null,null,null,null,null,null,null,null," "," "," "," ",{"$f":"IF(I12157=\"\",\"\",IF(I12157<='Main page'!$F$49,\"Core staff\",\"Senior staff\"))","v":""},{"$f":"IF(D12157=\"\",\" \",'Main page'!$F$21-(D12157))","v":" "},{"$f":"IF(D12157=\"\",\" \",VLOOKUP(R12157,'Main page'!$E$29:'Main page'!$G$41,3,TRUE))","v":" "}]
[null,null,null,null,null,null,null,null,null,null,null,null," "," "," "," ",{"$f":"IF(I12160=\"\",\"\",IF(I12160<='Main page'!$F$49,\"Core staff\",\"Senior staff\"))","v":""},{"$f":"IF(D12160=\"\",\" \",'Main page'!$F$21-(D12160))","v":" "},{"$f":"IF(D12160=\"\",\" \",VLOOKUP(R12160,'Main page'!$E$29:'Main page'!$G$41,3,TRUE))","v":" "}]
[null,null,null,null,null,null,null,null,null,null,null,null," "," "," "," ",{"$f":"IF(I12172=\"\",\"\",IF(I12172<='Main page'!$F$49,\"Core staff\",\"Senior staff\"))","v":""},{"$f":"IF(D12172=\"\",\" \",'Main page'!$F$21-(D12172))","v":" "},{"$f":"IF(D12172=\"\",\" \",VLOOKUP(R12172,'Main page'!$E$29:'Main page'!$G$41,3,TRUE))","v":" "}]
[null,null,null,null,null,null,null,null,null,null,null,null," "," "," "," ",{"$f":"IF(I12178=\"\",\"\",IF(I12178<='Main page'!$F$49,\"Core staff\",\"Senior staff\"))","v":""},{"$f":"IF(D12178=\"\",\" \",'Main page'!$F$21-(D12178))","v":" "},{"$f":"IF(D12178=\"\",\" \",VLOOKUP(R12178,'Main page'!$E$29:'Main page'!$G$41,3,TRUE))","v":" "}]
[null,null,null,null,null,null,null,null,null,null,null,null," "," "," "," ",{"$f":"IF(I12190=\"\",\"\",IF(I12190<='Main page'!$F$49,\"Core staff\",\"Senior staff\"))","v":""},{"$f":"IF(D12190=\"\",\" \",'Main page'!$F$21-(D12190))","v":" "},{"$f":"IF(D12190=\"\",\" \",VLOOKUP(R12190,'Main page'!$E$29:'Main page'!$G$41,3,TRUE))","v":" "}]
[null,null,null,null,null,null,null,null,null,null,null,null," "," "," "," ",{"$f":"IF(I12202=\"\",\"\",IF(I12202<='Main page'!$F$49,\"Core staff\",\"Senior staff\"))","v":""},{"$f":"IF(D12202=\"\",\" \",'Main page'!$F$21-(D12202))","v":" "},{"$f":"IF(D12202=\"\",\" \",VLOOKUP(R12202,'Main page'!$E$29:'Main page'!$G$41,3,TRUE))","v":" "}]
[null,null,null,null,null,null,null,null,null,null,null,null," "," "," "," ",{"$f":"IF(I12211=\"\",\"\",IF(I12211<='Main page'!$F$49,\"Core staff\",\"Senior staff\"))","v":""},{"$f":"IF(D12211=\"\",\" \",'Main page'!$F$21-(D12211))","v":" "},{"$f":"IF(D12211=\"\",\" \",VLOOKUP(R12211,'Main page'!$E$29:'Main page'!$G$41,3,TRUE))","v":" "}]
[null,null,null,null,null,null,null,null,null,null,null,null," "," "," "," ",{"$f":"IF(I12220=\"\",\"\",IF(I12220<='Main page'!$F$49,\"Core staff\",\"Senior staff\"))","v":""},{"$f":"IF(D12220=\"\",\" \",'Main page'!$F$21-(D12220))","v":" "},{"$f":"IF(D12220=\"\",\" \",VLOOKUP(R12220,'Main page'!$E$29:'Main page'!$G$41,3,TRUE))","v":" "}]
[null,null,null,null,null,null,null,null,null,null,null,null," "," "," "," ",{"$f":"IF(I12227=\"\",\"\",IF(I12227<='Main page'!$F$49,\"Core staff\",\"Senior staff\"))","v":""},{"$f":"IF(D12227=\"\",\" \",'Main page'!$F$21-(D12227))","v":" "},{"$f":"IF(D12227=\"\",\" \",VLOOKUP(R12227,'Main page'!$E$29:'Main page'!$G$41,3,TRUE))","v":" "}]
[null,null,null,null,null,null,null,null,null,null,null,null," "," "," "," ",{"$f":"IF(I12230=\"\",\"\",IF(I12230<='Main page'!$F$49,\"Core staff\",\"Senior staff\"))","v":""},{"$f":"IF(D12230=\"\",\" \",'Main page'!$F$21-(D12230))","v":" "},{"$f":"IF(D12230=\"\",\" \",VLOOKUP(R12230,'Main page'!$E$29:'Main page'!$G$41,3,TRUE))","v":" "}]
[null,null,null,null,null,null,null,null,null,null,null,null," "," "," "," ",{"$f":"IF(I12242=\"\",\"\",IF(I12242<='Main page'!$F$49,\"Core staff\",\"Senior staff\"))","v":""},{"$f":"IF(D12242=\"\",\" \",'Main page'!$F$21-(D12242))","v":" "},{"$f":"IF(D12242=\"\",\" \",VLOOKUP(R12242,'Main page'!$E$29:'Main page'!$G$41,3,TRUE))","v":" "}]
[null,null,null,null,null,null,null,null,null,null,null,null," "," "," "," ",{"$f":"IF(I12248=\"\",\"\",IF(I12248<='Main page'!$F$49,\"Core staff\",\"Senior staff\"))","v":""},{"$f":"IF(D12248=\"\",\" \",'Main page'!$F$21-(D12248))","v":" "},{"$f":"IF(D12248=\"\",\" \",VLOOKUP(R12248,'Main page'!$E$29:'Main page'!$G$41,3,TRUE))","v":" "}]
[null,null,null,null,null,null,null,null,null,null,null,null," "," "," "," ",{"$f":"IF(I12260=\"\",\"\",IF(I12260<='Main page'!$F$49,\"Core staff\",\"Senior staff\"))","v":""},{"$f":"IF(D12260=\"\",\" \",'Main page'!$F$21-(D12260))","v":" "},{"$f":"IF(D12260=\"\",\" \",VLOOKUP(R12260,'Main page'!$E$29:'Main page'!$G$41,3,TRUE))","v":" "}]
[null,null,null,null,null,null,null,null,null,null,null,null," "," "," "," ",{"$f":"IF(I12267=\"\",\"\",IF(I12267<='Main page'!$F$49,\"Core staff\",\"Senior staff\"))","v":""},{"$f":"IF(D12267=\"\",\" \",'Main page'!$F$21-(D12267))","v":" "},{"$f":"IF(D12267=\"\",\" \",VLOOKUP(R12267,'Main page'!$E$29:'Main page'!$G$41,3,TRUE))","v":" "}]
[null,null,null,null,null,null,null,null,null,null,null,null," "," "," "," ",{"$f":"IF(I12281=\"\",\"\",IF(I12281<='Main page'!$F$49,\"Core staff\",\"Senior staff\"))","v":""},{"$f":"IF(D12281=\"\",\" \",'Main page'!$F$21-(D12281))","v":" "},{"$f":"IF(D12281=\"\",\" \",VLOOKUP(R12281,'Main page'!$E$29:'Main page'!$G$41,3,TRUE))","v":" "}]
[null,null,null,null,null,null,null,null,null,null,null,null," "," "," "," ",{"$f":"IF(I12290=\"\",\"\",IF(I12290<='Main page'!$F$49,\"Core staff\",\"Senior staff\"))","v":""},{"$f":"IF(D12290=\"\",\" \",'Main page'!$F$21-(D12290))","v":" "},{"$f":"IF(D12290=\"\",\" \",VLOOKUP(R12290,'Main page'!$E$29:'Main page'!$G$41,3,TRUE))","v":" "}]
[null,null,null,null,null,null,null,null,null,null,null,null," "," "," "," ",{"$f":"IF(I12297=\"\",\"\",IF(I12297<='Main page'!$F$49,\"Core staff\",\"Senior staff\"))","v":""},{"$f":"IF(D12297=\"\",\" \",'Main page'!$F$21-(D12297))","v":" "},{"$f":"IF(D12297=\"\",\" \",VLOOKUP(R12297,'Main page'!$E$29:'Main page'!$G$41,3,TRUE))","v":" "}]
[null,null,null,null,null,null,null,null,null,null,null,null," "," "," "," ",{"$f":"IF(I12300=\"\",\"\",IF(I12300<='Main page'!$F$49,\"Core staff\",\"Senior staff\"))","v":""},{"$f":"IF(D12300=\"\",\" \",'Main page'!$F$21-(D12300))","v":" "},{"$f":"IF(D12300=\"\",\" \",VLOOKUP(R12300,'Main page'!$E$29:'Main page'!$G$41,3,TRUE))","v":" "}]
[null,null,null,null,null,null,null,null,null,null,null,null," "," "," "," ",{"$f":"IF(I12312=\"\",\"\",IF(I12312<='Main page'!$F$49,\"Core staff\",\"Senior staff\"))","v":""},{"$f":"IF(D12312=\"\",\" \",'Main page'!$F$21-(D12312))","v":" "},{"$f":"IF(D12312=\"\",\" \",VLOOKUP(R12312,'Main page'!$E$29:'Main page'!$G$41,3,TRUE))","v":" "}]
[null,null,null,null,null,null,null,null,null,null,null,null," "," "," "," ",{"$f":"IF(I12318=\"\",\"\",IF(I12318<='Main page'!$F$49,\"Core staff\",\"Senior staff\"))","v":""},{"$f":"IF(D12318=\"\",\" \",'Main page'!$F$21-(D12318))","v":" "},{"$f":"IF(D12318=\"\",\" \",VLOOKUP(R12318,'Main page'!$E$29:'Main page'!$G$41,3,TRUE))","v":" "}]
[null,null,null,null,null,null,null,null,null,null,null,null," "," "," "," ",{"$f":"IF(I12330=\"\",\"\",IF(I12330<='Main page'!$F$49,\"Core staff\",\"Senior staff\"))","v":""},{"$f":"IF(D12330=\"\",\" \",'Main page'!$F$21-(D12330))","v":" "},{"$f":"IF(D12330=\"\",\" \",VLOOKUP(R12330,'Main page'!$E$29:'Main page'!$G$41,3,TRUE))","v":" "}]
[null,null,null,null,null,null,null,null,null,null,null,null," "," "," "," ",{"$f":"IF(I12337=\"\",\"\",IF(I12337<='Main page'!$F$49,\"Core staff\",\"Senior staff\"))","v":""},{"$f":"IF(D12337=\"\",\" \",'Main page'!$F$21-(D12337))","v":" "},{"$f":"IF(D12337=\"\",\" \",VLOOKUP(R12337,'Main page'!$E$29:'Main page'!$G$41,3,TRUE))","v":" "}]
[null,null,null,null,null,null,null,null,null,null,null,null," "," "," "," ",{"$f":"IF(I12351=\"\",\"\",IF(I12351<='Main page'!$F$49,\"Core staff\",\"Senior staff\"))","v":""},{"$f":"IF(D12351=\"\",\" \",'Main page'!$F$21-(D12351))","v":" "},{"$f":"IF(D12351=\"\",\" \",VLOOKUP(R12351,'Main page'!$E$29:'Main page'!$G$41,3,TRUE))","v":" "}]
[null,null,null,null,null,null,null,null,null,null,null,null," "," "," "," ",{"$f":"IF(I12360=\"\",\"\",IF(I12360<='Main page'!$F$49,\"Core staff\",\"Senior staff\"))","v":""},{"$f":"IF(D12360=\"\",\" \",'Main page'!$F$21-(D12360))","v":" "},{"$f":"IF(D12360=\"\",\" \",VLOOKUP(R12360,'Main page'!$E$29:'Main page'!$G$41,3,TRUE))","v":" "}]
[null,null,null,null,null,null,null,null,null,null,null,null," "," "," "," ",{"$f":"IF(I12367=\"\",\"\",IF(I12367<='Main page'!$F$49,\"Core staff\",\"Senior staff\"))","v":""},{"$f":"IF(D12367=\"\",\" \",'Main page'!$F$21-(D12367))","v":" "},{"$f":"IF(D12367=\"\",\" \",VLOOKUP(R12367,'Main page'!$E$29:'Main page'!$G$41,3,TRUE))","v":" "}]
[null,null,null,null,null,null,null,null,null,null,null,null," "," "," "," ",{"$f":"IF(I12370=\"\",\"\",IF(I12370<='Main page'!$F$49,\"Core staff\",\"Senior staff\"))","v":""},{"$f":"IF(D12370=\"\",\" \",'Main page'!$F$21-(D12370))","v":" "},{"$f":"IF(D12370=\"\",\" \",VLOOKUP(R12370,'Main page'!$E$29:'Main page'!$G$41,3,TRUE))","v":" "}]
[null,null,null,null,null,null,null,null,null,null,null,null," "," "," "," ",{"$f":"IF(I12382=\"\",\"\",IF(I12382<='Main page'!$F$49,\"Core staff\",\"Senior staff\"))","v":""},{"$f":"IF(D12382=\"\",\" \",'Main page'!$F$21-(D12382))","v":" "},{"$f":"IF(D12382=\"\",\" \",VLOOKUP(R12382,'Main page'!$E$29:'Main page'!$G$41,3,TRUE))","v":" "}]
[null,null,null,null,null,null,null,null,null,null,null,null," "," "," "," ",{"$f":"IF(I12388=\"\",\"\",IF(I12388<='Main page'!$F$49,\"Core staff\",\"Senior staff\"))","v":""},{"$f":"IF(D12388=\"\",\" \",'Main page'!$F$21-(D12388))","v":" "},{"$f":"IF(D12388=\"\",\" \",VLOOKUP(R12388,'Main page'!$E$29:'Main page'!$G$41,3,TRUE))","v":" "}]
[null,null,null,null,null,null,null,null,null,null,null,null," "," "," "," ",{"$f":"IF(I12400=\"\",\"\",IF(I12400<='Main page'!$F$49,\"Core staff\",\"Senior staff\"))","v":""},{"$f":"IF(D12400=\"\",\" \",'Main page'!$F$21-(D12400))","v":" "},{"$f":"IF(D12400=\"\",\" \",VLOOKUP(R12400,'Main page'!$E$29:'Main page'!$G$41,3,TRUE))","v":" "}]
[null,null,null,null,null,null,null,null,null,null,null,null," "," "," "," ",{"$f":"IF(I12407=\"\",\"\",IF(I12407<='Main page'!$F$49,\"Core staff\",\"Senior staff\"))","v":""},{"$f":"IF(D12407=\"\",\" \",'Main page'!$F$21-(D12407))","v":" "},{"$f":"IF(D12407=\"\",\" \",VLOOKUP(R12407,'Main page'!$E$29:'Main page'!$G$41,3,TRUE))","v":" "}]
[null,null,null,null,null,null,null,null,null,null,null,null," "," "," "," ",{"$f":"IF(I12421=\"\",\"\",IF(I12421<='Main page'!$F$49,\"Core staff\",\"Senior staff\"))","v":""},{"$f":"IF(D12421=\"\",\" \",'Main page'!$F$21-(D12421))","v":" "},{"$f":"IF(D12421=\"\",\" \",VLOOKUP(R12421,'Main page'!$E$29:'Main page'!$G$41,3,TRUE))","v":" "}]
[null,null,null,null,null,null,null,null,null,null,null,null,{"$f":"IFERROR(J12430/G12430,\" \")","v":" "},{"$f":"IFERROR((M12430/$U$4)/H12430,\" \")","v":" "},{"$f":"IFERROR((N12430*75)*26.083,\" \")","v":" "},{"$f":"IF(G12430=0,\" \",IF(G12430=1,\"Full time\",\"Part time\"))","v":" "},{"$f":"IF(I12430=\"\",\"\",IF(I12430<='Main page'!$F$49,\"Core staff\",\"Senior staff\"))","v":""},{"$f":"IF(D12430=\"\",\" \",'Main page'!$F$21-(D12430))","v":" "},{"$f":"IF(D12430=\"\",\" \",VLOOKUP(R12430,'Main page'!$E$29:'Main page'!$G$41,3,TRUE))","v":" "}]
[null,null,null,null,null,null,null,null,null,null,null,null," "," "," "," ",{"$f":"IF(I12437=\"\",\"\",IF(I12437<='Main page'!$F$49,\"Core staff\",\"Senior staff\"))","v":""},{"$f":"IF(D12437=\"\",\" \",'Main page'!$F$21-(D12437))","v":" "},{"$f":"IF(D12437=\"\",\" \",VLOOKUP(R12437,'Main page'!$E$29:'Main page'!$G$41,3,TRUE))","v":" "}]
[null,null,null,null,null,null,null,null,null,null,null,null," "," "," "," ",{"$f":"IF(I12440=\"\",\"\",IF(I12440<='Main page'!$F$49,\"Core staff\",\"Senior staff\"))","v":""},{"$f":"IF(D12440=\"\",\" \",'Main page'!$F$21-(D12440))","v":" "},{"$f":"IF(D12440=\"\",\" \",VLOOKUP(R12440,'Main page'!$E$29:'Main page'!$G$41,3,TRUE))","v":" "}]
[null,null,null,null,null,null,null,null,null,null,null,null," "," "," "," ",{"$f":"IF(I12452=\"\",\"\",IF(I12452<='Main page'!$F$49,\"Core staff\",\"Senior staff\"))","v":""},{"$f":"IF(D12452=\"\",\" \",'Main page'!$F$21-(D12452))","v":" "},{"$f":"IF(D12452=\"\",\" \",VLOOKUP(R12452,'Main page'!$E$29:'Main page'!$G$41,3,TRUE))","v":" "}]
[null,null,null,null,null,null,null,null,null,null,null,null," "," "," "," ",{"$f":"IF(I12458=\"\",\"\",IF(I12458<='Main page'!$F$49,\"Core staff\",\"Senior staff\"))","v":""},{"$f":"IF(D12458=\"\",\" \",'Main page'!$F$21-(D12458))","v":" "},{"$f":"IF(D12458=\"\",\" \",VLOOKUP(R12458,'Main page'!$E$29:'Main page'!$G$41,3,TRUE))","v":" "}]
[null,null,null,null,null,null,null,null,null,null,null,null," "," "," "," ",{"$f":"IF(I12470=\"\",\"\",IF(I12470<='Main page'!$F$49,\"Core staff\",\"Senior staff\"))","v":""},{"$f":"IF(D12470=\"\",\" \",'Main page'!$F$21-(D12470))","v":" "},{"$f":"IF(D12470=\"\",\" \",VLOOKUP(R12470,'Main page'!$E$29:'Main page'!$G$41,3,TRUE))","v":" "}]
[null,null,null,null,null,null,null,null,null,null,null,null," "," "," "," ",{"$f":"IF(I12477=\"\",\"\",IF(I12477<='Main page'!$F$49,\"Core staff\",\"Senior staff\"))","v":""},{"$f":"IF(D12477=\"\",\" \",'Main page'!$F$21-(D12477))","v":" "},{"$f":"IF(D12477=\"\",\" \",VLOOKUP(R12477,'Main page'!$E$29:'Main page'!$G$41,3,TRUE))","v":" "}]
[null,null,null,null,null,null,null,null,null,null,null,null," "," "," "," ",{"$f":"IF(I12491=\"\",\"\",IF(I12491<='Main page'!$F$49,\"Core staff\",\"Senior staff\"))","v":""},{"$f":"IF(D12491=\"\",\" \",'Main page'!$F$21-(D12491))","v":" "},{"$f":"IF(D12491=\"\",\" \",VLOOKUP(R12491,'Main page'!$E$29:'Main page'!$G$41,3,TRUE))","v":" "}]
[null,null,null,null,null,null,null,null,null,null,null,null," "," "," "," ",{"$f":"IF(I12500=\"\",\"\",IF(I12500<='Main page'!$F$49,\"Core staff\",\"Senior staff\"))","v":""},{"$f":"IF(D12500=\"\",\" \",'Main page'!$F$21-(D12500))","v":" "},{"$f":"IF(D12500=\"\",\" \",VLOOKUP(R12500,'Main page'!$E$29:'Main page'!$G$41,3,TRUE))","v":" "}]
[null,null,null,null,null,null,null,null,null,null,null,null," "," "," "," ",{"$f":"IF(I12507=\"\",\"\",IF(I12507<='Main page'!$F$49,\"Core staff\",\"Senior staff\"))","v":""},{"$f":"IF(D12507=\"\",\" \",'Main page'!$F$21-(D12507))","v":" "},{"$f":"IF(D12507=\"\",\" \",VLOOKUP(R12507,'Main page'!$E$29:'Main page'!$G$41,3,TRUE))","v":" "}]
[null,null,null,null,null,null,null,null,null,null,null,null," "," "," "," ",{"$f":"IF(I12510=\"\",\"\",IF(I12510<='Main page'!$F$49,\"Core staff\",\"Senior staff\"))","v":""},{"$f":"IF(D12510=\"\",\" \",'Main page'!$F$21-(D12510))","v":" "},{"$f":"IF(D12510=\"\",\" \",VLOOKUP(R12510,'Main page'!$E$29:'Main page'!$G$41,3,TRUE))","v":" "}]
[null,null,null,null,null,null,null,null,null,null,null,null," "," "," "," ",{"$f":"IF(I12522=\"\",\"\",IF(I12522<='Main page'!$F$49,\"Core staff\",\"Senior staff\"))","v":""},{"$f":"IF(D12522=\"\",\" \",'Main page'!$F$21-(D12522))","v":" "},{"$f":"IF(D12522=\"\",\" \",VLOOKUP(R12522,'Main page'!$E$29:'Main page'!$G$41,3,TRUE))","v":" "}]
[null,null,null,null,null,null,null,null,null,null,null,null," "," "," "," ",{"$f":"IF(I12528=\"\",\"\",IF(I12528<='Main page'!$F$49,\"Core staff\",\"Senior staff\"))","v":""},{"$f":"IF(D12528=\"\",\" \",'Main page'!$F$21-(D12528))","v":" "},{"$f":"IF(D12528=\"\",\" \",VLOOKUP(R12528,'Main page'!$E$29:'Main page'!$G$41,3,TRUE))","v":" "}]
[null,null,null,null,null,null,null,null,null,null,null,null," "," "," "," ",{"$f":"IF(I12540=\"\",\"\",IF(I12540<='Main page'!$F$49,\"Core staff\",\"Senior staff\"))","v":""},{"$f":"IF(D12540=\"\",\" \",'Main page'!$F$21-(D12540))","v":" "},{"$f":"IF(D12540=\"\",\" \",VLOOKUP(R12540,'Main page'!$E$29:'Main page'!$G$41,3,TRUE))","v":" "}]
[null,null,null,null,null,null,null,null,null,null,null,null," "," "," "," ",{"$f":"IF(I12547=\"\",\"\",IF(I12547<='Main page'!$F$49,\"Core staff\",\"Senior staff\"))","v":""},{"$f":"IF(D12547=\"\",\" \",'Main page'!$F$21-(D12547))","v":" "},{"$f":"IF(D12547=\"\",\" \",VLOOKUP(R12547,'Main page'!$E$29:'Main page'!$G$41,3,TRUE))","v":" "}]
[null,null,null,null,null,null,null,null,null,null,null,null," "," "," "," ",{"$f":"IF(I12561=\"\",\"\",IF(I12561<='Main page'!$F$49,\"Core staff\",\"Senior staff\"))","v":""},{"$f":"IF(D12561=\"\",\" \",'Main page'!$F$21-(D12561))","v":" "},{"$f":"IF(D12561=\"\",\" \",VLOOKUP(R12561,'Main page'!$E$29:'Main page'!$G$41,3,TRUE))","v":" "}]
[null,null,null,null,null,null,null,null,null,null,null,null," "," "," "," ",{"$f":"IF(I12565=\"\",\"\",IF(I12565<='Main page'!$F$49,\"Core staff\",\"Senior staff\"))","v":""},{"$f":"IF(D12565=\"\",\" \",'Main page'!$F$21-(D12565))","v":" "},{"$f":"IF(D12565=\"\",\" \",VLOOKUP(R12565,'Main page'!$E$29:'Main page'!$G$41,3,TRUE))","v":" "}]
[null,null,null,null,null,null,null,null,null,null,null,null," "," "," "," ",{"$f":"IF(I12577=\"\",\"\",IF(I12577<='Main page'!$F$49,\"Core staff\",\"Senior staff\"))","v":""},{"$f":"IF(D12577=\"\",\" \",'Main page'!$F$21-(D12577))","v":" "},{"$f":"IF(D12577=\"\",\" \",VLOOKUP(R12577,'Main page'!$E$29:'Main page'!$G$41,3,TRUE))","v":" "}]
[null,null,null,null,null,null,null,null,null,null,null,null," "," "," "," ",{"$f":"IF(I12580=\"\",\"\",IF(I12580<='Main page'!$F$49,\"Core staff\",\"Senior staff\"))","v":""},{"$f":"IF(D12580=\"\",\" \",'Main page'!$F$21-(D12580))","v":" "},{"$f":"IF(D12580=\"\",\" \",VLOOKUP(R12580,'Main page'!$E$29:'Main page'!$G$41,3,TRUE))","v":" "}]
[null,null,null,null,null,null,null,null,null,null,null,null," "," "," "," ",{"$f":"IF(I12592=\"\",\"\",IF(I12592<='Main page'!$F$49,\"Core staff\",\"Senior staff\"))","v":""},{"$f":"IF(D12592=\"\",\" \",'Main page'!$F$21-(D12592))","v":" "},{"$f":"IF(D12592=\"\",\" \",VLOOKUP(R12592,'Main page'!$E$29:'Main page'!$G$41,3,TRUE))","v":" "}]
[null,null,null,null,null,null,null,null,null,null,null,null," "," "," "," ",{"$f":"IF(I12598=\"\",\"\",IF(I12598<='Main page'!$F$49,\"Core staff\",\"Senior staff\"))","v":""},{"$f":"IF(D12598=\"\",\" \",'Main page'!$F$21-(D12598))","v":" "},{"$f":"IF(D12598=\"\",\" \",VLOOKUP(R12598,'Main page'!$E$29:'Main page'!$G$41,3,TRUE))","v":" "}]
[null,null,null,null,null,null,null,null,null,null,null,null," "," "," "," ",{"$f":"IF(I12610=\"\",\"\",IF(I12610<='Main page'!$F$49,\"Core staff\",\"Senior staff\"))","v":""},{"$f":"IF(D12610=\"\",\" \",'Main page'!$F$21-(D12610))","v":" "},{"$f":"IF(D12610=\"\",\" \",VLOOKUP(R12610,'Main page'!$E$29:'Main page'!$G$41,3,TRUE))","v":" "}]
[null,null,null,null,null,null,null,null,null,null,null,null," "," "," "," ",{"$f":"IF(I12617=\"\",\"\",IF(I12617<='Main page'!$F$49,\"Core staff\",\"Senior staff\"))","v":""},{"$f":"IF(D12617=\"\",\" \",'Main page'!$F$21-(D12617))","v":" "},{"$f":"IF(D12617=\"\",\" \",VLOOKUP(R12617,'Main page'!$E$29:'Main page'!$G$41,3,TRUE))","v":" "}]
[null,null,null,null,null,null,null,null,null,null,null,null," "," "," "," ",{"$f":"IF(I12631=\"\",\"\",IF(I12631<='Main page'!$F$49,\"Core staff\",\"Senior staff\"))","v":""},{"$f":"IF(D12631=\"\",\" \",'Main page'!$F$21-(D12631))","v":" "},{"$f":"IF(D12631=\"\",\" \",VLOOKUP(R12631,'Main page'!$E$29:'Main page'!$G$41,3,TRUE))","v":" "}]
[null,null,null,null,null,null,null,null,null,null,null,null," "," "," "," ",{"$f":"IF(I12635=\"\",\"\",IF(I12635<='Main page'!$F$49,\"Core staff\",\"Senior staff\"))","v":""},{"$f":"IF(D12635=\"\",\" \",'Main page'!$F$21-(D12635))","v":" "},{"$f":"IF(D12635=\"\",\" \",VLOOKUP(R12635,'Main page'!$E$29:'Main page'!$G$41,3,TRUE))","v":" "}]
[null,null,null,null,null,null,null,null,null,null,null,null," "," "," "," ",{"$f":"IF(I12647=\"\",\"\",IF(I12647<='Main page'!$F$49,\"Core staff\",\"Senior staff\"))","v":""},{"$f":"IF(D12647=\"\",\" \",'Main page'!$F$21-(D12647))","v":" "},{"$f":"IF(D12647=\"\",\" \",VLOOKUP(R12647,'Main page'!$E$29:'Main page'!$G$41,3,TRUE))","v":" "}]
[null,null,null,null,null,null,null,null,null,null,null,null," "," "," "," ",{"$f":"IF(I12650=\"\",\"\",IF(I12650<='Main page'!$F$49,\"Core staff\",\"Senior staff\"))","v":""},{"$f":"IF(D12650=\"\",\" \",'Main page'!$F$21-(D12650))","v":" "},{"$f":"IF(D12650=\"\",\" \",VLOOKUP(R12650,'Main page'!$E$29:'Main page'!$G$41,3,TRUE))","v":" "}]
[null,null,null,null,null,null,null,null,null,null,null,null," "," "," "," ",{"$f":"IF(I12662=\"\",\"\",IF(I12662<='Main page'!$F$49,\"Core staff\",\"Senior staff\"))","v":""},{"$f":"IF(D12662=\"\",\" \",'Main page'!$F$21-(D12662))","v":" "},{"$f":"IF(D12662=\"\",\" \",VLOOKUP(R12662,'Main page'!$E$29:'Main page'!$G$41,3,TRUE))","v":" "}]
[null,null,null,null,null,null,null,null,null,null,null,null," "," "," "," ",{"$f":"IF(I12668=\"\",\"\",IF(I12668<='Main page'!$F$49,\"Core staff\",\"Senior staff\"))","v":""},{"$f":"IF(D12668=\"\",\" \",'Main page'!$F$21-(D12668))","v":" "},{"$f":"IF(D12668=\"\",\" \",VLOOKUP(R12668,'Main page'!$E$29:'Main page'!$G$41,3,TRUE))","v":" "}]
[null,null,null,null,null,null,null,null,null,null,null,null," "," "," "," ",{"$f":"IF(I12680=\"\",\"\",IF(I12680<='Main page'!$F$49,\"Core staff\",\"Senior staff\"))","v":""},{"$f":"IF(D12680=\"\",\" \",'Main page'!$F$21-(D12680))","v":" "},{"$f":"IF(D12680=\"\",\" \",VLOOKUP(R12680,'Main page'!$E$29:'Main page'!$G$41,3,TRUE))","v":" "}]
[null,null,null,null,null,null,null,null,null,null,null,null," "," "," "," ",{"$f":"IF(I12687=\"\",\"\",IF(I12687<='Main page'!$F$49,\"Core staff\",\"Senior staff\"))","v":""},{"$f":"IF(D12687=\"\",\" \",'Main page'!$F$21-(D12687))","v":" "},{"$f":"IF(D12687=\"\",\" \",VLOOKUP(R12687,'Main page'!$E$29:'Main page'!$G$41,3,TRUE))","v":" "}]
[null,null,null,null,null,null,null,null,null,null,null,null," "," "," "," ",{"$f":"IF(I12701=\"\",\"\",IF(I12701<='Main page'!$F$49,\"Core staff\",\"Senior staff\"))","v":""},{"$f":"IF(D12701=\"\",\" \",'Main page'!$F$21-(D12701))","v":" "},{"$f":"IF(D12701=\"\",\" \",VLOOKUP(R12701,'Main page'!$E$29:'Main page'!$G$41,3,TRUE))","v":" "}]
[null,null,null,null,null,null,null,null,null,null,null,null," "," "," "," ",{"$f":"IF(I12705=\"\",\"\",IF(I12705<='Main page'!$F$49,\"Core staff\",\"Senior staff\"))","v":""},{"$f":"IF(D12705=\"\",\" \",'Main page'!$F$21-(D12705))","v":" "},{"$f":"IF(D12705=\"\",\" \",VLOOKUP(R12705,'Main page'!$E$29:'Main page'!$G$41,3,TRUE))","v":" "}]
[null,null,null,null,null,null,null,null,null,null,null,null," "," "," "," ",{"$f":"IF(I12717=\"\",\"\",IF(I12717<='Main page'!$F$49,\"Core staff\",\"Senior staff\"))","v":""},{"$f":"IF(D12717=\"\",\" \",'Main page'!$F$21-(D12717))","v":" "},{"$f":"IF(D12717=\"\",\" \",VLOOKUP(R12717,'Main page'!$E$29:'Main page'!$G$41,3,TRUE))","v":" "}]
[null,null,null,null,null,null,null,null,null,null,null,null," "," "," "," ",{"$f":"IF(I12720=\"\",\"\",IF(I12720<='Main page'!$F$49,\"Core staff\",\"Senior staff\"))","v":""},{"$f":"IF(D12720=\"\",\" \",'Main page'!$F$21-(D12720))","v":" "},{"$f":"IF(D12720=\"\",\" \",VLOOKUP(R12720,'Main page'!$E$29:'Main page'!$G$41,3,TRUE))","v":" "}]
[null,null,null,null,null,null,null,null,null,null,null,null," "," "," "," ",{"$f":"IF(I12732=\"\",\"\",IF(I12732<='Main page'!$F$49,\"Core staff\",\"Senior staff\"))","v":""},{"$f":"IF(D12732=\"\",\" \",'Main page'!$F$21-(D12732))","v":" "},{"$f":"IF(D12732=\"\",\" \",VLOOKUP(R12732,'Main page'!$E$29:'Main page'!$G$41,3,TRUE))","v":" "}]
[null,null,null,null,null,null,null,null,null,null,null,null," "," "," "," ",{"$f":"IF(I12738=\"\",\"\",IF(I12738<='Main page'!$F$49,\"Core staff\",\"Senior staff\"))","v":""},{"$f":"IF(D12738=\"\",\" \",'Main page'!$F$21-(D12738))","v":" "},{"$f":"IF(D12738=\"\",\" \",VLOOKUP(R12738,'Main page'!$E$29:'Main page'!$G$41,3,TRUE))","v":" "}]
[null,null,null,null,null,null,null,null,null,null,null,null," "," "," "," ",{"$f":"IF(I12754=\"\",\"\",IF(I12754<='Main page'!$F$49,\"Core staff\",\"Senior staff\"))","v":""},{"$f":"IF(D12754=\"\",\" \",'Main page'!$F$21-(D12754))","v":" "},{"$f":"IF(D12754=\"\",\" \",VLOOKUP(R12754,'Main page'!$E$29:'Main page'!$G$41,3,TRUE))","v":" "}]
[null,null,null,null,null,null,null,null,null,null,null,null," "," "," "," ",{"$f":"IF(I12757=\"\",\"\",IF(I12757<='Main page'!$F$49,\"Core staff\",\"Senior staff\"))","v":""},{"$f":"IF(D12757=\"\",\" \",'Main page'!$F$21-(D12757))","v":" "},{"$f":"IF(D12757=\"\",\" \",VLOOKUP(R12757,'Main page'!$E$29:'Main page'!$G$41,3,TRUE))","v":" "}]
[null,null,null,null,null,null,null,null,null,null,null,null," "," "," "," ",{"$f":"IF(I12771=\"\",\"\",IF(I12771<='Main page'!$F$49,\"Core staff\",\"Senior staff\"))","v":""},{"$f":"IF(D12771=\"\",\" \",'Main page'!$F$21-(D12771))","v":" "},{"$f":"IF(D12771=\"\",\" \",VLOOKUP(R12771,'Main page'!$E$29:'Main page'!$G$41,3,TRUE))","v":" "}]
[null,null,null,null,null,null,null,null,null,null,null,null," "," "," "," ",{"$f":"IF(I12775=\"\",\"\",IF(I12775<='Main page'!$F$49,\"Core staff\",\"Senior staff\"))","v":""},{"$f":"IF(D12775=\"\",\" \",'Main page'!$F$21-(D12775))","v":" "},{"$f":"IF(D12775=\"\",\" \",VLOOKUP(R12775,'Main page'!$E$29:'Main page'!$G$41,3,TRUE))","v":" "}]
[null,null,null,null,null,null,null,null,null,null,null,null," "," "," "," ",{"$f":"IF(I12787=\"\",\"\",IF(I12787<='Main page'!$F$49,\"Core staff\",\"Senior staff\"))","v":""},{"$f":"IF(D12787=\"\",\" \",'Main page'!$F$21-(D12787))","v":" "},{"$f":"IF(D12787=\"\",\" \",VLOOKUP(R12787,'Main page'!$E$29:'Main page'!$G$41,3,TRUE))","v":" "}]
[null,null,null,null,null,null,null,null,null,null,null,null," "," "," "," ",{"$f":"IF(I12790=\"\",\"\",IF(I12790<='Main page'!$F$49,\"Core staff\",\"Senior staff\"))","v":""},{"$f":"IF(D12790=\"\",\" \",'Main page'!$F$21-(D12790))","v":" "},{"$f":"IF(D12790=\"\",\" \",VLOOKUP(R12790,'Main page'!$E$29:'Main page'!$G$41,3,TRUE))","v":" "}]
[null,null,null,null,null,null,null,null,null,null,null,null," "," "," "," ",{"$f":"IF(I12802=\"\",\"\",IF(I12802<='Main page'!$F$49,\"Core staff\",\"Senior staff\"))","v":""},{"$f":"IF(D12802=\"\",\" \",'Main page'!$F$21-(D12802))","v":" "},{"$f":"IF(D12802=\"\",\" \",VLOOKUP(R12802,'Main page'!$E$29:'Main page'!$G$41,3,TRUE))","v":" "}]
[null,null,null,null,null,null,null,null,null,null,null,null," "," "," "," ",{"$f":"IF(I12808=\"\",\"\",IF(I12808<='Main page'!$F$49,\"Core staff\",\"Senior staff\"))","v":""},{"$f":"IF(D12808=\"\",\" \",'Main page'!$F$21-(D12808))","v":" "},{"$f":"IF(D12808=\"\",\" \",VLOOKUP(R12808,'Main page'!$E$29:'Main page'!$G$41,3,TRUE))","v":" "}]
[null,null,null,null,null,null,null,null,null,null,null,null," "," "," "," ",{"$f":"IF(I12824=\"\",\"\",IF(I12824<='Main page'!$F$49,\"Core staff\",\"Senior staff\"))","v":""},{"$f":"IF(D12824=\"\",\" \",'Main page'!$F$21-(D12824))","v":" "},{"$f":"IF(D12824=\"\",\" \",VLOOKUP(R12824,'Main page'!$E$29:'Main page'!$G$41,3,TRUE))","v":" "}]
[null,null,null,null,null,null,null,null,null,null,null,null," "," "," "," ",{"$f":"IF(I12827=\"\",\"\",IF(I12827<='Main page'!$F$49,\"Core staff\",\"Senior staff\"))","v":""},{"$f":"IF(D12827=\"\",\" \",'Main page'!$F$21-(D12827))","v":" "},{"$f":"IF(D12827=\"\",\" \",VLOOKUP(R12827,'Main page'!$E$29:'Main page'!$G$41,3,TRUE))","v":" "}]
[null,null,null,null,null,null,null,null,null,null,null,null," "," "," "," ",{"$f":"IF(I12841=\"\",\"\",IF(I12841<='Main page'!$F$49,\"Core staff\",\"Senior staff\"))","v":""},{"$f":"IF(D12841=\"\",\" \",'Main page'!$F$21-(D12841))","v":" "},{"$f":"IF(D12841=\"\",\" \",VLOOKUP(R12841,'Main page'!$E$29:'Main page'!$G$41,3,TRUE))","v":" "}]
[null,null,null,null,null,null,null,null,null,null,null,null," "," "," "," ",{"$f":"IF(I12845=\"\",\"\",IF(I12845<='Main page'!$F$49,\"Core staff\",\"Senior staff\"))","v":""},{"$f":"IF(D12845=\"\",\" \",'Main page'!$F$21-(D12845))","v":" "},{"$f":"IF(D12845=\"\",\" \",VLOOKUP(R12845,'Main page'!$E$29:'Main page'!$G$41,3,TRUE))","v":" "}]
[null,null,null,null,null,null,null,null,null,null,null,null," "," "," "," ",{"$f":"IF(I12857=\"\",\"\",IF(I12857<='Main page'!$F$49,\"Core staff\",\"Senior staff\"))","v":""},{"$f":"IF(D12857=\"\",\" \",'Main page'!$F$21-(D12857))","v":" "},{"$f":"IF(D12857=\"\",\" \",VLOOKUP(R12857,'Main page'!$E$29:'Main page'!$G$41,3,TRUE))","v":" "}]
[null,null,null,null,null,null,null,null,null,null,null,null," "," "," "," ",{"$f":"IF(I12864=\"\",\"\",IF(I12864<='Main page'!$F$49,\"Core staff\",\"Senior staff\"))","v":""},{"$f":"IF(D12864=\"\",\" \",'Main page'!$F$21-(D12864))","v":" "},{"$f":"IF(D12864=\"\",\" \",VLOOKUP(R12864,'Main page'!$E$29:'Main page'!$G$41,3,TRUE))","v":" "}]
[null,null,null,null,null,null,null,null,null,null,null,null," "," "," "," ",{"$f":"IF(I12872=\"\",\"\",IF(I12872<='Main page'!$F$49,\"Core staff\",\"Senior staff\"))","v":""},{"$f":"IF(D12872=\"\",\" \",'Main page'!$F$21-(D12872))","v":" "},{"$f":"IF(D12872=\"\",\" \",VLOOKUP(R12872,'Main page'!$E$29:'Main page'!$G$41,3,TRUE))","v":" "}]
[null,null,null,null,null,null,null,null,null,null,null,null,{"$f":"IFERROR(J12878/G12878,\" \")","v":" "},{"$f":"IFERROR((M12878/$U$4)/H12878,\" \")","v":" "},{"$f":"IFERROR((N12878*75)*26.083,\" \")","v":" "},{"$f":"IF(G12878=0,\" \",IF(G12878=1,\"Full time\",\"Part time\"))","v":" "},{"$f":"IF(I12878=\"\",\"\",IF(I12878<='Main page'!$F$49,\"Core staff\",\"Senior staff\"))","v":""},{"$f":"IF(D12878=\"\",\" \",'Main page'!$F$21-(D12878))","v":" "},{"$f":"IF(D12878=\"\",\" \",VLOOKUP(R12878,'Main page'!$E$29:'Main page'!$G$41,3,TRUE))","v":" "}]
[null,null,null,null,null,null,null,null,null,null,null,null," "," "," "," ",{"$f":"IF(I12894=\"\",\"\",IF(I12894<='Main page'!$F$49,\"Core staff\",\"Senior staff\"))","v":""},{"$f":"IF(D12894=\"\",\" \",'Main page'!$F$21-(D12894))","v":" "},{"$f":"IF(D12894=\"\",\" \",VLOOKUP(R12894,'Main page'!$E$29:'Main page'!$G$41,3,TRUE))","v":" "}]
[null,null,null,null,null,null,null,null,null,null,null,null," "," "," "," ",{"$f":"IF(I12897=\"\",\"\",IF(I12897<='Main page'!$F$49,\"Core staff\",\"Senior staff\"))","v":""},{"$f":"IF(D12897=\"\",\" \",'Main page'!$F$21-(D12897))","v":" "},{"$f":"IF(D12897=\"\",\" \",VLOOKUP(R12897,'Main page'!$E$29:'Main page'!$G$41,3,TRUE))","v":" "}]
[null,null,null,null,null,null,null,null,null,null,null,null," "," "," "," ",{"$f":"IF(I12911=\"\",\"\",IF(I12911<='Main page'!$F$49,\"Core staff\",\"Senior staff\"))","v":""},{"$f":"IF(D12911=\"\",\" \",'Main page'!$F$21-(D12911))","v":" "},{"$f":"IF(D12911=\"\",\" \",VLOOKUP(R12911,'Main page'!$E$29:'Main page'!$G$41,3,TRUE))","v":" "}]
[null,null,null,null,null,null,null,null,null,null,null,null," "," "," "," ",{"$f":"IF(I12915=\"\",\"\",IF(I12915<='Main page'!$F$49,\"Core staff\",\"Senior staff\"))","v":""},{"$f":"IF(D12915=\"\",\" \",'Main page'!$F$21-(D12915))","v":" "},{"$f":"IF(D12915=\"\",\" \",VLOOKUP(R12915,'Main page'!$E$29:'Main page'!$G$41,3,TRUE))","v":" "}]
[null,null,null,null,null,null,null,null,null,null,null,null," "," "," "," ",{"$f":"IF(I12927=\"\",\"\",IF(I12927<='Main page'!$F$49,\"Core staff\",\"Senior staff\"))","v":""},{"$f":"IF(D12927=\"\",\" \",'Main page'!$F$21-(D12927))","v":" "},{"$f":"IF(D12927=\"\",\" \",VLOOKUP(R12927,'Main page'!$E$29:'Main page'!$G$41,3,TRUE))","v":" "}]
[null,null,null,null,null,null,null,null,null,null,null,null," "," "," "," ",{"$f":"IF(I12934=\"\",\"\",IF(I12934<='Main page'!$F$49,\"Core staff\",\"Senior staff\"))","v":""},{"$f":"IF(D12934=\"\",\" \",'Main page'!$F$21-(D12934))","v":" "},{"$f":"IF(D12934=\"\",\" \",VLOOKUP(R12934,'Main page'!$E$29:'Main page'!$G$41,3,TRUE))","v":" "}]
[null,null,null,null,null,null,null,null,null,null,null,null,{"$f":"IFERROR(J12942/G12942,\" \")","v":" "},{"$f":"IFERROR((M12942/$U$4)/H12942,\" \")","v":" "},{"$f":"IFERROR((N12942*75)*26.083,\" \")","v":" "},{"$f":"IF(G12942=0,\" \",IF(G12942=1,\"Full time\",\"Part time\"))","v":" "},{"$f":"IF(I12942=\"\",\"\",IF(I12942<='Main page'!$F$49,\"Core staff\",\"Senior staff\"))","v":""},{"$f":"IF(D12942=\"\",\" \",'Main page'!$F$21-(D12942))","v":" "},{"$f":"IF(D12942=\"\",\" \",VLOOKUP(R12942,'Main page'!$E$29:'Main page'!$G$41,3,TRUE))","v":" "}]
[null,null,null,null,null,null,null,null,null,null,null,null," "," "," "," ",{"$f":"IF(I12948=\"\",\"\",IF(I12948<='Main page'!$F$49,\"Core staff\",\"Senior staff\"))","v":""},{"$f":"IF(D12948=\"\",\" \",'Main page'!$F$21-(D12948))","v":" "},{"$f":"IF(D12948=\"\",\" \",VLOOKUP(R12948,'Main page'!$E$29:'Main page'!$G$41,3,TRUE))","v":" "}]
[null,null,null,null,null,null,null,null,null,null,null,null," "," "," "," ",{"$f":"IF(I12964=\"\",\"\",IF(I12964<='Main page'!$F$49,\"Core staff\",\"Senior staff\"))","v":""},{"$f":"IF(D12964=\"\",\" \",'Main page'!$F$21-(D12964))","v":" "},{"$f":"IF(D12964=\"\",\" \",VLOOKUP(R12964,'Main page'!$E$29:'Main page'!$G$41,3,TRUE))","v":" "}]
[null,null,null,null,null,null,null,null,null,null,null,null," "," "," "," ",{"$f":"IF(I12967=\"\",\"\",IF(I12967<='Main page'!$F$49,\"Core staff\",\"Senior staff\"))","v":""},{"$f":"IF(D12967=\"\",\" \",'Main page'!$F$21-(D12967))","v":" "},{"$f":"IF(D12967=\"\",\" \",VLOOKUP(R12967,'Main page'!$E$29:'Main page'!$G$41,3,TRUE))","v":" "}]
[null,null,null,null,null,null,null,null,null,null,null,null," "," "," "," ",{"$f":"IF(I12981=\"\",\"\",IF(I12981<='Main page'!$F$49,\"Core staff\",\"Senior staff\"))","v":""},{"$f":"IF(D12981=\"\",\" \",'Main page'!$F$21-(D12981))","v":" "},{"$f":"IF(D12981=\"\",\" \",VLOOKUP(R12981,'Main page'!$E$29:'Main page'!$G$41,3,TRUE))","v":" "}]
[null,null,null,null,null,null,null,null,null,null,null,null," "," "," "," ",{"$f":"IF(I12985=\"\",\"\",IF(I12985<='Main page'!$F$49,\"Core staff\",\"Senior staff\"))","v":""},{"$f":"IF(D12985=\"\",\" \",'Main page'!$F$21-(D12985))","v":" "},{"$f":"IF(D12985=\"\",\" \",VLOOKUP(R12985,'Main page'!$E$29:'Main page'!$G$41,3,TRUE))","v":" "}]
[null,null,null,null,null,null,null,null,null,null,null,null," "," "," "," ",{"$f":"IF(I12997=\"\",\"\",IF(I12997<='Main page'!$F$49,\"Core staff\",\"Senior staff\"))","v":""},{"$f":"IF(D12997=\"\",\" \",'Main page'!$F$21-(D12997))","v":" "},{"$f":"IF(D12997=\"\",\" \",VLOOKUP(R12997,'Main page'!$E$29:'Main page'!$G$41,3,TRUE))","v":" "}]
[null,null,null,null,null,null,null,null,null,null,null,null," "," "," "," ",{"$f":"IF(I13004=\"\",\"\",IF(I13004<='Main page'!$F$49,\"Core staff\",\"Senior staff\"))","v":""},{"$f":"IF(D13004=\"\",\" \",'Main page'!$F$21-(D13004))","v":" "},{"$f":"IF(D13004=\"\",\" \",VLOOKUP(R13004,'Main page'!$E$29:'Main page'!$G$41,3,TRUE))","v":" "}]
[null,null,null,null,null,null,null,null,null,null,null,null," "," "," "," ",{"$f":"IF(I13012=\"\",\"\",IF(I13012<='Main page'!$F$49,\"Core staff\",\"Senior staff\"))","v":""},{"$f":"IF(D13012=\"\",\" \",'Main page'!$F$21-(D13012))","v":" "},{"$f":"IF(D13012=\"\",\" \",VLOOKUP(R13012,'Main page'!$E$29:'Main page'!$G$41,3,TRUE))","v":" "}]
[null,null,null,null,null,null,null,null,null,null,null,null," "," "," "," ",{"$f":"IF(I13018=\"\",\"\",IF(I13018<='Main page'!$F$49,\"Core staff\",\"Senior staff\"))","v":""},{"$f":"IF(D13018=\"\",\" \",'Main page'!$F$21-(D13018))","v":" "},{"$f":"IF(D13018=\"\",\" \",VLOOKUP(R13018,'Main page'!$E$29:'Main page'!$G$41,3,TRUE))","v":" "}]
[null,null,null,null,null,null,null,null,null,null,null,null," "," "," "," ",{"$f":"IF(I13034=\"\",\"\",IF(I13034<='Main page'!$F$49,\"Core staff\",\"Senior staff\"))","v":""},{"$f":"IF(D13034=\"\",\" \",'Main page'!$F$21-(D13034))","v":" "},{"$f":"IF(D13034=\"\",\" \",VLOOKUP(R13034,'Main page'!$E$29:'Main page'!$G$41,3,TRUE))","v":" "}]
[null,null,null,null,null,null,null,null,null,null,null,null," "," "," "," ",{"$f":"IF(I13037=\"\",\"\",IF(I13037<='Main page'!$F$49,\"Core staff\",\"Senior staff\"))","v":""},{"$f":"IF(D13037=\"\",\" \",'Main page'!$F$21-(D13037))","v":" "},{"$f":"IF(D13037=\"\",\" \",VLOOKUP(R13037,'Main page'!$E$29:'Main page'!$G$41,3,TRUE))","v":" "}]
[null,null,null,null,null,null,null,null,null,null,null,null," "," "," "," ",{"$f":"IF(I13051=\"\",\"\",IF(I13051<='Main page'!$F$49,\"Core staff\",\"Senior staff\"))","v":""},{"$f":"IF(D13051=\"\",\" \",'Main page'!$F$21-(D13051))","v":" "},{"$f":"IF(D13051=\"\",\" \",VLOOKUP(R13051,'Main page'!$E$29:'Main page'!$G$41,3,TRUE))","v":" "}]
[null,null,null,null,null,null,null,null,null,null,null,null," "," "," "," ",{"$f":"IF(I13055=\"\",\"\",IF(I13055<='Main page'!$F$49,\"Core staff\",\"Senior staff\"))","v":""},{"$f":"IF(D13055=\"\",\" \",'Main page'!$F$21-(D13055))","v":" "},{"$f":"IF(D13055=\"\",\" \",VLOOKUP(R13055,'Main page'!$E$29:'Main page'!$G$41,3,TRUE))","v":" "}]
[null,null,null,null,null,null,null,null,null,null,null,null," "," "," "," ",{"$f":"IF(I13067=\"\",\"\",IF(I13067<='Main page'!$F$49,\"Core staff\",\"Senior staff\"))","v":""},{"$f":"IF(D13067=\"\",\" \",'Main page'!$F$21-(D13067))","v":" "},{"$f":"IF(D13067=\"\",\" \",VLOOKUP(R13067,'Main page'!$E$29:'Main page'!$G$41,3,TRUE))","v":" "}]
[null,null,null,null,null,null,null,null,null,null,null,null," "," "," "," ",{"$f":"IF(I13074=\"\",\"\",IF(I13074<='Main page'!$F$49,\"Core staff\",\"Senior staff\"))","v":""},{"$f":"IF(D13074=\"\",\" \",'Main page'!$F$21-(D13074))","v":" "},{"$f":"IF(D13074=\"\",\" \",VLOOKUP(R13074,'Main page'!$E$29:'Main page'!$G$41,3,TRUE))","v":" "}]
[null,null,null,null,null,null,null,null,null,null,null,null," "," "," "," ",{"$f":"IF(I13082=\"\",\"\",IF(I13082<='Main page'!$F$49,\"Core staff\",\"Senior staff\"))","v":""},{"$f":"IF(D13082=\"\",\" \",'Main page'!$F$21-(D13082))","v":" "},{"$f":"IF(D13082=\"\",\" \",VLOOKUP(R13082,'Main page'!$E$29:'Main page'!$G$41,3,TRUE))","v":" "}]
[null,null,null,null,null,null,null,null,null,null,null,null," "," "," "," ",{"$f":"IF(I13088=\"\",\"\",IF(I13088<='Main page'!$F$49,\"Core staff\",\"Senior staff\"))","v":""},{"$f":"IF(D13088=\"\",\" \",'Main page'!$F$21-(D13088))","v":" "},{"$f":"IF(D13088=\"\",\" \",VLOOKUP(R13088,'Main page'!$E$29:'Main page'!$G$41,3,TRUE))","v":" "}]
[null,null,null,null,null,null,null,null,null,null,null,null," "," "," "," ",{"$f":"IF(I13104=\"\",\"\",IF(I13104<='Main page'!$F$49,\"Core staff\",\"Senior staff\"))","v":""},{"$f":"IF(D13104=\"\",\" \",'Main page'!$F$21-(D13104))","v":" "},{"$f":"IF(D13104=\"\",\" \",VLOOKUP(R13104,'Main page'!$E$29:'Main page'!$G$41,3,TRUE))","v":" "}]
[null,null,null,null,null,null,null,null,null,null,null,null," "," "," "," ",{"$f":"IF(I13107=\"\",\"\",IF(I13107<='Main page'!$F$49,\"Core staff\",\"Senior staff\"))","v":""},{"$f":"IF(D13107=\"\",\" \",'Main page'!$F$21-(D13107))","v":" "},{"$f":"IF(D13107=\"\",\" \",VLOOKUP(R13107,'Main page'!$E$29:'Main page'!$G$41,3,TRUE))","v":" "}]
[null,null,null,null,null,null,null,null,null,null,null,null," "," "," "," ",{"$f":"IF(I13121=\"\",\"\",IF(I13121<='Main page'!$F$49,\"Core staff\",\"Senior staff\"))","v":""},{"$f":"IF(D13121=\"\",\" \",'Main page'!$F$21-(D13121))","v":" "},{"$f":"IF(D13121=\"\",\" \",VLOOKUP(R13121,'Main page'!$E$29:'Main page'!$G$41,3,TRUE))","v":" "}]
[null,null,null,null,null,null,null,null,null,null,null,null," "," "," "," ",{"$f":"IF(I13125=\"\",\"\",IF(I13125<='Main page'!$F$49,\"Core staff\",\"Senior staff\"))","v":""},{"$f":"IF(D13125=\"\",\" \",'Main page'!$F$21-(D13125))","v":" "},{"$f":"IF(D13125=\"\",\" \",VLOOKUP(R13125,'Main page'!$E$29:'Main page'!$G$41,3,TRUE))","v":" "}]
[null,null,null,null,null,null,null,null,null,null,null,null," "," "," "," ",{"$f":"IF(I13137=\"\",\"\",IF(I13137<='Main page'!$F$49,\"Core staff\",\"Senior staff\"))","v":""},{"$f":"IF(D13137=\"\",\" \",'Main page'!$F$21-(D13137))","v":" "},{"$f":"IF(D13137=\"\",\" \",VLOOKUP(R13137,'Main page'!$E$29:'Main page'!$G$41,3,TRUE))","v":" "}]
[null,null,null,null,null,null,null,null,null,null,null,null," "," "," "," ",{"$f":"IF(I13144=\"\",\"\",IF(I13144<='Main page'!$F$49,\"Core staff\",\"Senior staff\"))","v":""},{"$f":"IF(D13144=\"\",\" \",'Main page'!$F$21-(D13144))","v":" "},{"$f":"IF(D13144=\"\",\" \",VLOOKUP(R13144,'Main page'!$E$29:'Main page'!$G$41,3,TRUE))","v":" "}]
[null,null,null,null,null,null,null,null,null,null,null,null," "," "," "," ",{"$f":"IF(I13152=\"\",\"\",IF(I13152<='Main page'!$F$49,\"Core staff\",\"Senior staff\"))","v":""},{"$f":"IF(D13152=\"\",\" \",'Main page'!$F$21-(D13152))","v":" "},{"$f":"IF(D13152=\"\",\" \",VLOOKUP(R13152,'Main page'!$E$29:'Main page'!$G$41,3,TRUE))","v":" "}]
[null,null,null,null,null,null,null,null,null,null,null,null," "," "," "," ",{"$f":"IF(I13162=\"\",\"\",IF(I13162<='Main page'!$F$49,\"Core staff\",\"Senior staff\"))","v":""},{"$f":"IF(D13162=\"\",\" \",'Main page'!$F$21-(D13162))","v":" "},{"$f":"IF(D13162=\"\",\" \",VLOOKUP(R13162,'Main page'!$E$29:'Main page'!$G$41,3,TRUE))","v":" "}]
[null,null,null,null,null,null,null,null,null,null,null,null," "," "," "," ",{"$f":"IF(I13174=\"\",\"\",IF(I13174<='Main page'!$F$49,\"Core staff\",\"Senior staff\"))","v":""},{"$f":"IF(D13174=\"\",\" \",'Main page'!$F$21-(D13174))","v":" "},{"$f":"IF(D13174=\"\",\" \",VLOOKUP(R13174,'Main page'!$E$29:'Main page'!$G$41,3,TRUE))","v":" "}]
[null,null,null,null,null,null,null,null,null,null,null,null," "," "," "," ",{"$f":"IF(I13177=\"\",\"\",IF(I13177<='Main page'!$F$49,\"Core staff\",\"Senior staff\"))","v":""},{"$f":"IF(D13177=\"\",\" \",'Main page'!$F$21-(D13177))","v":" "},{"$f":"IF(D13177=\"\",\" \",VLOOKUP(R13177,'Main page'!$E$29:'Main page'!$G$41,3,TRUE))","v":" "}]
[null,null,null,null,null,null,null,null,null,null,null,null," "," "," "," ",{"$f":"IF(I13191=\"\",\"\",IF(I13191<='Main page'!$F$49,\"Core staff\",\"Senior staff\"))","v":""},{"$f":"IF(D13191=\"\",\" \",'Main page'!$F$21-(D13191))","v":" "},{"$f":"IF(D13191=\"\",\" \",VLOOKUP(R13191,'Main page'!$E$29:'Main page'!$G$41,3,TRUE))","v":" "}]
[null,null,null,null,null,null,null,null,null,null,null,null," "," "," "," ",{"$f":"IF(I13195=\"\",\"\",IF(I13195<='Main page'!$F$49,\"Core staff\",\"Senior staff\"))","v":""},{"$f":"IF(D13195=\"\",\" \",'Main page'!$F$21-(D13195))","v":" "},{"$f":"IF(D13195=\"\",\" \",VLOOKUP(R13195,'Main page'!$E$29:'Main page'!$G$41,3,TRUE))","v":" "}]
[null,null,null,null,null,null,null,null,null,null,null,null," "," "," "," ",{"$f":"IF(I13207=\"\",\"\",IF(I13207<='Main page'!$F$49,\"Core staff\",\"Senior staff\"))","v":""},{"$f":"IF(D13207=\"\",\" \",'Main page'!$F$21-(D13207))","v":" "},{"$f":"IF(D13207=\"\",\" \",VLOOKUP(R13207,'Main page'!$E$29:'Main page'!$G$41,3,TRUE))","v":" "}]
[null,null,null,null,null,null,null,null,null,null,null,null," "," "," "," ",{"$f":"IF(I13214=\"\",\"\",IF(I13214<='Main page'!$F$49,\"Core staff\",\"Senior staff\"))","v":""},{"$f":"IF(D13214=\"\",\" \",'Main page'!$F$21-(D13214))","v":" "},{"$f":"IF(D13214=\"\",\" \",VLOOKUP(R13214,'Main page'!$E$29:'Main page'!$G$41,3,TRUE))","v":" "}]
[null,null,null,null,null,null,null,null,null,null,null,null," "," "," "," ",{"$f":"IF(I13222=\"\",\"\",IF(I13222<='Main page'!$F$49,\"Core staff\",\"Senior staff\"))","v":""},{"$f":"IF(D13222=\"\",\" \",'Main page'!$F$21-(D13222))","v":" "},{"$f":"IF(D13222=\"\",\" \",VLOOKUP(R13222,'Main page'!$E$29:'Main page'!$G$41,3,TRUE))","v":" "}]
[null,null,null,null,null,null,null,null,null,null,null,null," "," "," "," ",{"$f":"IF(I13232=\"\",\"\",IF(I13232<='Main page'!$F$49,\"Core staff\",\"Senior staff\"))","v":""},{"$f":"IF(D13232=\"\",\" \",'Main page'!$F$21-(D13232))","v":" "},{"$f":"IF(D13232=\"\",\" \",VLOOKUP(R13232,'Main page'!$E$29:'Main page'!$G$41,3,TRUE))","v":" "}]
[null,null,null,null,null,null,null,null,null,null,null,null," "," "," "," ",{"$f":"IF(I13244=\"\",\"\",IF(I13244<='Main page'!$F$49,\"Core staff\",\"Senior staff\"))","v":""},{"$f":"IF(D13244=\"\",\" \",'Main page'!$F$21-(D13244))","v":" "},{"$f":"IF(D13244=\"\",\" \",VLOOKUP(R13244,'Main page'!$E$29:'Main page'!$G$41,3,TRUE))","v":" "}]
[null,null,null,null,null,null,null,null,null,null,null,null," "," "," "," ",{"$f":"IF(I13247=\"\",\"\",IF(I13247<='Main page'!$F$49,\"Core staff\",\"Senior staff\"))","v":""},{"$f":"IF(D13247=\"\",\" \",'Main page'!$F$21-(D13247))","v":" "},{"$f":"IF(D13247=\"\",\" \",VLOOKUP(R13247,'Main page'!$E$29:'Main page'!$G$41,3,TRUE))","v":" "}]
[null,null,null,null,null,null,null,null,null,null,null,null," "," "," "," ",{"$f":"IF(I13261=\"\",\"\",IF(I13261<='Main page'!$F$49,\"Core staff\",\"Senior staff\"))","v":""},{"$f":"IF(D13261=\"\",\" \",'Main page'!$F$21-(D13261))","v":" "},{"$f":"IF(D13261=\"\",\" \",VLOOKUP(R13261,'Main page'!$E$29:'Main page'!$G$41,3,TRUE))","v":" "}]
[null,null,null,null,null,null,null,null,null,null,null,null," "," "," "," ",{"$f":"IF(I13265=\"\",\"\",IF(I13265<='Main page'!$F$49,\"Core staff\",\"Senior staff\"))","v":""},{"$f":"IF(D13265=\"\",\" \",'Main page'!$F$21-(D13265))","v":" "},{"$f":"IF(D13265=\"\",\" \",VLOOKUP(R13265,'Main page'!$E$29:'Main page'!$G$41,3,TRUE))","v":" "}]
[null,null,null,null,null,null,null,null,null,null,null,null," "," "," "," ",{"$f":"IF(I13277=\"\",\"\",IF(I13277<='Main page'!$F$49,\"Core staff\",\"Senior staff\"))","v":""},{"$f":"IF(D13277=\"\",\" \",'Main page'!$F$21-(D13277))","v":" "},{"$f":"IF(D13277=\"\",\" \",VLOOKUP(R13277,'Main page'!$E$29:'Main page'!$G$41,3,TRUE))","v":" "}]
[null,null,null,null,null,null,null,null,null,null,null,null," "," "," "," ",{"$f":"IF(I13284=\"\",\"\",IF(I13284<='Main page'!$F$49,\"Core staff\",\"Senior staff\"))","v":""},{"$f":"IF(D13284=\"\",\" \",'Main page'!$F$21-(D13284))","v":" "},{"$f":"IF(D13284=\"\",\" \",VLOOKUP(R13284,'Main page'!$E$29:'Main page'!$G$41,3,TRUE))","v":" "}]
[null,null,null,null,null,null,null,null,null,null,null,null," "," "," "," ",{"$f":"IF(I13292=\"\",\"\",IF(I13292<='Main page'!$F$49,\"Core staff\",\"Senior staff\"))","v":""},{"$f":"IF(D13292=\"\",\" \",'Main page'!$F$21-(D13292))","v":" "},{"$f":"IF(D13292=\"\",\" \",VLOOKUP(R13292,'Main page'!$E$29:'Main page'!$G$41,3,TRUE))","v":" "}]
[null,null,null,null,null,null,null,null,null,null,null,null," "," "," "," ",{"$f":"IF(I13302=\"\",\"\",IF(I13302<='Main page'!$F$49,\"Core staff\",\"Senior staff\"))","v":""},{"$f":"IF(D13302=\"\",\" \",'Main page'!$F$21-(D13302))","v":" "},{"$f":"IF(D13302=\"\",\" \",VLOOKUP(R13302,'Main page'!$E$29:'Main page'!$G$41,3,TRUE))","v":" "}]
[null,null,null,null,null,null,null,null,null,null,null,null," "," "," "," ",{"$f":"IF(I13314=\"\",\"\",IF(I13314<='Main page'!$F$49,\"Core staff\",\"Senior staff\"))","v":""},{"$f":"IF(D13314=\"\",\" \",'Main page'!$F$21-(D13314))","v":" "},{"$f":"IF(D13314=\"\",\" \",VLOOKUP(R13314,'Main page'!$E$29:'Main page'!$G$41,3,TRUE))","v":" "}]
[null,null,null,null,null,null,null,null,null,null,null,null," "," "," "," ",{"$f":"IF(I13317=\"\",\"\",IF(I13317<='Main page'!$F$49,\"Core staff\",\"Senior staff\"))","v":""},{"$f":"IF(D13317=\"\",\" \",'Main page'!$F$21-(D13317))","v":" "},{"$f":"IF(D13317=\"\",\" \",VLOOKUP(R13317,'Main page'!$E$29:'Main page'!$G$41,3,TRUE))","v":" "}]
[null,null,null,null,null,null,null,null,null,null,null,null," "," "," "," ",{"$f":"IF(I13331=\"\",\"\",IF(I13331<='Main page'!$F$49,\"Core staff\",\"Senior staff\"))","v":""},{"$f":"IF(D13331=\"\",\" \",'Main page'!$F$21-(D13331))","v":" "},{"$f":"IF(D13331=\"\",\" \",VLOOKUP(R13331,'Main page'!$E$29:'Main page'!$G$41,3,TRUE))","v":" "}]
[null,null,null,null,null,null,null,null,null,null,null,null," "," "," "," ",{"$f":"IF(I13335=\"\",\"\",IF(I13335<='Main page'!$F$49,\"Core staff\",\"Senior staff\"))","v":""},{"$f":"IF(D13335=\"\",\" \",'Main page'!$F$21-(D13335))","v":" "},{"$f":"IF(D13335=\"\",\" \",VLOOKUP(R13335,'Main page'!$E$29:'Main page'!$G$41,3,TRUE))","v":" "}]
[null,null,null,null,null,null,null,null,null,null,null,null," "," "," "," ",{"$f":"IF(I13342=\"\",\"\",IF(I13342<='Main page'!$F$49,\"Core staff\",\"Senior staff\"))","v":""},{"$f":"IF(D13342=\"\",\" \",'Main page'!$F$21-(D13342))","v":" "},{"$f":"IF(D13342=\"\",\" \",VLOOKUP(R13342,'Main page'!$E$29:'Main page'!$G$41,3,TRUE))","v":" "}]
[null,null,null,null,null,null,null,null,null,null,null,null," "," "," "," ",{"$f":"IF(I13354=\"\",\"\",IF(I13354<='Main page'!$F$49,\"Core staff\",\"Senior staff\"))","v":""},{"$f":"IF(D13354=\"\",\" \",'Main page'!$F$21-(D13354))","v":" "},{"$f":"IF(D13354=\"\",\" \",VLOOKUP(R13354,'Main page'!$E$29:'Main page'!$G$41,3,TRUE))","v":" "}]
[null,null,null,null,null,null,null,null,null,null,null,null," "," "," "," ",{"$f":"IF(I13362=\"\",\"\",IF(I13362<='Main page'!$F$49,\"Core staff\",\"Senior staff\"))","v":""},{"$f":"IF(D13362=\"\",\" \",'Main page'!$F$21-(D13362))","v":" "},{"$f":"IF(D13362=\"\",\" \",VLOOKUP(R13362,'Main page'!$E$29:'Main page'!$G$41,3,TRUE))","v":" "}]
[null,null,null,null,null,null,null,null,null,null,null,null," "," "," "," ",{"$f":"IF(I13372=\"\",\"\",IF(I13372<='Main page'!$F$49,\"Core staff\",\"Senior staff\"))","v":""},{"$f":"IF(D13372=\"\",\" \",'Main page'!$F$21-(D13372))","v":" "},{"$f":"IF(D13372=\"\",\" \",VLOOKUP(R13372,'Main page'!$E$29:'Main page'!$G$41,3,TRUE))","v":" "}]
[null,null,null,null,null,null,null,null,null,null,null,null," "," "," "," ",{"$f":"IF(I13384=\"\",\"\",IF(I13384<='Main page'!$F$49,\"Core staff\",\"Senior staff\"))","v":""},{"$f":"IF(D13384=\"\",\" \",'Main page'!$F$21-(D13384))","v":" "},{"$f":"IF(D13384=\"\",\" \",VLOOKUP(R13384,'Main page'!$E$29:'Main page'!$G$41,3,TRUE))","v":" "}]
[null,null,null,null,null,null,null,null,null,null,null,null," "," "," "," ",{"$f":"IF(I13387=\"\",\"\",IF(I13387<='Main page'!$F$49,\"Core staff\",\"Senior staff\"))","v":""},{"$f":"IF(D13387=\"\",\" \",'Main page'!$F$21-(D13387))","v":" "},{"$f":"IF(D13387=\"\",\" \",VLOOKUP(R13387,'Main page'!$E$29:'Main page'!$G$41,3,TRUE))","v":" "}]
[null,null,null,null,null,null,null,null,null,null,null,null," "," "," "," ",{"$f":"IF(I13401=\"\",\"\",IF(I13401<='Main page'!$F$49,\"Core staff\",\"Senior staff\"))","v":""},{"$f":"IF(D13401=\"\",\" \",'Main page'!$F$21-(D13401))","v":" "},{"$f":"IF(D13401=\"\",\" \",VLOOKUP(R13401,'Main page'!$E$29:'Main page'!$G$41,3,TRUE))","v":" "}]
[null,null,null,null,null,null,null,null,null,null,null,null," "," "," "," ",{"$f":"IF(I13405=\"\",\"\",IF(I13405<='Main page'!$F$49,\"Core staff\",\"Senior staff\"))","v":""},{"$f":"IF(D13405=\"\",\" \",'Main page'!$F$21-(D13405))","v":" "},{"$f":"IF(D13405=\"\",\" \",VLOOKUP(R13405,'Main page'!$E$29:'Main page'!$G$41,3,TRUE))","v":" "}]
[null,null,null,null,null,null,null,null,null,null,null,null," "," "," "," ",{"$f":"IF(I13412=\"\",\"\",IF(I13412<='Main page'!$F$49,\"Core staff\",\"Senior staff\"))","v":""},{"$f":"IF(D13412=\"\",\" \",'Main page'!$F$21-(D13412))","v":" "},{"$f":"IF(D13412=\"\",\" \",VLOOKUP(R13412,'Main page'!$E$29:'Main page'!$G$41,3,TRUE))","v":" "}]
[null,null,null,null,null,null,null,null,null,null,null,null," "," "," "," ",{"$f":"IF(I13424=\"\",\"\",IF(I13424<='Main page'!$F$49,\"Core staff\",\"Senior staff\"))","v":""},{"$f":"IF(D13424=\"\",\" \",'Main page'!$F$21-(D13424))","v":" "},{"$f":"IF(D13424=\"\",\" \",VLOOKUP(R13424,'Main page'!$E$29:'Main page'!$G$41,3,TRUE))","v":" "}]
[null,null,null,null,null,null,null,null,null,null,null,null," "," "," "," ",{"$f":"IF(I13432=\"\",\"\",IF(I13432<='Main page'!$F$49,\"Core staff\",\"Senior staff\"))","v":""},{"$f":"IF(D13432=\"\",\" \",'Main page'!$F$21-(D13432))","v":" "},{"$f":"IF(D13432=\"\",\" \",VLOOKUP(R13432,'Main page'!$E$29:'Main page'!$G$41,3,TRUE))","v":" "}]
[null,null,null,null,null,null,null,null,null,null,null,null," "," "," "," ",{"$f":"IF(I13442=\"\",\"\",IF(I13442<='Main page'!$F$49,\"Core staff\",\"Senior staff\"))","v":""},{"$f":"IF(D13442=\"\",\" \",'Main page'!$F$21-(D13442))","v":" "},{"$f":"IF(D13442=\"\",\" \",VLOOKUP(R13442,'Main page'!$E$29:'Main page'!$G$41,3,TRUE))","v":" "}]
[null,null,null,null,null,null,null,null,null,null,null,null,{"$f":"IFERROR(J13454/G13454,\" \")","v":" "},{"$f":"IFERROR((M13454/$U$4)/H13454,\" \")","v":" "},{"$f":"IFERROR((N13454*75)*26.083,\" \")","v":" "},{"$f":"IF(G13454=0,\" \",IF(G13454=1,\"Full time\",\"Part time\"))","v":" "},{"$f":"IF(I13454=\"\",\"\",IF(I13454<='Main page'!$F$49,\"Core staff\",\"Senior staff\"))","v":""},{"$f":"IF(D13454=\"\",\" \",'Main page'!$F$21-(D13454))","v":" "},{"$f":"IF(D13454=\"\",\" \",VLOOKUP(R13454,'Main page'!$E$29:'Main page'!$G$41,3,TRUE))","v":" "}]
[null,null,null,null,null,null,null,null,null,null,null,null," "," "," "," ",{"$f":"IF(I13457=\"\",\"\",IF(I13457<='Main page'!$F$49,\"Core staff\",\"Senior staff\"))","v":""},{"$f":"IF(D13457=\"\",\" \",'Main page'!$F$21-(D13457))","v":" "},{"$f":"IF(D13457=\"\",\" \",VLOOKUP(R13457,'Main page'!$E$29:'Main page'!$G$41,3,TRUE))","v":" "}]
[null,null,null,null,null,null,null,null,null,null,null,null," "," "," "," ",{"$f":"IF(I13471=\"\",\"\",IF(I13471<='Main page'!$F$49,\"Core staff\",\"Senior staff\"))","v":""},{"$f":"IF(D13471=\"\",\" \",'Main page'!$F$21-(D13471))","v":" "},{"$f":"IF(D13471=\"\",\" \",VLOOKUP(R13471,'Main page'!$E$29:'Main page'!$G$41,3,TRUE))","v":" "}]
[null,null,null,null,null,null,null,null,null,null,null,null," "," "," "," ",{"$f":"IF(I13475=\"\",\"\",IF(I13475<='Main page'!$F$49,\"Core staff\",\"Senior staff\"))","v":""},{"$f":"IF(D13475=\"\",\" \",'Main page'!$F$21-(D13475))","v":" "},{"$f":"IF(D13475=\"\",\" \",VLOOKUP(R13475,'Main page'!$E$29:'Main page'!$G$41,3,TRUE))","v":" "}]
[null,null,null,null,null,null,null,null,null,null,null,null," "," "," "," ",{"$f":"IF(I13482=\"\",\"\",IF(I13482<='Main page'!$F$49,\"Core staff\",\"Senior staff\"))","v":""},{"$f":"IF(D13482=\"\",\" \",'Main page'!$F$21-(D13482))","v":" "},{"$f":"IF(D13482=\"\",\" \",VLOOKUP(R13482,'Main page'!$E$29:'Main page'!$G$41,3,TRUE))","v":" "}]
[null,null,null,null,null,null,null,null,null,null,null,null," "," "," "," ",{"$f":"IF(I13494=\"\",\"\",IF(I13494<='Main page'!$F$49,\"Core staff\",\"Senior staff\"))","v":""},{"$f":"IF(D13494=\"\",\" \",'Main page'!$F$21-(D13494))","v":" "},{"$f":"IF(D13494=\"\",\" \",VLOOKUP(R13494,'Main page'!$E$29:'Main page'!$G$41,3,TRUE))","v":" "}]
[null,null,null,null,null,null,null,null,null,null,null,null," "," "," "," ",{"$f":"IF(I13502=\"\",\"\",IF(I13502<='Main page'!$F$49,\"Core staff\",\"Senior staff\"))","v":""},{"$f":"IF(D13502=\"\",\" \",'Main page'!$F$21-(D13502))","v":" "},{"$f":"IF(D13502=\"\",\" \",VLOOKUP(R13502,'Main page'!$E$29:'Main page'!$G$41,3,TRUE))","v":" "}]
[null,null,null,null,null,null,null,null,null,null,null,null," "," "," "," ",{"$f":"IF(I13512=\"\",\"\",IF(I13512<='Main page'!$F$49,\"Core staff\",\"Senior staff\"))","v":""},{"$f":"IF(D13512=\"\",\" \",'Main page'!$F$21-(D13512))","v":" "},{"$f":"IF(D13512=\"\",\" \",VLOOKUP(R13512,'Main page'!$E$29:'Main page'!$G$41,3,TRUE))","v":" "}]
[null,null,null,null,null,null,null,null,null,null,null,null," "," "," "," ",{"$f":"IF(I13524=\"\",\"\",IF(I13524<='Main page'!$F$49,\"Core staff\",\"Senior staff\"))","v":""},{"$f":"IF(D13524=\"\",\" \",'Main page'!$F$21-(D13524))","v":" "},{"$f":"IF(D13524=\"\",\" \",VLOOKUP(R13524,'Main page'!$E$29:'Main page'!$G$41,3,TRUE))","v":" "}]
[null,null,null,null,null,null,null,null,null,null,null,null," "," "," "," ",{"$f":"IF(I13531=\"\",\"\",IF(I13531<='Main page'!$F$49,\"Core staff\",\"Senior staff\"))","v":""},{"$f":"IF(D13531=\"\",\" \",'Main page'!$F$21-(D13531))","v":" "},{"$f":"IF(D13531=\"\",\" \",VLOOKUP(R13531,'Main page'!$E$29:'Main page'!$G$41,3,TRUE))","v":" "}]
[null,null,null,null,null,null,null,null,null,null,null,null," "," "," "," ",{"$f":"IF(I13541=\"\",\"\",IF(I13541<='Main page'!$F$49,\"Core staff\",\"Senior staff\"))","v":""},{"$f":"IF(D13541=\"\",\" \",'Main page'!$F$21-(D13541))","v":" "},{"$f":"IF(D13541=\"\",\" \",VLOOKUP(R13541,'Main page'!$E$29:'Main page'!$G$41,3,TRUE))","v":" "}]
[null,null,null,null,null,null,null,null,null,null,null,null," "," "," "," ",{"$f":"IF(I13545=\"\",\"\",IF(I13545<='Main page'!$F$49,\"Core staff\",\"Senior staff\"))","v":""},{"$f":"IF(D13545=\"\",\" \",'Main page'!$F$21-(D13545))","v":" "},{"$f":"IF(D13545=\"\",\" \",VLOOKUP(R13545,'Main page'!$E$29:'Main page'!$G$41,3,TRUE))","v":" "}]
[null,null,null,null,null,null,null,null,null,null,null,null," "," "," "," ",{"$f":"IF(I13552=\"\",\"\",IF(I13552<='Main page'!$F$49,\"Core staff\",\"Senior staff\"))","v":""},{"$f":"IF(D13552=\"\",\" \",'Main page'!$F$21-(D13552))","v":" "},{"$f":"IF(D13552=\"\",\" \",VLOOKUP(R13552,'Main page'!$E$29:'Main page'!$G$41,3,TRUE))","v":" "}]
[null,null,null,null,null,null,null,null,null,null,null,null," "," "," "," ",{"$f":"IF(I13564=\"\",\"\",IF(I13564<='Main page'!$F$49,\"Core staff\",\"Senior staff\"))","v":""},{"$f":"IF(D13564=\"\",\" \",'Main page'!$F$21-(D13564))","v":" "},{"$f":"IF(D13564=\"\",\" \",VLOOKUP(R13564,'Main page'!$E$29:'Main page'!$G$41,3,TRUE))","v":" "}]
[null,null,null,null,null,null,null,null,null,null,null,null," "," "," "," ",{"$f":"IF(I13572=\"\",\"\",IF(I13572<='Main page'!$F$49,\"Core staff\",\"Senior staff\"))","v":""},{"$f":"IF(D13572=\"\",\" \",'Main page'!$F$21-(D13572))","v":" "},{"$f":"IF(D13572=\"\",\" \",VLOOKUP(R13572,'Main page'!$E$29:'Main page'!$G$41,3,TRUE))","v":" "}]
[null,null,null,null,null,null,null,null,null,null,null,null,{"$f":"IFERROR(J13582/G13582,\" \")","v":" "},{"$f":"IFERROR((M13582/$U$4)/H13582,\" \")","v":" "},{"$f":"IFERROR((N13582*75)*26.083,\" \")","v":" "},{"$f":"IF(G13582=0,\" \",IF(G13582=1,\"Full time\",\"Part time\"))","v":" "},{"$f":"IF(I13582=\"\",\"\",IF(I13582<='Main page'!$F$49,\"Core staff\",\"Senior staff\"))","v":""},{"$f":"IF(D13582=\"\",\" \",'Main page'!$F$21-(D13582))","v":" "},{"$f":"IF(D13582=\"\",\" \",VLOOKUP(R13582,'Main page'!$E$29:'Main page'!$G$41,3,TRUE))","v":" "}]
[null,null,null,null,null,null,null,null,null,null,null,null," "," "," "," ",{"$f":"IF(I13594=\"\",\"\",IF(I13594<='Main page'!$F$49,\"Core staff\",\"Senior staff\"))","v":""},{"$f":"IF(D13594=\"\",\" \",'Main page'!$F$21-(D13594))","v":" "},{"$f":"IF(D13594=\"\",\" \",VLOOKUP(R13594,'Main page'!$E$29:'Main page'!$G$41,3,TRUE))","v":" "}]
[null,null,null,null,null,null,null,null,null,null,null,null," "," "," "," ",{"$f":"IF(I13601=\"\",\"\",IF(I13601<='Main page'!$F$49,\"Core staff\",\"Senior staff\"))","v":""},{"$f":"IF(D13601=\"\",\" \",'Main page'!$F$21-(D13601))","v":" "},{"$f":"IF(D13601=\"\",\" \",VLOOKUP(R13601,'Main page'!$E$29:'Main page'!$G$41,3,TRUE))","v":" "}]
[null,null,null,null,null,null,null,null,null,null,null,null," "," "," "," ",{"$f":"IF(I13611=\"\",\"\",IF(I13611<='Main page'!$F$49,\"Core staff\",\"Senior staff\"))","v":""},{"$f":"IF(D13611=\"\",\" \",'Main page'!$F$21-(D13611))","v":" "},{"$f":"IF(D13611=\"\",\" \",VLOOKUP(R13611,'Main page'!$E$29:'Main page'!$G$41,3,TRUE))","v":" "}]
[null,null,null,null,null,null,null,null,null,null,null,null," "," "," "," ",{"$f":"IF(I13615=\"\",\"\",IF(I13615<='Main page'!$F$49,\"Core staff\",\"Senior staff\"))","v":""},{"$f":"IF(D13615=\"\",\" \",'Main page'!$F$21-(D13615))","v":" "},{"$f":"IF(D13615=\"\",\" \",VLOOKUP(R13615,'Main page'!$E$29:'Main page'!$G$41,3,TRUE))","v":" "}]
[null,null,null,null,null,null,null,null,null,null,null,null," "," "," "," ",{"$f":"IF(I13622=\"\",\"\",IF(I13622<='Main page'!$F$49,\"Core staff\",\"Senior staff\"))","v":""},{"$f":"IF(D13622=\"\",\" \",'Main page'!$F$21-(D13622))","v":" "},{"$f":"IF(D13622=\"\",\" \",VLOOKUP(R13622,'Main page'!$E$29:'Main page'!$G$41,3,TRUE))","v":" "}]
[null,null,null,null,null,null,null,null,null,null,null,null," "," "," "," ",{"$f":"IF(I13634=\"\",\"\",IF(I13634<='Main page'!$F$49,\"Core staff\",\"Senior staff\"))","v":""},{"$f":"IF(D13634=\"\",\" \",'Main page'!$F$21-(D13634))","v":" "},{"$f":"IF(D13634=\"\",\" \",VLOOKUP(R13634,'Main page'!$E$29:'Main page'!$G$41,3,TRUE))","v":" "}]
[null,null,null,null,null,null,null,null,null,null,null,null," "," "," "," ",{"$f":"IF(I13642=\"\",\"\",IF(I13642<='Main page'!$F$49,\"Core staff\",\"Senior staff\"))","v":""},{"$f":"IF(D13642=\"\",\" \",'Main page'!$F$21-(D13642))","v":" "},{"$f":"IF(D13642=\"\",\" \",VLOOKUP(R13642,'Main page'!$E$29:'Main page'!$G$41,3,TRUE))","v":" "}]
[null,null,null,null,null,null,null,null,null,null,null,null," "," "," "," ",{"$f":"IF(I13652=\"\",\"\",IF(I13652<='Main page'!$F$49,\"Core staff\",\"Senior staff\"))","v":""},{"$f":"IF(D13652=\"\",\" \",'Main page'!$F$21-(D13652))","v":" "},{"$f":"IF(D13652=\"\",\" \",VLOOKUP(R13652,'Main page'!$E$29:'Main page'!$G$41,3,TRUE))","v":" "}]
[null,null,null,null,null,null,null,null,null,null,null,null," "," "," "," ",{"$f":"IF(I13664=\"\",\"\",IF(I13664<='Main page'!$F$49,\"Core staff\",\"Senior staff\"))","v":""},{"$f":"IF(D13664=\"\",\" \",'Main page'!$F$21-(D13664))","v":" "},{"$f":"IF(D13664=\"\",\" \",VLOOKUP(R13664,'Main page'!$E$29:'Main page'!$G$41,3,TRUE))","v":" "}]
[null,null,null,null,null,null,null,null,null,null,null,null," "," "," "," ",{"$f":"IF(I13671=\"\",\"\",IF(I13671<='Main page'!$F$49,\"Core staff\",\"Senior staff\"))","v":""},{"$f":"IF(D13671=\"\",\" \",'Main page'!$F$21-(D13671))","v":" "},{"$f":"IF(D13671=\"\",\" \",VLOOKUP(R13671,'Main page'!$E$29:'Main page'!$G$41,3,TRUE))","v":" "}]
[null,null,null,null,null,null,null,null,null,null,null,null," "," "," "," ",{"$f":"IF(I13681=\"\",\"\",IF(I13681<='Main page'!$F$49,\"Core staff\",\"Senior staff\"))","v":""},{"$f":"IF(D13681=\"\",\" \",'Main page'!$F$21-(D13681))","v":" "},{"$f":"IF(D13681=\"\",\" \",VLOOKUP(R13681,'Main page'!$E$29:'Main page'!$G$41,3,TRUE))","v":" "}]
[null,null,null,null,null,null,null,null,null,null,null,null," "," "," "," ",{"$f":"IF(I13685=\"\",\"\",IF(I13685<='Main page'!$F$49,\"Core staff\",\"Senior staff\"))","v":""},{"$f":"IF(D13685=\"\",\" \",'Main page'!$F$21-(D13685))","v":" "},{"$f":"IF(D13685=\"\",\" \",VLOOKUP(R13685,'Main page'!$E$29:'Main page'!$G$41,3,TRUE))","v":" "}]
[null,null,null,null,null,null,null,null,null,null,null,null," "," "," "," ",{"$f":"IF(I13692=\"\",\"\",IF(I13692<='Main page'!$F$49,\"Core staff\",\"Senior staff\"))","v":""},{"$f":"IF(D13692=\"\",\" \",'Main page'!$F$21-(D13692))","v":" "},{"$f":"IF(D13692=\"\",\" \",VLOOKUP(R13692,'Main page'!$E$29:'Main page'!$G$41,3,TRUE))","v":" "}]
[null,null,null,null,null,null,null,null,null,null,null,null," "," "," "," ",{"$f":"IF(I13704=\"\",\"\",IF(I13704<='Main page'!$F$49,\"Core staff\",\"Senior staff\"))","v":""},{"$f":"IF(D13704=\"\",\" \",'Main page'!$F$21-(D13704))","v":" "},{"$f":"IF(D13704=\"\",\" \",VLOOKUP(R13704,'Main page'!$E$29:'Main page'!$G$41,3,TRUE))","v":" "}]
[null,null,null,null,null,null,null,null,null,null,null,null," "," "," "," ",{"$f":"IF(I13712=\"\",\"\",IF(I13712<='Main page'!$F$49,\"Core staff\",\"Senior staff\"))","v":""},{"$f":"IF(D13712=\"\",\" \",'Main page'!$F$21-(D13712))","v":" "},{"$f":"IF(D13712=\"\",\" \",VLOOKUP(R13712,'Main page'!$E$29:'Main page'!$G$41,3,TRUE))","v":" "}]
[null,null,null,null,null,null,null,null,null,null,null,null," "," "," "," ",{"$f":"IF(I13722=\"\",\"\",IF(I13722<='Main page'!$F$49,\"Core staff\",\"Senior staff\"))","v":""},{"$f":"IF(D13722=\"\",\" \",'Main page'!$F$21-(D13722))","v":" "},{"$f":"IF(D13722=\"\",\" \",VLOOKUP(R13722,'Main page'!$E$29:'Main page'!$G$41,3,TRUE))","v":" "}]
[null,null,null,null,null,null,null,null,null,null,null,null," "," "," "," ",{"$f":"IF(I13734=\"\",\"\",IF(I13734<='Main page'!$F$49,\"Core staff\",\"Senior staff\"))","v":""},{"$f":"IF(D13734=\"\",\" \",'Main page'!$F$21-(D13734))","v":" "},{"$f":"IF(D13734=\"\",\" \",VLOOKUP(R13734,'Main page'!$E$29:'Main page'!$G$41,3,TRUE))","v":" "}]
[null,null,null,null,null,null,null,null,null,null,null,null," "," "," "," ",{"$f":"IF(I13741=\"\",\"\",IF(I13741<='Main page'!$F$49,\"Core staff\",\"Senior staff\"))","v":""},{"$f":"IF(D13741=\"\",\" \",'Main page'!$F$21-(D13741))","v":" "},{"$f":"IF(D13741=\"\",\" \",VLOOKUP(R13741,'Main page'!$E$29:'Main page'!$G$41,3,TRUE))","v":" "}]
[null,null,null,null,null,null,null,null,null,null,null,null," "," "," "," ",{"$f":"IF(I13751=\"\",\"\",IF(I13751<='Main page'!$F$49,\"Core staff\",\"Senior staff\"))","v":""},{"$f":"IF(D13751=\"\",\" \",'Main page'!$F$21-(D13751))","v":" "},{"$f":"IF(D13751=\"\",\" \",VLOOKUP(R13751,'Main page'!$E$29:'Main page'!$G$41,3,TRUE))","v":" "}]
[null,null,null,null,null,null,null,null,null,null,null,null," "," "," "," ",{"$f":"IF(I13755=\"\",\"\",IF(I13755<='Main page'!$F$49,\"Core staff\",\"Senior staff\"))","v":""},{"$f":"IF(D13755=\"\",\" \",'Main page'!$F$21-(D13755))","v":" "},{"$f":"IF(D13755=\"\",\" \",VLOOKUP(R13755,'Main page'!$E$29:'Main page'!$G$41,3,TRUE))","v":" "}]
[null,null,null,null,null,null,null,null,null,null,null,null," "," "," "," ",{"$f":"IF(I13762=\"\",\"\",IF(I13762<='Main page'!$F$49,\"Core staff\",\"Senior staff\"))","v":""},{"$f":"IF(D13762=\"\",\" \",'Main page'!$F$21-(D13762))","v":" "},{"$f":"IF(D13762=\"\",\" \",VLOOKUP(R13762,'Main page'!$E$29:'Main page'!$G$41,3,TRUE))","v":" "}]
[null,null,null,null,null,null,null,null,null,null,null,null,{"$f":"IFERROR(J13774/G13774,\" \")","v":" "},{"$f":"IFERROR((M13774/$U$4)/H13774,\" \")","v":" "},{"$f":"IFERROR((N13774*75)*26.083,\" \")","v":" "},{"$f":"IF(G13774=0,\" \",IF(G13774=1,\"Full time\",\"Part time\"))","v":" "},{"$f":"IF(I13774=\"\",\"\",IF(I13774<='Main page'!$F$49,\"Core staff\",\"Senior staff\"))","v":""},{"$f":"IF(D13774=\"\",\" \",'Main page'!$F$21-(D13774))","v":" "},{"$f":"IF(D13774=\"\",\" \",VLOOKUP(R13774,'Main page'!$E$29:'Main page'!$G$41,3,TRUE))","v":" "}]
[null,null,null,null,null,null,null,null,null,null,null,null," "," "," "," ",{"$f":"IF(I13782=\"\",\"\",IF(I13782<='Main page'!$F$49,\"Core staff\",\"Senior staff\"))","v":""},{"$f":"IF(D13782=\"\",\" \",'Main page'!$F$21-(D13782))","v":" "},{"$f":"IF(D13782=\"\",\" \",VLOOKUP(R13782,'Main page'!$E$29:'Main page'!$G$41,3,TRUE))","v":" "}]
[null,null,null,null,null,null,null,null,null,null,null,null," "," "," "," ",{"$f":"IF(I13792=\"\",\"\",IF(I13792<='Main page'!$F$49,\"Core staff\",\"Senior staff\"))","v":""},{"$f":"IF(D13792=\"\",\" \",'Main page'!$F$21-(D13792))","v":" "},{"$f":"IF(D13792=\"\",\" \",VLOOKUP(R13792,'Main page'!$E$29:'Main page'!$G$41,3,TRUE))","v":" "}]
[null,null,null,null,null,null,null,null,null,null,null,null," "," "," "," ",{"$f":"IF(I13804=\"\",\"\",IF(I13804<='Main page'!$F$49,\"Core staff\",\"Senior staff\"))","v":""},{"$f":"IF(D13804=\"\",\" \",'Main page'!$F$21-(D13804))","v":" "},{"$f":"IF(D13804=\"\",\" \",VLOOKUP(R13804,'Main page'!$E$29:'Main page'!$G$41,3,TRUE))","v":" "}]
[null,null,null,null,null,null,null,null,null,null,null,null," "," "," "," ",{"$f":"IF(I13811=\"\",\"\",IF(I13811<='Main page'!$F$49,\"Core staff\",\"Senior staff\"))","v":""},{"$f":"IF(D13811=\"\",\" \",'Main page'!$F$21-(D13811))","v":" "},{"$f":"IF(D13811=\"\",\" \",VLOOKUP(R13811,'Main page'!$E$29:'Main page'!$G$41,3,TRUE))","v":" "}]
[null,null,null,null,null,null,null,null,null,null,null,null," "," "," "," ",{"$f":"IF(I13821=\"\",\"\",IF(I13821<='Main page'!$F$49,\"Core staff\",\"Senior staff\"))","v":""},{"$f":"IF(D13821=\"\",\" \",'Main page'!$F$21-(D13821))","v":" "},{"$f":"IF(D13821=\"\",\" \",VLOOKUP(R13821,'Main page'!$E$29:'Main page'!$G$41,3,TRUE))","v":" "}]
[null,null,null,null,null,null,null,null,null,null,null,null," "," "," "," ",{"$f":"IF(I13829=\"\",\"\",IF(I13829<='Main page'!$F$49,\"Core staff\",\"Senior staff\"))","v":""},{"$f":"IF(D13829=\"\",\" \",'Main page'!$F$21-(D13829))","v":" "},{"$f":"IF(D13829=\"\",\" \",VLOOKUP(R13829,'Main page'!$E$29:'Main page'!$G$41,3,TRUE))","v":" "}]
[null,null,null,null,null,null,null,null,null,null,null,null," "," "," "," ",{"$f":"IF(I13832=\"\",\"\",IF(I13832<='Main page'!$F$49,\"Core staff\",\"Senior staff\"))","v":""},{"$f":"IF(D13832=\"\",\" \",'Main page'!$F$21-(D13832))","v":" "},{"$f":"IF(D13832=\"\",\" \",VLOOKUP(R13832,'Main page'!$E$29:'Main page'!$G$41,3,TRUE))","v":" "}]
[null,null,null,null,null,null,null,null,null,null,null,null," "," "," "," ",{"$f":"IF(I13844=\"\",\"\",IF(I13844<='Main page'!$F$49,\"Core staff\",\"Senior staff\"))","v":""},{"$f":"IF(D13844=\"\",\" \",'Main page'!$F$21-(D13844))","v":" "},{"$f":"IF(D13844=\"\",\" \",VLOOKUP(R13844,'Main page'!$E$29:'Main page'!$G$41,3,TRUE))","v":" "}]
[null,null,null,null,null,null,null,null,null,null,null,null," "," "," "," ",{"$f":"IF(I13852=\"\",\"\",IF(I13852<='Main page'!$F$49,\"Core staff\",\"Senior staff\"))","v":""},{"$f":"IF(D13852=\"\",\" \",'Main page'!$F$21-(D13852))","v":" "},{"$f":"IF(D13852=\"\",\" \",VLOOKUP(R13852,'Main page'!$E$29:'Main page'!$G$41,3,TRUE))","v":" "}]
[null,null,null,null,null,null,null,null,null,null,null,null," "," "," "," ",{"$f":"IF(I13862=\"\",\"\",IF(I13862<='Main page'!$F$49,\"Core staff\",\"Senior staff\"))","v":""},{"$f":"IF(D13862=\"\",\" \",'Main page'!$F$21-(D13862))","v":" "},{"$f":"IF(D13862=\"\",\" \",VLOOKUP(R13862,'Main page'!$E$29:'Main page'!$G$41,3,TRUE))","v":" "}]
[null,null,null,null,null,null,null,null,null,null,null,null," "," "," "," ",{"$f":"IF(I13874=\"\",\"\",IF(I13874<='Main page'!$F$49,\"Core staff\",\"Senior staff\"))","v":""},{"$f":"IF(D13874=\"\",\" \",'Main page'!$F$21-(D13874))","v":" "},{"$f":"IF(D13874=\"\",\" \",VLOOKUP(R13874,'Main page'!$E$29:'Main page'!$G$41,3,TRUE))","v":" "}]
[null,null,null,null,null,null,null,null,null,null,null,null," "," "," "," ",{"$f":"IF(I13881=\"\",\"\",IF(I13881<='Main page'!$F$49,\"Core staff\",\"Senior staff\"))","v":""},{"$f":"IF(D13881=\"\",\" \",'Main page'!$F$21-(D13881))","v":" "},{"$f":"IF(D13881=\"\",\" \",VLOOKUP(R13881,'Main page'!$E$29:'Main page'!$G$41,3,TRUE))","v":" "}]
[null,null,null,null,null,null,null,null,null,null,null,null," "," "," "," ",{"$f":"IF(I13891=\"\",\"\",IF(I13891<='Main page'!$F$49,\"Core staff\",\"Senior staff\"))","v":""},{"$f":"IF(D13891=\"\",\" \",'Main page'!$F$21-(D13891))","v":" "},{"$f":"IF(D13891=\"\",\" \",VLOOKUP(R13891,'Main page'!$E$29:'Main page'!$G$41,3,TRUE))","v":" "}]
[null,null,null,null,null,null,null,null,null,null,null,null," "," "," "," ",{"$f":"IF(I13899=\"\",\"\",IF(I13899<='Main page'!$F$49,\"Core staff\",\"Senior staff\"))","v":""},{"$f":"IF(D13899=\"\",\" \",'Main page'!$F$21-(D13899))","v":" "},{"$f":"IF(D13899=\"\",\" \",VLOOKUP(R13899,'Main page'!$E$29:'Main page'!$G$41,3,TRUE))","v":" "}]
[null,null,null,null,null,null,null,null,null,null,null,null,{"$f":"IFERROR(J13902/G13902,\" \")","v":" "},{"$f":"IFERROR((M13902/$U$4)/H13902,\" \")","v":" "},{"$f":"IFERROR((N13902*75)*26.083,\" \")","v":" "},{"$f":"IF(G13902=0,\" \",IF(G13902=1,\"Full time\",\"Part time\"))","v":" "},{"$f":"IF(I13902=\"\",\"\",IF(I13902<='Main page'!$F$49,\"Core staff\",\"Senior staff\"))","v":""},{"$f":"IF(D13902=\"\",\" \",'Main page'!$F$21-(D13902))","v":" "},{"$f":"IF(D13902=\"\",\" \",VLOOKUP(R13902,'Main page'!$E$29:'Main page'!$G$41,3,TRUE))","v":" "}]
[null,null,null,null,null,null,null,null,null,null,null,null," "," "," "," ",{"$f":"IF(I13914=\"\",\"\",IF(I13914<='Main page'!$F$49,\"Core staff\",\"Senior staff\"))","v":""},{"$f":"IF(D13914=\"\",\" \",'Main page'!$F$21-(D13914))","v":" "},{"$f":"IF(D13914=\"\",\" \",VLOOKUP(R13914,'Main page'!$E$29:'Main page'!$G$41,3,TRUE))","v":" "}]
[null,null,null,null,null,null,null,null,null,null,null,null," "," "," "," ",{"$f":"IF(I13922=\"\",\"\",IF(I13922<='Main page'!$F$49,\"Core staff\",\"Senior staff\"))","v":""},{"$f":"IF(D13922=\"\",\" \",'Main page'!$F$21-(D13922))","v":" "},{"$f":"IF(D13922=\"\",\" \",VLOOKUP(R13922,'Main page'!$E$29:'Main page'!$G$41,3,TRUE))","v":" "}]
[null,null,null,null,null,null,null,null,null,null,null,null," "," "," "," ",{"$f":"IF(I13932=\"\",\"\",IF(I13932<='Main page'!$F$49,\"Core staff\",\"Senior staff\"))","v":""},{"$f":"IF(D13932=\"\",\" \",'Main page'!$F$21-(D13932))","v":" "},{"$f":"IF(D13932=\"\",\" \",VLOOKUP(R13932,'Main page'!$E$29:'Main page'!$G$41,3,TRUE))","v":" "}]
[null,null,null,null,null,null,null,null,null,null,null,null," "," "," "," ",{"$f":"IF(I13939=\"\",\"\",IF(I13939<='Main page'!$F$49,\"Core staff\",\"Senior staff\"))","v":""},{"$f":"IF(D13939=\"\",\" \",'Main page'!$F$21-(D13939))","v":" "},{"$f":"IF(D13939=\"\",\" \",VLOOKUP(R13939,'Main page'!$E$29:'Main page'!$G$41,3,TRUE))","v":" "}]
[null,null,null,null,null,null,null,null,null,null,null,null," "," "," "," ",{"$f":"IF(I13951=\"\",\"\",IF(I13951<='Main page'!$F$49,\"Core staff\",\"Senior staff\"))","v":""},{"$f":"IF(D13951=\"\",\" \",'Main page'!$F$21-(D13951))","v":" "},{"$f":"IF(D13951=\"\",\" \",VLOOKUP(R13951,'Main page'!$E$29:'Main page'!$G$41,3,TRUE))","v":" "}]
[null,null,null,null,null,null,null,null,null,null,null,null," "," "," "," ",{"$f":"IF(I13961=\"\",\"\",IF(I13961<='Main page'!$F$49,\"Core staff\",\"Senior staff\"))","v":""},{"$f":"IF(D13961=\"\",\" \",'Main page'!$F$21-(D13961))","v":" "},{"$f":"IF(D13961=\"\",\" \",VLOOKUP(R13961,'Main page'!$E$29:'Main page'!$G$41,3,TRUE))","v":" "}]
[null,null,null,null,null,null,null,null,null,null,null,null," "," "," "," ",{"$f":"IF(I13969=\"\",\"\",IF(I13969<='Main page'!$F$49,\"Core staff\",\"Senior staff\"))","v":""},{"$f":"IF(D13969=\"\",\" \",'Main page'!$F$21-(D13969))","v":" "},{"$f":"IF(D13969=\"\",\" \",VLOOKUP(R13969,'Main page'!$E$29:'Main page'!$G$41,3,TRUE))","v":" "}]
[null,null,null,null,null,null,null,null,null,null,null,null," "," "," "," ",{"$f":"IF(I13972=\"\",\"\",IF(I13972<='Main page'!$F$49,\"Core staff\",\"Senior staff\"))","v":""},{"$f":"IF(D13972=\"\",\" \",'Main page'!$F$21-(D13972))","v":" "},{"$f":"IF(D13972=\"\",\" \",VLOOKUP(R13972,'Main page'!$E$29:'Main page'!$G$41,3,TRUE))","v":" "}]
[null,null,null,null,null,null,null,null,null,null,null,null," "," "," "," ",{"$f":"IF(I13984=\"\",\"\",IF(I13984<='Main page'!$F$49,\"Core staff\",\"Senior staff\"))","v":""},{"$f":"IF(D13984=\"\",\" \",'Main page'!$F$21-(D13984))","v":" "},{"$f":"IF(D13984=\"\",\" \",VLOOKUP(R13984,'Main page'!$E$29:'Main page'!$G$41,3,TRUE))","v":" "}]
[null,null,null,null,null,null,null,null,null,null,null,null," "," "," "," ",{"$f":"IF(I13992=\"\",\"\",IF(I13992<='Main page'!$F$49,\"Core staff\",\"Senior staff\"))","v":""},{"$f":"IF(D13992=\"\",\" \",'Main page'!$F$21-(D13992))","v":" "},{"$f":"IF(D13992=\"\",\" \",VLOOKUP(R13992,'Main page'!$E$29:'Main page'!$G$41,3,TRUE))","v":" "}]
[null,null,null,null,null,null,null,null,null,null,null,null," "," "," "," ",{"$f":"IF(I14002=\"\",\"\",IF(I14002<='Main page'!$F$49,\"Core staff\",\"Senior staff\"))","v":""},{"$f":"IF(D14002=\"\",\" \",'Main page'!$F$21-(D14002))","v":" "},{"$f":"IF(D14002=\"\",\" \",VLOOKUP(R14002,'Main page'!$E$29:'Main page'!$G$41,3,TRUE))","v":" "}]
[null,null,null,null,null,null,null,null,null,null,null,null," "," "," "," ",{"$f":"IF(I14009=\"\",\"\",IF(I14009<='Main page'!$F$49,\"Core staff\",\"Senior staff\"))","v":""},{"$f":"IF(D14009=\"\",\" \",'Main page'!$F$21-(D14009))","v":" "},{"$f":"IF(D14009=\"\",\" \",VLOOKUP(R14009,'Main page'!$E$29:'Main page'!$G$41,3,TRUE))","v":" "}]
[null,null,null,null,null,null,null,null,null,null,null,null," "," "," "," ",{"$f":"IF(I14021=\"\",\"\",IF(I14021<='Main page'!$F$49,\"Core staff\",\"Senior staff\"))","v":""},{"$f":"IF(D14021=\"\",\" \",'Main page'!$F$21-(D14021))","v":" "},{"$f":"IF(D14021=\"\",\" \",VLOOKUP(R14021,'Main page'!$E$29:'Main page'!$G$41,3,TRUE))","v":" "}]
[null,null,null,null,null,null,null,null,null,null,null,null," "," "," "," ",{"$f":"IF(I14031=\"\",\"\",IF(I14031<='Main page'!$F$49,\"Core staff\",\"Senior staff\"))","v":""},{"$f":"IF(D14031=\"\",\" \",'Main page'!$F$21-(D14031))","v":" "},{"$f":"IF(D14031=\"\",\" \",VLOOKUP(R14031,'Main page'!$E$29:'Main page'!$G$41,3,TRUE))","v":" "}]
[null,null,null,null,null,null,null,null,null,null,null,null," "," "," "," ",{"$f":"IF(I14039=\"\",\"\",IF(I14039<='Main page'!$F$49,\"Core staff\",\"Senior staff\"))","v":""},{"$f":"IF(D14039=\"\",\" \",'Main page'!$F$21-(D14039))","v":" "},{"$f":"IF(D14039=\"\",\" \",VLOOKUP(R14039,'Main page'!$E$29:'Main page'!$G$41,3,TRUE))","v":" "}]
[null,null,null,null,null,null,null,null,null,null,null,null," "," "," "," ",{"$f":"IF(I14042=\"\",\"\",IF(I14042<='Main page'!$F$49,\"Core staff\",\"Senior staff\"))","v":""},{"$f":"IF(D14042=\"\",\" \",'Main page'!$F$21-(D14042))","v":" "},{"$f":"IF(D14042=\"\",\" \",VLOOKUP(R14042,'Main page'!$E$29:'Main page'!$G$41,3,TRUE))","v":" "}]
[null,null,null,null,null,null,null,null,null,null,null,null," "," "," "," ",{"$f":"IF(I14054=\"\",\"\",IF(I14054<='Main page'!$F$49,\"Core staff\",\"Senior staff\"))","v":""},{"$f":"IF(D14054=\"\",\" \",'Main page'!$F$21-(D14054))","v":" "},{"$f":"IF(D14054=\"\",\" \",VLOOKUP(R14054,'Main page'!$E$29:'Main page'!$G$41,3,TRUE))","v":" "}]
[null,null,null,null,null,null,null,null,null,null,null,null," "," "," "," ",{"$f":"IF(I14062=\"\",\"\",IF(I14062<='Main page'!$F$49,\"Core staff\",\"Senior staff\"))","v":""},{"$f":"IF(D14062=\"\",\" \",'Main page'!$F$21-(D14062))","v":" "},{"$f":"IF(D14062=\"\",\" \",VLOOKUP(R14062,'Main page'!$E$29:'Main page'!$G$41,3,TRUE))","v":" "}]
[null,null,null,null,null,null,null,null,null,null,null,null," "," "," "," ",{"$f":"IF(I14072=\"\",\"\",IF(I14072<='Main page'!$F$49,\"Core staff\",\"Senior staff\"))","v":""},{"$f":"IF(D14072=\"\",\" \",'Main page'!$F$21-(D14072))","v":" "},{"$f":"IF(D14072=\"\",\" \",VLOOKUP(R14072,'Main page'!$E$29:'Main page'!$G$41,3,TRUE))","v":" "}]
[null,null,null,null,null,null,null,null,null,null,null,null," "," "," "," ",{"$f":"IF(I14079=\"\",\"\",IF(I14079<='Main page'!$F$49,\"Core staff\",\"Senior staff\"))","v":""},{"$f":"IF(D14079=\"\",\" \",'Main page'!$F$21-(D14079))","v":" "},{"$f":"IF(D14079=\"\",\" \",VLOOKUP(R14079,'Main page'!$E$29:'Main page'!$G$41,3,TRUE))","v":" "}]
[null,null,null,null,null,null,null,null,null,null,null,null," "," "," "," ",{"$f":"IF(I14091=\"\",\"\",IF(I14091<='Main page'!$F$49,\"Core staff\",\"Senior staff\"))","v":""},{"$f":"IF(D14091=\"\",\" \",'Main page'!$F$21-(D14091))","v":" "},{"$f":"IF(D14091=\"\",\" \",VLOOKUP(R14091,'Main page'!$E$29:'Main page'!$G$41,3,TRUE))","v":" "}]
[null,null,null,null,null,null,null,null,null,null,null,null," "," "," "," ",{"$f":"IF(I14101=\"\",\"\",IF(I14101<='Main page'!$F$49,\"Core staff\",\"Senior staff\"))","v":""},{"$f":"IF(D14101=\"\",\" \",'Main page'!$F$21-(D14101))","v":" "},{"$f":"IF(D14101=\"\",\" \",VLOOKUP(R14101,'Main page'!$E$29:'Main page'!$G$41,3,TRUE))","v":" "}]
[null,null,null,null,null,null,null,null,null,null,null,null," "," "," "," ",{"$f":"IF(I14109=\"\",\"\",IF(I14109<='Main page'!$F$49,\"Core staff\",\"Senior staff\"))","v":""},{"$f":"IF(D14109=\"\",\" \",'Main page'!$F$21-(D14109))","v":" "},{"$f":"IF(D14109=\"\",\" \",VLOOKUP(R14109,'Main page'!$E$29:'Main page'!$G$41,3,TRUE))","v":" "}]
[null,null,null,null,null,null,null,null,null,null,null,null," "," "," "," ",{"$f":"IF(I14112=\"\",\"\",IF(I14112<='Main page'!$F$49,\"Core staff\",\"Senior staff\"))","v":""},{"$f":"IF(D14112=\"\",\" \",'Main page'!$F$21-(D14112))","v":" "},{"$f":"IF(D14112=\"\",\" \",VLOOKUP(R14112,'Main page'!$E$29:'Main page'!$G$41,3,TRUE))","v":" "}]
[null,null,null,null,null,null,null,null,null,null,null,null," "," "," "," ",{"$f":"IF(I14128=\"\",\"\",IF(I14128<='Main page'!$F$49,\"Core staff\",\"Senior staff\"))","v":""},{"$f":"IF(D14128=\"\",\" \",'Main page'!$F$21-(D14128))","v":" "},{"$f":"IF(D14128=\"\",\" \",VLOOKUP(R14128,'Main page'!$E$29:'Main page'!$G$41,3,TRUE))","v":" "}]
[null,null,null,null,null,null,null,null,null,null,null,null," "," "," "," ",{"$f":"IF(I14132=\"\",\"\",IF(I14132<='Main page'!$F$49,\"Core staff\",\"Senior staff\"))","v":""},{"$f":"IF(D14132=\"\",\" \",'Main page'!$F$21-(D14132))","v":" "},{"$f":"IF(D14132=\"\",\" \",VLOOKUP(R14132,'Main page'!$E$29:'Main page'!$G$41,3,TRUE))","v":" "}]
[null,null,null,null,null,null,null,null,null,null,null,null," "," "," "," ",{"$f":"IF(I14142=\"\",\"\",IF(I14142<='Main page'!$F$49,\"Core staff\",\"Senior staff\"))","v":""},{"$f":"IF(D14142=\"\",\" \",'Main page'!$F$21-(D14142))","v":" "},{"$f":"IF(D14142=\"\",\" \",VLOOKUP(R14142,'Main page'!$E$29:'Main page'!$G$41,3,TRUE))","v":" "}]
[null,null,null,null,null,null,null,null,null,null,null,null," "," "," "," ",{"$f":"IF(I14149=\"\",\"\",IF(I14149<='Main page'!$F$49,\"Core staff\",\"Senior staff\"))","v":""},{"$f":"IF(D14149=\"\",\" \",'Main page'!$F$21-(D14149))","v":" "},{"$f":"IF(D14149=\"\",\" \",VLOOKUP(R14149,'Main page'!$E$29:'Main page'!$G$41,3,TRUE))","v":" "}]
[null,null,null,null,null,null,null,null,null,null,null,null," "," "," "," ",{"$f":"IF(I14161=\"\",\"\",IF(I14161<='Main page'!$F$49,\"Core staff\",\"Senior staff\"))","v":""},{"$f":"IF(D14161=\"\",\" \",'Main page'!$F$21-(D14161))","v":" "},{"$f":"IF(D14161=\"\",\" \",VLOOKUP(R14161,'Main page'!$E$29:'Main page'!$G$41,3,TRUE))","v":" "}]
[null,null,null,null,null,null,null,null,null,null,null,null," "," "," "," ",{"$f":"IF(I14171=\"\",\"\",IF(I14171<='Main page'!$F$49,\"Core staff\",\"Senior staff\"))","v":""},{"$f":"IF(D14171=\"\",\" \",'Main page'!$F$21-(D14171))","v":" "},{"$f":"IF(D14171=\"\",\" \",VLOOKUP(R14171,'Main page'!$E$29:'Main page'!$G$41,3,TRUE))","v":" "}]
[null,null,null,null,null,null,null,null,null,null,null,null," "," "," "," ",{"$f":"IF(I14179=\"\",\"\",IF(I14179<='Main page'!$F$49,\"Core staff\",\"Senior staff\"))","v":""},{"$f":"IF(D14179=\"\",\" \",'Main page'!$F$21-(D14179))","v":" "},{"$f":"IF(D14179=\"\",\" \",VLOOKUP(R14179,'Main page'!$E$29:'Main page'!$G$41,3,TRUE))","v":" "}]
[null,null,null,null,null,null,null,null,null,null,null,null," "," "," "," ",{"$f":"IF(I14182=\"\",\"\",IF(I14182<='Main page'!$F$49,\"Core staff\",\"Senior staff\"))","v":""},{"$f":"IF(D14182=\"\",\" \",'Main page'!$F$21-(D14182))","v":" "},{"$f":"IF(D14182=\"\",\" \",VLOOKUP(R14182,'Main page'!$E$29:'Main page'!$G$41,3,TRUE))","v":" "}]
[null,null,null,null,null,null,null,null,null,null,null,null," "," "," "," ",{"$f":"IF(I14198=\"\",\"\",IF(I14198<='Main page'!$F$49,\"Core staff\",\"Senior staff\"))","v":""},{"$f":"IF(D14198=\"\",\" \",'Main page'!$F$21-(D14198))","v":" "},{"$f":"IF(D14198=\"\",\" \",VLOOKUP(R14198,'Main page'!$E$29:'Main page'!$G$41,3,TRUE))","v":" "}]
[null,null,null,null,null,null,null,null,null,null,null,null," "," "," "," ",{"$f":"IF(I14202=\"\",\"\",IF(I14202<='Main page'!$F$49,\"Core staff\",\"Senior staff\"))","v":""},{"$f":"IF(D14202=\"\",\" \",'Main page'!$F$21-(D14202))","v":" "},{"$f":"IF(D14202=\"\",\" \",VLOOKUP(R14202,'Main page'!$E$29:'Main page'!$G$41,3,TRUE))","v":" "}]
[null,null,null,null,null,null,null,null,null,null,null,null," "," "," "," ",{"$f":"IF(I14212=\"\",\"\",IF(I14212<='Main page'!$F$49,\"Core staff\",\"Senior staff\"))","v":""},{"$f":"IF(D14212=\"\",\" \",'Main page'!$F$21-(D14212))","v":" "},{"$f":"IF(D14212=\"\",\" \",VLOOKUP(R14212,'Main page'!$E$29:'Main page'!$G$41,3,TRUE))","v":" "}]
[null,null,null,null,null,null,null,null,null,null,null,null," "," "," "," ",{"$f":"IF(I14219=\"\",\"\",IF(I14219<='Main page'!$F$49,\"Core staff\",\"Senior staff\"))","v":""},{"$f":"IF(D14219=\"\",\" \",'Main page'!$F$21-(D14219))","v":" "},{"$f":"IF(D14219=\"\",\" \",VLOOKUP(R14219,'Main page'!$E$29:'Main page'!$G$41,3,TRUE))","v":" "}]
[null,null,null,null,null,null,null,null,null,null,null,null," "," "," "," ",{"$f":"IF(I14231=\"\",\"\",IF(I14231<='Main page'!$F$49,\"Core staff\",\"Senior staff\"))","v":""},{"$f":"IF(D14231=\"\",\" \",'Main page'!$F$21-(D14231))","v":" "},{"$f":"IF(D14231=\"\",\" \",VLOOKUP(R14231,'Main page'!$E$29:'Main page'!$G$41,3,TRUE))","v":" "}]
[null,null,null,null,null,null,null,null,null,null,null,null," "," "," "," ",{"$f":"IF(I14241=\"\",\"\",IF(I14241<='Main page'!$F$49,\"Core staff\",\"Senior staff\"))","v":""},{"$f":"IF(D14241=\"\",\" \",'Main page'!$F$21-(D14241))","v":" "},{"$f":"IF(D14241=\"\",\" \",VLOOKUP(R14241,'Main page'!$E$29:'Main page'!$G$41,3,TRUE))","v":" "}]
[null,null,null,null,null,null,null,null,null,null,null,null," "," "," "," ",{"$f":"IF(I14249=\"\",\"\",IF(I14249<='Main page'!$F$49,\"Core staff\",\"Senior staff\"))","v":""},{"$f":"IF(D14249=\"\",\" \",'Main page'!$F$21-(D14249))","v":" "},{"$f":"IF(D14249=\"\",\" \",VLOOKUP(R14249,'Main page'!$E$29:'Main page'!$G$41,3,TRUE))","v":" "}]
[null,null,null,null,null,null,null,null,null,null,null,null," "," "," "," ",{"$f":"IF(I14252=\"\",\"\",IF(I14252<='Main page'!$F$49,\"Core staff\",\"Senior staff\"))","v":""},{"$f":"IF(D14252=\"\",\" \",'Main page'!$F$21-(D14252))","v":" "},{"$f":"IF(D14252=\"\",\" \",VLOOKUP(R14252,'Main page'!$E$29:'Main page'!$G$41,3,TRUE))","v":" "}]
[null,null,null,null,null,null,null,null,null,null,null,null," "," "," "," ",{"$f":"IF(I14268=\"\",\"\",IF(I14268<='Main page'!$F$49,\"Core staff\",\"Senior staff\"))","v":""},{"$f":"IF(D14268=\"\",\" \",'Main page'!$F$21-(D14268))","v":" "},{"$f":"IF(D14268=\"\",\" \",VLOOKUP(R14268,'Main page'!$E$29:'Main page'!$G$41,3,TRUE))","v":" "}]
[null,null,null,null,null,null,null,null,null,null,null,null," "," "," "," ",{"$f":"IF(I14272=\"\",\"\",IF(I14272<='Main page'!$F$49,\"Core staff\",\"Senior staff\"))","v":""},{"$f":"IF(D14272=\"\",\" \",'Main page'!$F$21-(D14272))","v":" "},{"$f":"IF(D14272=\"\",\" \",VLOOKUP(R14272,'Main page'!$E$29:'Main page'!$G$41,3,TRUE))","v":" "}]
[null,null,null,null,null,null,null,null,null,null,null,null," "," "," "," ",{"$f":"IF(I14282=\"\",\"\",IF(I14282<='Main page'!$F$49,\"Core staff\",\"Senior staff\"))","v":""},{"$f":"IF(D14282=\"\",\" \",'Main page'!$F$21-(D14282))","v":" "},{"$f":"IF(D14282=\"\",\" \",VLOOKUP(R14282,'Main page'!$E$29:'Main page'!$G$41,3,TRUE))","v":" "}]
[null,null,null,null,null,null,null,null,null,null,null,null," "," "," "," ",{"$f":"IF(I14289=\"\",\"\",IF(I14289<='Main page'!$F$49,\"Core staff\",\"Senior staff\"))","v":""},{"$f":"IF(D14289=\"\",\" \",'Main page'!$F$21-(D14289))","v":" "},{"$f":"IF(D14289=\"\",\" \",VLOOKUP(R14289,'Main page'!$E$29:'Main page'!$G$41,3,TRUE))","v":" "}]
[null,null,null,null,null,null,null,null,null,null,null,null," "," "," "," ",{"$f":"IF(I14301=\"\",\"\",IF(I14301<='Main page'!$F$49,\"Core staff\",\"Senior staff\"))","v":""},{"$f":"IF(D14301=\"\",\" \",'Main page'!$F$21-(D14301))","v":" "},{"$f":"IF(D14301=\"\",\" \",VLOOKUP(R14301,'Main page'!$E$29:'Main page'!$G$41,3,TRUE))","v":" "}]
[null,null,null,null,null,null,null,null,null,null,null,null," "," "," "," ",{"$f":"IF(I14311=\"\",\"\",IF(I14311<='Main page'!$F$49,\"Core staff\",\"Senior staff\"))","v":""},{"$f":"IF(D14311=\"\",\" \",'Main page'!$F$21-(D14311))","v":" "},{"$f":"IF(D14311=\"\",\" \",VLOOKUP(R14311,'Main page'!$E$29:'Main page'!$G$41,3,TRUE))","v":" "}]
[null,null,null,null,null,null,null,null,null,null,null,null," "," "," "," ",{"$f":"IF(I14319=\"\",\"\",IF(I14319<='Main page'!$F$49,\"Core staff\",\"Senior staff\"))","v":""},{"$f":"IF(D14319=\"\",\" \",'Main page'!$F$21-(D14319))","v":" "},{"$f":"IF(D14319=\"\",\" \",VLOOKUP(R14319,'Main page'!$E$29:'Main page'!$G$41,3,TRUE))","v":" "}]
[null,null,null,null,null,null,null,null,null,null,null,null," "," "," "," ",{"$f":"IF(I14322=\"\",\"\",IF(I14322<='Main page'!$F$49,\"Core staff\",\"Senior staff\"))","v":""},{"$f":"IF(D14322=\"\",\" \",'Main page'!$F$21-(D14322))","v":" "},{"$f":"IF(D14322=\"\",\" \",VLOOKUP(R14322,'Main page'!$E$29:'Main page'!$G$41,3,TRUE))","v":" "}]
[null,null,null,null,null,null,null,null,null,null,null,null," "," "," "," ",{"$f":"IF(I14338=\"\",\"\",IF(I14338<='Main page'!$F$49,\"Core staff\",\"Senior staff\"))","v":""},{"$f":"IF(D14338=\"\",\" \",'Main page'!$F$21-(D14338))","v":" "},{"$f":"IF(D14338=\"\",\" \",VLOOKUP(R14338,'Main page'!$E$29:'Main page'!$G$41,3,TRUE))","v":" "}]
[null,null,null,null,null,null,null,null,null,null,null,null," "," "," "," ",{"$f":"IF(I14342=\"\",\"\",IF(I14342<='Main page'!$F$49,\"Core staff\",\"Senior staff\"))","v":""},{"$f":"IF(D14342=\"\",\" \",'Main page'!$F$21-(D14342))","v":" "},{"$f":"IF(D14342=\"\",\" \",VLOOKUP(R14342,'Main page'!$E$29:'Main page'!$G$41,3,TRUE))","v":" "}]
[null,null,null,null,null,null,null,null,null,null,null,null," "," "," "," ",{"$f":"IF(I14352=\"\",\"\",IF(I14352<='Main page'!$F$49,\"Core staff\",\"Senior staff\"))","v":""},{"$f":"IF(D14352=\"\",\" \",'Main page'!$F$21-(D14352))","v":" "},{"$f":"IF(D14352=\"\",\" \",VLOOKUP(R14352,'Main page'!$E$29:'Main page'!$G$41,3,TRUE))","v":" "}]
[null,null,null,null,null,null,null,null,null,null,null,null," "," "," "," ",{"$f":"IF(I14359=\"\",\"\",IF(I14359<='Main page'!$F$49,\"Core staff\",\"Senior staff\"))","v":""},{"$f":"IF(D14359=\"\",\" \",'Main page'!$F$21-(D14359))","v":" "},{"$f":"IF(D14359=\"\",\" \",VLOOKUP(R14359,'Main page'!$E$29:'Main page'!$G$41,3,TRUE))","v":" "}]
[null,null,null,null,null,null,null,null,null,null,null,null," "," "," "," ",{"$f":"IF(I14371=\"\",\"\",IF(I14371<='Main page'!$F$49,\"Core staff\",\"Senior staff\"))","v":""},{"$f":"IF(D14371=\"\",\" \",'Main page'!$F$21-(D14371))","v":" "},{"$f":"IF(D14371=\"\",\" \",VLOOKUP(R14371,'Main page'!$E$29:'Main page'!$G$41,3,TRUE))","v":" "}]
[null,null,null,null,null,null,null,null,null,null,null,null," "," "," "," ",{"$f":"IF(I14381=\"\",\"\",IF(I14381<='Main page'!$F$49,\"Core staff\",\"Senior staff\"))","v":""},{"$f":"IF(D14381=\"\",\" \",'Main page'!$F$21-(D14381))","v":" "},{"$f":"IF(D14381=\"\",\" \",VLOOKUP(R14381,'Main page'!$E$29:'Main page'!$G$41,3,TRUE))","v":" "}]
[null,null,null,null,null,null,null,null,null,null,null,null," "," "," "," ",{"$f":"IF(I14389=\"\",\"\",IF(I14389<='Main page'!$F$49,\"Core staff\",\"Senior staff\"))","v":""},{"$f":"IF(D14389=\"\",\" \",'Main page'!$F$21-(D14389))","v":" "},{"$f":"IF(D14389=\"\",\" \",VLOOKUP(R14389,'Main page'!$E$29:'Main page'!$G$41,3,TRUE))","v":" "}]
[null,null,null,null,null,null,null,null,null,null,null,null," "," "," "," ",{"$f":"IF(I14392=\"\",\"\",IF(I14392<='Main page'!$F$49,\"Core staff\",\"Senior staff\"))","v":""},{"$f":"IF(D14392=\"\",\" \",'Main page'!$F$21-(D14392))","v":" "},{"$f":"IF(D14392=\"\",\" \",VLOOKUP(R14392,'Main page'!$E$29:'Main page'!$G$41,3,TRUE))","v":" "}]
[null,null,null,null,null,null,null,null,null,null,null,null," "," "," "," ",{"$f":"IF(I14408=\"\",\"\",IF(I14408<='Main page'!$F$49,\"Core staff\",\"Senior staff\"))","v":""},{"$f":"IF(D14408=\"\",\" \",'Main page'!$F$21-(D14408))","v":" "},{"$f":"IF(D14408=\"\",\" \",VLOOKUP(R14408,'Main page'!$E$29:'Main page'!$G$41,3,TRUE))","v":" "}]
[null,null,null,null,null,null,null,null,null,null,null,null," "," "," "," ",{"$f":"IF(I14412=\"\",\"\",IF(I14412<='Main page'!$F$49,\"Core staff\",\"Senior staff\"))","v":""},{"$f":"IF(D14412=\"\",\" \",'Main page'!$F$21-(D14412))","v":" "},{"$f":"IF(D14412=\"\",\" \",VLOOKUP(R14412,'Main page'!$E$29:'Main page'!$G$41,3,TRUE))","v":" "}]
[null,null,null,null,null,null,null,null,null,null,null,null," "," "," "," ",{"$f":"IF(I14417=\"\",\"\",IF(I14417<='Main page'!$F$49,\"Core staff\",\"Senior staff\"))","v":""},{"$f":"IF(D14417=\"\",\" \",'Main page'!$F$21-(D14417))","v":" "},{"$f":"IF(D14417=\"\",\" \",VLOOKUP(R14417,'Main page'!$E$29:'Main page'!$G$41,3,TRUE))","v":" "}]
[null,null,null,null,null,null,null,null,null,null,null,null," "," "," "," ",{"$f":"IF(I14429=\"\",\"\",IF(I14429<='Main page'!$F$49,\"Core staff\",\"Senior staff\"))","v":""},{"$f":"IF(D14429=\"\",\" \",'Main page'!$F$21-(D14429))","v":" "},{"$f":"IF(D14429=\"\",\" \",VLOOKUP(R14429,'Main page'!$E$29:'Main page'!$G$41,3,TRUE))","v":" "}]
[null,null,null,null,null,null,null,null,null,null,null,null," "," "," "," ",{"$f":"IF(I14441=\"\",\"\",IF(I14441<='Main page'!$F$49,\"Core staff\",\"Senior staff\"))","v":""},{"$f":"IF(D14441=\"\",\" \",'Main page'!$F$21-(D14441))","v":" "},{"$f":"IF(D14441=\"\",\" \",VLOOKUP(R14441,'Main page'!$E$29:'Main page'!$G$41,3,TRUE))","v":" "}]
[null,null,null,null,null,null,null,null,null,null,null,null," "," "," "," ",{"$f":"IF(I14451=\"\",\"\",IF(I14451<='Main page'!$F$49,\"Core staff\",\"Senior staff\"))","v":""},{"$f":"IF(D14451=\"\",\" \",'Main page'!$F$21-(D14451))","v":" "},{"$f":"IF(D14451=\"\",\" \",VLOOKUP(R14451,'Main page'!$E$29:'Main page'!$G$41,3,TRUE))","v":" "}]
[null,null,null,null,null,null,null,null,null,null,null,null," "," "," "," ",{"$f":"IF(I14459=\"\",\"\",IF(I14459<='Main page'!$F$49,\"Core staff\",\"Senior staff\"))","v":""},{"$f":"IF(D14459=\"\",\" \",'Main page'!$F$21-(D14459))","v":" "},{"$f":"IF(D14459=\"\",\" \",VLOOKUP(R14459,'Main page'!$E$29:'Main page'!$G$41,3,TRUE))","v":" "}]
[null,null,null,null,null,null,null,null,null,null,null,null," "," "," "," ",{"$f":"IF(I14462=\"\",\"\",IF(I14462<='Main page'!$F$49,\"Core staff\",\"Senior staff\"))","v":""},{"$f":"IF(D14462=\"\",\" \",'Main page'!$F$21-(D14462))","v":" "},{"$f":"IF(D14462=\"\",\" \",VLOOKUP(R14462,'Main page'!$E$29:'Main page'!$G$41,3,TRUE))","v":" "}]
[null,null,null,null,null,null,null,null,null,null,null,null,{"$f":"IFERROR(J14478/G14478,\" \")","v":" "},{"$f":"IFERROR((M14478/$U$4)/H14478,\" \")","v":" "},{"$f":"IFERROR((N14478*75)*26.083,\" \")","v":" "},{"$f":"IF(G14478=0,\" \",IF(G14478=1,\"Full time\",\"Part time\"))","v":" "},{"$f":"IF(I14478=\"\",\"\",IF(I14478<='Main page'!$F$49,\"Core staff\",\"Senior staff\"))","v":""},{"$f":"IF(D14478=\"\",\" \",'Main page'!$F$21-(D14478))","v":" "},{"$f":"IF(D14478=\"\",\" \",VLOOKUP(R14478,'Main page'!$E$29:'Main page'!$G$41,3,TRUE))","v":" "}]
[null,null,null,null,null,null,null,null,null,null,null,null," "," "," "," ",{"$f":"IF(I14482=\"\",\"\",IF(I14482<='Main page'!$F$49,\"Core staff\",\"Senior staff\"))","v":""},{"$f":"IF(D14482=\"\",\" \",'Main page'!$F$21-(D14482))","v":" "},{"$f":"IF(D14482=\"\",\" \",VLOOKUP(R14482,'Main page'!$E$29:'Main page'!$G$41,3,TRUE))","v":" "}]
[null,null,null,null,null,null,null,null,null,null,null,null," "," "," "," ",{"$f":"IF(I14487=\"\",\"\",IF(I14487<='Main page'!$F$49,\"Core staff\",\"Senior staff\"))","v":""},{"$f":"IF(D14487=\"\",\" \",'Main page'!$F$21-(D14487))","v":" "},{"$f":"IF(D14487=\"\",\" \",VLOOKUP(R14487,'Main page'!$E$29:'Main page'!$G$41,3,TRUE))","v":" "}]
[null,null,null,null,null,null,null,null,null,null,null,null," "," "," "," ",{"$f":"IF(I14499=\"\",\"\",IF(I14499<='Main page'!$F$49,\"Core staff\",\"Senior staff\"))","v":""},{"$f":"IF(D14499=\"\",\" \",'Main page'!$F$21-(D14499))","v":" "},{"$f":"IF(D14499=\"\",\" \",VLOOKUP(R14499,'Main page'!$E$29:'Main page'!$G$41,3,TRUE))","v":" "}]
[null,null,null,null,null,null,null,null,null,null,null,null," "," "," "," ",{"$f":"IF(I14511=\"\",\"\",IF(I14511<='Main page'!$F$49,\"Core staff\",\"Senior staff\"))","v":""},{"$f":"IF(D14511=\"\",\" \",'Main page'!$F$21-(D14511))","v":" "},{"$f":"IF(D14511=\"\",\" \",VLOOKUP(R14511,'Main page'!$E$29:'Main page'!$G$41,3,TRUE))","v":" "}]
[null,null,null,null,null,null,null,null,null,null,null,null," "," "," "," ",{"$f":"IF(I14521=\"\",\"\",IF(I14521<='Main page'!$F$49,\"Core staff\",\"Senior staff\"))","v":""},{"$f":"IF(D14521=\"\",\" \",'Main page'!$F$21-(D14521))","v":" "},{"$f":"IF(D14521=\"\",\" \",VLOOKUP(R14521,'Main page'!$E$29:'Main page'!$G$41,3,TRUE))","v":" "}]
[null,null,null,null,null,null,null,null,null,null,null,null," "," "," "," ",{"$f":"IF(I14529=\"\",\"\",IF(I14529<='Main page'!$F$49,\"Core staff\",\"Senior staff\"))","v":""},{"$f":"IF(D14529=\"\",\" \",'Main page'!$F$21-(D14529))","v":" "},{"$f":"IF(D14529=\"\",\" \",VLOOKUP(R14529,'Main page'!$E$29:'Main page'!$G$41,3,TRUE))","v":" "}]
[null,null,null,null,null,null,null,null,null,null,null,null," "," "," "," ",{"$f":"IF(I14532=\"\",\"\",IF(I14532<='Main page'!$F$49,\"Core staff\",\"Senior staff\"))","v":""},{"$f":"IF(D14532=\"\",\" \",'Main page'!$F$21-(D14532))","v":" "},{"$f":"IF(D14532=\"\",\" \",VLOOKUP(R14532,'Main page'!$E$29:'Main page'!$G$41,3,TRUE))","v":" "}]
[null,null,null,null,null,null,null,null,null,null,null,null," "," "," "," ",{"$f":"IF(I14548=\"\",\"\",IF(I14548<='Main page'!$F$49,\"Core staff\",\"Senior staff\"))","v":""},{"$f":"IF(D14548=\"\",\" \",'Main page'!$F$21-(D14548))","v":" "},{"$f":"IF(D14548=\"\",\" \",VLOOKUP(R14548,'Main page'!$E$29:'Main page'!$G$41,3,TRUE))","v":" "}]
[null,null,null,null,null,null,null,null,null,null,null,null," "," "," "," ",{"$f":"IF(I14552=\"\",\"\",IF(I14552<='Main page'!$F$49,\"Core staff\",\"Senior staff\"))","v":""},{"$f":"IF(D14552=\"\",\" \",'Main page'!$F$21-(D14552))","v":" "},{"$f":"IF(D14552=\"\",\" \",VLOOKUP(R14552,'Main page'!$E$29:'Main page'!$G$41,3,TRUE))","v":" "}]
[null,null,null,null,null,null,null,null,null,null,null,null," "," "," "," ",{"$f":"IF(I14557=\"\",\"\",IF(I14557<='Main page'!$F$49,\"Core staff\",\"Senior staff\"))","v":""},{"$f":"IF(D14557=\"\",\" \",'Main page'!$F$21-(D14557))","v":" "},{"$f":"IF(D14557=\"\",\" \",VLOOKUP(R14557,'Main page'!$E$29:'Main page'!$G$41,3,TRUE))","v":" "}]
[null,null,null,null,null,null,null,null,null,null,null,null," "," "," "," ",{"$f":"IF(I14569=\"\",\"\",IF(I14569<='Main page'!$F$49,\"Core staff\",\"Senior staff\"))","v":""},{"$f":"IF(D14569=\"\",\" \",'Main page'!$F$21-(D14569))","v":" "},{"$f":"IF(D14569=\"\",\" \",VLOOKUP(R14569,'Main page'!$E$29:'Main page'!$G$41,3,TRUE))","v":" "}]
[null,null,null,null,null,null,null,null,null,null,null,null," "," "," "," ",{"$f":"IF(I14581=\"\",\"\",IF(I14581<='Main page'!$F$49,\"Core staff\",\"Senior staff\"))","v":""},{"$f":"IF(D14581=\"\",\" \",'Main page'!$F$21-(D14581))","v":" "},{"$f":"IF(D14581=\"\",\" \",VLOOKUP(R14581,'Main page'!$E$29:'Main page'!$G$41,3,TRUE))","v":" "}]
[null,null,null,null,null,null,null,null,null,null,null,null," "," "," "," ",{"$f":"IF(I14591=\"\",\"\",IF(I14591<='Main page'!$F$49,\"Core staff\",\"Senior staff\"))","v":""},{"$f":"IF(D14591=\"\",\" \",'Main page'!$F$21-(D14591))","v":" "},{"$f":"IF(D14591=\"\",\" \",VLOOKUP(R14591,'Main page'!$E$29:'Main page'!$G$41,3,TRUE))","v":" "}]
[null,null,null,null,null,null,null,null,null,null,null,null," "," "," "," ",{"$f":"IF(I14599=\"\",\"\",IF(I14599<='Main page'!$F$49,\"Core staff\",\"Senior staff\"))","v":""},{"$f":"IF(D14599=\"\",\" \",'Main page'!$F$21-(D14599))","v":" "},{"$f":"IF(D14599=\"\",\" \",VLOOKUP(R14599,'Main page'!$E$29:'Main page'!$G$41,3,TRUE))","v":" "}]
[null,null,null,null,null,null,null,null,null,null,null,null,{"$f":"IFERROR(J14606/G14606,\" \")","v":" "},{"$f":"IFERROR((M14606/$U$4)/H14606,\" \")","v":" "},{"$f":"IFERROR((N14606*75)*26.083,\" \")","v":" "},{"$f":"IF(G14606=0,\" \",IF(G14606=1,\"Full time\",\"Part time\"))","v":" "},{"$f":"IF(I14606=\"\",\"\",IF(I14606<='Main page'!$F$49,\"Core staff\",\"Senior staff\"))","v":""},{"$f":"IF(D14606=\"\",\" \",'Main page'!$F$21-(D14606))","v":" "},{"$f":"IF(D14606=\"\",\" \",VLOOKUP(R14606,'Main page'!$E$29:'Main page'!$G$41,3,TRUE))","v":" "}]
[null,null,null,null,null,null,null,null,null,null,null,null," "," "," "," ",{"$f":"IF(I14618=\"\",\"\",IF(I14618<='Main page'!$F$49,\"Core staff\",\"Senior staff\"))","v":""},{"$f":"IF(D14618=\"\",\" \",'Main page'!$F$21-(D14618))","v":" "},{"$f":"IF(D14618=\"\",\" \",VLOOKUP(R14618,'Main page'!$E$29:'Main page'!$G$41,3,TRUE))","v":" "}]
[null,null,null,null,null,null,null,null,null,null,null,null," "," "," "," ",{"$f":"IF(I14622=\"\",\"\",IF(I14622<='Main page'!$F$49,\"Core staff\",\"Senior staff\"))","v":""},{"$f":"IF(D14622=\"\",\" \",'Main page'!$F$21-(D14622))","v":" "},{"$f":"IF(D14622=\"\",\" \",VLOOKUP(R14622,'Main page'!$E$29:'Main page'!$G$41,3,TRUE))","v":" "}]
[null,null,null,null,null,null,null,null,null,null,null,null," "," "," "," ",{"$f":"IF(I14627=\"\",\"\",IF(I14627<='Main page'!$F$49,\"Core staff\",\"Senior staff\"))","v":""},{"$f":"IF(D14627=\"\",\" \",'Main page'!$F$21-(D14627))","v":" "},{"$f":"IF(D14627=\"\",\" \",VLOOKUP(R14627,'Main page'!$E$29:'Main page'!$G$41,3,TRUE))","v":" "}]
[null,null,null,null,null,null,null,null,null,null,null,null," "," "," "," ",{"$f":"IF(I14639=\"\",\"\",IF(I14639<='Main page'!$F$49,\"Core staff\",\"Senior staff\"))","v":""},{"$f":"IF(D14639=\"\",\" \",'Main page'!$F$21-(D14639))","v":" "},{"$f":"IF(D14639=\"\",\" \",VLOOKUP(R14639,'Main page'!$E$29:'Main page'!$G$41,3,TRUE))","v":" "}]
[null,null,null,null,null,null,null,null,null,null,null,null," "," "," "," ",{"$f":"IF(I14651=\"\",\"\",IF(I14651<='Main page'!$F$49,\"Core staff\",\"Senior staff\"))","v":""},{"$f":"IF(D14651=\"\",\" \",'Main page'!$F$21-(D14651))","v":" "},{"$f":"IF(D14651=\"\",\" \",VLOOKUP(R14651,'Main page'!$E$29:'Main page'!$G$41,3,TRUE))","v":" "}]
[null,null,null,null,null,null,null,null,null,null,null,null," "," "," "," ",{"$f":"IF(I14661=\"\",\"\",IF(I14661<='Main page'!$F$49,\"Core staff\",\"Senior staff\"))","v":""},{"$f":"IF(D14661=\"\",\" \",'Main page'!$F$21-(D14661))","v":" "},{"$f":"IF(D14661=\"\",\" \",VLOOKUP(R14661,'Main page'!$E$29:'Main page'!$G$41,3,TRUE))","v":" "}]
[null,null,null,null,null,null,null,null,null,null,null,null," "," "," "," ",{"$f":"IF(I14669=\"\",\"\",IF(I14669<='Main page'!$F$49,\"Core staff\",\"Senior staff\"))","v":""},{"$f":"IF(D14669=\"\",\" \",'Main page'!$F$21-(D14669))","v":" "},{"$f":"IF(D14669=\"\",\" \",VLOOKUP(R14669,'Main page'!$E$29:'Main page'!$G$41,3,TRUE))","v":" "}]
[null,null,null,null,null,null,null,null,null,null,null,null," "," "," "," ",{"$f":"IF(I14676=\"\",\"\",IF(I14676<='Main page'!$F$49,\"Core staff\",\"Senior staff\"))","v":""},{"$f":"IF(D14676=\"\",\" \",'Main page'!$F$21-(D14676))","v":" "},{"$f":"IF(D14676=\"\",\" \",VLOOKUP(R14676,'Main page'!$E$29:'Main page'!$G$41,3,TRUE))","v":" "}]
[null,null,null,null,null,null,null,null,null,null,null,null," "," "," "," ",{"$f":"IF(I14688=\"\",\"\",IF(I14688<='Main page'!$F$49,\"Core staff\",\"Senior staff\"))","v":""},{"$f":"IF(D14688=\"\",\" \",'Main page'!$F$21-(D14688))","v":" "},{"$f":"IF(D14688=\"\",\" \",VLOOKUP(R14688,'Main page'!$E$29:'Main page'!$G$41,3,TRUE))","v":" "}]
[null,null,null,null,null,null,null,null,null,null,null,null," "," "," "," ",{"$f":"IF(I14692=\"\",\"\",IF(I14692<='Main page'!$F$49,\"Core staff\",\"Senior staff\"))","v":""},{"$f":"IF(D14692=\"\",\" \",'Main page'!$F$21-(D14692))","v":" "},{"$f":"IF(D14692=\"\",\" \",VLOOKUP(R14692,'Main page'!$E$29:'Main page'!$G$41,3,TRUE))","v":" "}]
[null,null,null,null,null,null,null,null,null,null,null,null," "," "," "," ",{"$f":"IF(I14697=\"\",\"\",IF(I14697<='Main page'!$F$49,\"Core staff\",\"Senior staff\"))","v":""},{"$f":"IF(D14697=\"\",\" \",'Main page'!$F$21-(D14697))","v":" "},{"$f":"IF(D14697=\"\",\" \",VLOOKUP(R14697,'Main page'!$E$29:'Main page'!$G$41,3,TRUE))","v":" "}]
[null,null,null,null,null,null,null,null,null,null,null,null," "," "," "," ",{"$f":"IF(I14709=\"\",\"\",IF(I14709<='Main page'!$F$49,\"Core staff\",\"Senior staff\"))","v":""},{"$f":"IF(D14709=\"\",\" \",'Main page'!$F$21-(D14709))","v":" "},{"$f":"IF(D14709=\"\",\" \",VLOOKUP(R14709,'Main page'!$E$29:'Main page'!$G$41,3,TRUE))","v":" "}]
[null,null,null,null,null,null,null,null,null,null,null,null," "," "," "," ",{"$f":"IF(I14721=\"\",\"\",IF(I14721<='Main page'!$F$49,\"Core staff\",\"Senior staff\"))","v":""},{"$f":"IF(D14721=\"\",\" \",'Main page'!$F$21-(D14721))","v":" "},{"$f":"IF(D14721=\"\",\" \",VLOOKUP(R14721,'Main page'!$E$29:'Main page'!$G$41,3,TRUE))","v":" "}]
[null,null,null,null,null,null,null,null,null,null,null,null," "," "," "," ",{"$f":"IF(I14731=\"\",\"\",IF(I14731<='Main page'!$F$49,\"Core staff\",\"Senior staff\"))","v":""},{"$f":"IF(D14731=\"\",\" \",'Main page'!$F$21-(D14731))","v":" "},{"$f":"IF(D14731=\"\",\" \",VLOOKUP(R14731,'Main page'!$E$29:'Main page'!$G$41,3,TRUE))","v":" "}]
[null,null,null,null,null,null,null,null,null,null,null,null," "," "," "," ",{"$f":"IF(I14739=\"\",\"\",IF(I14739<='Main page'!$F$49,\"Core staff\",\"Senior staff\"))","v":""},{"$f":"IF(D14739=\"\",\" \",'Main page'!$F$21-(D14739))","v":" "},{"$f":"IF(D14739=\"\",\" \",VLOOKUP(R14739,'Main page'!$E$29:'Main page'!$G$41,3,TRUE))","v":" "}]
[null,null,null,null,null,null,null,null,null,null,null,null," "," "," "," ",{"$f":"IF(I14746=\"\",\"\",IF(I14746<='Main page'!$F$49,\"Core staff\",\"Senior staff\"))","v":""},{"$f":"IF(D14746=\"\",\" \",'Main page'!$F$21-(D14746))","v":" "},{"$f":"IF(D14746=\"\",\" \",VLOOKUP(R14746,'Main page'!$E$29:'Main page'!$G$41,3,TRUE))","v":" "}]
[null,null,null,null,null,null,null,null,null,null,null,null," "," "," "," ",{"$f":"IF(I14758=\"\",\"\",IF(I14758<='Main page'!$F$49,\"Core staff\",\"Senior staff\"))","v":""},{"$f":"IF(D14758=\"\",\" \",'Main page'!$F$21-(D14758))","v":" "},{"$f":"IF(D14758=\"\",\" \",VLOOKUP(R14758,'Main page'!$E$29:'Main page'!$G$41,3,TRUE))","v":" "}]
[null,null,null,null,null,null,null,null,null,null,null,null," "," "," "," ",{"$f":"IF(I14762=\"\",\"\",IF(I14762<='Main page'!$F$49,\"Core staff\",\"Senior staff\"))","v":""},{"$f":"IF(D14762=\"\",\" \",'Main page'!$F$21-(D14762))","v":" "},{"$f":"IF(D14762=\"\",\" \",VLOOKUP(R14762,'Main page'!$E$29:'Main page'!$G$41,3,TRUE))","v":" "}]
[null,null,null,null,null,null,null,null,null,null,null,null," "," "," "," ",{"$f":"IF(I14767=\"\",\"\",IF(I14767<='Main page'!$F$49,\"Core staff\",\"Senior staff\"))","v":""},{"$f":"IF(D14767=\"\",\" \",'Main page'!$F$21-(D14767))","v":" "},{"$f":"IF(D14767=\"\",\" \",VLOOKUP(R14767,'Main page'!$E$29:'Main page'!$G$41,3,TRUE))","v":" "}]
[null,null,null,null,null,null,null,null,null,null,null,null," "," "," "," ",{"$f":"IF(I14779=\"\",\"\",IF(I14779<='Main page'!$F$49,\"Core staff\",\"Senior staff\"))","v":""},{"$f":"IF(D14779=\"\",\" \",'Main page'!$F$21-(D14779))","v":" "},{"$f":"IF(D14779=\"\",\" \",VLOOKUP(R14779,'Main page'!$E$29:'Main page'!$G$41,3,TRUE))","v":" "}]
[null,null,null,null,null,null,null,null,null,null,null,null," "," "," "," ",{"$f":"IF(I14786=\"\",\"\",IF(I14786<='Main page'!$F$49,\"Core staff\",\"Senior staff\"))","v":""},{"$f":"IF(D14786=\"\",\" \",'Main page'!$F$21-(D14786))","v":" "},{"$f":"IF(D14786=\"\",\" \",VLOOKUP(R14786,'Main page'!$E$29:'Main page'!$G$41,3,TRUE))","v":" "}]
[null,null,null,null,null,null,null,null,null,null,null,null," "," "," "," ",{"$f":"IF(I14801=\"\",\"\",IF(I14801<='Main page'!$F$49,\"Core staff\",\"Senior staff\"))","v":""},{"$f":"IF(D14801=\"\",\" \",'Main page'!$F$21-(D14801))","v":" "},{"$f":"IF(D14801=\"\",\" \",VLOOKUP(R14801,'Main page'!$E$29:'Main page'!$G$41,3,TRUE))","v":" "}]
[null,null,null,null,null,null,null,null,null,null,null,null," "," "," "," ",{"$f":"IF(I14809=\"\",\"\",IF(I14809<='Main page'!$F$49,\"Core staff\",\"Senior staff\"))","v":""},{"$f":"IF(D14809=\"\",\" \",'Main page'!$F$21-(D14809))","v":" "},{"$f":"IF(D14809=\"\",\" \",VLOOKUP(R14809,'Main page'!$E$29:'Main page'!$G$41,3,TRUE))","v":" "}]
[null,null,null,null,null,null,null,null,null,null,null,null," "," "," "," ",{"$f":"IF(I14816=\"\",\"\",IF(I14816<='Main page'!$F$49,\"Core staff\",\"Senior staff\"))","v":""},{"$f":"IF(D14816=\"\",\" \",'Main page'!$F$21-(D14816))","v":" "},{"$f":"IF(D14816=\"\",\" \",VLOOKUP(R14816,'Main page'!$E$29:'Main page'!$G$41,3,TRUE))","v":" "}]
[null,null,null,null,null,null,null,null,null,null,null,null," "," "," "," ",{"$f":"IF(I14828=\"\",\"\",IF(I14828<='Main page'!$F$49,\"Core staff\",\"Senior staff\"))","v":""},{"$f":"IF(D14828=\"\",\" \",'Main page'!$F$21-(D14828))","v":" "},{"$f":"IF(D14828=\"\",\" \",VLOOKUP(R14828,'Main page'!$E$29:'Main page'!$G$41,3,TRUE))","v":" "}]
[null,null,null,null,null,null,null,null,null,null,null,null," "," "," "," ",{"$f":"IF(I14832=\"\",\"\",IF(I14832<='Main page'!$F$49,\"Core staff\",\"Senior staff\"))","v":""},{"$f":"IF(D14832=\"\",\" \",'Main page'!$F$21-(D14832))","v":" "},{"$f":"IF(D14832=\"\",\" \",VLOOKUP(R14832,'Main page'!$E$29:'Main page'!$G$41,3,TRUE))","v":" "}]
[null,null,null,null,null,null,null,null,null,null,null,null," "," "," "," ",{"$f":"IF(I14837=\"\",\"\",IF(I14837<='Main page'!$F$49,\"Core staff\",\"Senior staff\"))","v":""},{"$f":"IF(D14837=\"\",\" \",'Main page'!$F$21-(D14837))","v":" "},{"$f":"IF(D14837=\"\",\" \",VLOOKUP(R14837,'Main page'!$E$29:'Main page'!$G$41,3,TRUE))","v":" "}]
[null,null,null,null,null,null,null,null,null,null,null,null," "," "," "," ",{"$f":"IF(I14849=\"\",\"\",IF(I14849<='Main page'!$F$49,\"Core staff\",\"Senior staff\"))","v":""},{"$f":"IF(D14849=\"\",\" \",'Main page'!$F$21-(D14849))","v":" "},{"$f":"IF(D14849=\"\",\" \",VLOOKUP(R14849,'Main page'!$E$29:'Main page'!$G$41,3,TRUE))","v":" "}]
[null,null,null,null,null,null,null,null,null,null,null,null," "," "," "," ",{"$f":"IF(I14856=\"\",\"\",IF(I14856<='Main page'!$F$49,\"Core staff\",\"Senior staff\"))","v":""},{"$f":"IF(D14856=\"\",\" \",'Main page'!$F$21-(D14856))","v":" "},{"$f":"IF(D14856=\"\",\" \",VLOOKUP(R14856,'Main page'!$E$29:'Main page'!$G$41,3,TRUE))","v":" "}]
[null,null,null,null,null,null,null,null,null,null,null,null," "," "," "," ",{"$f":"IF(I14871=\"\",\"\",IF(I14871<='Main page'!$F$49,\"Core staff\",\"Senior staff\"))","v":""},{"$f":"IF(D14871=\"\",\" \",'Main page'!$F$21-(D14871))","v":" "},{"$f":"IF(D14871=\"\",\" \",VLOOKUP(R14871,'Main page'!$E$29:'Main page'!$G$41,3,TRUE))","v":" "}]
[null,null,null,null,null,null,null,null,null,null,null,null," "," "," "," ",{"$f":"IF(I14879=\"\",\"\",IF(I14879<='Main page'!$F$49,\"Core staff\",\"Senior staff\"))","v":""},{"$f":"IF(D14879=\"\",\" \",'Main page'!$F$21-(D14879))","v":" "},{"$f":"IF(D14879=\"\",\" \",VLOOKUP(R14879,'Main page'!$E$29:'Main page'!$G$41,3,TRUE))","v":" "}]
[null,null,null,null,null,null,null,null,null,null,null,null," "," "," "," ",{"$f":"IF(I14886=\"\",\"\",IF(I14886<='Main page'!$F$49,\"Core staff\",\"Senior staff\"))","v":""},{"$f":"IF(D14886=\"\",\" \",'Main page'!$F$21-(D14886))","v":" "},{"$f":"IF(D14886=\"\",\" \",VLOOKUP(R14886,'Main page'!$E$29:'Main page'!$G$41,3,TRUE))","v":" "}]
[null,null,null,null,null,null,null,null,null,null,null,null," "," "," "," ",{"$f":"IF(I14898=\"\",\"\",IF(I14898<='Main page'!$F$49,\"Core staff\",\"Senior staff\"))","v":""},{"$f":"IF(D14898=\"\",\" \",'Main page'!$F$21-(D14898))","v":" "},{"$f":"IF(D14898=\"\",\" \",VLOOKUP(R14898,'Main page'!$E$29:'Main page'!$G$41,3,TRUE))","v":" "}]
[null,null,null,null,null,null,null,null,null,null,null,null," "," "," "," ",{"$f":"IF(I14902=\"\",\"\",IF(I14902<='Main page'!$F$49,\"Core staff\",\"Senior staff\"))","v":""},{"$f":"IF(D14902=\"\",\" \",'Main page'!$F$21-(D14902))","v":" "},{"$f":"IF(D14902=\"\",\" \",VLOOKUP(R14902,'Main page'!$E$29:'Main page'!$G$41,3,TRUE))","v":" "}]
[null,null,null,null,null,null,null,null,null,null,null,null," "," "," "," ",{"$f":"IF(I14907=\"\",\"\",IF(I14907<='Main page'!$F$49,\"Core staff\",\"Senior staff\"))","v":""},{"$f":"IF(D14907=\"\",\" \",'Main page'!$F$21-(D14907))","v":" "},{"$f":"IF(D14907=\"\",\" \",VLOOKUP(R14907,'Main page'!$E$29:'Main page'!$G$41,3,TRUE))","v":" "}]
[null,null,null,null,null,null,null,null,null,null,null,null," "," "," "," ",{"$f":"IF(I14919=\"\",\"\",IF(I14919<='Main page'!$F$49,\"Core staff\",\"Senior staff\"))","v":""},{"$f":"IF(D14919=\"\",\" \",'Main page'!$F$21-(D14919))","v":" "},{"$f":"IF(D14919=\"\",\" \",VLOOKUP(R14919,'Main page'!$E$29:'Main page'!$G$41,3,TRUE))","v":" "}]
[null,null,null,null,null,null,null,null,null,null,null,null,{"$f":"IFERROR(J14926/G14926,\" \")","v":" "},{"$f":"IFERROR((M14926/$U$4)/H14926,\" \")","v":" "},{"$f":"IFERROR((N14926*75)*26.083,\" \")","v":" "},{"$f":"IF(G14926=0,\" \",IF(G14926=1,\"Full time\",\"Part time\"))","v":" "},{"$f":"IF(I14926=\"\",\"\",IF(I14926<='Main page'!$F$49,\"Core staff\",\"Senior staff\"))","v":""},{"$f":"IF(D14926=\"\",\" \",'Main page'!$F$21-(D14926))","v":" "},{"$f":"IF(D14926=\"\",\" \",VLOOKUP(R14926,'Main page'!$E$29:'Main page'!$G$41,3,TRUE))","v":" "}]
[null,null,null,null,null,null,null,null,null,null,null,null," "," "," "," ",{"$f":"IF(I14941=\"\",\"\",IF(I14941<='Main page'!$F$49,\"Core staff\",\"Senior staff\"))","v":""},{"$f":"IF(D14941=\"\",\" \",'Main page'!$F$21-(D14941))","v":" "},{"$f":"IF(D14941=\"\",\" \",VLOOKUP(R14941,'Main page'!$E$29:'Main page'!$G$41,3,TRUE))","v":" "}]
[null,null,null,null,null,null,null,null,null,null,null,null," "," "," "," ",{"$f":"IF(I14949=\"\",\"\",IF(I14949<='Main page'!$F$49,\"Core staff\",\"Senior staff\"))","v":""},{"$f":"IF(D14949=\"\",\" \",'Main page'!$F$21-(D14949))","v":" "},{"$f":"IF(D14949=\"\",\" \",VLOOKUP(R14949,'Main page'!$E$29:'Main page'!$G$41,3,TRUE))","v":" "}]
[null,null,null,null,null,null,null,null,null,null,null,null," "," "," "," ",{"$f":"IF(I14956=\"\",\"\",IF(I14956<='Main page'!$F$49,\"Core staff\",\"Senior staff\"))","v":""},{"$f":"IF(D14956=\"\",\" \",'Main page'!$F$21-(D14956))","v":" "},{"$f":"IF(D14956=\"\",\" \",VLOOKUP(R14956,'Main page'!$E$29:'Main page'!$G$41,3,TRUE))","v":" "}]
[null,null,null,null,null,null,null,null,null,null,null,null," "," "," "," ",{"$f":"IF(I14968=\"\",\"\",IF(I14968<='Main page'!$F$49,\"Core staff\",\"Senior staff\"))","v":""},{"$f":"IF(D14968=\"\",\" \",'Main page'!$F$21-(D14968))","v":" "},{"$f":"IF(D14968=\"\",\" \",VLOOKUP(R14968,'Main page'!$E$29:'Main page'!$G$41,3,TRUE))","v":" "}]
[null,null,null,null,null,null,null,null,null,null,null,null," "," "," "," ",{"$f":"IF(I14972=\"\",\"\",IF(I14972<='Main page'!$F$49,\"Core staff\",\"Senior staff\"))","v":""},{"$f":"IF(D14972=\"\",\" \",'Main page'!$F$21-(D14972))","v":" "},{"$f":"IF(D14972=\"\",\" \",VLOOKUP(R14972,'Main page'!$E$29:'Main page'!$G$41,3,TRUE))","v":" "}]
[null,null,null,null,null,null,null,null,null,null,null,null," "," "," "," ",{"$f":"IF(I14977=\"\",\"\",IF(I14977<='Main page'!$F$49,\"Core staff\",\"Senior staff\"))","v":""},{"$f":"IF(D14977=\"\",\" \",'Main page'!$F$21-(D14977))","v":" "},{"$f":"IF(D14977=\"\",\" \",VLOOKUP(R14977,'Main page'!$E$29:'Main page'!$G$41,3,TRUE))","v":" "}]
[null,null,null,null,null,null,null,null,null,null,null,null," "," "," "," ",{"$f":"IF(I14989=\"\",\"\",IF(I14989<='Main page'!$F$49,\"Core staff\",\"Senior staff\"))","v":""},{"$f":"IF(D14989=\"\",\" \",'Main page'!$F$21-(D14989))","v":" "},{"$f":"IF(D14989=\"\",\" \",VLOOKUP(R14989,'Main page'!$E$29:'Main page'!$G$41,3,TRUE))","v":" "}]
[null,null,null,null,null,null,null,null,null,null,null,null," "," "," "," ",{"$f":"IF(I14996=\"\",\"\",IF(I14996<='Main page'!$F$49,\"Core staff\",\"Senior staff\"))","v":""},{"$f":"IF(D14996=\"\",\" \",'Main page'!$F$21-(D14996))","v":" "},{"$f":"IF(D14996=\"\",\" \",VLOOKUP(R14996,'Main page'!$E$29:'Main page'!$G$41,3,TRUE))","v":" "}]
[null,null,null,null,null,null,null,null,null,null,null,null," "," "," "," ",{"$f":"IF(I15011=\"\",\"\",IF(I15011<='Main page'!$F$49,\"Core staff\",\"Senior staff\"))","v":""},{"$f":"IF(D15011=\"\",\" \",'Main page'!$F$21-(D15011))","v":" "},{"$f":"IF(D15011=\"\",\" \",VLOOKUP(R15011,'Main page'!$E$29:'Main page'!$G$41,3,TRUE))","v":" "}]
[null,null,null,null,null,null,null,null,null,null,null,null," "," "," "," ",{"$f":"IF(I15019=\"\",\"\",IF(I15019<='Main page'!$F$49,\"Core staff\",\"Senior staff\"))","v":""},{"$f":"IF(D15019=\"\",\" \",'Main page'!$F$21-(D15019))","v":" "},{"$f":"IF(D15019=\"\",\" \",VLOOKUP(R15019,'Main page'!$E$29:'Main page'!$G$41,3,TRUE))","v":" "}]
[null,null,null,null,null,null,null,null,null,null,null,null," "," "," "," ",{"$f":"IF(I15026=\"\",\"\",IF(I15026<='Main page'!$F$49,\"Core staff\",\"Senior staff\"))","v":""},{"$f":"IF(D15026=\"\",\" \",'Main page'!$F$21-(D15026))","v":" "},{"$f":"IF(D15026=\"\",\" \",VLOOKUP(R15026,'Main page'!$E$29:'Main page'!$G$41,3,TRUE))","v":" "}]
[null,null,null,null,null,null,null,null,null,null,null,null," "," "," "," ",{"$f":"IF(I15038=\"\",\"\",IF(I15038<='Main page'!$F$49,\"Core staff\",\"Senior staff\"))","v":""},{"$f":"IF(D15038=\"\",\" \",'Main page'!$F$21-(D15038))","v":" "},{"$f":"IF(D15038=\"\",\" \",VLOOKUP(R15038,'Main page'!$E$29:'Main page'!$G$41,3,TRUE))","v":" "}]
[null,null,null,null,null,null,null,null,null,null,null,null," "," "," "," ",{"$f":"IF(I15042=\"\",\"\",IF(I15042<='Main page'!$F$49,\"Core staff\",\"Senior staff\"))","v":""},{"$f":"IF(D15042=\"\",\" \",'Main page'!$F$21-(D15042))","v":" "},{"$f":"IF(D15042=\"\",\" \",VLOOKUP(R15042,'Main page'!$E$29:'Main page'!$G$41,3,TRUE))","v":" "}]
[null,null,null,null,null,null,null,null,null,null,null,null," "," "," "," ",{"$f":"IF(I15047=\"\",\"\",IF(I15047<='Main page'!$F$49,\"Core staff\",\"Senior staff\"))","v":""},{"$f":"IF(D15047=\"\",\" \",'Main page'!$F$21-(D15047))","v":" "},{"$f":"IF(D15047=\"\",\" \",VLOOKUP(R15047,'Main page'!$E$29:'Main page'!$G$41,3,TRUE))","v":" "}]
[null,null,null,null,null,null,null,null,null,null,null,null," "," "," "," ",{"$f":"IF(I15059=\"\",\"\",IF(I15059<='Main page'!$F$49,\"Core staff\",\"Senior staff\"))","v":""},{"$f":"IF(D15059=\"\",\" \",'Main page'!$F$21-(D15059))","v":" "},{"$f":"IF(D15059=\"\",\" \",VLOOKUP(R15059,'Main page'!$E$29:'Main page'!$G$41,3,TRUE))","v":" "}]
[null,null,null,null,null,null,null,null,null,null,null,null," "," "," "," ",{"$f":"IF(I15066=\"\",\"\",IF(I15066<='Main page'!$F$49,\"Core staff\",\"Senior staff\"))","v":""},{"$f":"IF(D15066=\"\",\" \",'Main page'!$F$21-(D15066))","v":" "},{"$f":"IF(D15066=\"\",\" \",VLOOKUP(R15066,'Main page'!$E$29:'Main page'!$G$41,3,TRUE))","v":" "}]
[null,null,null,null,null,null,null,null,null,null,null,null," "," "," "," ",{"$f":"IF(I15081=\"\",\"\",IF(I15081<='Main page'!$F$49,\"Core staff\",\"Senior staff\"))","v":""},{"$f":"IF(D15081=\"\",\" \",'Main page'!$F$21-(D15081))","v":" "},{"$f":"IF(D15081=\"\",\" \",VLOOKUP(R15081,'Main page'!$E$29:'Main page'!$G$41,3,TRUE))","v":" "}]
[null,null,null,null,null,null,null,null,null,null,null,null," "," "," "," ",{"$f":"IF(I15084=\"\",\"\",IF(I15084<='Main page'!$F$49,\"Core staff\",\"Senior staff\"))","v":""},{"$f":"IF(D15084=\"\",\" \",'Main page'!$F$21-(D15084))","v":" "},{"$f":"IF(D15084=\"\",\" \",VLOOKUP(R15084,'Main page'!$E$29:'Main page'!$G$41,3,TRUE))","v":" "}]
[null,null,null,null,null,null,null,null,null,null,null,null," "," "," "," ",{"$f":"IF(I15096=\"\",\"\",IF(I15096<='Main page'!$F$49,\"Core staff\",\"Senior staff\"))","v":""},{"$f":"IF(D15096=\"\",\" \",'Main page'!$F$21-(D15096))","v":" "},{"$f":"IF(D15096=\"\",\" \",VLOOKUP(R15096,'Main page'!$E$29:'Main page'!$G$41,3,TRUE))","v":" "}]
[null,null,null,null,null,null,null,null,null,null,null,null," "," "," "," ",{"$f":"IF(I15108=\"\",\"\",IF(I15108<='Main page'!$F$49,\"Core staff\",\"Senior staff\"))","v":""},{"$f":"IF(D15108=\"\",\" \",'Main page'!$F$21-(D15108))","v":" "},{"$f":"IF(D15108=\"\",\" \",VLOOKUP(R15108,'Main page'!$E$29:'Main page'!$G$41,3,TRUE))","v":" "}]
[null,null,null,null,null,null,null,null,null,null,null,null," "," "," "," ",{"$f":"IF(I15112=\"\",\"\",IF(I15112<='Main page'!$F$49,\"Core staff\",\"Senior staff\"))","v":""},{"$f":"IF(D15112=\"\",\" \",'Main page'!$F$21-(D15112))","v":" "},{"$f":"IF(D15112=\"\",\" \",VLOOKUP(R15112,'Main page'!$E$29:'Main page'!$G$41,3,TRUE))","v":" "}]
[null,null,null,null,null,null,null,null,null,null,null,null," "," "," "," ",{"$f":"IF(I15117=\"\",\"\",IF(I15117<='Main page'!$F$49,\"Core staff\",\"Senior staff\"))","v":""},{"$f":"IF(D15117=\"\",\" \",'Main page'!$F$21-(D15117))","v":" "},{"$f":"IF(D15117=\"\",\" \",VLOOKUP(R15117,'Main page'!$E$29:'Main page'!$G$41,3,TRUE))","v":" "}]
[null,null,null,null,null,null,null,null,null,null,null,null,{"$f":"IFERROR(J15129/G15129,\" \")","v":" "},{"$f":"IFERROR((M15129/$U$4)/H15129,\" \")","v":" "},{"$f":"IFERROR((N15129*75)*26.083,\" \")","v":" "},{"$f":"IF(G15129=0,\" \",IF(G15129=1,\"Full time\",\"Part time\"))","v":" "},{"$f":"IF(I15129=\"\",\"\",IF(I15129<='Main page'!$F$49,\"Core staff\",\"Senior staff\"))","v":""},{"$f":"IF(D15129=\"\",\" \",'Main page'!$F$21-(D15129))","v":" "},{"$f":"IF(D15129=\"\",\" \",VLOOKUP(R15129,'Main page'!$E$29:'Main page'!$G$41,3,TRUE))","v":" "}]
[null,null,null,null,null,null,null,null,null,null,null,null," "," "," "," ",{"$f":"IF(I15136=\"\",\"\",IF(I15136<='Main page'!$F$49,\"Core staff\",\"Senior staff\"))","v":""},{"$f":"IF(D15136=\"\",\" \",'Main page'!$F$21-(D15136))","v":" "},{"$f":"IF(D15136=\"\",\" \",VLOOKUP(R15136,'Main page'!$E$29:'Main page'!$G$41,3,TRUE))","v":" "}]
[null,null,null,null,null,null,null,null,null,null,null,null," "," "," "," ",{"$f":"IF(I15148=\"\",\"\",IF(I15148<='Main page'!$F$49,\"Core staff\",\"Senior staff\"))","v":""},{"$f":"IF(D15148=\"\",\" \",'Main page'!$F$21-(D15148))","v":" "},{"$f":"IF(D15148=\"\",\" \",VLOOKUP(R15148,'Main page'!$E$29:'Main page'!$G$41,3,TRUE))","v":" "}]
[null,null,null,null,null,null,null,null,null,null,null,null," "," "," "," ",{"$f":"IF(I15153=\"\",\"\",IF(I15153<='Main page'!$F$49,\"Core staff\",\"Senior staff\"))","v":""},{"$f":"IF(D15153=\"\",\" \",'Main page'!$F$21-(D15153))","v":" "},{"$f":"IF(D15153=\"\",\" \",VLOOKUP(R15153,'Main page'!$E$29:'Main page'!$G$41,3,TRUE))","v":" "}]
[null,null,null,null,null,null,null,null,null,null,null,null," "," "," "," ",{"$f":"IF(I15166=\"\",\"\",IF(I15166<='Main page'!$F$49,\"Core staff\",\"Senior staff\"))","v":""},{"$f":"IF(D15166=\"\",\" \",'Main page'!$F$21-(D15166))","v":" "},{"$f":"IF(D15166=\"\",\" \",VLOOKUP(R15166,'Main page'!$E$29:'Main page'!$G$41,3,TRUE))","v":" "}]
[null,null,null,null,null,null,null,null,null,null,null,null," "," "," "," ",{"$f":"IF(I15178=\"\",\"\",IF(I15178<='Main page'!$F$49,\"Core staff\",\"Senior staff\"))","v":""},{"$f":"IF(D15178=\"\",\" \",'Main page'!$F$21-(D15178))","v":" "},{"$f":"IF(D15178=\"\",\" \",VLOOKUP(R15178,'Main page'!$E$29:'Main page'!$G$41,3,TRUE))","v":" "}]
[null,null,null,null,null,null,null,null,null,null,null,null," "," "," "," ",{"$f":"IF(I15185=\"\",\"\",IF(I15185<='Main page'!$F$49,\"Core staff\",\"Senior staff\"))","v":""},{"$f":"IF(D15185=\"\",\" \",'Main page'!$F$21-(D15185))","v":" "},{"$f":"IF(D15185=\"\",\" \",VLOOKUP(R15185,'Main page'!$E$29:'Main page'!$G$41,3,TRUE))","v":" "}]
[null,null,null,null,null,null,null,null,null,null,null,null," "," "," "," ",{"$f":"IF(I15192=\"\",\"\",IF(I15192<='Main page'!$F$49,\"Core staff\",\"Senior staff\"))","v":""},{"$f":"IF(D15192=\"\",\" \",'Main page'!$F$21-(D15192))","v":" "},{"$f":"IF(D15192=\"\",\" \",VLOOKUP(R15192,'Main page'!$E$29:'Main page'!$G$41,3,TRUE))","v":" "}]
[null,null,null,null,null,null,null,null,null,null,null,null," "," "," "," ",{"$f":"IF(I15203=\"\",\"\",IF(I15203<='Main page'!$F$49,\"Core staff\",\"Senior staff\"))","v":""},{"$f":"IF(D15203=\"\",\" \",'Main page'!$F$21-(D15203))","v":" "},{"$f":"IF(D15203=\"\",\" \",VLOOKUP(R15203,'Main page'!$E$29:'Main page'!$G$41,3,TRUE))","v":" "}]
[null,null,null,null,null,null,null,null,null,null,null,null," "," "," "," ",{"$f":"IF(I15206=\"\",\"\",IF(I15206<='Main page'!$F$49,\"Core staff\",\"Senior staff\"))","v":""},{"$f":"IF(D15206=\"\",\" \",'Main page'!$F$21-(D15206))","v":" "},{"$f":"IF(D15206=\"\",\" \",VLOOKUP(R15206,'Main page'!$E$29:'Main page'!$G$41,3,TRUE))","v":" "}]
[null,null,null,null,null,null,null,null,null,null,null,null," "," "," "," ",{"$f":"IF(I15218=\"\",\"\",IF(I15218<='Main page'!$F$49,\"Core staff\",\"Senior staff\"))","v":""},{"$f":"IF(D15218=\"\",\" \",'Main page'!$F$21-(D15218))","v":" "},{"$f":"IF(D15218=\"\",\" \",VLOOKUP(R15218,'Main page'!$E$29:'Main page'!$G$41,3,TRUE))","v":" "}]
[null,null,null,null,null,null,null,null,null,null,null,null," "," "," "," ",{"$f":"IF(I15223=\"\",\"\",IF(I15223<='Main page'!$F$49,\"Core staff\",\"Senior staff\"))","v":""},{"$f":"IF(D15223=\"\",\" \",'Main page'!$F$21-(D15223))","v":" "},{"$f":"IF(D15223=\"\",\" \",VLOOKUP(R15223,'Main page'!$E$29:'Main page'!$G$41,3,TRUE))","v":" "}]
[null,null,null,null,null,null,null,null,null,null,null,null," "," "," "," ",{"$f":"IF(I15236=\"\",\"\",IF(I15236<='Main page'!$F$49,\"Core staff\",\"Senior staff\"))","v":""},{"$f":"IF(D15236=\"\",\" \",'Main page'!$F$21-(D15236))","v":" "},{"$f":"IF(D15236=\"\",\" \",VLOOKUP(R15236,'Main page'!$E$29:'Main page'!$G$41,3,TRUE))","v":" "}]
[null,null,null,null,null,null,null,null,null,null,null,null," "," "," "," ",{"$f":"IF(I15248=\"\",\"\",IF(I15248<='Main page'!$F$49,\"Core staff\",\"Senior staff\"))","v":""},{"$f":"IF(D15248=\"\",\" \",'Main page'!$F$21-(D15248))","v":" "},{"$f":"IF(D15248=\"\",\" \",VLOOKUP(R15248,'Main page'!$E$29:'Main page'!$G$41,3,TRUE))","v":" "}]
[null,null,null,null,null,null,null,null,null,null,null,null," "," "," "," ",{"$f":"IF(I15255=\"\",\"\",IF(I15255<='Main page'!$F$49,\"Core staff\",\"Senior staff\"))","v":""},{"$f":"IF(D15255=\"\",\" \",'Main page'!$F$21-(D15255))","v":" "},{"$f":"IF(D15255=\"\",\" \",VLOOKUP(R15255,'Main page'!$E$29:'Main page'!$G$41,3,TRUE))","v":" "}]
[null,null,null,null,null,null,null,null,null,null,null,null," "," "," "," ",{"$f":"IF(I15262=\"\",\"\",IF(I15262<='Main page'!$F$49,\"Core staff\",\"Senior staff\"))","v":""},{"$f":"IF(D15262=\"\",\" \",'Main page'!$F$21-(D15262))","v":" "},{"$f":"IF(D15262=\"\",\" \",VLOOKUP(R15262,'Main page'!$E$29:'Main page'!$G$41,3,TRUE))","v":" "}]
[null,null,null,null,null,null,null,null,null,null,null,null," "," "," "," ",{"$f":"IF(I15273=\"\",\"\",IF(I15273<='Main page'!$F$49,\"Core staff\",\"Senior staff\"))","v":""},{"$f":"IF(D15273=\"\",\" \",'Main page'!$F$21-(D15273))","v":" "},{"$f":"IF(D15273=\"\",\" \",VLOOKUP(R15273,'Main page'!$E$29:'Main page'!$G$41,3,TRUE))","v":" "}]
[null,null,null,null,null,null,null,null,null,null,null,null," "," "," "," ",{"$f":"IF(I15276=\"\",\"\",IF(I15276<='Main page'!$F$49,\"Core staff\",\"Senior staff\"))","v":""},{"$f":"IF(D15276=\"\",\" \",'Main page'!$F$21-(D15276))","v":" "},{"$f":"IF(D15276=\"\",\" \",VLOOKUP(R15276,'Main page'!$E$29:'Main page'!$G$41,3,TRUE))","v":" "}]
[null,null,null,null,null,null,null,null,null,null,null,null," "," "," "," ",{"$f":"IF(I15288=\"\",\"\",IF(I15288<='Main page'!$F$49,\"Core staff\",\"Senior staff\"))","v":""},{"$f":"IF(D15288=\"\",\" \",'Main page'!$F$21-(D15288))","v":" "},{"$f":"IF(D15288=\"\",\" \",VLOOKUP(R15288,'Main page'!$E$29:'Main page'!$G$41,3,TRUE))","v":" "}]
[null,null,null,null,null,null,null,null,null,null,null,null," "," "," "," ",{"$f":"IF(I15293=\"\",\"\",IF(I15293<='Main page'!$F$49,\"Core staff\",\"Senior staff\"))","v":""},{"$f":"IF(D15293=\"\",\" \",'Main page'!$F$21-(D15293))","v":" "},{"$f":"IF(D15293=\"\",\" \",VLOOKUP(R15293,'Main page'!$E$29:'Main page'!$G$41,3,TRUE))","v":" "}]
[null,null,null,null,null,null,null,null,null,null,null,null," "," "," "," ",{"$f":"IF(I15306=\"\",\"\",IF(I15306<='Main page'!$F$49,\"Core staff\",\"Senior staff\"))","v":""},{"$f":"IF(D15306=\"\",\" \",'Main page'!$F$21-(D15306))","v":" "},{"$f":"IF(D15306=\"\",\" \",VLOOKUP(R15306,'Main page'!$E$29:'Main page'!$G$41,3,TRUE))","v":" "}]
[null,null,null,null,null,null,null,null,null,null,null,null," "," "," "," ",{"$f":"IF(I15318=\"\",\"\",IF(I15318<='Main page'!$F$49,\"Core staff\",\"Senior staff\"))","v":""},{"$f":"IF(D15318=\"\",\" \",'Main page'!$F$21-(D15318))","v":" "},{"$f":"IF(D15318=\"\",\" \",VLOOKUP(R15318,'Main page'!$E$29:'Main page'!$G$41,3,TRUE))","v":" "}]
[null,null,null,null,null,null,null,null,null,null,null,null," "," "," "," ",{"$f":"IF(I15325=\"\",\"\",IF(I15325<='Main page'!$F$49,\"Core staff\",\"Senior staff\"))","v":""},{"$f":"IF(D15325=\"\",\" \",'Main page'!$F$21-(D15325))","v":" "},{"$f":"IF(D15325=\"\",\" \",VLOOKUP(R15325,'Main page'!$E$29:'Main page'!$G$41,3,TRUE))","v":" "}]
[null,null,null,null,null,null,null,null,null,null,null,null," "," "," "," ",{"$f":"IF(I15332=\"\",\"\",IF(I15332<='Main page'!$F$49,\"Core staff\",\"Senior staff\"))","v":""},{"$f":"IF(D15332=\"\",\" \",'Main page'!$F$21-(D15332))","v":" "},{"$f":"IF(D15332=\"\",\" \",VLOOKUP(R15332,'Main page'!$E$29:'Main page'!$G$41,3,TRUE))","v":" "}]
[null,null,null,null,null,null,null,null,null,null,null,null," "," "," "," ",{"$f":"IF(I15343=\"\",\"\",IF(I15343<='Main page'!$F$49,\"Core staff\",\"Senior staff\"))","v":""},{"$f":"IF(D15343=\"\",\" \",'Main page'!$F$21-(D15343))","v":" "},{"$f":"IF(D15343=\"\",\" \",VLOOKUP(R15343,'Main page'!$E$29:'Main page'!$G$41,3,TRUE))","v":" "}]
[null,null,null,null,null,null,null,null,null,null,null,null," "," "," "," ",{"$f":"IF(I15346=\"\",\"\",IF(I15346<='Main page'!$F$49,\"Core staff\",\"Senior staff\"))","v":""},{"$f":"IF(D15346=\"\",\" \",'Main page'!$F$21-(D15346))","v":" "},{"$f":"IF(D15346=\"\",\" \",VLOOKUP(R15346,'Main page'!$E$29:'Main page'!$G$41,3,TRUE))","v":" "}]
[null,null,null,null,null,null,null,null,null,null,null,null," "," "," "," ",{"$f":"IF(I15358=\"\",\"\",IF(I15358<='Main page'!$F$49,\"Core staff\",\"Senior staff\"))","v":""},{"$f":"IF(D15358=\"\",\" \",'Main page'!$F$21-(D15358))","v":" "},{"$f":"IF(D15358=\"\",\" \",VLOOKUP(R15358,'Main page'!$E$29:'Main page'!$G$41,3,TRUE))","v":" "}]
[null,null,null,null,null,null,null,null,null,null,null,null," "," "," "," ",{"$f":"IF(I15363=\"\",\"\",IF(I15363<='Main page'!$F$49,\"Core staff\",\"Senior staff\"))","v":""},{"$f":"IF(D15363=\"\",\" \",'Main page'!$F$21-(D15363))","v":" "},{"$f":"IF(D15363=\"\",\" \",VLOOKUP(R15363,'Main page'!$E$29:'Main page'!$G$41,3,TRUE))","v":" "}]
[null,null,null,null,null,null,null,null,null,null,null,null," "," "," "," ",{"$f":"IF(I15376=\"\",\"\",IF(I15376<='Main page'!$F$49,\"Core staff\",\"Senior staff\"))","v":""},{"$f":"IF(D15376=\"\",\" \",'Main page'!$F$21-(D15376))","v":" "},{"$f":"IF(D15376=\"\",\" \",VLOOKUP(R15376,'Main page'!$E$29:'Main page'!$G$41,3,TRUE))","v":" "}]
[null,null,null,null,null,null,null,null,null,null,null,null," "," "," "," ",{"$f":"IF(I15383=\"\",\"\",IF(I15383<='Main page'!$F$49,\"Core staff\",\"Senior staff\"))","v":""},{"$f":"IF(D15383=\"\",\" \",'Main page'!$F$21-(D15383))","v":" "},{"$f":"IF(D15383=\"\",\" \",VLOOKUP(R15383,'Main page'!$E$29:'Main page'!$G$41,3,TRUE))","v":" "}]
[null,null,null,null,null,null,null,null,null,null,null,null," "," "," "," ",{"$f":"IF(I15395=\"\",\"\",IF(I15395<='Main page'!$F$49,\"Core staff\",\"Senior staff\"))","v":""},{"$f":"IF(D15395=\"\",\" \",'Main page'!$F$21-(D15395))","v":" "},{"$f":"IF(D15395=\"\",\" \",VLOOKUP(R15395,'Main page'!$E$29:'Main page'!$G$41,3,TRUE))","v":" "}]
[null,null,null,null,null,null,null,null,null,null,null,null," "," "," "," ",{"$f":"IF(I15402=\"\",\"\",IF(I15402<='Main page'!$F$49,\"Core staff\",\"Senior staff\"))","v":""},{"$f":"IF(D15402=\"\",\" \",'Main page'!$F$21-(D15402))","v":" "},{"$f":"IF(D15402=\"\",\" \",VLOOKUP(R15402,'Main page'!$E$29:'Main page'!$G$41,3,TRUE))","v":" "}]
[null,null,null,null,null,null,null,null,null,null,null,null," "," "," "," ",{"$f":"IF(I15413=\"\",\"\",IF(I15413<='Main page'!$F$49,\"Core staff\",\"Senior staff\"))","v":""},{"$f":"IF(D15413=\"\",\" \",'Main page'!$F$21-(D15413))","v":" "},{"$f":"IF(D15413=\"\",\" \",VLOOKUP(R15413,'Main page'!$E$29:'Main page'!$G$41,3,TRUE))","v":" "}]
[null,null,null,null,null,null,null,null,null,null,null,null," "," "," "," ",{"$f":"IF(I15416=\"\",\"\",IF(I15416<='Main page'!$F$49,\"Core staff\",\"Senior staff\"))","v":""},{"$f":"IF(D15416=\"\",\" \",'Main page'!$F$21-(D15416))","v":" "},{"$f":"IF(D15416=\"\",\" \",VLOOKUP(R15416,'Main page'!$E$29:'Main page'!$G$41,3,TRUE))","v":" "}]
[null,null,null,null,null,null,null,null,null,null,null,null," "," "," "," ",{"$f":"IF(I15428=\"\",\"\",IF(I15428<='Main page'!$F$49,\"Core staff\",\"Senior staff\"))","v":""},{"$f":"IF(D15428=\"\",\" \",'Main page'!$F$21-(D15428))","v":" "},{"$f":"IF(D15428=\"\",\" \",VLOOKUP(R15428,'Main page'!$E$29:'Main page'!$G$41,3,TRUE))","v":" "}]
[null,null,null,null,null,null,null,null,null,null,null,null," "," "," "," ",{"$f":"IF(I15433=\"\",\"\",IF(I15433<='Main page'!$F$49,\"Core staff\",\"Senior staff\"))","v":""},{"$f":"IF(D15433=\"\",\" \",'Main page'!$F$21-(D15433))","v":" "},{"$f":"IF(D15433=\"\",\" \",VLOOKUP(R15433,'Main page'!$E$29:'Main page'!$G$41,3,TRUE))","v":" "}]
[null,null,null,null,null,null,null,null,null,null,null,null," "," "," "," ",{"$f":"IF(I15446=\"\",\"\",IF(I15446<='Main page'!$F$49,\"Core staff\",\"Senior staff\"))","v":""},{"$f":"IF(D15446=\"\",\" \",'Main page'!$F$21-(D15446))","v":" "},{"$f":"IF(D15446=\"\",\" \",VLOOKUP(R15446,'Main page'!$E$29:'Main page'!$G$41,3,TRUE))","v":" "}]
[null,null,null,null,null,null,null,null,null,null,null,null," "," "," "," ",{"$f":"IF(I15453=\"\",\"\",IF(I15453<='Main page'!$F$49,\"Core staff\",\"Senior staff\"))","v":""},{"$f":"IF(D15453=\"\",\" \",'Main page'!$F$21-(D15453))","v":" "},{"$f":"IF(D15453=\"\",\" \",VLOOKUP(R15453,'Main page'!$E$29:'Main page'!$G$41,3,TRUE))","v":" "}]
[null,null,null,null,null,null,null,null,null,null,null,null," "," "," "," ",{"$f":"IF(I15465=\"\",\"\",IF(I15465<='Main page'!$F$49,\"Core staff\",\"Senior staff\"))","v":""},{"$f":"IF(D15465=\"\",\" \",'Main page'!$F$21-(D15465))","v":" "},{"$f":"IF(D15465=\"\",\" \",VLOOKUP(R15465,'Main page'!$E$29:'Main page'!$G$41,3,TRUE))","v":" "}]
[null,null,null,null,null,null,null,null,null,null,null,null," "," "," "," ",{"$f":"IF(I15472=\"\",\"\",IF(I15472<='Main page'!$F$49,\"Core staff\",\"Senior staff\"))","v":""},{"$f":"IF(D15472=\"\",\" \",'Main page'!$F$21-(D15472))","v":" "},{"$f":"IF(D15472=\"\",\" \",VLOOKUP(R15472,'Main page'!$E$29:'Main page'!$G$41,3,TRUE))","v":" "}]
[null,null,null,null,null,null,null,null,null,null,null,null," "," "," "," ",{"$f":"IF(I15483=\"\",\"\",IF(I15483<='Main page'!$F$49,\"Core staff\",\"Senior staff\"))","v":""},{"$f":"IF(D15483=\"\",\" \",'Main page'!$F$21-(D15483))","v":" "},{"$f":"IF(D15483=\"\",\" \",VLOOKUP(R15483,'Main page'!$E$29:'Main page'!$G$41,3,TRUE))","v":" "}]
[null,null,null,null,null,null,null,null,null,null,null,null," "," "," "," ",{"$f":"IF(I15486=\"\",\"\",IF(I15486<='Main page'!$F$49,\"Core staff\",\"Senior staff\"))","v":""},{"$f":"IF(D15486=\"\",\" \",'Main page'!$F$21-(D15486))","v":" "},{"$f":"IF(D15486=\"\",\" \",VLOOKUP(R15486,'Main page'!$E$29:'Main page'!$G$41,3,TRUE))","v":" "}]
[null,null,null,null,null,null,null,null,null,null,null,null," "," "," "," ",{"$f":"IF(I15498=\"\",\"\",IF(I15498<='Main page'!$F$49,\"Core staff\",\"Senior staff\"))","v":""},{"$f":"IF(D15498=\"\",\" \",'Main page'!$F$21-(D15498))","v":" "},{"$f":"IF(D15498=\"\",\" \",VLOOKUP(R15498,'Main page'!$E$29:'Main page'!$G$41,3,TRUE))","v":" "}]
[null,null,null,null,null,null,null,null,null,null,null,null," "," "," "," ",{"$f":"IF(I15503=\"\",\"\",IF(I15503<='Main page'!$F$49,\"Core staff\",\"Senior staff\"))","v":""},{"$f":"IF(D15503=\"\",\" \",'Main page'!$F$21-(D15503))","v":" "},{"$f":"IF(D15503=\"\",\" \",VLOOKUP(R15503,'Main page'!$E$29:'Main page'!$G$41,3,TRUE))","v":" "}]
[null,null,null,null,null,null,null,null,null,null,null,null," "," "," "," ",{"$f":"IF(I15516=\"\",\"\",IF(I15516<='Main page'!$F$49,\"Core staff\",\"Senior staff\"))","v":""},{"$f":"IF(D15516=\"\",\" \",'Main page'!$F$21-(D15516))","v":" "},{"$f":"IF(D15516=\"\",\" \",VLOOKUP(R15516,'Main page'!$E$29:'Main page'!$G$41,3,TRUE))","v":" "}]
[null,null,null,null,null,null,null,null,null,null,null,null," "," "," "," ",{"$f":"IF(I15523=\"\",\"\",IF(I15523<='Main page'!$F$49,\"Core staff\",\"Senior staff\"))","v":""},{"$f":"IF(D15523=\"\",\" \",'Main page'!$F$21-(D15523))","v":" "},{"$f":"IF(D15523=\"\",\" \",VLOOKUP(R15523,'Main page'!$E$29:'Main page'!$G$41,3,TRUE))","v":" "}]
[null,null,null,null,null,null,null,null,null,null,null,null," "," "," "," ",{"$f":"IF(I15535=\"\",\"\",IF(I15535<='Main page'!$F$49,\"Core staff\",\"Senior staff\"))","v":""},{"$f":"IF(D15535=\"\",\" \",'Main page'!$F$21-(D15535))","v":" "},{"$f":"IF(D15535=\"\",\" \",VLOOKUP(R15535,'Main page'!$E$29:'Main page'!$G$41,3,TRUE))","v":" "}]
[null,null,null,null,null,null,null,null,null,null,null,null," "," "," "," ",{"$f":"IF(I15542=\"\",\"\",IF(I15542<='Main page'!$F$49,\"Core staff\",\"Senior staff\"))","v":""},{"$f":"IF(D15542=\"\",\" \",'Main page'!$F$21-(D15542))","v":" "},{"$f":"IF(D15542=\"\",\" \",VLOOKUP(R15542,'Main page'!$E$29:'Main page'!$G$41,3,TRUE))","v":" "}]
[null,null,null,null,null,null,null,null,null,null,null,null," "," "," "," ",{"$f":"IF(I15553=\"\",\"\",IF(I15553<='Main page'!$F$49,\"Core staff\",\"Senior staff\"))","v":""},{"$f":"IF(D15553=\"\",\" \",'Main page'!$F$21-(D15553))","v":" "},{"$f":"IF(D15553=\"\",\" \",VLOOKUP(R15553,'Main page'!$E$29:'Main page'!$G$41,3,TRUE))","v":" "}]
[null,null,null,null,null,null,null,null,null,null,null,null," "," "," "," ",{"$f":"IF(I15556=\"\",\"\",IF(I15556<='Main page'!$F$49,\"Core staff\",\"Senior staff\"))","v":""},{"$f":"IF(D15556=\"\",\" \",'Main page'!$F$21-(D15556))","v":" "},{"$f":"IF(D15556=\"\",\" \",VLOOKUP(R15556,'Main page'!$E$29:'Main page'!$G$41,3,TRUE))","v":" "}]
[null,null,null,null,null,null,null,null,null,null,null,null," "," "," "," ",{"$f":"IF(I15572=\"\",\"\",IF(I15572<='Main page'!$F$49,\"Core staff\",\"Senior staff\"))","v":""},{"$f":"IF(D15572=\"\",\" \",'Main page'!$F$21-(D15572))","v":" "},{"$f":"IF(D15572=\"\",\" \",VLOOKUP(R15572,'Main page'!$E$29:'Main page'!$G$41,3,TRUE))","v":" "}]
[null,null,null,null,null,null,null,null,null,null,null,null," "," "," "," ",{"$f":"IF(I15573=\"\",\"\",IF(I15573<='Main page'!$F$49,\"Core staff\",\"Senior staff\"))","v":""},{"$f":"IF(D15573=\"\",\" \",'Main page'!$F$21-(D15573))","v":" "},{"$f":"IF(D15573=\"\",\" \",VLOOKUP(R15573,'Main page'!$E$29:'Main page'!$G$41,3,TRUE))","v":" "}]
[null,null,null,null,null,null,null,null,null,null,null,null," "," "," "," ",{"$f":"IF(I15586=\"\",\"\",IF(I15586<='Main page'!$F$49,\"Core staff\",\"Senior staff\"))","v":""},{"$f":"IF(D15586=\"\",\" \",'Main page'!$F$21-(D15586))","v":" "},{"$f":"IF(D15586=\"\",\" \",VLOOKUP(R15586,'Main page'!$E$29:'Main page'!$G$41,3,TRUE))","v":" "}]
[null,null,null,null,null,null,null,null,null,null,null,null," "," "," "," ",{"$f":"IF(I15593=\"\",\"\",IF(I15593<='Main page'!$F$49,\"Core staff\",\"Senior staff\"))","v":""},{"$f":"IF(D15593=\"\",\" \",'Main page'!$F$21-(D15593))","v":" "},{"$f":"IF(D15593=\"\",\" \",VLOOKUP(R15593,'Main page'!$E$29:'Main page'!$G$41,3,TRUE))","v":" "}]
[null,null,null,null,null,null,null,null,null,null,null,null," "," "," "," ",{"$f":"IF(I15605=\"\",\"\",IF(I15605<='Main page'!$F$49,\"Core staff\",\"Senior staff\"))","v":""},{"$f":"IF(D15605=\"\",\" \",'Main page'!$F$21-(D15605))","v":" "},{"$f":"IF(D15605=\"\",\" \",VLOOKUP(R15605,'Main page'!$E$29:'Main page'!$G$41,3,TRUE))","v":" "}]
[null,null,null,null,null,null,null,null,null,null,null,null," "," "," "," ",{"$f":"IF(I15612=\"\",\"\",IF(I15612<='Main page'!$F$49,\"Core staff\",\"Senior staff\"))","v":""},{"$f":"IF(D15612=\"\",\" \",'Main page'!$F$21-(D15612))","v":" "},{"$f":"IF(D15612=\"\",\" \",VLOOKUP(R15612,'Main page'!$E$29:'Main page'!$G$41,3,TRUE))","v":" "}]
[null,null,null,null,null,null,null,null,null,null,null,null," "," "," "," ",{"$f":"IF(I15623=\"\",\"\",IF(I15623<='Main page'!$F$49,\"Core staff\",\"Senior staff\"))","v":""},{"$f":"IF(D15623=\"\",\" \",'Main page'!$F$21-(D15623))","v":" "},{"$f":"IF(D15623=\"\",\" \",VLOOKUP(R15623,'Main page'!$E$29:'Main page'!$G$41,3,TRUE))","v":" "}]
[null,null,null,null,null,null,null,null,null,null,null,null," "," "," "," ",{"$f":"IF(I15626=\"\",\"\",IF(I15626<='Main page'!$F$49,\"Core staff\",\"Senior staff\"))","v":""},{"$f":"IF(D15626=\"\",\" \",'Main page'!$F$21-(D15626))","v":" "},{"$f":"IF(D15626=\"\",\" \",VLOOKUP(R15626,'Main page'!$E$29:'Main page'!$G$41,3,TRUE))","v":" "}]
[null,null,null,null,null,null,null,null,null,null,null,null," "," "," "," ",{"$f":"IF(I15642=\"\",\"\",IF(I15642<='Main page'!$F$49,\"Core staff\",\"Senior staff\"))","v":""},{"$f":"IF(D15642=\"\",\" \",'Main page'!$F$21-(D15642))","v":" "},{"$f":"IF(D15642=\"\",\" \",VLOOKUP(R15642,'Main page'!$E$29:'Main page'!$G$41,3,TRUE))","v":" "}]
[null,null,null,null,null,null,null,null,null,null,null,null," "," "," "," ",{"$f":"IF(I15643=\"\",\"\",IF(I15643<='Main page'!$F$49,\"Core staff\",\"Senior staff\"))","v":""},{"$f":"IF(D15643=\"\",\" \",'Main page'!$F$21-(D15643))","v":" "},{"$f":"IF(D15643=\"\",\" \",VLOOKUP(R15643,'Main page'!$E$29:'Main page'!$G$41,3,TRUE))","v":" "}]
[null,null,null,null,null,null,null,null,null,null,null,null," "," "," "," ",{"$f":"IF(I15656=\"\",\"\",IF(I15656<='Main page'!$F$49,\"Core staff\",\"Senior staff\"))","v":""},{"$f":"IF(D15656=\"\",\" \",'Main page'!$F$21-(D15656))","v":" "},{"$f":"IF(D15656=\"\",\" \",VLOOKUP(R15656,'Main page'!$E$29:'Main page'!$G$41,3,TRUE))","v":" "}]
[null,null,null,null,null,null,null,null,null,null,null,null," "," "," "," ",{"$f":"IF(I15663=\"\",\"\",IF(I15663<='Main page'!$F$49,\"Core staff\",\"Senior staff\"))","v":""},{"$f":"IF(D15663=\"\",\" \",'Main page'!$F$21-(D15663))","v":" "},{"$f":"IF(D15663=\"\",\" \",VLOOKUP(R15663,'Main page'!$E$29:'Main page'!$G$41,3,TRUE))","v":" "}]
[null,null,null,null,null,null,null,null,null,null,null,null," "," "," "," ",{"$f":"IF(I15675=\"\",\"\",IF(I15675<='Main page'!$F$49,\"Core staff\",\"Senior staff\"))","v":""},{"$f":"IF(D15675=\"\",\" \",'Main page'!$F$21-(D15675))","v":" "},{"$f":"IF(D15675=\"\",\" \",VLOOKUP(R15675,'Main page'!$E$29:'Main page'!$G$41,3,TRUE))","v":" "}]
[null,null,null,null,null,null,null,null,null,null,null,null," "," "," "," ",{"$f":"IF(I15682=\"\",\"\",IF(I15682<='Main page'!$F$49,\"Core staff\",\"Senior staff\"))","v":""},{"$f":"IF(D15682=\"\",\" \",'Main page'!$F$21-(D15682))","v":" "},{"$f":"IF(D15682=\"\",\" \",VLOOKUP(R15682,'Main page'!$E$29:'Main page'!$G$41,3,TRUE))","v":" "}]
[null,null,null,null,null,null,null,null,null,null,null,null," "," "," "," ",{"$f":"IF(I15693=\"\",\"\",IF(I15693<='Main page'!$F$49,\"Core staff\",\"Senior staff\"))","v":""},{"$f":"IF(D15693=\"\",\" \",'Main page'!$F$21-(D15693))","v":" "},{"$f":"IF(D15693=\"\",\" \",VLOOKUP(R15693,'Main page'!$E$29:'Main page'!$G$41,3,TRUE))","v":" "}]
[null,null,null,null,null,null,null,null,null,null,null,null," "," "," "," ",{"$f":"IF(I15696=\"\",\"\",IF(I15696<='Main page'!$F$49,\"Core staff\",\"Senior staff\"))","v":""},{"$f":"IF(D15696=\"\",\" \",'Main page'!$F$21-(D15696))","v":" "},{"$f":"IF(D15696=\"\",\" \",VLOOKUP(R15696,'Main page'!$E$29:'Main page'!$G$41,3,TRUE))","v":" "}]
[null,null,null,null,null,null,null,null,null,null,null,null," "," "," "," ",{"$f":"IF(I15712=\"\",\"\",IF(I15712<='Main page'!$F$49,\"Core staff\",\"Senior staff\"))","v":""},{"$f":"IF(D15712=\"\",\" \",'Main page'!$F$21-(D15712))","v":" "},{"$f":"IF(D15712=\"\",\" \",VLOOKUP(R15712,'Main page'!$E$29:'Main page'!$G$41,3,TRUE))","v":" "}]
[null,null,null,null,null,null,null,null,null,null,null,null," "," "," "," ",{"$f":"IF(I15713=\"\",\"\",IF(I15713<='Main page'!$F$49,\"Core staff\",\"Senior staff\"))","v":""},{"$f":"IF(D15713=\"\",\" \",'Main page'!$F$21-(D15713))","v":" "},{"$f":"IF(D15713=\"\",\" \",VLOOKUP(R15713,'Main page'!$E$29:'Main page'!$G$41,3,TRUE))","v":" "}]
[null,null,null,null,null,null,null,null,null,null,null,null," "," "," "," ",{"$f":"IF(I15726=\"\",\"\",IF(I15726<='Main page'!$F$49,\"Core staff\",\"Senior staff\"))","v":""},{"$f":"IF(D15726=\"\",\" \",'Main page'!$F$21-(D15726))","v":" "},{"$f":"IF(D15726=\"\",\" \",VLOOKUP(R15726,'Main page'!$E$29:'Main page'!$G$41,3,TRUE))","v":" "}]
[null,null,null,null,null,null,null,null,null,null,null,null," "," "," "," ",{"$f":"IF(I15733=\"\",\"\",IF(I15733<='Main page'!$F$49,\"Core staff\",\"Senior staff\"))","v":""},{"$f":"IF(D15733=\"\",\" \",'Main page'!$F$21-(D15733))","v":" "},{"$f":"IF(D15733=\"\",\" \",VLOOKUP(R15733,'Main page'!$E$29:'Main page'!$G$41,3,TRUE))","v":" "}]
[null,null,null,null,null,null,null,null,null,null,null,null," "," "," "," ",{"$f":"IF(I15745=\"\",\"\",IF(I15745<='Main page'!$F$49,\"Core staff\",\"Senior staff\"))","v":""},{"$f":"IF(D15745=\"\",\" \",'Main page'!$F$21-(D15745))","v":" "},{"$f":"IF(D15745=\"\",\" \",VLOOKUP(R15745,'Main page'!$E$29:'Main page'!$G$41,3,TRUE))","v":" "}]
[null,null,null,null,null,null,null,null,null,null,null,null," "," "," "," ",{"$f":"IF(I15752=\"\",\"\",IF(I15752<='Main page'!$F$49,\"Core staff\",\"Senior staff\"))","v":""},{"$f":"IF(D15752=\"\",\" \",'Main page'!$F$21-(D15752))","v":" "},{"$f":"IF(D15752=\"\",\" \",VLOOKUP(R15752,'Main page'!$E$29:'Main page'!$G$41,3,TRUE))","v":" "}]
[null,null,null,null,null,null,null,null,null,null,null,null," "," "," "," ",{"$f":"IF(I15763=\"\",\"\",IF(I15763<='Main page'!$F$49,\"Core staff\",\"Senior staff\"))","v":""},{"$f":"IF(D15763=\"\",\" \",'Main page'!$F$21-(D15763))","v":" "},{"$f":"IF(D15763=\"\",\" \",VLOOKUP(R15763,'Main page'!$E$29:'Main page'!$G$41,3,TRUE))","v":" "}]
[null,null,null,null,null,null,null,null,null,null,null,null," "," "," "," ",{"$f":"IF(I15766=\"\",\"\",IF(I15766<='Main page'!$F$49,\"Core staff\",\"Senior staff\"))","v":""},{"$f":"IF(D15766=\"\",\" \",'Main page'!$F$21-(D15766))","v":" "},{"$f":"IF(D15766=\"\",\" \",VLOOKUP(R15766,'Main page'!$E$29:'Main page'!$G$41,3,TRUE))","v":" "}]
[null,null,null,null,null,null,null,null,null,null,null,null," "," "," "," ",{"$f":"IF(I15782=\"\",\"\",IF(I15782<='Main page'!$F$49,\"Core staff\",\"Senior staff\"))","v":""},{"$f":"IF(D15782=\"\",\" \",'Main page'!$F$21-(D15782))","v":" "},{"$f":"IF(D15782=\"\",\" \",VLOOKUP(R15782,'Main page'!$E$29:'Main page'!$G$41,3,TRUE))","v":" "}]
[null,null,null,null,null,null,null,null,null,null,null,null," "," "," "," ",{"$f":"IF(I15783=\"\",\"\",IF(I15783<='Main page'!$F$49,\"Core staff\",\"Senior staff\"))","v":""},{"$f":"IF(D15783=\"\",\" \",'Main page'!$F$21-(D15783))","v":" "},{"$f":"IF(D15783=\"\",\" \",VLOOKUP(R15783,'Main page'!$E$29:'Main page'!$G$41,3,TRUE))","v":" "}]
[null,null,null,null,null,null,null,null,null,null,null,null," "," "," "," ",{"$f":"IF(I15796=\"\",\"\",IF(I15796<='Main page'!$F$49,\"Core staff\",\"Senior staff\"))","v":""},{"$f":"IF(D15796=\"\",\" \",'Main page'!$F$21-(D15796))","v":" "},{"$f":"IF(D15796=\"\",\" \",VLOOKUP(R15796,'Main page'!$E$29:'Main page'!$G$41,3,TRUE))","v":" "}]
[null,null,null,null,null,null,null,null,null,null,null,null," "," "," "," ",{"$f":"IF(I15803=\"\",\"\",IF(I15803<='Main page'!$F$49,\"Core staff\",\"Senior staff\"))","v":""},{"$f":"IF(D15803=\"\",\" \",'Main page'!$F$21-(D15803))","v":" "},{"$f":"IF(D15803=\"\",\" \",VLOOKUP(R15803,'Main page'!$E$29:'Main page'!$G$41,3,TRUE))","v":" "}]
[null,null,null,null,null,null,null,null,null,null,null,null," "," "," "," ",{"$f":"IF(I15815=\"\",\"\",IF(I15815<='Main page'!$F$49,\"Core staff\",\"Senior staff\"))","v":""},{"$f":"IF(D15815=\"\",\" \",'Main page'!$F$21-(D15815))","v":" "},{"$f":"IF(D15815=\"\",\" \",VLOOKUP(R15815,'Main page'!$E$29:'Main page'!$G$41,3,TRUE))","v":" "}]
[null,null,null,null,null,null,null,null,null,null,null,null," "," "," "," ",{"$f":"IF(I15822=\"\",\"\",IF(I15822<='Main page'!$F$49,\"Core staff\",\"Senior staff\"))","v":""},{"$f":"IF(D15822=\"\",\" \",'Main page'!$F$21-(D15822))","v":" "},{"$f":"IF(D15822=\"\",\" \",VLOOKUP(R15822,'Main page'!$E$29:'Main page'!$G$41,3,TRUE))","v":" "}]
[null,null,null,null,null,null,null,null,null,null,null,null,{"$f":"IFERROR(J15833/G15833,\" \")","v":" "},{"$f":"IFERROR((M15833/$U$4)/H15833,\" \")","v":" "},{"$f":"IFERROR((N15833*75)*26.083,\" \")","v":" "},{"$f":"IF(G15833=0,\" \",IF(G15833=1,\"Full time\",\"Part time\"))","v":" "},{"$f":"IF(I15833=\"\",\"\",IF(I15833<='Main page'!$F$49,\"Core staff\",\"Senior staff\"))","v":""},{"$f":"IF(D15833=\"\",\" \",'Main page'!$F$21-(D15833))","v":" "},{"$f":"IF(D15833=\"\",\" \",VLOOKUP(R15833,'Main page'!$E$29:'Main page'!$G$41,3,TRUE))","v":" "}]
[null,null,null,null,null,null,null,null,null,null,null,null," "," "," "," ",{"$f":"IF(I15836=\"\",\"\",IF(I15836<='Main page'!$F$49,\"Core staff\",\"Senior staff\"))","v":""},{"$f":"IF(D15836=\"\",\" \",'Main page'!$F$21-(D15836))","v":" "},{"$f":"IF(D15836=\"\",\" \",VLOOKUP(R15836,'Main page'!$E$29:'Main page'!$G$41,3,TRUE))","v":" "}]
[null,null,null,null,null,null,null,null,null,null,null,null," "," "," "," ",{"$f":"IF(I15852=\"\",\"\",IF(I15852<='Main page'!$F$49,\"Core staff\",\"Senior staff\"))","v":""},{"$f":"IF(D15852=\"\",\" \",'Main page'!$F$21-(D15852))","v":" "},{"$f":"IF(D15852=\"\",\" \",VLOOKUP(R15852,'Main page'!$E$29:'Main page'!$G$41,3,TRUE))","v":" "}]
[null,null,null,null,null,null,null,null,null,null,null,null," "," "," "," ",{"$f":"IF(I15853=\"\",\"\",IF(I15853<='Main page'!$F$49,\"Core staff\",\"Senior staff\"))","v":""},{"$f":"IF(D15853=\"\",\" \",'Main page'!$F$21-(D15853))","v":" "},{"$f":"IF(D15853=\"\",\" \",VLOOKUP(R15853,'Main page'!$E$29:'Main page'!$G$41,3,TRUE))","v":" "}]
[null,null,null,null,null,null,null,null,null,null,null,null," "," "," "," ",{"$f":"IF(I15861=\"\",\"\",IF(I15861<='Main page'!$F$49,\"Core staff\",\"Senior staff\"))","v":""},{"$f":"IF(D15861=\"\",\" \",'Main page'!$F$21-(D15861))","v":" "},{"$f":"IF(D15861=\"\",\" \",VLOOKUP(R15861,'Main page'!$E$29:'Main page'!$G$41,3,TRUE))","v":" "}]
[null,null,null,null,null,null,null,null,null,null,null,null," "," "," "," ",{"$f":"IF(I15873=\"\",\"\",IF(I15873<='Main page'!$F$49,\"Core staff\",\"Senior staff\"))","v":""},{"$f":"IF(D15873=\"\",\" \",'Main page'!$F$21-(D15873))","v":" "},{"$f":"IF(D15873=\"\",\" \",VLOOKUP(R15873,'Main page'!$E$29:'Main page'!$G$41,3,TRUE))","v":" "}]
[null,null,null,null,null,null,null,null,null,null,null,null," "," "," "," ",{"$f":"IF(I15885=\"\",\"\",IF(I15885<='Main page'!$F$49,\"Core staff\",\"Senior staff\"))","v":""},{"$f":"IF(D15885=\"\",\" \",'Main page'!$F$21-(D15885))","v":" "},{"$f":"IF(D15885=\"\",\" \",VLOOKUP(R15885,'Main page'!$E$29:'Main page'!$G$41,3,TRUE))","v":" "}]
[null,null,null,null,null,null,null,null,null,null,null,null," "," "," "," ",{"$f":"IF(I15892=\"\",\"\",IF(I15892<='Main page'!$F$49,\"Core staff\",\"Senior staff\"))","v":""},{"$f":"IF(D15892=\"\",\" \",'Main page'!$F$21-(D15892))","v":" "},{"$f":"IF(D15892=\"\",\" \",VLOOKUP(R15892,'Main page'!$E$29:'Main page'!$G$41,3,TRUE))","v":" "}]
[null,null,null,null,null,null,null,null,null,null,null,null," "," "," "," ",{"$f":"IF(I15903=\"\",\"\",IF(I15903<='Main page'!$F$49,\"Core staff\",\"Senior staff\"))","v":""},{"$f":"IF(D15903=\"\",\" \",'Main page'!$F$21-(D15903))","v":" "},{"$f":"IF(D15903=\"\",\" \",VLOOKUP(R15903,'Main page'!$E$29:'Main page'!$G$41,3,TRUE))","v":" "}]
[null,null,null,null,null,null,null,null,null,null,null,null," "," "," "," ",{"$f":"IF(I15906=\"\",\"\",IF(I15906<='Main page'!$F$49,\"Core staff\",\"Senior staff\"))","v":""},{"$f":"IF(D15906=\"\",\" \",'Main page'!$F$21-(D15906))","v":" "},{"$f":"IF(D15906=\"\",\" \",VLOOKUP(R15906,'Main page'!$E$29:'Main page'!$G$41,3,TRUE))","v":" "}]
[null,null,null,null,null,null,null,null,null,null,null,null," "," "," "," ",{"$f":"IF(I15922=\"\",\"\",IF(I15922<='Main page'!$F$49,\"Core staff\",\"Senior staff\"))","v":""},{"$f":"IF(D15922=\"\",\" \",'Main page'!$F$21-(D15922))","v":" "},{"$f":"IF(D15922=\"\",\" \",VLOOKUP(R15922,'Main page'!$E$29:'Main page'!$G$41,3,TRUE))","v":" "}]
[null,null,null,null,null,null,null,null,null,null,null,null," "," "," "," ",{"$f":"IF(I15923=\"\",\"\",IF(I15923<='Main page'!$F$49,\"Core staff\",\"Senior staff\"))","v":""},{"$f":"IF(D15923=\"\",\" \",'Main page'!$F$21-(D15923))","v":" "},{"$f":"IF(D15923=\"\",\" \",VLOOKUP(R15923,'Main page'!$E$29:'Main page'!$G$41,3,TRUE))","v":" "}]
[null,null,null,null,null,null,null,null,null,null,null,null," "," "," "," ",{"$f":"IF(I15931=\"\",\"\",IF(I15931<='Main page'!$F$49,\"Core staff\",\"Senior staff\"))","v":""},{"$f":"IF(D15931=\"\",\" \",'Main page'!$F$21-(D15931))","v":" "},{"$f":"IF(D15931=\"\",\" \",VLOOKUP(R15931,'Main page'!$E$29:'Main page'!$G$41,3,TRUE))","v":" "}]
[null,null,null,null,null,null,null,null,null,null,null,null," "," "," "," ",{"$f":"IF(I15943=\"\",\"\",IF(I15943<='Main page'!$F$49,\"Core staff\",\"Senior staff\"))","v":""},{"$f":"IF(D15943=\"\",\" \",'Main page'!$F$21-(D15943))","v":" "},{"$f":"IF(D15943=\"\",\" \",VLOOKUP(R15943,'Main page'!$E$29:'Main page'!$G$41,3,TRUE))","v":" "}]
[null,null,null,null,null,null,null,null,null,null,null,null," "," "," "," ",{"$f":"IF(I15955=\"\",\"\",IF(I15955<='Main page'!$F$49,\"Core staff\",\"Senior staff\"))","v":""},{"$f":"IF(D15955=\"\",\" \",'Main page'!$F$21-(D15955))","v":" "},{"$f":"IF(D15955=\"\",\" \",VLOOKUP(R15955,'Main page'!$E$29:'Main page'!$G$41,3,TRUE))","v":" "}]
[null,null,null,null,null,null,null,null,null,null,null,null," "," "," "," ",{"$f":"IF(I15962=\"\",\"\",IF(I15962<='Main page'!$F$49,\"Core staff\",\"Senior staff\"))","v":""},{"$f":"IF(D15962=\"\",\" \",'Main page'!$F$21-(D15962))","v":" "},{"$f":"IF(D15962=\"\",\" \",VLOOKUP(R15962,'Main page'!$E$29:'Main page'!$G$41,3,TRUE))","v":" "}]
[null,null,null,null,null,null,null,null,null,null,null,null," "," "," "," ",{"$f":"IF(I15973=\"\",\"\",IF(I15973<='Main page'!$F$49,\"Core staff\",\"Senior staff\"))","v":""},{"$f":"IF(D15973=\"\",\" \",'Main page'!$F$21-(D15973))","v":" "},{"$f":"IF(D15973=\"\",\" \",VLOOKUP(R15973,'Main page'!$E$29:'Main page'!$G$41,3,TRUE))","v":" "}]
[null,null,null,null,null,null,null,null,null,null,null,null," "," "," "," ",{"$f":"IF(I15976=\"\",\"\",IF(I15976<='Main page'!$F$49,\"Core staff\",\"Senior staff\"))","v":""},{"$f":"IF(D15976=\"\",\" \",'Main page'!$F$21-(D15976))","v":" "},{"$f":"IF(D15976=\"\",\" \",VLOOKUP(R15976,'Main page'!$E$29:'Main page'!$G$41,3,TRUE))","v":" "}]
[null,null,null,null,null,null,null,null,null,null,null,null," "," "," "," ",{"$f":"IF(I15992=\"\",\"\",IF(I15992<='Main page'!$F$49,\"Core staff\",\"Senior staff\"))","v":""},{"$f":"IF(D15992=\"\",\" \",'Main page'!$F$21-(D15992))","v":" "},{"$f":"IF(D15992=\"\",\" \",VLOOKUP(R15992,'Main page'!$E$29:'Main page'!$G$41,3,TRUE))","v":" "}]
[null,null,null,null,null,null,null,null,null,null,null,null," "," "," "," ",{"$f":"IF(I15993=\"\",\"\",IF(I15993<='Main page'!$F$49,\"Core staff\",\"Senior staff\"))","v":""},{"$f":"IF(D15993=\"\",\" \",'Main page'!$F$21-(D15993))","v":" "},{"$f":"IF(D15993=\"\",\" \",VLOOKUP(R15993,'Main page'!$E$29:'Main page'!$G$41,3,TRUE))","v":" "}]
[null,null,null,null,null,null,null,null,null,null,null,null," "," "," "," ",{"$f":"IF(I16001=\"\",\"\",IF(I16001<='Main page'!$F$49,\"Core staff\",\"Senior staff\"))","v":""},{"$f":"IF(D16001=\"\",\" \",'Main page'!$F$21-(D16001))","v":" "},{"$f":"IF(D16001=\"\",\" \",VLOOKUP(R16001,'Main page'!$E$29:'Main page'!$G$41,3,TRUE))","v":" "}]
[null,null,null,null,null,null,null,null,null,null,null,null," "," "," "," ",{"$f":"IF(I16013=\"\",\"\",IF(I16013<='Main page'!$F$49,\"Core staff\",\"Senior staff\"))","v":""},{"$f":"IF(D16013=\"\",\" \",'Main page'!$F$21-(D16013))","v":" "},{"$f":"IF(D16013=\"\",\" \",VLOOKUP(R16013,'Main page'!$E$29:'Main page'!$G$41,3,TRUE))","v":" "}]
[null,null,null,null,null,null,null,null,null,null,null,null,{"$f":"IFERROR(J16025/G16025,\" \")","v":" "},{"$f":"IFERROR((M16025/$U$4)/H16025,\" \")","v":" "},{"$f":"IFERROR((N16025*75)*26.083,\" \")","v":" "},{"$f":"IF(G16025=0,\" \",IF(G16025=1,\"Full time\",\"Part time\"))","v":" "},{"$f":"IF(I16025=\"\",\"\",IF(I16025<='Main page'!$F$49,\"Core staff\",\"Senior staff\"))","v":""},{"$f":"IF(D16025=\"\",\" \",'Main page'!$F$21-(D16025))","v":" "},{"$f":"IF(D16025=\"\",\" \",VLOOKUP(R16025,'Main page'!$E$29:'Main page'!$G$41,3,TRUE))","v":" "}]
[null,null,null,null,null,null,null,null,null,null,null,null," "," "," "," ",{"$f":"IF(I16032=\"\",\"\",IF(I16032<='Main page'!$F$49,\"Core staff\",\"Senior staff\"))","v":""},{"$f":"IF(D16032=\"\",\" \",'Main page'!$F$21-(D16032))","v":" "},{"$f":"IF(D16032=\"\",\" \",VLOOKUP(R16032,'Main page'!$E$29:'Main page'!$G$41,3,TRUE))","v":" "}]
[null,null,null,null,null,null,null,null,null,null,null,null," "," "," "," ",{"$f":"IF(I16043=\"\",\"\",IF(I16043<='Main page'!$F$49,\"Core staff\",\"Senior staff\"))","v":""},{"$f":"IF(D16043=\"\",\" \",'Main page'!$F$21-(D16043))","v":" "},{"$f":"IF(D16043=\"\",\" \",VLOOKUP(R16043,'Main page'!$E$29:'Main page'!$G$41,3,TRUE))","v":" "}]
[null,null,null,null,null,null,null,null,null,null,null,null," "," "," "," ",{"$f":"IF(I16050=\"\",\"\",IF(I16050<='Main page'!$F$49,\"Core staff\",\"Senior staff\"))","v":""},{"$f":"IF(D16050=\"\",\" \",'Main page'!$F$21-(D16050))","v":" "},{"$f":"IF(D16050=\"\",\" \",VLOOKUP(R16050,'Main page'!$E$29:'Main page'!$G$41,3,TRUE))","v":" "}]
[null,null,null,null,null,null,null,null,null,null,null,null," "," "," "," ",{"$f":"IF(I16062=\"\",\"\",IF(I16062<='Main page'!$F$49,\"Core staff\",\"Senior staff\"))","v":""},{"$f":"IF(D16062=\"\",\" \",'Main page'!$F$21-(D16062))","v":" "},{"$f":"IF(D16062=\"\",\" \",VLOOKUP(R16062,'Main page'!$E$29:'Main page'!$G$41,3,TRUE))","v":" "}]
[null,null,null,null,null,null,null,null,null,null,null,null," "," "," "," ",{"$f":"IF(I16063=\"\",\"\",IF(I16063<='Main page'!$F$49,\"Core staff\",\"Senior staff\"))","v":""},{"$f":"IF(D16063=\"\",\" \",'Main page'!$F$21-(D16063))","v":" "},{"$f":"IF(D16063=\"\",\" \",VLOOKUP(R16063,'Main page'!$E$29:'Main page'!$G$41,3,TRUE))","v":" "}]
[null,null,null,null,null,null,null,null,null,null,null,null," "," "," "," ",{"$f":"IF(I16071=\"\",\"\",IF(I16071<='Main page'!$F$49,\"Core staff\",\"Senior staff\"))","v":""},{"$f":"IF(D16071=\"\",\" \",'Main page'!$F$21-(D16071))","v":" "},{"$f":"IF(D16071=\"\",\" \",VLOOKUP(R16071,'Main page'!$E$29:'Main page'!$G$41,3,TRUE))","v":" "}]
[null,null,null,null,null,null,null,null,null,null,null,null," "," "," "," ",{"$f":"IF(I16083=\"\",\"\",IF(I16083<='Main page'!$F$49,\"Core staff\",\"Senior staff\"))","v":""},{"$f":"IF(D16083=\"\",\" \",'Main page'!$F$21-(D16083))","v":" "},{"$f":"IF(D16083=\"\",\" \",VLOOKUP(R16083,'Main page'!$E$29:'Main page'!$G$41,3,TRUE))","v":" "}]
[null,null,null,null,null,null,null,null,null,null,null,null," "," "," "," ",{"$f":"IF(I16095=\"\",\"\",IF(I16095<='Main page'!$F$49,\"Core staff\",\"Senior staff\"))","v":""},{"$f":"IF(D16095=\"\",\" \",'Main page'!$F$21-(D16095))","v":" "},{"$f":"IF(D16095=\"\",\" \",VLOOKUP(R16095,'Main page'!$E$29:'Main page'!$G$41,3,TRUE))","v":" "}]
[null,null,null,null,null,null,null,null,null,null,null,null," "," "," "," ",{"$f":"IF(I16102=\"\",\"\",IF(I16102<='Main page'!$F$49,\"Core staff\",\"Senior staff\"))","v":""},{"$f":"IF(D16102=\"\",\" \",'Main page'!$F$21-(D16102))","v":" "},{"$f":"IF(D16102=\"\",\" \",VLOOKUP(R16102,'Main page'!$E$29:'Main page'!$G$41,3,TRUE))","v":" "}]
[null,null,null,null,null,null,null,null,null,null,null,null," "," "," "," ",{"$f":"IF(I16113=\"\",\"\",IF(I16113<='Main page'!$F$49,\"Core staff\",\"Senior staff\"))","v":""},{"$f":"IF(D16113=\"\",\" \",'Main page'!$F$21-(D16113))","v":" "},{"$f":"IF(D16113=\"\",\" \",VLOOKUP(R16113,'Main page'!$E$29:'Main page'!$G$41,3,TRUE))","v":" "}]
[null,null,null,null,null,null,null,null,null,null,null,null," "," "," "," ",{"$f":"IF(I16120=\"\",\"\",IF(I16120<='Main page'!$F$49,\"Core staff\",\"Senior staff\"))","v":""},{"$f":"IF(D16120=\"\",\" \",'Main page'!$F$21-(D16120))","v":" "},{"$f":"IF(D16120=\"\",\" \",VLOOKUP(R16120,'Main page'!$E$29:'Main page'!$G$41,3,TRUE))","v":" "}]
[null,null,null,null,null,null,null,null,null,null,null,null," "," "," "," ",{"$f":"IF(I16132=\"\",\"\",IF(I16132<='Main page'!$F$49,\"Core staff\",\"Senior staff\"))","v":""},{"$f":"IF(D16132=\"\",\" \",'Main page'!$F$21-(D16132))","v":" "},{"$f":"IF(D16132=\"\",\" \",VLOOKUP(R16132,'Main page'!$E$29:'Main page'!$G$41,3,TRUE))","v":" "}]
[null,null,null,null,null,null,null,null,null,null,null,null," "," "," "," ",{"$f":"IF(I16133=\"\",\"\",IF(I16133<='Main page'!$F$49,\"Core staff\",\"Senior staff\"))","v":""},{"$f":"IF(D16133=\"\",\" \",'Main page'!$F$21-(D16133))","v":" "},{"$f":"IF(D16133=\"\",\" \",VLOOKUP(R16133,'Main page'!$E$29:'Main page'!$G$41,3,TRUE))","v":" "}]
[null,null,null,null,null,null,null,null,null,null,null,null," "," "," "," ",{"$f":"IF(I16141=\"\",\"\",IF(I16141<='Main page'!$F$49,\"Core staff\",\"Senior staff\"))","v":""},{"$f":"IF(D16141=\"\",\" \",'Main page'!$F$21-(D16141))","v":" "},{"$f":"IF(D16141=\"\",\" \",VLOOKUP(R16141,'Main page'!$E$29:'Main page'!$G$41,3,TRUE))","v":" "}]
[null,null,null,null,null,null,null,null,null,null,null,null,{"$f":"IFERROR(J16153/G16153,\" \")","v":" "},{"$f":"IFERROR((M16153/$U$4)/H16153,\" \")","v":" "},{"$f":"IFERROR((N16153*75)*26.083,\" \")","v":" "},{"$f":"IF(G16153=0,\" \",IF(G16153=1,\"Full time\",\"Part time\"))","v":" "},{"$f":"IF(I16153=\"\",\"\",IF(I16153<='Main page'!$F$49,\"Core staff\",\"Senior staff\"))","v":""},{"$f":"IF(D16153=\"\",\" \",'Main page'!$F$21-(D16153))","v":" "},{"$f":"IF(D16153=\"\",\" \",VLOOKUP(R16153,'Main page'!$E$29:'Main page'!$G$41,3,TRUE))","v":" "}]
[null,null,null,null,null,null,null,null,null,null,null,null," "," "," "," ",{"$f":"IF(I16160=\"\",\"\",IF(I16160<='Main page'!$F$49,\"Core staff\",\"Senior staff\"))","v":""},{"$f":"IF(D16160=\"\",\" \",'Main page'!$F$21-(D16160))","v":" "},{"$f":"IF(D16160=\"\",\" \",VLOOKUP(R16160,'Main page'!$E$29:'Main page'!$G$41,3,TRUE))","v":" "}]
[null,null,null,null,null,null,null,null,null,null,null,null," "," "," "," ",{"$f":"IF(I16172=\"\",\"\",IF(I16172<='Main page'!$F$49,\"Core staff\",\"Senior staff\"))","v":""},{"$f":"IF(D16172=\"\",\" \",'Main page'!$F$21-(D16172))","v":" "},{"$f":"IF(D16172=\"\",\" \",VLOOKUP(R16172,'Main page'!$E$29:'Main page'!$G$41,3,TRUE))","v":" "}]
[null,null,null,null,null,null,null,null,null,null,null,null," "," "," "," ",{"$f":"IF(I16183=\"\",\"\",IF(I16183<='Main page'!$F$49,\"Core staff\",\"Senior staff\"))","v":""},{"$f":"IF(D16183=\"\",\" \",'Main page'!$F$21-(D16183))","v":" "},{"$f":"IF(D16183=\"\",\" \",VLOOKUP(R16183,'Main page'!$E$29:'Main page'!$G$41,3,TRUE))","v":" "}]
[null,null,null,null,null,null,null,null,null,null,null,null," "," "," "," ",{"$f":"IF(I16190=\"\",\"\",IF(I16190<='Main page'!$F$49,\"Core staff\",\"Senior staff\"))","v":""},{"$f":"IF(D16190=\"\",\" \",'Main page'!$F$21-(D16190))","v":" "},{"$f":"IF(D16190=\"\",\" \",VLOOKUP(R16190,'Main page'!$E$29:'Main page'!$G$41,3,TRUE))","v":" "}]
[null,null,null,null,null,null,null,null,null,null,null,null," "," "," "," ",{"$f":"IF(I16202=\"\",\"\",IF(I16202<='Main page'!$F$49,\"Core staff\",\"Senior staff\"))","v":""},{"$f":"IF(D16202=\"\",\" \",'Main page'!$F$21-(D16202))","v":" "},{"$f":"IF(D16202=\"\",\" \",VLOOKUP(R16202,'Main page'!$E$29:'Main page'!$G$41,3,TRUE))","v":" "}]
[null,null,null,null,null,null,null,null,null,null,null,null," "," "," "," ",{"$f":"IF(I16203=\"\",\"\",IF(I16203<='Main page'!$F$49,\"Core staff\",\"Senior staff\"))","v":""},{"$f":"IF(D16203=\"\",\" \",'Main page'!$F$21-(D16203))","v":" "},{"$f":"IF(D16203=\"\",\" \",VLOOKUP(R16203,'Main page'!$E$29:'Main page'!$G$41,3,TRUE))","v":" "}]
[null,null,null,null,null,null,null,null,null,null,null,null," "," "," "," ",{"$f":"IF(I16211=\"\",\"\",IF(I16211<='Main page'!$F$49,\"Core staff\",\"Senior staff\"))","v":""},{"$f":"IF(D16211=\"\",\" \",'Main page'!$F$21-(D16211))","v":" "},{"$f":"IF(D16211=\"\",\" \",VLOOKUP(R16211,'Main page'!$E$29:'Main page'!$G$41,3,TRUE))","v":" "}]
[null,null,null,null,null,null,null,null,null,null,null,null," "," "," "," ",{"$f":"IF(I16223=\"\",\"\",IF(I16223<='Main page'!$F$49,\"Core staff\",\"Senior staff\"))","v":""},{"$f":"IF(D16223=\"\",\" \",'Main page'!$F$21-(D16223))","v":" "},{"$f":"IF(D16223=\"\",\" \",VLOOKUP(R16223,'Main page'!$E$29:'Main page'!$G$41,3,TRUE))","v":" "}]
[null,null,null,null,null,null,null,null,null,null,null,null," "," "," "," ",{"$f":"IF(I16230=\"\",\"\",IF(I16230<='Main page'!$F$49,\"Core staff\",\"Senior staff\"))","v":""},{"$f":"IF(D16230=\"\",\" \",'Main page'!$F$21-(D16230))","v":" "},{"$f":"IF(D16230=\"\",\" \",VLOOKUP(R16230,'Main page'!$E$29:'Main page'!$G$41,3,TRUE))","v":" "}]
[null,null,null,null,null,null,null,null,null,null,null,null," "," "," "," ",{"$f":"IF(I16242=\"\",\"\",IF(I16242<='Main page'!$F$49,\"Core staff\",\"Senior staff\"))","v":""},{"$f":"IF(D16242=\"\",\" \",'Main page'!$F$21-(D16242))","v":" "},{"$f":"IF(D16242=\"\",\" \",VLOOKUP(R16242,'Main page'!$E$29:'Main page'!$G$41,3,TRUE))","v":" "}]
[null,null,null,null,null,null,null,null,null,null,null,null," "," "," "," ",{"$f":"IF(I16253=\"\",\"\",IF(I16253<='Main page'!$F$49,\"Core staff\",\"Senior staff\"))","v":""},{"$f":"IF(D16253=\"\",\" \",'Main page'!$F$21-(D16253))","v":" "},{"$f":"IF(D16253=\"\",\" \",VLOOKUP(R16253,'Main page'!$E$29:'Main page'!$G$41,3,TRUE))","v":" "}]
[null,null,null,null,null,null,null,null,null,null,null,null," "," "," "," ",{"$f":"IF(I16260=\"\",\"\",IF(I16260<='Main page'!$F$49,\"Core staff\",\"Senior staff\"))","v":""},{"$f":"IF(D16260=\"\",\" \",'Main page'!$F$21-(D16260))","v":" "},{"$f":"IF(D16260=\"\",\" \",VLOOKUP(R16260,'Main page'!$E$29:'Main page'!$G$41,3,TRUE))","v":" "}]
[null,null,null,null,null,null,null,null,null,null,null,null," "," "," "," ",{"$f":"IF(I16272=\"\",\"\",IF(I16272<='Main page'!$F$49,\"Core staff\",\"Senior staff\"))","v":""},{"$f":"IF(D16272=\"\",\" \",'Main page'!$F$21-(D16272))","v":" "},{"$f":"IF(D16272=\"\",\" \",VLOOKUP(R16272,'Main page'!$E$29:'Main page'!$G$41,3,TRUE))","v":" "}]
[null,null,null,null,null,null,null,null,null,null,null,null," "," "," "," ",{"$f":"IF(I16273=\"\",\"\",IF(I16273<='Main page'!$F$49,\"Core staff\",\"Senior staff\"))","v":""},{"$f":"IF(D16273=\"\",\" \",'Main page'!$F$21-(D16273))","v":" "},{"$f":"IF(D16273=\"\",\" \",VLOOKUP(R16273,'Main page'!$E$29:'Main page'!$G$41,3,TRUE))","v":" "}]
[null,null,null,null,null,null,null,null,null,null,null,null,{"$f":"IFERROR(J16281/G16281,\" \")","v":" "},{"$f":"IFERROR((M16281/$U$4)/H16281,\" \")","v":" "},{"$f":"IFERROR((N16281*75)*26.083,\" \")","v":" "},{"$f":"IF(G16281=0,\" \",IF(G16281=1,\"Full time\",\"Part time\"))","v":" "},{"$f":"IF(I16281=\"\",\"\",IF(I16281<='Main page'!$F$49,\"Core staff\",\"Senior staff\"))","v":""},{"$f":"IF(D16281=\"\",\" \",'Main page'!$F$21-(D16281))","v":" "},{"$f":"IF(D16281=\"\",\" \",VLOOKUP(R16281,'Main page'!$E$29:'Main page'!$G$41,3,TRUE))","v":" "}]
[null,null,null,null,null,null,null,null,null,null,null,null," "," "," "," ",{"$f":"IF(I16293=\"\",\"\",IF(I16293<='Main page'!$F$49,\"Core staff\",\"Senior staff\"))","v":""},{"$f":"IF(D16293=\"\",\" \",'Main page'!$F$21-(D16293))","v":" "},{"$f":"IF(D16293=\"\",\" \",VLOOKUP(R16293,'Main page'!$E$29:'Main page'!$G$41,3,TRUE))","v":" "}]
[null,null,null,null,null,null,null,null,null,null,null,null," "," "," "," ",{"$f":"IF(I16300=\"\",\"\",IF(I16300<='Main page'!$F$49,\"Core staff\",\"Senior staff\"))","v":""},{"$f":"IF(D16300=\"\",\" \",'Main page'!$F$21-(D16300))","v":" "},{"$f":"IF(D16300=\"\",\" \",VLOOKUP(R16300,'Main page'!$E$29:'Main page'!$G$41,3,TRUE))","v":" "}]
[null,null,null,null,null,null,null,null,null,null,null,null," "," "," "," ",{"$f":"IF(I16312=\"\",\"\",IF(I16312<='Main page'!$F$49,\"Core staff\",\"Senior staff\"))","v":""},{"$f":"IF(D16312=\"\",\" \",'Main page'!$F$21-(D16312))","v":" "},{"$f":"IF(D16312=\"\",\" \",VLOOKUP(R16312,'Main page'!$E$29:'Main page'!$G$41,3,TRUE))","v":" "}]
[null,null,null,null,null,null,null,null,null,null,null,null," "," "," "," ",{"$f":"IF(I16323=\"\",\"\",IF(I16323<='Main page'!$F$49,\"Core staff\",\"Senior staff\"))","v":""},{"$f":"IF(D16323=\"\",\" \",'Main page'!$F$21-(D16323))","v":" "},{"$f":"IF(D16323=\"\",\" \",VLOOKUP(R16323,'Main page'!$E$29:'Main page'!$G$41,3,TRUE))","v":" "}]
[null,null,null,null,null,null,null,null,null,null,null,null," "," "," "," ",{"$f":"IF(I16330=\"\",\"\",IF(I16330<='Main page'!$F$49,\"Core staff\",\"Senior staff\"))","v":""},{"$f":"IF(D16330=\"\",\" \",'Main page'!$F$21-(D16330))","v":" "},{"$f":"IF(D16330=\"\",\" \",VLOOKUP(R16330,'Main page'!$E$29:'Main page'!$G$41,3,TRUE))","v":" "}]
[null,null,null,null,null,null,null,null,null,null,null,null," "," "," "," ",{"$f":"IF(I16342=\"\",\"\",IF(I16342<='Main page'!$F$49,\"Core staff\",\"Senior staff\"))","v":""},{"$f":"IF(D16342=\"\",\" \",'Main page'!$F$21-(D16342))","v":" "},{"$f":"IF(D16342=\"\",\" \",VLOOKUP(R16342,'Main page'!$E$29:'Main page'!$G$41,3,TRUE))","v":" "}]
[null,null,null,null,null,null,null,null,null,null,null,null," "," "," "," ",{"$f":"IF(I16343=\"\",\"\",IF(I16343<='Main page'!$F$49,\"Core staff\",\"Senior staff\"))","v":""},{"$f":"IF(D16343=\"\",\" \",'Main page'!$F$21-(D16343))","v":" "},{"$f":"IF(D16343=\"\",\" \",VLOOKUP(R16343,'Main page'!$E$29:'Main page'!$G$41,3,TRUE))","v":" "}]
[null,null,null,null,null,null,null,null,null,null,null,null," "," "," "," ",{"$f":"IF(I16351=\"\",\"\",IF(I16351<='Main page'!$F$49,\"Core staff\",\"Senior staff\"))","v":""},{"$f":"IF(D16351=\"\",\" \",'Main page'!$F$21-(D16351))","v":" "},{"$f":"IF(D16351=\"\",\" \",VLOOKUP(R16351,'Main page'!$E$29:'Main page'!$G$41,3,TRUE))","v":" "}]
[null,null,null,null,null,null,null,null,null,null,null,null," "," "," "," ",{"$f":"IF(I16363=\"\",\"\",IF(I16363<='Main page'!$F$49,\"Core staff\",\"Senior staff\"))","v":""},{"$f":"IF(D16363=\"\",\" \",'Main page'!$F$21-(D16363))","v":" "},{"$f":"IF(D16363=\"\",\" \",VLOOKUP(R16363,'Main page'!$E$29:'Main page'!$G$41,3,TRUE))","v":" "}]
[null,null,null,null,null,null,null,null,null,null,null,null," "," "," "," ",{"$f":"IF(I16370=\"\",\"\",IF(I16370<='Main page'!$F$49,\"Core staff\",\"Senior staff\"))","v":""},{"$f":"IF(D16370=\"\",\" \",'Main page'!$F$21-(D16370))","v":" "},{"$f":"IF(D16370=\"\",\" \",VLOOKUP(R16370,'Main page'!$E$29:'Main page'!$G$41,3,TRUE))","v":" "}]
[null,null,null,null,null,null,null,null,null,null,null,null," "," "," "," ",{"$f":"IF(I16382=\"\",\"\",IF(I16382<='Main page'!$F$49,\"Core staff\",\"Senior staff\"))","v":""},{"$f":"IF(D16382=\"\",\" \",'Main page'!$F$21-(D16382))","v":" "},{"$f":"IF(D16382=\"\",\" \",VLOOKUP(R16382,'Main page'!$E$29:'Main page'!$G$41,3,TRUE))","v":" "}]
[null,null,null,null,null,null,null,null,null,null,null,null," "," "," "," ",{"$f":"IF(I16393=\"\",\"\",IF(I16393<='Main page'!$F$49,\"Core staff\",\"Senior staff\"))","v":""},{"$f":"IF(D16393=\"\",\" \",'Main page'!$F$21-(D16393))","v":" "},{"$f":"IF(D16393=\"\",\" \",VLOOKUP(R16393,'Main page'!$E$29:'Main page'!$G$41,3,TRUE))","v":" "}]
[null,null,null,null,null,null,null,null,null,null,null,null," "," "," "," ",{"$f":"IF(I16400=\"\",\"\",IF(I16400<='Main page'!$F$49,\"Core staff\",\"Senior staff\"))","v":""},{"$f":"IF(D16400=\"\",\" \",'Main page'!$F$21-(D16400))","v":" "},{"$f":"IF(D16400=\"\",\" \",VLOOKUP(R16400,'Main page'!$E$29:'Main page'!$G$41,3,TRUE))","v":" "}]
[null,null,null,null,null,null,null,null,null,null,null,null," "," "," "," ",{"$f":"IF(I16412=\"\",\"\",IF(I16412<='Main page'!$F$49,\"Core staff\",\"Senior staff\"))","v":""},{"$f":"IF(D16412=\"\",\" \",'Main page'!$F$21-(D16412))","v":" "},{"$f":"IF(D16412=\"\",\" \",VLOOKUP(R16412,'Main page'!$E$29:'Main page'!$G$41,3,TRUE))","v":" "}]
[null,null,null,null,null,null,null,null,null,null,null,null," "," "," "," ",{"$f":"IF(I16413=\"\",\"\",IF(I16413<='Main page'!$F$49,\"Core staff\",\"Senior staff\"))","v":""},{"$f":"IF(D16413=\"\",\" \",'Main page'!$F$21-(D16413))","v":" "},{"$f":"IF(D16413=\"\",\" \",VLOOKUP(R16413,'Main page'!$E$29:'Main page'!$G$41,3,TRUE))","v":" "}]
[null,null,null,null,null,null,null,null,null,null,null,null," "," "," "," ",{"$f":"IF(I16421=\"\",\"\",IF(I16421<='Main page'!$F$49,\"Core staff\",\"Senior staff\"))","v":""},{"$f":"IF(D16421=\"\",\" \",'Main page'!$F$21-(D16421))","v":" "},{"$f":"IF(D16421=\"\",\" \",VLOOKUP(R16421,'Main page'!$E$29:'Main page'!$G$41,3,TRUE))","v":" "}]
[null,null,null,null,null,null,null,null,null,null,null,null," "," "," "," ",{"$f":"IF(I16433=\"\",\"\",IF(I16433<='Main page'!$F$49,\"Core staff\",\"Senior staff\"))","v":""},{"$f":"IF(D16433=\"\",\" \",'Main page'!$F$21-(D16433))","v":" "},{"$f":"IF(D16433=\"\",\" \",VLOOKUP(R16433,'Main page'!$E$29:'Main page'!$G$41,3,TRUE))","v":" "}]
[null,null,null,null,null,null,null,null,null,null,null,null," "," "," "," ",{"$f":"IF(I16440=\"\",\"\",IF(I16440<='Main page'!$F$49,\"Core staff\",\"Senior staff\"))","v":""},{"$f":"IF(D16440=\"\",\" \",'Main page'!$F$21-(D16440))","v":" "},{"$f":"IF(D16440=\"\",\" \",VLOOKUP(R16440,'Main page'!$E$29:'Main page'!$G$41,3,TRUE))","v":" "}]
[null,null,null,null,null,null,null,null,null,null,null,null," "," "," "," ",{"$f":"IF(I16452=\"\",\"\",IF(I16452<='Main page'!$F$49,\"Core staff\",\"Senior staff\"))","v":""},{"$f":"IF(D16452=\"\",\" \",'Main page'!$F$21-(D16452))","v":" "},{"$f":"IF(D16452=\"\",\" \",VLOOKUP(R16452,'Main page'!$E$29:'Main page'!$G$41,3,TRUE))","v":" "}]
[null,null,null,null,null,null,null,null,null,null,null,null," "," "," "," ",{"$f":"IF(I16458=\"\",\"\",IF(I16458<='Main page'!$F$49,\"Core staff\",\"Senior staff\"))","v":""},{"$f":"IF(D16458=\"\",\" \",'Main page'!$F$21-(D16458))","v":" "},{"$f":"IF(D16458=\"\",\" \",VLOOKUP(R16458,'Main page'!$E$29:'Main page'!$G$41,3,TRUE))","v":" "}]
[null,null,null,null,null,null,null,null,null,null,null,null," "," "," "," ",{"$f":"IF(I16470=\"\",\"\",IF(I16470<='Main page'!$F$49,\"Core staff\",\"Senior staff\"))","v":""},{"$f":"IF(D16470=\"\",\" \",'Main page'!$F$21-(D16470))","v":" "},{"$f":"IF(D16470=\"\",\" \",VLOOKUP(R16470,'Main page'!$E$29:'Main page'!$G$41,3,TRUE))","v":" "}]
[null,null,null,null,null,null,null,null,null,null,null,null," "," "," "," ",{"$f":"IF(I16482=\"\",\"\",IF(I16482<='Main page'!$F$49,\"Core staff\",\"Senior staff\"))","v":""},{"$f":"IF(D16482=\"\",\" \",'Main page'!$F$21-(D16482))","v":" "},{"$f":"IF(D16482=\"\",\" \",VLOOKUP(R16482,'Main page'!$E$29:'Main page'!$G$41,3,TRUE))","v":" "}]
[null,null,null,null,null,null,null,null,null,null,null,null," "," "," "," ",{"$f":"IF(I16483=\"\",\"\",IF(I16483<='Main page'!$F$49,\"Core staff\",\"Senior staff\"))","v":""},{"$f":"IF(D16483=\"\",\" \",'Main page'!$F$21-(D16483))","v":" "},{"$f":"IF(D16483=\"\",\" \",VLOOKUP(R16483,'Main page'!$E$29:'Main page'!$G$41,3,TRUE))","v":" "}]
[null,null,null,null,null,null,null,null,null,null,null,null," "," "," "," ",{"$f":"IF(I16491=\"\",\"\",IF(I16491<='Main page'!$F$49,\"Core staff\",\"Senior staff\"))","v":""},{"$f":"IF(D16491=\"\",\" \",'Main page'!$F$21-(D16491))","v":" "},{"$f":"IF(D16491=\"\",\" \",VLOOKUP(R16491,'Main page'!$E$29:'Main page'!$G$41,3,TRUE))","v":" "}]
[null,null,null,null,null,null,null,null,null,null,null,null," "," "," "," ",{"$f":"IF(I16503=\"\",\"\",IF(I16503<='Main page'!$F$49,\"Core staff\",\"Senior staff\"))","v":""},{"$f":"IF(D16503=\"\",\" \",'Main page'!$F$21-(D16503))","v":" "},{"$f":"IF(D16503=\"\",\" \",VLOOKUP(R16503,'Main page'!$E$29:'Main page'!$G$41,3,TRUE))","v":" "}]
[null,null,null,null,null,null,null,null,null,null,null,null," "," "," "," ",{"$f":"IF(I16510=\"\",\"\",IF(I16510<='Main page'!$F$49,\"Core staff\",\"Senior staff\"))","v":""},{"$f":"IF(D16510=\"\",\" \",'Main page'!$F$21-(D16510))","v":" "},{"$f":"IF(D16510=\"\",\" \",VLOOKUP(R16510,'Main page'!$E$29:'Main page'!$G$41,3,TRUE))","v":" "}]
[null,null,null,null,null,null,null,null,null,null,null,null," "," "," "," ",{"$f":"IF(I16522=\"\",\"\",IF(I16522<='Main page'!$F$49,\"Core staff\",\"Senior staff\"))","v":""},{"$f":"IF(D16522=\"\",\" \",'Main page'!$F$21-(D16522))","v":" "},{"$f":"IF(D16522=\"\",\" \",VLOOKUP(R16522,'Main page'!$E$29:'Main page'!$G$41,3,TRUE))","v":" "}]
[null,null,null,null,null,null,null,null,null,null,null,null," "," "," "," ",{"$f":"IF(I16528=\"\",\"\",IF(I16528<='Main page'!$F$49,\"Core staff\",\"Senior staff\"))","v":""},{"$f":"IF(D16528=\"\",\" \",'Main page'!$F$21-(D16528))","v":" "},{"$f":"IF(D16528=\"\",\" \",VLOOKUP(R16528,'Main page'!$E$29:'Main page'!$G$41,3,TRUE))","v":" "}]
[null,null,null,null,null,null,null,null,null,null,null,null," "," "," "," ",{"$f":"IF(I16540=\"\",\"\",IF(I16540<='Main page'!$F$49,\"Core staff\",\"Senior staff\"))","v":""},{"$f":"IF(D16540=\"\",\" \",'Main page'!$F$21-(D16540))","v":" "},{"$f":"IF(D16540=\"\",\" \",VLOOKUP(R16540,'Main page'!$E$29:'Main page'!$G$41,3,TRUE))","v":" "}]
[null,null,null,null,null,null,null,null,null,null,null,null," "," "," "," ",{"$f":"IF(I16552=\"\",\"\",IF(I16552<='Main page'!$F$49,\"Core staff\",\"Senior staff\"))","v":""},{"$f":"IF(D16552=\"\",\" \",'Main page'!$F$21-(D16552))","v":" "},{"$f":"IF(D16552=\"\",\" \",VLOOKUP(R16552,'Main page'!$E$29:'Main page'!$G$41,3,TRUE))","v":" "}]
[null,null,null,null,null,null,null,null,null,null,null,null," "," "," "," ",{"$f":"IF(I16553=\"\",\"\",IF(I16553<='Main page'!$F$49,\"Core staff\",\"Senior staff\"))","v":""},{"$f":"IF(D16553=\"\",\" \",'Main page'!$F$21-(D16553))","v":" "},{"$f":"IF(D16553=\"\",\" \",VLOOKUP(R16553,'Main page'!$E$29:'Main page'!$G$41,3,TRUE))","v":" "}]
[null,null,null,null,null,null,null,null,null,null,null,null," "," "," "," ",{"$f":"IF(I16561=\"\",\"\",IF(I16561<='Main page'!$F$49,\"Core staff\",\"Senior staff\"))","v":""},{"$f":"IF(D16561=\"\",\" \",'Main page'!$F$21-(D16561))","v":" "},{"$f":"IF(D16561=\"\",\" \",VLOOKUP(R16561,'Main page'!$E$29:'Main page'!$G$41,3,TRUE))","v":" "}]
[null,null,null,null,null,null,null,null,null,null,null,null," "," "," "," ",{"$f":"IF(I16573=\"\",\"\",IF(I16573<='Main page'!$F$49,\"Core staff\",\"Senior staff\"))","v":""},{"$f":"IF(D16573=\"\",\" \",'Main page'!$F$21-(D16573))","v":" "},{"$f":"IF(D16573=\"\",\" \",VLOOKUP(R16573,'Main page'!$E$29:'Main page'!$G$41,3,TRUE))","v":" "}]
[null,null,null,null,null,null,null,null,null,null,null,null," "," "," "," ",{"$f":"IF(I16580=\"\",\"\",IF(I16580<='Main page'!$F$49,\"Core staff\",\"Senior staff\"))","v":""},{"$f":"IF(D16580=\"\",\" \",'Main page'!$F$21-(D16580))","v":" "},{"$f":"IF(D16580=\"\",\" \",VLOOKUP(R16580,'Main page'!$E$29:'Main page'!$G$41,3,TRUE))","v":" "}]
[null,null,null,null,null,null,null,null,null,null,null,null," "," "," "," ",{"$f":"IF(I16592=\"\",\"\",IF(I16592<='Main page'!$F$49,\"Core staff\",\"Senior staff\"))","v":""},{"$f":"IF(D16592=\"\",\" \",'Main page'!$F$21-(D16592))","v":" "},{"$f":"IF(D16592=\"\",\" \",VLOOKUP(R16592,'Main page'!$E$29:'Main page'!$G$41,3,TRUE))","v":" "}]
[null,null,null,null,null,null,null,null,null,null,null,null," "," "," "," ",{"$f":"IF(I16598=\"\",\"\",IF(I16598<='Main page'!$F$49,\"Core staff\",\"Senior staff\"))","v":""},{"$f":"IF(D16598=\"\",\" \",'Main page'!$F$21-(D16598))","v":" "},{"$f":"IF(D16598=\"\",\" \",VLOOKUP(R16598,'Main page'!$E$29:'Main page'!$G$41,3,TRUE))","v":" "}]
[null,null,null,null,null,null,null,null,null,null,null,null," "," "," "," ",{"$f":"IF(I16610=\"\",\"\",IF(I16610<='Main page'!$F$49,\"Core staff\",\"Senior staff\"))","v":""},{"$f":"IF(D16610=\"\",\" \",'Main page'!$F$21-(D16610))","v":" "},{"$f":"IF(D16610=\"\",\" \",VLOOKUP(R16610,'Main page'!$E$29:'Main page'!$G$41,3,TRUE))","v":" "}]
[null,null,null,null,null,null,null,null,null,null,null,null," "," "," "," ",{"$f":"IF(I16622=\"\",\"\",IF(I16622<='Main page'!$F$49,\"Core staff\",\"Senior staff\"))","v":""},{"$f":"IF(D16622=\"\",\" \",'Main page'!$F$21-(D16622))","v":" "},{"$f":"IF(D16622=\"\",\" \",VLOOKUP(R16622,'Main page'!$E$29:'Main page'!$G$41,3,TRUE))","v":" "}]
[null,null,null,null,null,null,null,null,null,null,null,null," "," "," "," ",{"$f":"IF(I16623=\"\",\"\",IF(I16623<='Main page'!$F$49,\"Core staff\",\"Senior staff\"))","v":""},{"$f":"IF(D16623=\"\",\" \",'Main page'!$F$21-(D16623))","v":" "},{"$f":"IF(D16623=\"\",\" \",VLOOKUP(R16623,'Main page'!$E$29:'Main page'!$G$41,3,TRUE))","v":" "}]
[null,null,null,null,null,null,null,null,null,null,null,null," "," "," "," ",{"$f":"IF(I16631=\"\",\"\",IF(I16631<='Main page'!$F$49,\"Core staff\",\"Senior staff\"))","v":""},{"$f":"IF(D16631=\"\",\" \",'Main page'!$F$21-(D16631))","v":" "},{"$f":"IF(D16631=\"\",\" \",VLOOKUP(R16631,'Main page'!$E$29:'Main page'!$G$41,3,TRUE))","v":" "}]
[null,null,null,null,null,null,null,null,null,null,null,null," "," "," "," ",{"$f":"IF(I16647=\"\",\"\",IF(I16647<='Main page'!$F$49,\"Core staff\",\"Senior staff\"))","v":""},{"$f":"IF(D16647=\"\",\" \",'Main page'!$F$21-(D16647))","v":" "},{"$f":"IF(D16647=\"\",\" \",VLOOKUP(R16647,'Main page'!$E$29:'Main page'!$G$41,3,TRUE))","v":" "}]
[null,null,null,null,null,null,null,null,null,null,null,null," "," "," "," ",{"$f":"IF(I16650=\"\",\"\",IF(I16650<='Main page'!$F$49,\"Core staff\",\"Senior staff\"))","v":""},{"$f":"IF(D16650=\"\",\" \",'Main page'!$F$21-(D16650))","v":" "},{"$f":"IF(D16650=\"\",\" \",VLOOKUP(R16650,'Main page'!$E$29:'Main page'!$G$41,3,TRUE))","v":" "}]
[null,null,null,null,null,null,null,null,null,null,null,null," "," "," "," ",{"$f":"IF(I16662=\"\",\"\",IF(I16662<='Main page'!$F$49,\"Core staff\",\"Senior staff\"))","v":""},{"$f":"IF(D16662=\"\",\" \",'Main page'!$F$21-(D16662))","v":" "},{"$f":"IF(D16662=\"\",\" \",VLOOKUP(R16662,'Main page'!$E$29:'Main page'!$G$41,3,TRUE))","v":" "}]
[null,null,null,null,null,null,null,null,null,null,null,null," "," "," "," ",{"$f":"IF(I16668=\"\",\"\",IF(I16668<='Main page'!$F$49,\"Core staff\",\"Senior staff\"))","v":""},{"$f":"IF(D16668=\"\",\" \",'Main page'!$F$21-(D16668))","v":" "},{"$f":"IF(D16668=\"\",\" \",VLOOKUP(R16668,'Main page'!$E$29:'Main page'!$G$41,3,TRUE))","v":" "}]
[null,null,null,null,null,null,null,null,null,null,null,null," "," "," "," ",{"$f":"IF(I16680=\"\",\"\",IF(I16680<='Main page'!$F$49,\"Core staff\",\"Senior staff\"))","v":""},{"$f":"IF(D16680=\"\",\" \",'Main page'!$F$21-(D16680))","v":" "},{"$f":"IF(D16680=\"\",\" \",VLOOKUP(R16680,'Main page'!$E$29:'Main page'!$G$41,3,TRUE))","v":" "}]
[null,null,null,null,null,null,null,null,null,null,null,null," "," "," "," ",{"$f":"IF(I16692=\"\",\"\",IF(I16692<='Main page'!$F$49,\"Core staff\",\"Senior staff\"))","v":""},{"$f":"IF(D16692=\"\",\" \",'Main page'!$F$21-(D16692))","v":" "},{"$f":"IF(D16692=\"\",\" \",VLOOKUP(R16692,'Main page'!$E$29:'Main page'!$G$41,3,TRUE))","v":" "}]
[null,null,null,null,null,null,null,null,null,null,null,null," "," "," "," ",{"$f":"IF(I16693=\"\",\"\",IF(I16693<='Main page'!$F$49,\"Core staff\",\"Senior staff\"))","v":""},{"$f":"IF(D16693=\"\",\" \",'Main page'!$F$21-(D16693))","v":" "},{"$f":"IF(D16693=\"\",\" \",VLOOKUP(R16693,'Main page'!$E$29:'Main page'!$G$41,3,TRUE))","v":" "}]
[null,null,null,null,null,null,null,null,null,null,null,null," "," "," "," ",{"$f":"IF(I16701=\"\",\"\",IF(I16701<='Main page'!$F$49,\"Core staff\",\"Senior staff\"))","v":""},{"$f":"IF(D16701=\"\",\" \",'Main page'!$F$21-(D16701))","v":" "},{"$f":"IF(D16701=\"\",\" \",VLOOKUP(R16701,'Main page'!$E$29:'Main page'!$G$41,3,TRUE))","v":" "}]
[null,null,null,null,null,null,null,null,null,null,null,null," "," "," "," ",{"$f":"IF(I16717=\"\",\"\",IF(I16717<='Main page'!$F$49,\"Core staff\",\"Senior staff\"))","v":""},{"$f":"IF(D16717=\"\",\" \",'Main page'!$F$21-(D16717))","v":" "},{"$f":"IF(D16717=\"\",\" \",VLOOKUP(R16717,'Main page'!$E$29:'Main page'!$G$41,3,TRUE))","v":" "}]
[null,null,null,null,null,null,null,null,null,null,null,null," "," "," "," ",{"$f":"IF(I16720=\"\",\"\",IF(I16720<='Main page'!$F$49,\"Core staff\",\"Senior staff\"))","v":""},{"$f":"IF(D16720=\"\",\" \",'Main page'!$F$21-(D16720))","v":" "},{"$f":"IF(D16720=\"\",\" \",VLOOKUP(R16720,'Main page'!$E$29:'Main page'!$G$41,3,TRUE))","v":" "}]
[null,null,null,null,null,null,null,null,null,null,null,null," "," "," "," ",{"$f":"IF(I16732=\"\",\"\",IF(I16732<='Main page'!$F$49,\"Core staff\",\"Senior staff\"))","v":""},{"$f":"IF(D16732=\"\",\" \",'Main page'!$F$21-(D16732))","v":" "},{"$f":"IF(D16732=\"\",\" \",VLOOKUP(R16732,'Main page'!$E$29:'Main page'!$G$41,3,TRUE))","v":" "}]
[null,null,null,null,null,null,null,null,null,null,null,null," "," "," "," ",{"$f":"IF(I16738=\"\",\"\",IF(I16738<='Main page'!$F$49,\"Core staff\",\"Senior staff\"))","v":""},{"$f":"IF(D16738=\"\",\" \",'Main page'!$F$21-(D16738))","v":" "},{"$f":"IF(D16738=\"\",\" \",VLOOKUP(R16738,'Main page'!$E$29:'Main page'!$G$41,3,TRUE))","v":" "}]
[null,null,null,null,null,null,null,null,null,null,null,null," "," "," "," ",{"$f":"IF(I16750=\"\",\"\",IF(I16750<='Main page'!$F$49,\"Core staff\",\"Senior staff\"))","v":""},{"$f":"IF(D16750=\"\",\" \",'Main page'!$F$21-(D16750))","v":" "},{"$f":"IF(D16750=\"\",\" \",VLOOKUP(R16750,'Main page'!$E$29:'Main page'!$G$41,3,TRUE))","v":" "}]
[null,null,null,null,null,null,null,null,null,null,null,null," "," "," "," ",{"$f":"IF(I16762=\"\",\"\",IF(I16762<='Main page'!$F$49,\"Core staff\",\"Senior staff\"))","v":""},{"$f":"IF(D16762=\"\",\" \",'Main page'!$F$21-(D16762))","v":" "},{"$f":"IF(D16762=\"\",\" \",VLOOKUP(R16762,'Main page'!$E$29:'Main page'!$G$41,3,TRUE))","v":" "}]
[null,null,null,null,null,null,null,null,null,null,null,null," "," "," "," ",{"$f":"IF(I16763=\"\",\"\",IF(I16763<='Main page'!$F$49,\"Core staff\",\"Senior staff\"))","v":""},{"$f":"IF(D16763=\"\",\" \",'Main page'!$F$21-(D16763))","v":" "},{"$f":"IF(D16763=\"\",\" \",VLOOKUP(R16763,'Main page'!$E$29:'Main page'!$G$41,3,TRUE))","v":" "}]
[null,null,null,null,null,null,null,null,null,null,null,null," "," "," "," ",{"$f":"IF(I16771=\"\",\"\",IF(I16771<='Main page'!$F$49,\"Core staff\",\"Senior staff\"))","v":""},{"$f":"IF(D16771=\"\",\" \",'Main page'!$F$21-(D16771))","v":" "},{"$f":"IF(D16771=\"\",\" \",VLOOKUP(R16771,'Main page'!$E$29:'Main page'!$G$41,3,TRUE))","v":" "}]
[null,null,null,null,null,null,null,null,null,null,null,null," "," "," "," ",{"$f":"IF(I16787=\"\",\"\",IF(I16787<='Main page'!$F$49,\"Core staff\",\"Senior staff\"))","v":""},{"$f":"IF(D16787=\"\",\" \",'Main page'!$F$21-(D16787))","v":" "},{"$f":"IF(D16787=\"\",\" \",VLOOKUP(R16787,'Main page'!$E$29:'Main page'!$G$41,3,TRUE))","v":" "}]
[null,null,null,null,null,null,null,null,null,null,null,null," "," "," "," ",{"$f":"IF(I16790=\"\",\"\",IF(I16790<='Main page'!$F$49,\"Core staff\",\"Senior staff\"))","v":""},{"$f":"IF(D16790=\"\",\" \",'Main page'!$F$21-(D16790))","v":" "},{"$f":"IF(D16790=\"\",\" \",VLOOKUP(R16790,'Main page'!$E$29:'Main page'!$G$41,3,TRUE))","v":" "}]
[null,null,null,null,null,null,null,null,null,null,null,null," "," "," "," ",{"$f":"IF(I16802=\"\",\"\",IF(I16802<='Main page'!$F$49,\"Core staff\",\"Senior staff\"))","v":""},{"$f":"IF(D16802=\"\",\" \",'Main page'!$F$21-(D16802))","v":" "},{"$f":"IF(D16802=\"\",\" \",VLOOKUP(R16802,'Main page'!$E$29:'Main page'!$G$41,3,TRUE))","v":" "}]
[null,null,null,null,null,null,null,null,null,null,null,null," "," "," "," ",{"$f":"IF(I16808=\"\",\"\",IF(I16808<='Main page'!$F$49,\"Core staff\",\"Senior staff\"))","v":""},{"$f":"IF(D16808=\"\",\" \",'Main page'!$F$21-(D16808))","v":" "},{"$f":"IF(D16808=\"\",\" \",VLOOKUP(R16808,'Main page'!$E$29:'Main page'!$G$41,3,TRUE))","v":" "}]
[null,null,null,null,null,null,null,null,null,null,null,null," "," "," "," ",{"$f":"IF(I16820=\"\",\"\",IF(I16820<='Main page'!$F$49,\"Core staff\",\"Senior staff\"))","v":""},{"$f":"IF(D16820=\"\",\" \",'Main page'!$F$21-(D16820))","v":" "},{"$f":"IF(D16820=\"\",\" \",VLOOKUP(R16820,'Main page'!$E$29:'Main page'!$G$41,3,TRUE))","v":" "}]
[null,null,null,null,null,null,null,null,null,null,null,null," "," "," "," ",{"$f":"IF(I16827=\"\",\"\",IF(I16827<='Main page'!$F$49,\"Core staff\",\"Senior staff\"))","v":""},{"$f":"IF(D16827=\"\",\" \",'Main page'!$F$21-(D16827))","v":" "},{"$f":"IF(D16827=\"\",\" \",VLOOKUP(R16827,'Main page'!$E$29:'Main page'!$G$41,3,TRUE))","v":" "}]
[null,null,null,null,null,null,null,null,null,null,null,null," "," "," "," ",{"$f":"IF(I16833=\"\",\"\",IF(I16833<='Main page'!$F$49,\"Core staff\",\"Senior staff\"))","v":""},{"$f":"IF(D16833=\"\",\" \",'Main page'!$F$21-(D16833))","v":" "},{"$f":"IF(D16833=\"\",\" \",VLOOKUP(R16833,'Main page'!$E$29:'Main page'!$G$41,3,TRUE))","v":" "}]
[null,null,null,null,null,null,null,null,null,null,null,null," "," "," "," ",{"$f":"IF(I16841=\"\",\"\",IF(I16841<='Main page'!$F$49,\"Core staff\",\"Senior staff\"))","v":""},{"$f":"IF(D16841=\"\",\" \",'Main page'!$F$21-(D16841))","v":" "},{"$f":"IF(D16841=\"\",\" \",VLOOKUP(R16841,'Main page'!$E$29:'Main page'!$G$41,3,TRUE))","v":" "}]
[null,null,null,null,null,null,null,null,null,null,null,null,{"$f":"IFERROR(J16857/G16857,\" \")","v":" "},{"$f":"IFERROR((M16857/$U$4)/H16857,\" \")","v":" "},{"$f":"IFERROR((N16857*75)*26.083,\" \")","v":" "},{"$f":"IF(G16857=0,\" \",IF(G16857=1,\"Full time\",\"Part time\"))","v":" "},{"$f":"IF(I16857=\"\",\"\",IF(I16857<='Main page'!$F$49,\"Core staff\",\"Senior staff\"))","v":""},{"$f":"IF(D16857=\"\",\" \",'Main page'!$F$21-(D16857))","v":" "},{"$f":"IF(D16857=\"\",\" \",VLOOKUP(R16857,'Main page'!$E$29:'Main page'!$G$41,3,TRUE))","v":" "}]
[null,null,null,null,null,null,null,null,null,null,null,null," "," "," "," ",{"$f":"IF(I16860=\"\",\"\",IF(I16860<='Main page'!$F$49,\"Core staff\",\"Senior staff\"))","v":""},{"$f":"IF(D16860=\"\",\" \",'Main page'!$F$21-(D16860))","v":" "},{"$f":"IF(D16860=\"\",\" \",VLOOKUP(R16860,'Main page'!$E$29:'Main page'!$G$41,3,TRUE))","v":" "}]
[null,null,null,null,null,null,null,null,null,null,null,null," "," "," "," ",{"$f":"IF(I16872=\"\",\"\",IF(I16872<='Main page'!$F$49,\"Core staff\",\"Senior staff\"))","v":""},{"$f":"IF(D16872=\"\",\" \",'Main page'!$F$21-(D16872))","v":" "},{"$f":"IF(D16872=\"\",\" \",VLOOKUP(R16872,'Main page'!$E$29:'Main page'!$G$41,3,TRUE))","v":" "}]
[null,null,null,null,null,null,null,null,null,null,null,null," "," "," "," ",{"$f":"IF(I16878=\"\",\"\",IF(I16878<='Main page'!$F$49,\"Core staff\",\"Senior staff\"))","v":""},{"$f":"IF(D16878=\"\",\" \",'Main page'!$F$21-(D16878))","v":" "},{"$f":"IF(D16878=\"\",\" \",VLOOKUP(R16878,'Main page'!$E$29:'Main page'!$G$41,3,TRUE))","v":" "}]
[null,null,null,null,null,null,null,null,null,null,null,null," "," "," "," ",{"$f":"IF(I16890=\"\",\"\",IF(I16890<='Main page'!$F$49,\"Core staff\",\"Senior staff\"))","v":""},{"$f":"IF(D16890=\"\",\" \",'Main page'!$F$21-(D16890))","v":" "},{"$f":"IF(D16890=\"\",\" \",VLOOKUP(R16890,'Main page'!$E$29:'Main page'!$G$41,3,TRUE))","v":" "}]
[null,null,null,null,null,null,null,null,null,null,null,null," "," "," "," ",{"$f":"IF(I16897=\"\",\"\",IF(I16897<='Main page'!$F$49,\"Core staff\",\"Senior staff\"))","v":""},{"$f":"IF(D16897=\"\",\" \",'Main page'!$F$21-(D16897))","v":" "},{"$f":"IF(D16897=\"\",\" \",VLOOKUP(R16897,'Main page'!$E$29:'Main page'!$G$41,3,TRUE))","v":" "}]
[null,null,null,null,null,null,null,null,null,null,null,null," "," "," "," ",{"$f":"IF(I16903=\"\",\"\",IF(I16903<='Main page'!$F$49,\"Core staff\",\"Senior staff\"))","v":""},{"$f":"IF(D16903=\"\",\" \",'Main page'!$F$21-(D16903))","v":" "},{"$f":"IF(D16903=\"\",\" \",VLOOKUP(R16903,'Main page'!$E$29:'Main page'!$G$41,3,TRUE))","v":" "}]
[null,null,null,null,null,null,null,null,null,null,null,null," "," "," "," ",{"$f":"IF(I16911=\"\",\"\",IF(I16911<='Main page'!$F$49,\"Core staff\",\"Senior staff\"))","v":""},{"$f":"IF(D16911=\"\",\" \",'Main page'!$F$21-(D16911))","v":" "},{"$f":"IF(D16911=\"\",\" \",VLOOKUP(R16911,'Main page'!$E$29:'Main page'!$G$41,3,TRUE))","v":" "}]
[null,null,null,null,null,null,null,null,null,null,null,null," "," "," "," ",{"$f":"IF(I16927=\"\",\"\",IF(I16927<='Main page'!$F$49,\"Core staff\",\"Senior staff\"))","v":""},{"$f":"IF(D16927=\"\",\" \",'Main page'!$F$21-(D16927))","v":" "},{"$f":"IF(D16927=\"\",\" \",VLOOKUP(R16927,'Main page'!$E$29:'Main page'!$G$41,3,TRUE))","v":" "}]
[null,null,null,null,null,null,null,null,null,null,null,null," "," "," "," ",{"$f":"IF(I16930=\"\",\"\",IF(I16930<='Main page'!$F$49,\"Core staff\",\"Senior staff\"))","v":""},{"$f":"IF(D16930=\"\",\" \",'Main page'!$F$21-(D16930))","v":" "},{"$f":"IF(D16930=\"\",\" \",VLOOKUP(R16930,'Main page'!$E$29:'Main page'!$G$41,3,TRUE))","v":" "}]
[null,null,null,null,null,null,null,null,null,null,null,null," "," "," "," ",{"$f":"IF(I16942=\"\",\"\",IF(I16942<='Main page'!$F$49,\"Core staff\",\"Senior staff\"))","v":""},{"$f":"IF(D16942=\"\",\" \",'Main page'!$F$21-(D16942))","v":" "},{"$f":"IF(D16942=\"\",\" \",VLOOKUP(R16942,'Main page'!$E$29:'Main page'!$G$41,3,TRUE))","v":" "}]
[null,null,null,null,null,null,null,null,null,null,null,null," "," "," "," ",{"$f":"IF(I16948=\"\",\"\",IF(I16948<='Main page'!$F$49,\"Core staff\",\"Senior staff\"))","v":""},{"$f":"IF(D16948=\"\",\" \",'Main page'!$F$21-(D16948))","v":" "},{"$f":"IF(D16948=\"\",\" \",VLOOKUP(R16948,'Main page'!$E$29:'Main page'!$G$41,3,TRUE))","v":" "}]
[null,null,null,null,null,null,null,null,null,null,null,null," "," "," "," ",{"$f":"IF(I16960=\"\",\"\",IF(I16960<='Main page'!$F$49,\"Core staff\",\"Senior staff\"))","v":""},{"$f":"IF(D16960=\"\",\" \",'Main page'!$F$21-(D16960))","v":" "},{"$f":"IF(D16960=\"\",\" \",VLOOKUP(R16960,'Main page'!$E$29:'Main page'!$G$41,3,TRUE))","v":" "}]
[null,null,null,null,null,null,null,null,null,null,null,null," "," "," "," ",{"$f":"IF(I16967=\"\",\"\",IF(I16967<='Main page'!$F$49,\"Core staff\",\"Senior staff\"))","v":""},{"$f":"IF(D16967=\"\",\" \",'Main page'!$F$21-(D16967))","v":" "},{"$f":"IF(D16967=\"\",\" \",VLOOKUP(R16967,'Main page'!$E$29:'Main page'!$G$41,3,TRUE))","v":" "}]
[null,null,null,null,null,null,null,null,null,null,null,null," "," "," "," ",{"$f":"IF(I16973=\"\",\"\",IF(I16973<='Main page'!$F$49,\"Core staff\",\"Senior staff\"))","v":""},{"$f":"IF(D16973=\"\",\" \",'Main page'!$F$21-(D16973))","v":" "},{"$f":"IF(D16973=\"\",\" \",VLOOKUP(R16973,'Main page'!$E$29:'Main page'!$G$41,3,TRUE))","v":" "}]
[null,null,null,null,null,null,null,null,null,null,null,null," "," "," "," ",{"$f":"IF(I16981=\"\",\"\",IF(I16981<='Main page'!$F$49,\"Core staff\",\"Senior staff\"))","v":""},{"$f":"IF(D16981=\"\",\" \",'Main page'!$F$21-(D16981))","v":" "},{"$f":"IF(D16981=\"\",\" \",VLOOKUP(R16981,'Main page'!$E$29:'Main page'!$G$41,3,TRUE))","v":" "}]
[null,null,null,null,null,null,null,null,null,null,null,null," "," "," "," ",{"$f":"IF(I16997=\"\",\"\",IF(I16997<='Main page'!$F$49,\"Core staff\",\"Senior staff\"))","v":""},{"$f":"IF(D16997=\"\",\" \",'Main page'!$F$21-(D16997))","v":" "},{"$f":"IF(D16997=\"\",\" \",VLOOKUP(R16997,'Main page'!$E$29:'Main page'!$G$41,3,TRUE))","v":" "}]
[null,null,null,null,null,null,null,null,null,null,null,null," "," "," "," ",{"$f":"IF(I17000=\"\",\"\",IF(I17000<='Main page'!$F$49,\"Core staff\",\"Senior staff\"))","v":""},{"$f":"IF(D17000=\"\",\" \",'Main page'!$F$21-(D17000))","v":" "},{"$f":"IF(D17000=\"\",\" \",VLOOKUP(R17000,'Main page'!$E$29:'Main page'!$G$41,3,TRUE))","v":" "}]
[null,null,null,null,null,null,null,null,null,null,null,null," "," "," "," ",{"$f":"IF(I17012=\"\",\"\",IF(I17012<='Main page'!$F$49,\"Core staff\",\"Senior staff\"))","v":""},{"$f":"IF(D17012=\"\",\" \",'Main page'!$F$21-(D17012))","v":" "},{"$f":"IF(D17012=\"\",\" \",VLOOKUP(R17012,'Main page'!$E$29:'Main page'!$G$41,3,TRUE))","v":" "}]
[null,null,null,null,null,null,null,null,null,null,null,null," "," "," "," ",{"$f":"IF(I17018=\"\",\"\",IF(I17018<='Main page'!$F$49,\"Core staff\",\"Senior staff\"))","v":""},{"$f":"IF(D17018=\"\",\" \",'Main page'!$F$21-(D17018))","v":" "},{"$f":"IF(D17018=\"\",\" \",VLOOKUP(R17018,'Main page'!$E$29:'Main page'!$G$41,3,TRUE))","v":" "}]
[null,null,null,null,null,null,null,null,null,null,null,null," "," "," "," ",{"$f":"IF(I17030=\"\",\"\",IF(I17030<='Main page'!$F$49,\"Core staff\",\"Senior staff\"))","v":""},{"$f":"IF(D17030=\"\",\" \",'Main page'!$F$21-(D17030))","v":" "},{"$f":"IF(D17030=\"\",\" \",VLOOKUP(R17030,'Main page'!$E$29:'Main page'!$G$41,3,TRUE))","v":" "}]
[null,null,null,null,null,null,null,null,null,null,null,null," "," "," "," ",{"$f":"IF(I17037=\"\",\"\",IF(I17037<='Main page'!$F$49,\"Core staff\",\"Senior staff\"))","v":""},{"$f":"IF(D17037=\"\",\" \",'Main page'!$F$21-(D17037))","v":" "},{"$f":"IF(D17037=\"\",\" \",VLOOKUP(R17037,'Main page'!$E$29:'Main page'!$G$41,3,TRUE))","v":" "}]
[null,null,null,null,null,null,null,null,null,null,null,null," "," "," "," ",{"$f":"IF(I17043=\"\",\"\",IF(I17043<='Main page'!$F$49,\"Core staff\",\"Senior staff\"))","v":""},{"$f":"IF(D17043=\"\",\" \",'Main page'!$F$21-(D17043))","v":" "},{"$f":"IF(D17043=\"\",\" \",VLOOKUP(R17043,'Main page'!$E$29:'Main page'!$G$41,3,TRUE))","v":" "}]
[null,null,null,null,null,null,null,null,null,null,null,null," "," "," "," ",{"$f":"IF(I17051=\"\",\"\",IF(I17051<='Main page'!$F$49,\"Core staff\",\"Senior staff\"))","v":""},{"$f":"IF(D17051=\"\",\" \",'Main page'!$F$21-(D17051))","v":" "},{"$f":"IF(D17051=\"\",\" \",VLOOKUP(R17051,'Main page'!$E$29:'Main page'!$G$41,3,TRUE))","v":" "}]
[null,null,null,null,null,null,null,null,null,null,null,null," "," "," "," ",{"$f":"IF(I17067=\"\",\"\",IF(I17067<='Main page'!$F$49,\"Core staff\",\"Senior staff\"))","v":""},{"$f":"IF(D17067=\"\",\" \",'Main page'!$F$21-(D17067))","v":" "},{"$f":"IF(D17067=\"\",\" \",VLOOKUP(R17067,'Main page'!$E$29:'Main page'!$G$41,3,TRUE))","v":" "}]
[null,null,null,null,null,null,null,null,null,null,null,null," "," "," "," ",{"$f":"IF(I17070=\"\",\"\",IF(I17070<='Main page'!$F$49,\"Core staff\",\"Senior staff\"))","v":""},{"$f":"IF(D17070=\"\",\" \",'Main page'!$F$21-(D17070))","v":" "},{"$f":"IF(D17070=\"\",\" \",VLOOKUP(R17070,'Main page'!$E$29:'Main page'!$G$41,3,TRUE))","v":" "}]
[null,null,null,null,null,null,null,null,null,null,null,null," "," "," "," ",{"$f":"IF(I17082=\"\",\"\",IF(I17082<='Main page'!$F$49,\"Core staff\",\"Senior staff\"))","v":""},{"$f":"IF(D17082=\"\",\" \",'Main page'!$F$21-(D17082))","v":" "},{"$f":"IF(D17082=\"\",\" \",VLOOKUP(R17082,'Main page'!$E$29:'Main page'!$G$41,3,TRUE))","v":" "}]
[null,null,null,null,null,null,null,null,null,null,null,null," "," "," "," ",{"$f":"IF(I17088=\"\",\"\",IF(I17088<='Main page'!$F$49,\"Core staff\",\"Senior staff\"))","v":""},{"$f":"IF(D17088=\"\",\" \",'Main page'!$F$21-(D17088))","v":" "},{"$f":"IF(D17088=\"\",\" \",VLOOKUP(R17088,'Main page'!$E$29:'Main page'!$G$41,3,TRUE))","v":" "}]
[null,null,null,null,null,null,null,null,null,null,null,null," "," "," "," ",{"$f":"IF(I17100=\"\",\"\",IF(I17100<='Main page'!$F$49,\"Core staff\",\"Senior staff\"))","v":""},{"$f":"IF(D17100=\"\",\" \",'Main page'!$F$21-(D17100))","v":" "},{"$f":"IF(D17100=\"\",\" \",VLOOKUP(R17100,'Main page'!$E$29:'Main page'!$G$41,3,TRUE))","v":" "}]
[null,null,null,null,null,null,null,null,null,null,null,null," "," "," "," ",{"$f":"IF(I17107=\"\",\"\",IF(I17107<='Main page'!$F$49,\"Core staff\",\"Senior staff\"))","v":""},{"$f":"IF(D17107=\"\",\" \",'Main page'!$F$21-(D17107))","v":" "},{"$f":"IF(D17107=\"\",\" \",VLOOKUP(R17107,'Main page'!$E$29:'Main page'!$G$41,3,TRUE))","v":" "}]
[null,null,null,null,null,null,null,null,null,null,null,null,{"$f":"IFERROR(J17113/G17113,\" \")","v":" "},{"$f":"IFERROR((M17113/$U$4)/H17113,\" \")","v":" "},{"$f":"IFERROR((N17113*75)*26.083,\" \")","v":" "},{"$f":"IF(G17113=0,\" \",IF(G17113=1,\"Full time\",\"Part time\"))","v":" "},{"$f":"IF(I17113=\"\",\"\",IF(I17113<='Main page'!$F$49,\"Core staff\",\"Senior staff\"))","v":""},{"$f":"IF(D17113=\"\",\" \",'Main page'!$F$21-(D17113))","v":" "},{"$f":"IF(D17113=\"\",\" \",VLOOKUP(R17113,'Main page'!$E$29:'Main page'!$G$41,3,TRUE))","v":" "}]
[null,null,null,null,null,null,null,null,null,null,null,null," "," "," "," ",{"$f":"IF(I17125=\"\",\"\",IF(I17125<='Main page'!$F$49,\"Core staff\",\"Senior staff\"))","v":""},{"$f":"IF(D17125=\"\",\" \",'Main page'!$F$21-(D17125))","v":" "},{"$f":"IF(D17125=\"\",\" \",VLOOKUP(R17125,'Main page'!$E$29:'Main page'!$G$41,3,TRUE))","v":" "}]
[null,null,null,null,null,null,null,null,null,null,null,null," "," "," "," ",{"$f":"IF(I17137=\"\",\"\",IF(I17137<='Main page'!$F$49,\"Core staff\",\"Senior staff\"))","v":""},{"$f":"IF(D17137=\"\",\" \",'Main page'!$F$21-(D17137))","v":" "},{"$f":"IF(D17137=\"\",\" \",VLOOKUP(R17137,'Main page'!$E$29:'Main page'!$G$41,3,TRUE))","v":" "}]
[null,null,null,null,null,null,null,null,null,null,null,null," "," "," "," ",{"$f":"IF(I17140=\"\",\"\",IF(I17140<='Main page'!$F$49,\"Core staff\",\"Senior staff\"))","v":""},{"$f":"IF(D17140=\"\",\" \",'Main page'!$F$21-(D17140))","v":" "},{"$f":"IF(D17140=\"\",\" \",VLOOKUP(R17140,'Main page'!$E$29:'Main page'!$G$41,3,TRUE))","v":" "}]
[null,null,null,null,null,null,null,null,null,null,null,null," "," "," "," ",{"$f":"IF(I17152=\"\",\"\",IF(I17152<='Main page'!$F$49,\"Core staff\",\"Senior staff\"))","v":""},{"$f":"IF(D17152=\"\",\" \",'Main page'!$F$21-(D17152))","v":" "},{"$f":"IF(D17152=\"\",\" \",VLOOKUP(R17152,'Main page'!$E$29:'Main page'!$G$41,3,TRUE))","v":" "}]
[null,null,null,null,null,null,null,null,null,null,null,null," "," "," "," ",{"$f":"IF(I17158=\"\",\"\",IF(I17158<='Main page'!$F$49,\"Core staff\",\"Senior staff\"))","v":""},{"$f":"IF(D17158=\"\",\" \",'Main page'!$F$21-(D17158))","v":" "},{"$f":"IF(D17158=\"\",\" \",VLOOKUP(R17158,'Main page'!$E$29:'Main page'!$G$41,3,TRUE))","v":" "}]
[null,null,null,null,null,null,null,null,null,null,null,null," "," "," "," ",{"$f":"IF(I17170=\"\",\"\",IF(I17170<='Main page'!$F$49,\"Core staff\",\"Senior staff\"))","v":""},{"$f":"IF(D17170=\"\",\" \",'Main page'!$F$21-(D17170))","v":" "},{"$f":"IF(D17170=\"\",\" \",VLOOKUP(R17170,'Main page'!$E$29:'Main page'!$G$41,3,TRUE))","v":" "}]
[null,null,null,null,null,null,null,null,null,null,null,null,{"$f":"IFERROR(J17177/G17177,\" \")","v":" "},{"$f":"IFERROR((M17177/$U$4)/H17177,\" \")","v":" "},{"$f":"IFERROR((N17177*75)*26.083,\" \")","v":" "},{"$f":"IF(G17177=0,\" \",IF(G17177=1,\"Full time\",\"Part time\"))","v":" "},{"$f":"IF(I17177=\"\",\"\",IF(I17177<='Main page'!$F$49,\"Core staff\",\"Senior staff\"))","v":""},{"$f":"IF(D17177=\"\",\" \",'Main page'!$F$21-(D17177))","v":" "},{"$f":"IF(D17177=\"\",\" \",VLOOKUP(R17177,'Main page'!$E$29:'Main page'!$G$41,3,TRUE))","v":" "}]
[null,null,null,null,null,null,null,null,null,null,null,null," "," "," "," ",{"$f":"IF(I17183=\"\",\"\",IF(I17183<='Main page'!$F$49,\"Core staff\",\"Senior staff\"))","v":""},{"$f":"IF(D17183=\"\",\" \",'Main page'!$F$21-(D17183))","v":" "},{"$f":"IF(D17183=\"\",\" \",VLOOKUP(R17183,'Main page'!$E$29:'Main page'!$G$41,3,TRUE))","v":" "}]
[null,null,null,null,null,null,null,null,null,null,null,null," "," "," "," ",{"$f":"IF(I17195=\"\",\"\",IF(I17195<='Main page'!$F$49,\"Core staff\",\"Senior staff\"))","v":""},{"$f":"IF(D17195=\"\",\" \",'Main page'!$F$21-(D17195))","v":" "},{"$f":"IF(D17195=\"\",\" \",VLOOKUP(R17195,'Main page'!$E$29:'Main page'!$G$41,3,TRUE))","v":" "}]
[null,null,null,null,null,null,null,null,null,null,null,null," "," "," "," ",{"$f":"IF(I17207=\"\",\"\",IF(I17207<='Main page'!$F$49,\"Core staff\",\"Senior staff\"))","v":""},{"$f":"IF(D17207=\"\",\" \",'Main page'!$F$21-(D17207))","v":" "},{"$f":"IF(D17207=\"\",\" \",VLOOKUP(R17207,'Main page'!$E$29:'Main page'!$G$41,3,TRUE))","v":" "}]
[null,null,null,null,null,null,null,null,null,null,null,null," "," "," "," ",{"$f":"IF(I17210=\"\",\"\",IF(I17210<='Main page'!$F$49,\"Core staff\",\"Senior staff\"))","v":""},{"$f":"IF(D17210=\"\",\" \",'Main page'!$F$21-(D17210))","v":" "},{"$f":"IF(D17210=\"\",\" \",VLOOKUP(R17210,'Main page'!$E$29:'Main page'!$G$41,3,TRUE))","v":" "}]
[null,null,null,null,null,null,null,null,null,null,null,null," "," "," "," ",{"$f":"IF(I17222=\"\",\"\",IF(I17222<='Main page'!$F$49,\"Core staff\",\"Senior staff\"))","v":""},{"$f":"IF(D17222=\"\",\" \",'Main page'!$F$21-(D17222))","v":" "},{"$f":"IF(D17222=\"\",\" \",VLOOKUP(R17222,'Main page'!$E$29:'Main page'!$G$41,3,TRUE))","v":" "}]
[null,null,null,null,null,null,null,null,null,null,null,null," "," "," "," ",{"$f":"IF(I17228=\"\",\"\",IF(I17228<='Main page'!$F$49,\"Core staff\",\"Senior staff\"))","v":""},{"$f":"IF(D17228=\"\",\" \",'Main page'!$F$21-(D17228))","v":" "},{"$f":"IF(D17228=\"\",\" \",VLOOKUP(R17228,'Main page'!$E$29:'Main page'!$G$41,3,TRUE))","v":" "}]
[null,null,null,null,null,null,null,null,null,null,null,null," "," "," "," ",{"$f":"IF(I17235=\"\",\"\",IF(I17235<='Main page'!$F$49,\"Core staff\",\"Senior staff\"))","v":""},{"$f":"IF(D17235=\"\",\" \",'Main page'!$F$21-(D17235))","v":" "},{"$f":"IF(D17235=\"\",\" \",VLOOKUP(R17235,'Main page'!$E$29:'Main page'!$G$41,3,TRUE))","v":" "}]
[null,null,null,null,null,null,null,null,null,null,null,null," "," "," "," ",{"$f":"IF(I17247=\"\",\"\",IF(I17247<='Main page'!$F$49,\"Core staff\",\"Senior staff\"))","v":""},{"$f":"IF(D17247=\"\",\" \",'Main page'!$F$21-(D17247))","v":" "},{"$f":"IF(D17247=\"\",\" \",VLOOKUP(R17247,'Main page'!$E$29:'Main page'!$G$41,3,TRUE))","v":" "}]
[null,null,null,null,null,null,null,null,null,null,null,null," "," "," "," ",{"$f":"IF(I17253=\"\",\"\",IF(I17253<='Main page'!$F$49,\"Core staff\",\"Senior staff\"))","v":""},{"$f":"IF(D17253=\"\",\" \",'Main page'!$F$21-(D17253))","v":" "},{"$f":"IF(D17253=\"\",\" \",VLOOKUP(R17253,'Main page'!$E$29:'Main page'!$G$41,3,TRUE))","v":" "}]
[null,null,null,null,null,null,null,null,null,null,null,null," "," "," "," ",{"$f":"IF(I17265=\"\",\"\",IF(I17265<='Main page'!$F$49,\"Core staff\",\"Senior staff\"))","v":""},{"$f":"IF(D17265=\"\",\" \",'Main page'!$F$21-(D17265))","v":" "},{"$f":"IF(D17265=\"\",\" \",VLOOKUP(R17265,'Main page'!$E$29:'Main page'!$G$41,3,TRUE))","v":" "}]
[null,null,null,null,null,null,null,null,null,null,null,null," "," "," "," ",{"$f":"IF(I17277=\"\",\"\",IF(I17277<='Main page'!$F$49,\"Core staff\",\"Senior staff\"))","v":""},{"$f":"IF(D17277=\"\",\" \",'Main page'!$F$21-(D17277))","v":" "},{"$f":"IF(D17277=\"\",\" \",VLOOKUP(R17277,'Main page'!$E$29:'Main page'!$G$41,3,TRUE))","v":" "}]
[null,null,null,null,null,null,null,null,null,null,null,null," "," "," "," ",{"$f":"IF(I17280=\"\",\"\",IF(I17280<='Main page'!$F$49,\"Core staff\",\"Senior staff\"))","v":""},{"$f":"IF(D17280=\"\",\" \",'Main page'!$F$21-(D17280))","v":" "},{"$f":"IF(D17280=\"\",\" \",VLOOKUP(R17280,'Main page'!$E$29:'Main page'!$G$41,3,TRUE))","v":" "}]
[null,null,null,null,null,null,null,null,null,null,null,null," "," "," "," ",{"$f":"IF(I17292=\"\",\"\",IF(I17292<='Main page'!$F$49,\"Core staff\",\"Senior staff\"))","v":""},{"$f":"IF(D17292=\"\",\" \",'Main page'!$F$21-(D17292))","v":" "},{"$f":"IF(D17292=\"\",\" \",VLOOKUP(R17292,'Main page'!$E$29:'Main page'!$G$41,3,TRUE))","v":" "}]
[null,null,null,null,null,null,null,null,null,null,null,null," "," "," "," ",{"$f":"IF(I17298=\"\",\"\",IF(I17298<='Main page'!$F$49,\"Core staff\",\"Senior staff\"))","v":""},{"$f":"IF(D17298=\"\",\" \",'Main page'!$F$21-(D17298))","v":" "},{"$f":"IF(D17298=\"\",\" \",VLOOKUP(R17298,'Main page'!$E$29:'Main page'!$G$41,3,TRUE))","v":" "}]
[null,null,null,null,null,null,null,null,null,null,null,null,{"$f":"IFERROR(J17305/G17305,\" \")","v":" "},{"$f":"IFERROR((M17305/$U$4)/H17305,\" \")","v":" "},{"$f":"IFERROR((N17305*75)*26.083,\" \")","v":" "},{"$f":"IF(G17305=0,\" \",IF(G17305=1,\"Full time\",\"Part time\"))","v":" "},{"$f":"IF(I17305=\"\",\"\",IF(I17305<='Main page'!$F$49,\"Core staff\",\"Senior staff\"))","v":""},{"$f":"IF(D17305=\"\",\" \",'Main page'!$F$21-(D17305))","v":" "},{"$f":"IF(D17305=\"\",\" \",VLOOKUP(R17305,'Main page'!$E$29:'Main page'!$G$41,3,TRUE))","v":" "}]
[null,null,null,null,null,null,null,null,null,null,null,null," "," "," "," ",{"$f":"IF(I17317=\"\",\"\",IF(I17317<='Main page'!$F$49,\"Core staff\",\"Senior staff\"))","v":""},{"$f":"IF(D17317=\"\",\" \",'Main page'!$F$21-(D17317))","v":" "},{"$f":"IF(D17317=\"\",\" \",VLOOKUP(R17317,'Main page'!$E$29:'Main page'!$G$41,3,TRUE))","v":" "}]
[null,null,null,null,null,null,null,null,null,null,null,null," "," "," "," ",{"$f":"IF(I17323=\"\",\"\",IF(I17323<='Main page'!$F$49,\"Core staff\",\"Senior staff\"))","v":""},{"$f":"IF(D17323=\"\",\" \",'Main page'!$F$21-(D17323))","v":" "},{"$f":"IF(D17323=\"\",\" \",VLOOKUP(R17323,'Main page'!$E$29:'Main page'!$G$41,3,TRUE))","v":" "}]
[null,null,null,null,null,null,null,null,null,null,null,null," "," "," "," ",{"$f":"IF(I17335=\"\",\"\",IF(I17335<='Main page'!$F$49,\"Core staff\",\"Senior staff\"))","v":""},{"$f":"IF(D17335=\"\",\" \",'Main page'!$F$21-(D17335))","v":" "},{"$f":"IF(D17335=\"\",\" \",VLOOKUP(R17335,'Main page'!$E$29:'Main page'!$G$41,3,TRUE))","v":" "}]
[null,null,null,null,null,null,null,null,null,null,null,null," "," "," "," ",{"$f":"IF(I17347=\"\",\"\",IF(I17347<='Main page'!$F$49,\"Core staff\",\"Senior staff\"))","v":""},{"$f":"IF(D17347=\"\",\" \",'Main page'!$F$21-(D17347))","v":" "},{"$f":"IF(D17347=\"\",\" \",VLOOKUP(R17347,'Main page'!$E$29:'Main page'!$G$41,3,TRUE))","v":" "}]
[null,null,null,null,null,null,null,null,null,null,null,null," "," "," "," ",{"$f":"IF(I17350=\"\",\"\",IF(I17350<='Main page'!$F$49,\"Core staff\",\"Senior staff\"))","v":""},{"$f":"IF(D17350=\"\",\" \",'Main page'!$F$21-(D17350))","v":" "},{"$f":"IF(D17350=\"\",\" \",VLOOKUP(R17350,'Main page'!$E$29:'Main page'!$G$41,3,TRUE))","v":" "}]
[null,null,null,null,null,null,null,null,null,null,null,null," "," "," "," ",{"$f":"IF(I17362=\"\",\"\",IF(I17362<='Main page'!$F$49,\"Core staff\",\"Senior staff\"))","v":""},{"$f":"IF(D17362=\"\",\" \",'Main page'!$F$21-(D17362))","v":" "},{"$f":"IF(D17362=\"\",\" \",VLOOKUP(R17362,'Main page'!$E$29:'Main page'!$G$41,3,TRUE))","v":" "}]
[null,null,null,null,null,null,null,null,null,null,null,null," "," "," "," ",{"$f":"IF(I17368=\"\",\"\",IF(I17368<='Main page'!$F$49,\"Core staff\",\"Senior staff\"))","v":""},{"$f":"IF(D17368=\"\",\" \",'Main page'!$F$21-(D17368))","v":" "},{"$f":"IF(D17368=\"\",\" \",VLOOKUP(R17368,'Main page'!$E$29:'Main page'!$G$41,3,TRUE))","v":" "}]
[null,null,null,null,null,null,null,null,null,null,null,null," "," "," "," ",{"$f":"IF(I17375=\"\",\"\",IF(I17375<='Main page'!$F$49,\"Core staff\",\"Senior staff\"))","v":""},{"$f":"IF(D17375=\"\",\" \",'Main page'!$F$21-(D17375))","v":" "},{"$f":"IF(D17375=\"\",\" \",VLOOKUP(R17375,'Main page'!$E$29:'Main page'!$G$41,3,TRUE))","v":" "}]
[null,null,null,null,null,null,null,null,null,null,null,null," "," "," "," ",{"$f":"IF(I17387=\"\",\"\",IF(I17387<='Main page'!$F$49,\"Core staff\",\"Senior staff\"))","v":""},{"$f":"IF(D17387=\"\",\" \",'Main page'!$F$21-(D17387))","v":" "},{"$f":"IF(D17387=\"\",\" \",VLOOKUP(R17387,'Main page'!$E$29:'Main page'!$G$41,3,TRUE))","v":" "}]
[null,null,null,null,null,null,null,null,null,null,null,null," "," "," "," ",{"$f":"IF(I17393=\"\",\"\",IF(I17393<='Main page'!$F$49,\"Core staff\",\"Senior staff\"))","v":""},{"$f":"IF(D17393=\"\",\" \",'Main page'!$F$21-(D17393))","v":" "},{"$f":"IF(D17393=\"\",\" \",VLOOKUP(R17393,'Main page'!$E$29:'Main page'!$G$41,3,TRUE))","v":" "}]
[null,null,null,null,null,null,null,null,null,null,null,null," "," "," "," ",{"$f":"IF(I17405=\"\",\"\",IF(I17405<='Main page'!$F$49,\"Core staff\",\"Senior staff\"))","v":""},{"$f":"IF(D17405=\"\",\" \",'Main page'!$F$21-(D17405))","v":" "},{"$f":"IF(D17405=\"\",\" \",VLOOKUP(R17405,'Main page'!$E$29:'Main page'!$G$41,3,TRUE))","v":" "}]
[null,null,null,null,null,null,null,null,null,null,null,null," "," "," "," ",{"$f":"IF(I17417=\"\",\"\",IF(I17417<='Main page'!$F$49,\"Core staff\",\"Senior staff\"))","v":""},{"$f":"IF(D17417=\"\",\" \",'Main page'!$F$21-(D17417))","v":" "},{"$f":"IF(D17417=\"\",\" \",VLOOKUP(R17417,'Main page'!$E$29:'Main page'!$G$41,3,TRUE))","v":" "}]
[null,null,null,null,null,null,null,null,null,null,null,null," "," "," "," ",{"$f":"IF(I17424=\"\",\"\",IF(I17424<='Main page'!$F$49,\"Core staff\",\"Senior staff\"))","v":""},{"$f":"IF(D17424=\"\",\" \",'Main page'!$F$21-(D17424))","v":" "},{"$f":"IF(D17424=\"\",\" \",VLOOKUP(R17424,'Main page'!$E$29:'Main page'!$G$41,3,TRUE))","v":" "}]
[null,null,null,null,null,null,null,null,null,null,null,null," "," "," "," ",{"$f":"IF(I17432=\"\",\"\",IF(I17432<='Main page'!$F$49,\"Core staff\",\"Senior staff\"))","v":""},{"$f":"IF(D17432=\"\",\" \",'Main page'!$F$21-(D17432))","v":" "},{"$f":"IF(D17432=\"\",\" \",VLOOKUP(R17432,'Main page'!$E$29:'Main page'!$G$41,3,TRUE))","v":" "}]
[null,null,null,null,null,null,null,null,null,null,null,null," "," "," "," ",{"$f":"IF(I17438=\"\",\"\",IF(I17438<='Main page'!$F$49,\"Core staff\",\"Senior staff\"))","v":""},{"$f":"IF(D17438=\"\",\" \",'Main page'!$F$21-(D17438))","v":" "},{"$f":"IF(D17438=\"\",\" \",VLOOKUP(R17438,'Main page'!$E$29:'Main page'!$G$41,3,TRUE))","v":" "}]
[null,null,null,null,null,null,null,null,null,null,null,null," "," "," "," ",{"$f":"IF(I17445=\"\",\"\",IF(I17445<='Main page'!$F$49,\"Core staff\",\"Senior staff\"))","v":""},{"$f":"IF(D17445=\"\",\" \",'Main page'!$F$21-(D17445))","v":" "},{"$f":"IF(D17445=\"\",\" \",VLOOKUP(R17445,'Main page'!$E$29:'Main page'!$G$41,3,TRUE))","v":" "}]
[null,null,null,null,null,null,null,null,null,null,null,null," "," "," "," ",{"$f":"IF(I17457=\"\",\"\",IF(I17457<='Main page'!$F$49,\"Core staff\",\"Senior staff\"))","v":""},{"$f":"IF(D17457=\"\",\" \",'Main page'!$F$21-(D17457))","v":" "},{"$f":"IF(D17457=\"\",\" \",VLOOKUP(R17457,'Main page'!$E$29:'Main page'!$G$41,3,TRUE))","v":" "}]
[null,null,null,null,null,null,null,null,null,null,null,null," "," "," "," ",{"$f":"IF(I17463=\"\",\"\",IF(I17463<='Main page'!$F$49,\"Core staff\",\"Senior staff\"))","v":""},{"$f":"IF(D17463=\"\",\" \",'Main page'!$F$21-(D17463))","v":" "},{"$f":"IF(D17463=\"\",\" \",VLOOKUP(R17463,'Main page'!$E$29:'Main page'!$G$41,3,TRUE))","v":" "}]
[null,null,null,null,null,null,null,null,null,null,null,null," "," "," "," ",{"$f":"IF(I17475=\"\",\"\",IF(I17475<='Main page'!$F$49,\"Core staff\",\"Senior staff\"))","v":""},{"$f":"IF(D17475=\"\",\" \",'Main page'!$F$21-(D17475))","v":" "},{"$f":"IF(D17475=\"\",\" \",VLOOKUP(R17475,'Main page'!$E$29:'Main page'!$G$41,3,TRUE))","v":" "}]
[null,null,null,null,null,null,null,null,null,null,null,null," "," "," "," ",{"$f":"IF(I17487=\"\",\"\",IF(I17487<='Main page'!$F$49,\"Core staff\",\"Senior staff\"))","v":""},{"$f":"IF(D17487=\"\",\" \",'Main page'!$F$21-(D17487))","v":" "},{"$f":"IF(D17487=\"\",\" \",VLOOKUP(R17487,'Main page'!$E$29:'Main page'!$G$41,3,TRUE))","v":" "}]
[null,null,null,null,null,null,null,null,null,null,null,null," "," "," "," ",{"$f":"IF(I17494=\"\",\"\",IF(I17494<='Main page'!$F$49,\"Core staff\",\"Senior staff\"))","v":""},{"$f":"IF(D17494=\"\",\" \",'Main page'!$F$21-(D17494))","v":" "},{"$f":"IF(D17494=\"\",\" \",VLOOKUP(R17494,'Main page'!$E$29:'Main page'!$G$41,3,TRUE))","v":" "}]
[null,null,null,null,null,null,null,null,null,null,null,null," "," "," "," ",{"$f":"IF(I17502=\"\",\"\",IF(I17502<='Main page'!$F$49,\"Core staff\",\"Senior staff\"))","v":""},{"$f":"IF(D17502=\"\",\" \",'Main page'!$F$21-(D17502))","v":" "},{"$f":"IF(D17502=\"\",\" \",VLOOKUP(R17502,'Main page'!$E$29:'Main page'!$G$41,3,TRUE))","v":" "}]
[null,null,null,null,null,null,null,null,null,null,null,null," "," "," "," ",{"$f":"IF(I17508=\"\",\"\",IF(I17508<='Main page'!$F$49,\"Core staff\",\"Senior staff\"))","v":""},{"$f":"IF(D17508=\"\",\" \",'Main page'!$F$21-(D17508))","v":" "},{"$f":"IF(D17508=\"\",\" \",VLOOKUP(R17508,'Main page'!$E$29:'Main page'!$G$41,3,TRUE))","v":" "}]
[null,null,null,null,null,null,null,null,null,null,null,null," "," "," "," ",{"$f":"IF(I17515=\"\",\"\",IF(I17515<='Main page'!$F$49,\"Core staff\",\"Senior staff\"))","v":""},{"$f":"IF(D17515=\"\",\" \",'Main page'!$F$21-(D17515))","v":" "},{"$f":"IF(D17515=\"\",\" \",VLOOKUP(R17515,'Main page'!$E$29:'Main page'!$G$41,3,TRUE))","v":" "}]
[null,null,null,null,null,null,null,null,null,null,null,null," "," "," "," ",{"$f":"IF(I17527=\"\",\"\",IF(I17527<='Main page'!$F$49,\"Core staff\",\"Senior staff\"))","v":""},{"$f":"IF(D17527=\"\",\" \",'Main page'!$F$21-(D17527))","v":" "},{"$f":"IF(D17527=\"\",\" \",VLOOKUP(R17527,'Main page'!$E$29:'Main page'!$G$41,3,TRUE))","v":" "}]
[null,null,null,null,null,null,null,null,null,null,null,null," "," "," "," ",{"$f":"IF(I17533=\"\",\"\",IF(I17533<='Main page'!$F$49,\"Core staff\",\"Senior staff\"))","v":""},{"$f":"IF(D17533=\"\",\" \",'Main page'!$F$21-(D17533))","v":" "},{"$f":"IF(D17533=\"\",\" \",VLOOKUP(R17533,'Main page'!$E$29:'Main page'!$G$41,3,TRUE))","v":" "}]
[null,null,null,null,null,null,null,null,null,null,null,null," "," "," "," ",{"$f":"IF(I17545=\"\",\"\",IF(I17545<='Main page'!$F$49,\"Core staff\",\"Senior staff\"))","v":""},{"$f":"IF(D17545=\"\",\" \",'Main page'!$F$21-(D17545))","v":" "},{"$f":"IF(D17545=\"\",\" \",VLOOKUP(R17545,'Main page'!$E$29:'Main page'!$G$41,3,TRUE))","v":" "}]
[null,null,null,null,null,null,null,null,null,null,null,null," "," "," "," ",{"$f":"IF(I17557=\"\",\"\",IF(I17557<='Main page'!$F$49,\"Core staff\",\"Senior staff\"))","v":""},{"$f":"IF(D17557=\"\",\" \",'Main page'!$F$21-(D17557))","v":" "},{"$f":"IF(D17557=\"\",\" \",VLOOKUP(R17557,'Main page'!$E$29:'Main page'!$G$41,3,TRUE))","v":" "}]
[null,null,null,null,null,null,null,null,null,null,null,null," "," "," "," ",{"$f":"IF(I17564=\"\",\"\",IF(I17564<='Main page'!$F$49,\"Core staff\",\"Senior staff\"))","v":""},{"$f":"IF(D17564=\"\",\" \",'Main page'!$F$21-(D17564))","v":" "},{"$f":"IF(D17564=\"\",\" \",VLOOKUP(R17564,'Main page'!$E$29:'Main page'!$G$41,3,TRUE))","v":" "}]
[null,null,null,null,null,null,null,null,null,null,null,null," "," "," "," ",{"$f":"IF(I17572=\"\",\"\",IF(I17572<='Main page'!$F$49,\"Core staff\",\"Senior staff\"))","v":""},{"$f":"IF(D17572=\"\",\" \",'Main page'!$F$21-(D17572))","v":" "},{"$f":"IF(D17572=\"\",\" \",VLOOKUP(R17572,'Main page'!$E$29:'Main page'!$G$41,3,TRUE))","v":" "}]
[null,null,null,null,null,null,null,null,null,null,null,null," "," "," "," ",{"$f":"IF(I17578=\"\",\"\",IF(I17578<='Main page'!$F$49,\"Core staff\",\"Senior staff\"))","v":""},{"$f":"IF(D17578=\"\",\" \",'Main page'!$F$21-(D17578))","v":" "},{"$f":"IF(D17578=\"\",\" \",VLOOKUP(R17578,'Main page'!$E$29:'Main page'!$G$41,3,TRUE))","v":" "}]
[null,null,null,null,null,null,null,null,null,null,null,null," "," "," "," ",{"$f":"IF(I17585=\"\",\"\",IF(I17585<='Main page'!$F$49,\"Core staff\",\"Senior staff\"))","v":""},{"$f":"IF(D17585=\"\",\" \",'Main page'!$F$21-(D17585))","v":" "},{"$f":"IF(D17585=\"\",\" \",VLOOKUP(R17585,'Main page'!$E$29:'Main page'!$G$41,3,TRUE))","v":" "}]
[null,null,null,null,null,null,null,null,null,null,null,null," "," "," "," ",{"$f":"IF(I17597=\"\",\"\",IF(I17597<='Main page'!$F$49,\"Core staff\",\"Senior staff\"))","v":""},{"$f":"IF(D17597=\"\",\" \",'Main page'!$F$21-(D17597))","v":" "},{"$f":"IF(D17597=\"\",\" \",VLOOKUP(R17597,'Main page'!$E$29:'Main page'!$G$41,3,TRUE))","v":" "}]
[null,null,null,null,null,null,null,null,null,null,null,null," "," "," "," ",{"$f":"IF(I17603=\"\",\"\",IF(I17603<='Main page'!$F$49,\"Core staff\",\"Senior staff\"))","v":""},{"$f":"IF(D17603=\"\",\" \",'Main page'!$F$21-(D17603))","v":" "},{"$f":"IF(D17603=\"\",\" \",VLOOKUP(R17603,'Main page'!$E$29:'Main page'!$G$41,3,TRUE))","v":" "}]
[null,null,null,null,null,null,null,null,null,null,null,null," "," "," "," ",{"$f":"IF(I17615=\"\",\"\",IF(I17615<='Main page'!$F$49,\"Core staff\",\"Senior staff\"))","v":""},{"$f":"IF(D17615=\"\",\" \",'Main page'!$F$21-(D17615))","v":" "},{"$f":"IF(D17615=\"\",\" \",VLOOKUP(R17615,'Main page'!$E$29:'Main page'!$G$41,3,TRUE))","v":" "}]
[null,null,null,null,null,null,null,null,null,null,null,null," "," "," "," ",{"$f":"IF(I17627=\"\",\"\",IF(I17627<='Main page'!$F$49,\"Core staff\",\"Senior staff\"))","v":""},{"$f":"IF(D17627=\"\",\" \",'Main page'!$F$21-(D17627))","v":" "},{"$f":"IF(D17627=\"\",\" \",VLOOKUP(R17627,'Main page'!$E$29:'Main page'!$G$41,3,TRUE))","v":" "}]
[null,null,null,null,null,null,null,null,null,null,null,null," "," "," "," ",{"$f":"IF(I17634=\"\",\"\",IF(I17634<='Main page'!$F$49,\"Core staff\",\"Senior staff\"))","v":""},{"$f":"IF(D17634=\"\",\" \",'Main page'!$F$21-(D17634))","v":" "},{"$f":"IF(D17634=\"\",\" \",VLOOKUP(R17634,'Main page'!$E$29:'Main page'!$G$41,3,TRUE))","v":" "}]
[null,null,null,null,null,null,null,null,null,null,null,null," "," "," "," ",{"$f":"IF(I17642=\"\",\"\",IF(I17642<='Main page'!$F$49,\"Core staff\",\"Senior staff\"))","v":""},{"$f":"IF(D17642=\"\",\" \",'Main page'!$F$21-(D17642))","v":" "},{"$f":"IF(D17642=\"\",\" \",VLOOKUP(R17642,'Main page'!$E$29:'Main page'!$G$41,3,TRUE))","v":" "}]
[null,null,null,null,null,null,null,null,null,null,null,null," "," "," "," ",{"$f":"IF(I17648=\"\",\"\",IF(I17648<='Main page'!$F$49,\"Core staff\",\"Senior staff\"))","v":""},{"$f":"IF(D17648=\"\",\" \",'Main page'!$F$21-(D17648))","v":" "},{"$f":"IF(D17648=\"\",\" \",VLOOKUP(R17648,'Main page'!$E$29:'Main page'!$G$41,3,TRUE))","v":" "}]
[null,null,null,null,null,null,null,null,null,null,null,null," "," "," "," ",{"$f":"IF(I17655=\"\",\"\",IF(I17655<='Main page'!$F$49,\"Core staff\",\"Senior staff\"))","v":""},{"$f":"IF(D17655=\"\",\" \",'Main page'!$F$21-(D17655))","v":" "},{"$f":"IF(D17655=\"\",\" \",VLOOKUP(R17655,'Main page'!$E$29:'Main page'!$G$41,3,TRUE))","v":" "}]
[null,null,null,null,null,null,null,null,null,null,null,null," "," "," "," ",{"$f":"IF(I17667=\"\",\"\",IF(I17667<='Main page'!$F$49,\"Core staff\",\"Senior staff\"))","v":""},{"$f":"IF(D17667=\"\",\" \",'Main page'!$F$21-(D17667))","v":" "},{"$f":"IF(D17667=\"\",\" \",VLOOKUP(R17667,'Main page'!$E$29:'Main page'!$G$41,3,TRUE))","v":" "}]
[null,null,null,null,null,null,null,null,null,null,null,null," "," "," "," ",{"$f":"IF(I17673=\"\",\"\",IF(I17673<='Main page'!$F$49,\"Core staff\",\"Senior staff\"))","v":""},{"$f":"IF(D17673=\"\",\" \",'Main page'!$F$21-(D17673))","v":" "},{"$f":"IF(D17673=\"\",\" \",VLOOKUP(R17673,'Main page'!$E$29:'Main page'!$G$41,3,TRUE))","v":" "}]
[null,null,null,null,null,null,null,null,null,null,null,null," "," "," "," ",{"$f":"IF(I17685=\"\",\"\",IF(I17685<='Main page'!$F$49,\"Core staff\",\"Senior staff\"))","v":""},{"$f":"IF(D17685=\"\",\" \",'Main page'!$F$21-(D17685))","v":" "},{"$f":"IF(D17685=\"\",\" \",VLOOKUP(R17685,'Main page'!$E$29:'Main page'!$G$41,3,TRUE))","v":" "}]
[null,null,null,null,null,null,null,null,null,null,null,null," "," "," "," ",{"$f":"IF(I17697=\"\",\"\",IF(I17697<='Main page'!$F$49,\"Core staff\",\"Senior staff\"))","v":""},{"$f":"IF(D17697=\"\",\" \",'Main page'!$F$21-(D17697))","v":" "},{"$f":"IF(D17697=\"\",\" \",VLOOKUP(R17697,'Main page'!$E$29:'Main page'!$G$41,3,TRUE))","v":" "}]
[null,null,null,null,null,null,null,null,null,null,null,null," "," "," "," ",{"$f":"IF(I17704=\"\",\"\",IF(I17704<='Main page'!$F$49,\"Core staff\",\"Senior staff\"))","v":""},{"$f":"IF(D17704=\"\",\" \",'Main page'!$F$21-(D17704))","v":" "},{"$f":"IF(D17704=\"\",\" \",VLOOKUP(R17704,'Main page'!$E$29:'Main page'!$G$41,3,TRUE))","v":" "}]
[null,null,null,null,null,null,null,null,null,null,null,null," "," "," "," ",{"$f":"IF(I17712=\"\",\"\",IF(I17712<='Main page'!$F$49,\"Core staff\",\"Senior staff\"))","v":""},{"$f":"IF(D17712=\"\",\" \",'Main page'!$F$21-(D17712))","v":" "},{"$f":"IF(D17712=\"\",\" \",VLOOKUP(R17712,'Main page'!$E$29:'Main page'!$G$41,3,TRUE))","v":" "}]
[null,null,null,null,null,null,null,null,null,null,null,null," "," "," "," ",{"$f":"IF(I17722=\"\",\"\",IF(I17722<='Main page'!$F$49,\"Core staff\",\"Senior staff\"))","v":""},{"$f":"IF(D17722=\"\",\" \",'Main page'!$F$21-(D17722))","v":" "},{"$f":"IF(D17722=\"\",\" \",VLOOKUP(R17722,'Main page'!$E$29:'Main page'!$G$41,3,TRUE))","v":" "}]
[null,null,null,null,null,null,null,null,null,null,null,null," "," "," "," ",{"$f":"IF(I17725=\"\",\"\",IF(I17725<='Main page'!$F$49,\"Core staff\",\"Senior staff\"))","v":""},{"$f":"IF(D17725=\"\",\" \",'Main page'!$F$21-(D17725))","v":" "},{"$f":"IF(D17725=\"\",\" \",VLOOKUP(R17725,'Main page'!$E$29:'Main page'!$G$41,3,TRUE))","v":" "}]
[null,null,null,null,null,null,null,null,null,null,null,null," "," "," "," ",{"$f":"IF(I17737=\"\",\"\",IF(I17737<='Main page'!$F$49,\"Core staff\",\"Senior staff\"))","v":""},{"$f":"IF(D17737=\"\",\" \",'Main page'!$F$21-(D17737))","v":" "},{"$f":"IF(D17737=\"\",\" \",VLOOKUP(R17737,'Main page'!$E$29:'Main page'!$G$41,3,TRUE))","v":" "}]
[null,null,null,null,null,null,null,null,null,null,null,null," "," "," "," ",{"$f":"IF(I17743=\"\",\"\",IF(I17743<='Main page'!$F$49,\"Core staff\",\"Senior staff\"))","v":""},{"$f":"IF(D17743=\"\",\" \",'Main page'!$F$21-(D17743))","v":" "},{"$f":"IF(D17743=\"\",\" \",VLOOKUP(R17743,'Main page'!$E$29:'Main page'!$G$41,3,TRUE))","v":" "}]
[null,null,null,null,null,null,null,null,null,null,null,null," "," "," "," ",{"$f":"IF(I17755=\"\",\"\",IF(I17755<='Main page'!$F$49,\"Core staff\",\"Senior staff\"))","v":""},{"$f":"IF(D17755=\"\",\" \",'Main page'!$F$21-(D17755))","v":" "},{"$f":"IF(D17755=\"\",\" \",VLOOKUP(R17755,'Main page'!$E$29:'Main page'!$G$41,3,TRUE))","v":" "}]
[null,null,null,null,null,null,null,null,null,null,null,null," "," "," "," ",{"$f":"IF(I17767=\"\",\"\",IF(I17767<='Main page'!$F$49,\"Core staff\",\"Senior staff\"))","v":""},{"$f":"IF(D17767=\"\",\" \",'Main page'!$F$21-(D17767))","v":" "},{"$f":"IF(D17767=\"\",\" \",VLOOKUP(R17767,'Main page'!$E$29:'Main page'!$G$41,3,TRUE))","v":" "}]
[null,null,null,null,null,null,null,null,null,null,null,null," "," "," "," ",{"$f":"IF(I17774=\"\",\"\",IF(I17774<='Main page'!$F$49,\"Core staff\",\"Senior staff\"))","v":""},{"$f":"IF(D17774=\"\",\" \",'Main page'!$F$21-(D17774))","v":" "},{"$f":"IF(D17774=\"\",\" \",VLOOKUP(R17774,'Main page'!$E$29:'Main page'!$G$41,3,TRUE))","v":" "}]
[null,null,null,null,null,null,null,null,null,null,null,null," "," "," "," ",{"$f":"IF(I17782=\"\",\"\",IF(I17782<='Main page'!$F$49,\"Core staff\",\"Senior staff\"))","v":""},{"$f":"IF(D17782=\"\",\" \",'Main page'!$F$21-(D17782))","v":" "},{"$f":"IF(D17782=\"\",\" \",VLOOKUP(R17782,'Main page'!$E$29:'Main page'!$G$41,3,TRUE))","v":" "}]
[null,null,null,null,null,null,null,null,null,null,null,null," "," "," "," ",{"$f":"IF(I17792=\"\",\"\",IF(I17792<='Main page'!$F$49,\"Core staff\",\"Senior staff\"))","v":""},{"$f":"IF(D17792=\"\",\" \",'Main page'!$F$21-(D17792))","v":" "},{"$f":"IF(D17792=\"\",\" \",VLOOKUP(R17792,'Main page'!$E$29:'Main page'!$G$41,3,TRUE))","v":" "}]
[null,null,null,null,null,null,null,null,null,null,null,null," "," "," "," ",{"$f":"IF(I17795=\"\",\"\",IF(I17795<='Main page'!$F$49,\"Core staff\",\"Senior staff\"))","v":""},{"$f":"IF(D17795=\"\",\" \",'Main page'!$F$21-(D17795))","v":" "},{"$f":"IF(D17795=\"\",\" \",VLOOKUP(R17795,'Main page'!$E$29:'Main page'!$G$41,3,TRUE))","v":" "}]
[null,null,null,null,null,null,null,null,null,null,null,null," "," "," "," ",{"$f":"IF(I17807=\"\",\"\",IF(I17807<='Main page'!$F$49,\"Core staff\",\"Senior staff\"))","v":""},{"$f":"IF(D17807=\"\",\" \",'Main page'!$F$21-(D17807))","v":" "},{"$f":"IF(D17807=\"\",\" \",VLOOKUP(R17807,'Main page'!$E$29:'Main page'!$G$41,3,TRUE))","v":" "}]
[null,null,null,null,null,null,null,null,null,null,null,null," "," "," "," ",{"$f":"IF(I17813=\"\",\"\",IF(I17813<='Main page'!$F$49,\"Core staff\",\"Senior staff\"))","v":""},{"$f":"IF(D17813=\"\",\" \",'Main page'!$F$21-(D17813))","v":" "},{"$f":"IF(D17813=\"\",\" \",VLOOKUP(R17813,'Main page'!$E$29:'Main page'!$G$41,3,TRUE))","v":" "}]
[null,null,null,null,null,null,null,null,null,null,null,null," "," "," "," ",{"$f":"IF(I17825=\"\",\"\",IF(I17825<='Main page'!$F$49,\"Core staff\",\"Senior staff\"))","v":""},{"$f":"IF(D17825=\"\",\" \",'Main page'!$F$21-(D17825))","v":" "},{"$f":"IF(D17825=\"\",\" \",VLOOKUP(R17825,'Main page'!$E$29:'Main page'!$G$41,3,TRUE))","v":" "}]
[null,null,null,null,null,null,null,null,null,null,null,null," "," "," "," ",{"$f":"IF(I17837=\"\",\"\",IF(I17837<='Main page'!$F$49,\"Core staff\",\"Senior staff\"))","v":""},{"$f":"IF(D17837=\"\",\" \",'Main page'!$F$21-(D17837))","v":" "},{"$f":"IF(D17837=\"\",\" \",VLOOKUP(R17837,'Main page'!$E$29:'Main page'!$G$41,3,TRUE))","v":" "}]
[null,null,null,null,null,null,null,null,null,null,null,null," "," "," "," ",{"$f":"IF(I17844=\"\",\"\",IF(I17844<='Main page'!$F$49,\"Core staff\",\"Senior staff\"))","v":""},{"$f":"IF(D17844=\"\",\" \",'Main page'!$F$21-(D17844))","v":" "},{"$f":"IF(D17844=\"\",\" \",VLOOKUP(R17844,'Main page'!$E$29:'Main page'!$G$41,3,TRUE))","v":" "}]
[null,null,null,null,null,null,null,null,null,null,null,null," "," "," "," ",{"$f":"IF(I17852=\"\",\"\",IF(I17852<='Main page'!$F$49,\"Core staff\",\"Senior staff\"))","v":""},{"$f":"IF(D17852=\"\",\" \",'Main page'!$F$21-(D17852))","v":" "},{"$f":"IF(D17852=\"\",\" \",VLOOKUP(R17852,'Main page'!$E$29:'Main page'!$G$41,3,TRUE))","v":" "}]
[null,null,null,null,null,null,null,null,null,null,null,null," "," "," "," ",{"$f":"IF(I17862=\"\",\"\",IF(I17862<='Main page'!$F$49,\"Core staff\",\"Senior staff\"))","v":""},{"$f":"IF(D17862=\"\",\" \",'Main page'!$F$21-(D17862))","v":" "},{"$f":"IF(D17862=\"\",\" \",VLOOKUP(R17862,'Main page'!$E$29:'Main page'!$G$41,3,TRUE))","v":" "}]
[null,null,null,null,null,null,null,null,null,null,null,null," "," "," "," ",{"$f":"IF(I17865=\"\",\"\",IF(I17865<='Main page'!$F$49,\"Core staff\",\"Senior staff\"))","v":""},{"$f":"IF(D17865=\"\",\" \",'Main page'!$F$21-(D17865))","v":" "},{"$f":"IF(D17865=\"\",\" \",VLOOKUP(R17865,'Main page'!$E$29:'Main page'!$G$41,3,TRUE))","v":" "}]
[null,null,null,null,null,null,null,null,null,null,null,null," "," "," "," ",{"$f":"IF(I17877=\"\",\"\",IF(I17877<='Main page'!$F$49,\"Core staff\",\"Senior staff\"))","v":""},{"$f":"IF(D17877=\"\",\" \",'Main page'!$F$21-(D17877))","v":" "},{"$f":"IF(D17877=\"\",\" \",VLOOKUP(R17877,'Main page'!$E$29:'Main page'!$G$41,3,TRUE))","v":" "}]
[null,null,null,null,null,null,null,null,null,null,null,null," "," "," "," ",{"$f":"IF(I17883=\"\",\"\",IF(I17883<='Main page'!$F$49,\"Core staff\",\"Senior staff\"))","v":""},{"$f":"IF(D17883=\"\",\" \",'Main page'!$F$21-(D17883))","v":" "},{"$f":"IF(D17883=\"\",\" \",VLOOKUP(R17883,'Main page'!$E$29:'Main page'!$G$41,3,TRUE))","v":" "}]
[null,null,null,null,null,null,null,null,null,null,null,null," "," "," "," ",{"$f":"IF(I17895=\"\",\"\",IF(I17895<='Main page'!$F$49,\"Core staff\",\"Senior staff\"))","v":""},{"$f":"IF(D17895=\"\",\" \",'Main page'!$F$21-(D17895))","v":" "},{"$f":"IF(D17895=\"\",\" \",VLOOKUP(R17895,'Main page'!$E$29:'Main page'!$G$41,3,TRUE))","v":" "}]
[null,null,null,null,null,null,null,null,null,null,null,null," "," "," "," ",{"$f":"IF(I17902=\"\",\"\",IF(I17902<='Main page'!$F$49,\"Core staff\",\"Senior staff\"))","v":""},{"$f":"IF(D17902=\"\",\" \",'Main page'!$F$21-(D17902))","v":" "},{"$f":"IF(D17902=\"\",\" \",VLOOKUP(R17902,'Main page'!$E$29:'Main page'!$G$41,3,TRUE))","v":" "}]
[null,null,null,null,null,null,null,null,null,null,null,null," "," "," "," ",{"$f":"IF(I17914=\"\",\"\",IF(I17914<='Main page'!$F$49,\"Core staff\",\"Senior staff\"))","v":""},{"$f":"IF(D17914=\"\",\" \",'Main page'!$F$21-(D17914))","v":" "},{"$f":"IF(D17914=\"\",\" \",VLOOKUP(R17914,'Main page'!$E$29:'Main page'!$G$41,3,TRUE))","v":" "}]
[null,null,null,null,null,null,null,null,null,null,null,null," "," "," "," ",{"$f":"IF(I17922=\"\",\"\",IF(I17922<='Main page'!$F$49,\"Core staff\",\"Senior staff\"))","v":""},{"$f":"IF(D17922=\"\",\" \",'Main page'!$F$21-(D17922))","v":" "},{"$f":"IF(D17922=\"\",\" \",VLOOKUP(R17922,'Main page'!$E$29:'Main page'!$G$41,3,TRUE))","v":" "}]
[null,null,null,null,null,null,null,null,null,null,null,null," "," "," "," ",{"$f":"IF(I17932=\"\",\"\",IF(I17932<='Main page'!$F$49,\"Core staff\",\"Senior staff\"))","v":""},{"$f":"IF(D17932=\"\",\" \",'Main page'!$F$21-(D17932))","v":" "},{"$f":"IF(D17932=\"\",\" \",VLOOKUP(R17932,'Main page'!$E$29:'Main page'!$G$41,3,TRUE))","v":" "}]
[null,null,null,null,null,null,null,null,null,null,null,null," "," "," "," ",{"$f":"IF(I17935=\"\",\"\",IF(I17935<='Main page'!$F$49,\"Core staff\",\"Senior staff\"))","v":""},{"$f":"IF(D17935=\"\",\" \",'Main page'!$F$21-(D17935))","v":" "},{"$f":"IF(D17935=\"\",\" \",VLOOKUP(R17935,'Main page'!$E$29:'Main page'!$G$41,3,TRUE))","v":" "}]
[null,null,null,null,null,null,null,null,null,null,null,null," "," "," "," ",{"$f":"IF(I17947=\"\",\"\",IF(I17947<='Main page'!$F$49,\"Core staff\",\"Senior staff\"))","v":""},{"$f":"IF(D17947=\"\",\" \",'Main page'!$F$21-(D17947))","v":" "},{"$f":"IF(D17947=\"\",\" \",VLOOKUP(R17947,'Main page'!$E$29:'Main page'!$G$41,3,TRUE))","v":" "}]
[null,null,null,null,null,null,null,null,null,null,null,null," "," "," "," ",{"$f":"IF(I17953=\"\",\"\",IF(I17953<='Main page'!$F$49,\"Core staff\",\"Senior staff\"))","v":""},{"$f":"IF(D17953=\"\",\" \",'Main page'!$F$21-(D17953))","v":" "},{"$f":"IF(D17953=\"\",\" \",VLOOKUP(R17953,'Main page'!$E$29:'Main page'!$G$41,3,TRUE))","v":" "}]
[null,null,null,null,null,null,null,null,null,null,null,null," "," "," "," ",{"$f":"IF(I17965=\"\",\"\",IF(I17965<='Main page'!$F$49,\"Core staff\",\"Senior staff\"))","v":""},{"$f":"IF(D17965=\"\",\" \",'Main page'!$F$21-(D17965))","v":" "},{"$f":"IF(D17965=\"\",\" \",VLOOKUP(R17965,'Main page'!$E$29:'Main page'!$G$41,3,TRUE))","v":" "}]
[null,null,null,null,null,null,null,null,null,null,null,null," "," "," "," ",{"$f":"IF(I17972=\"\",\"\",IF(I17972<='Main page'!$F$49,\"Core staff\",\"Senior staff\"))","v":""},{"$f":"IF(D17972=\"\",\" \",'Main page'!$F$21-(D17972))","v":" "},{"$f":"IF(D17972=\"\",\" \",VLOOKUP(R17972,'Main page'!$E$29:'Main page'!$G$41,3,TRUE))","v":" "}]
[null,null,null,null,null,null,null,null,null,null,null,null," "," "," "," ",{"$f":"IF(I17984=\"\",\"\",IF(I17984<='Main page'!$F$49,\"Core staff\",\"Senior staff\"))","v":""},{"$f":"IF(D17984=\"\",\" \",'Main page'!$F$21-(D17984))","v":" "},{"$f":"IF(D17984=\"\",\" \",VLOOKUP(R17984,'Main page'!$E$29:'Main page'!$G$41,3,TRUE))","v":" "}]
[null,null,null,null,null,null,null,null,null,null,null,null," "," "," "," ",{"$f":"IF(I17992=\"\",\"\",IF(I17992<='Main page'!$F$49,\"Core staff\",\"Senior staff\"))","v":""},{"$f":"IF(D17992=\"\",\" \",'Main page'!$F$21-(D17992))","v":" "},{"$f":"IF(D17992=\"\",\" \",VLOOKUP(R17992,'Main page'!$E$29:'Main page'!$G$41,3,TRUE))","v":" "}]
[null,null,null,null,null,null,null,null,null,null,null,null," "," "," "," ",{"$f":"IF(I18002=\"\",\"\",IF(I18002<='Main page'!$F$49,\"Core staff\",\"Senior staff\"))","v":""},{"$f":"IF(D18002=\"\",\" \",'Main page'!$F$21-(D18002))","v":" "},{"$f":"IF(D18002=\"\",\" \",VLOOKUP(R18002,'Main page'!$E$29:'Main page'!$G$41,3,TRUE))","v":" "}]
[null,null,null,null,null,null,null,null,null,null,null,null," "," "," "," ",{"$f":"IF(I18005=\"\",\"\",IF(I18005<='Main page'!$F$49,\"Core staff\",\"Senior staff\"))","v":""},{"$f":"IF(D18005=\"\",\" \",'Main page'!$F$21-(D18005))","v":" "},{"$f":"IF(D18005=\"\",\" \",VLOOKUP(R18005,'Main page'!$E$29:'Main page'!$G$41,3,TRUE))","v":" "}]
[null,null,null,null,null,null,null,null,null,null,null,null," "," "," "," ",{"$f":"IF(I18017=\"\",\"\",IF(I18017<='Main page'!$F$49,\"Core staff\",\"Senior staff\"))","v":""},{"$f":"IF(D18017=\"\",\" \",'Main page'!$F$21-(D18017))","v":" "},{"$f":"IF(D18017=\"\",\" \",VLOOKUP(R18017,'Main page'!$E$29:'Main page'!$G$41,3,TRUE))","v":" "}]
[null,null,null,null,null,null,null,null,null,null,null,null," "," "," "," ",{"$f":"IF(I18023=\"\",\"\",IF(I18023<='Main page'!$F$49,\"Core staff\",\"Senior staff\"))","v":""},{"$f":"IF(D18023=\"\",\" \",'Main page'!$F$21-(D18023))","v":" "},{"$f":"IF(D18023=\"\",\" \",VLOOKUP(R18023,'Main page'!$E$29:'Main page'!$G$41,3,TRUE))","v":" "}]
[null,null,null,null,null,null,null,null,null,null,null,null," "," "," "," ",{"$f":"IF(I18035=\"\",\"\",IF(I18035<='Main page'!$F$49,\"Core staff\",\"Senior staff\"))","v":""},{"$f":"IF(D18035=\"\",\" \",'Main page'!$F$21-(D18035))","v":" "},{"$f":"IF(D18035=\"\",\" \",VLOOKUP(R18035,'Main page'!$E$29:'Main page'!$G$41,3,TRUE))","v":" "}]
[null,null,null,null,null,null,null,null,null,null,null,null," "," "," "," ",{"$f":"IF(I18042=\"\",\"\",IF(I18042<='Main page'!$F$49,\"Core staff\",\"Senior staff\"))","v":""},{"$f":"IF(D18042=\"\",\" \",'Main page'!$F$21-(D18042))","v":" "},{"$f":"IF(D18042=\"\",\" \",VLOOKUP(R18042,'Main page'!$E$29:'Main page'!$G$41,3,TRUE))","v":" "}]
[null,null,null,null,null,null,null,null,null,null,null,null," "," "," "," ",{"$f":"IF(I18054=\"\",\"\",IF(I18054<='Main page'!$F$49,\"Core staff\",\"Senior staff\"))","v":""},{"$f":"IF(D18054=\"\",\" \",'Main page'!$F$21-(D18054))","v":" "},{"$f":"IF(D18054=\"\",\" \",VLOOKUP(R18054,'Main page'!$E$29:'Main page'!$G$41,3,TRUE))","v":" "}]
[null,null,null,null,null,null,null,null,null,null,null,null," "," "," "," ",{"$f":"IF(I18062=\"\",\"\",IF(I18062<='Main page'!$F$49,\"Core staff\",\"Senior staff\"))","v":""},{"$f":"IF(D18062=\"\",\" \",'Main page'!$F$21-(D18062))","v":" "},{"$f":"IF(D18062=\"\",\" \",VLOOKUP(R18062,'Main page'!$E$29:'Main page'!$G$41,3,TRUE))","v":" "}]
[null,null,null,null,null,null,null,null,null,null,null,null," "," "," "," ",{"$f":"IF(I18072=\"\",\"\",IF(I18072<='Main page'!$F$49,\"Core staff\",\"Senior staff\"))","v":""},{"$f":"IF(D18072=\"\",\" \",'Main page'!$F$21-(D18072))","v":" "},{"$f":"IF(D18072=\"\",\" \",VLOOKUP(R18072,'Main page'!$E$29:'Main page'!$G$41,3,TRUE))","v":" "}]
[null,null,null,null,null,null,null,null,null,null,null,null," "," "," "," ",{"$f":"IF(I18075=\"\",\"\",IF(I18075<='Main page'!$F$49,\"Core staff\",\"Senior staff\"))","v":""},{"$f":"IF(D18075=\"\",\" \",'Main page'!$F$21-(D18075))","v":" "},{"$f":"IF(D18075=\"\",\" \",VLOOKUP(R18075,'Main page'!$E$29:'Main page'!$G$41,3,TRUE))","v":" "}]
[null,null,null,null,null,null,null,null,null,null,null,null," "," "," "," ",{"$f":"IF(I18091=\"\",\"\",IF(I18091<='Main page'!$F$49,\"Core staff\",\"Senior staff\"))","v":""},{"$f":"IF(D18091=\"\",\" \",'Main page'!$F$21-(D18091))","v":" "},{"$f":"IF(D18091=\"\",\" \",VLOOKUP(R18091,'Main page'!$E$29:'Main page'!$G$41,3,TRUE))","v":" "}]
[null,null,null,null,null,null,null,null,null,null,null,null," "," "," "," ",{"$f":"IF(I18093=\"\",\"\",IF(I18093<='Main page'!$F$49,\"Core staff\",\"Senior staff\"))","v":""},{"$f":"IF(D18093=\"\",\" \",'Main page'!$F$21-(D18093))","v":" "},{"$f":"IF(D18093=\"\",\" \",VLOOKUP(R18093,'Main page'!$E$29:'Main page'!$G$41,3,TRUE))","v":" "}]
[null,null,null,null,null,null,null,null,null,null,null,null," "," "," "," ",{"$f":"IF(I18105=\"\",\"\",IF(I18105<='Main page'!$F$49,\"Core staff\",\"Senior staff\"))","v":""},{"$f":"IF(D18105=\"\",\" \",'Main page'!$F$21-(D18105))","v":" "},{"$f":"IF(D18105=\"\",\" \",VLOOKUP(R18105,'Main page'!$E$29:'Main page'!$G$41,3,TRUE))","v":" "}]
[null,null,null,null,null,null,null,null,null,null,null,null," "," "," "," ",{"$f":"IF(I18112=\"\",\"\",IF(I18112<='Main page'!$F$49,\"Core staff\",\"Senior staff\"))","v":""},{"$f":"IF(D18112=\"\",\" \",'Main page'!$F$21-(D18112))","v":" "},{"$f":"IF(D18112=\"\",\" \",VLOOKUP(R18112,'Main page'!$E$29:'Main page'!$G$41,3,TRUE))","v":" "}]
[null,null,null,null,null,null,null,null,null,null,null,null," "," "," "," ",{"$f":"IF(I18124=\"\",\"\",IF(I18124<='Main page'!$F$49,\"Core staff\",\"Senior staff\"))","v":""},{"$f":"IF(D18124=\"\",\" \",'Main page'!$F$21-(D18124))","v":" "},{"$f":"IF(D18124=\"\",\" \",VLOOKUP(R18124,'Main page'!$E$29:'Main page'!$G$41,3,TRUE))","v":" "}]
[null,null,null,null,null,null,null,null,null,null,null,null," "," "," "," ",{"$f":"IF(I18132=\"\",\"\",IF(I18132<='Main page'!$F$49,\"Core staff\",\"Senior staff\"))","v":""},{"$f":"IF(D18132=\"\",\" \",'Main page'!$F$21-(D18132))","v":" "},{"$f":"IF(D18132=\"\",\" \",VLOOKUP(R18132,'Main page'!$E$29:'Main page'!$G$41,3,TRUE))","v":" "}]
[null,null,null,null,null,null,null,null,null,null,null,null," "," "," "," ",{"$f":"IF(I18142=\"\",\"\",IF(I18142<='Main page'!$F$49,\"Core staff\",\"Senior staff\"))","v":""},{"$f":"IF(D18142=\"\",\" \",'Main page'!$F$21-(D18142))","v":" "},{"$f":"IF(D18142=\"\",\" \",VLOOKUP(R18142,'Main page'!$E$29:'Main page'!$G$41,3,TRUE))","v":" "}]
[null,null,null,null,null,null,null,null,null,null,null,null," "," "," "," ",{"$f":"IF(I18145=\"\",\"\",IF(I18145<='Main page'!$F$49,\"Core staff\",\"Senior staff\"))","v":""},{"$f":"IF(D18145=\"\",\" \",'Main page'!$F$21-(D18145))","v":" "},{"$f":"IF(D18145=\"\",\" \",VLOOKUP(R18145,'Main page'!$E$29:'Main page'!$G$41,3,TRUE))","v":" "}]
[null,null,null,null,null,null,null,null,null,null,null,null," "," "," "," ",{"$f":"IF(I18161=\"\",\"\",IF(I18161<='Main page'!$F$49,\"Core staff\",\"Senior staff\"))","v":""},{"$f":"IF(D18161=\"\",\" \",'Main page'!$F$21-(D18161))","v":" "},{"$f":"IF(D18161=\"\",\" \",VLOOKUP(R18161,'Main page'!$E$29:'Main page'!$G$41,3,TRUE))","v":" "}]
[null,null,null,null,null,null,null,null,null,null,null,null," "," "," "," ",{"$f":"IF(I18163=\"\",\"\",IF(I18163<='Main page'!$F$49,\"Core staff\",\"Senior staff\"))","v":""},{"$f":"IF(D18163=\"\",\" \",'Main page'!$F$21-(D18163))","v":" "},{"$f":"IF(D18163=\"\",\" \",VLOOKUP(R18163,'Main page'!$E$29:'Main page'!$G$41,3,TRUE))","v":" "}]
[null,null,null,null,null,null,null,null,null,null,null,null," "," "," "," ",{"$f":"IF(I18175=\"\",\"\",IF(I18175<='Main page'!$F$49,\"Core staff\",\"Senior staff\"))","v":""},{"$f":"IF(D18175=\"\",\" \",'Main page'!$F$21-(D18175))","v":" "},{"$f":"IF(D18175=\"\",\" \",VLOOKUP(R18175,'Main page'!$E$29:'Main page'!$G$41,3,TRUE))","v":" "}]
[null,null,null,null,null,null,null,null,null,null,null,null," "," "," "," ",{"$f":"IF(I18182=\"\",\"\",IF(I18182<='Main page'!$F$49,\"Core staff\",\"Senior staff\"))","v":""},{"$f":"IF(D18182=\"\",\" \",'Main page'!$F$21-(D18182))","v":" "},{"$f":"IF(D18182=\"\",\" \",VLOOKUP(R18182,'Main page'!$E$29:'Main page'!$G$41,3,TRUE))","v":" "}]
[null,null,null,null,null,null,null,null,null,null,null,null," "," "," "," ",{"$f":"IF(I18194=\"\",\"\",IF(I18194<='Main page'!$F$49,\"Core staff\",\"Senior staff\"))","v":""},{"$f":"IF(D18194=\"\",\" \",'Main page'!$F$21-(D18194))","v":" "},{"$f":"IF(D18194=\"\",\" \",VLOOKUP(R18194,'Main page'!$E$29:'Main page'!$G$41,3,TRUE))","v":" "}]
[null,null,null,null,null,null,null,null,null,null,null,null," "," "," "," ",{"$f":"IF(I18202=\"\",\"\",IF(I18202<='Main page'!$F$49,\"Core staff\",\"Senior staff\"))","v":""},{"$f":"IF(D18202=\"\",\" \",'Main page'!$F$21-(D18202))","v":" "},{"$f":"IF(D18202=\"\",\" \",VLOOKUP(R18202,'Main page'!$E$29:'Main page'!$G$41,3,TRUE))","v":" "}]
[null,null,null,null,null,null,null,null,null,null,null,null," "," "," "," ",{"$f":"IF(I18212=\"\",\"\",IF(I18212<='Main page'!$F$49,\"Core staff\",\"Senior staff\"))","v":""},{"$f":"IF(D18212=\"\",\" \",'Main page'!$F$21-(D18212))","v":" "},{"$f":"IF(D18212=\"\",\" \",VLOOKUP(R18212,'Main page'!$E$29:'Main page'!$G$41,3,TRUE))","v":" "}]
[null,null,null,null,null,null,null,null,null,null,null,null," "," "," "," ",{"$f":"IF(I18215=\"\",\"\",IF(I18215<='Main page'!$F$49,\"Core staff\",\"Senior staff\"))","v":""},{"$f":"IF(D18215=\"\",\" \",'Main page'!$F$21-(D18215))","v":" "},{"$f":"IF(D18215=\"\",\" \",VLOOKUP(R18215,'Main page'!$E$29:'Main page'!$G$41,3,TRUE))","v":" "}]
[null,null,null,null,null,null,null,null,null,null,null,null," "," "," "," ",{"$f":"IF(I18231=\"\",\"\",IF(I18231<='Main page'!$F$49,\"Core staff\",\"Senior staff\"))","v":""},{"$f":"IF(D18231=\"\",\" \",'Main page'!$F$21-(D18231))","v":" "},{"$f":"IF(D18231=\"\",\" \",VLOOKUP(R18231,'Main page'!$E$29:'Main page'!$G$41,3,TRUE))","v":" "}]
[null,null,null,null,null,null,null,null,null,null,null,null," "," "," "," ",{"$f":"IF(I18233=\"\",\"\",IF(I18233<='Main page'!$F$49,\"Core staff\",\"Senior staff\"))","v":""},{"$f":"IF(D18233=\"\",\" \",'Main page'!$F$21-(D18233))","v":" "},{"$f":"IF(D18233=\"\",\" \",VLOOKUP(R18233,'Main page'!$E$29:'Main page'!$G$41,3,TRUE))","v":" "}]
[null,null,null,null,null,null,null,null,null,null,null,null," "," "," "," ",{"$f":"IF(I18245=\"\",\"\",IF(I18245<='Main page'!$F$49,\"Core staff\",\"Senior staff\"))","v":""},{"$f":"IF(D18245=\"\",\" \",'Main page'!$F$21-(D18245))","v":" "},{"$f":"IF(D18245=\"\",\" \",VLOOKUP(R18245,'Main page'!$E$29:'Main page'!$G$41,3,TRUE))","v":" "}]
[null,null,null,null,null,null,null,null,null,null,null,null," "," "," "," ",{"$f":"IF(I18252=\"\",\"\",IF(I18252<='Main page'!$F$49,\"Core staff\",\"Senior staff\"))","v":""},{"$f":"IF(D18252=\"\",\" \",'Main page'!$F$21-(D18252))","v":" "},{"$f":"IF(D18252=\"\",\" \",VLOOKUP(R18252,'Main page'!$E$29:'Main page'!$G$41,3,TRUE))","v":" "}]
[null,null,null,null,null,null,null,null,null,null,null,null," "," "," "," ",{"$f":"IF(I18264=\"\",\"\",IF(I18264<='Main page'!$F$49,\"Core staff\",\"Senior staff\"))","v":""},{"$f":"IF(D18264=\"\",\" \",'Main page'!$F$21-(D18264))","v":" "},{"$f":"IF(D18264=\"\",\" \",VLOOKUP(R18264,'Main page'!$E$29:'Main page'!$G$41,3,TRUE))","v":" "}]
[null,null,null,null,null,null,null,null,null,null,null,null," "," "," "," ",{"$f":"IF(I18272=\"\",\"\",IF(I18272<='Main page'!$F$49,\"Core staff\",\"Senior staff\"))","v":""},{"$f":"IF(D18272=\"\",\" \",'Main page'!$F$21-(D18272))","v":" "},{"$f":"IF(D18272=\"\",\" \",VLOOKUP(R18272,'Main page'!$E$29:'Main page'!$G$41,3,TRUE))","v":" "}]
[null,null,null,null,null,null,null,null,null,null,null,null," "," "," "," ",{"$f":"IF(I18282=\"\",\"\",IF(I18282<='Main page'!$F$49,\"Core staff\",\"Senior staff\"))","v":""},{"$f":"IF(D18282=\"\",\" \",'Main page'!$F$21-(D18282))","v":" "},{"$f":"IF(D18282=\"\",\" \",VLOOKUP(R18282,'Main page'!$E$29:'Main page'!$G$41,3,TRUE))","v":" "}]
[null,null,null,null,null,null,null,null,null,null,null,null," "," "," "," ",{"$f":"IF(I18285=\"\",\"\",IF(I18285<='Main page'!$F$49,\"Core staff\",\"Senior staff\"))","v":""},{"$f":"IF(D18285=\"\",\" \",'Main page'!$F$21-(D18285))","v":" "},{"$f":"IF(D18285=\"\",\" \",VLOOKUP(R18285,'Main page'!$E$29:'Main page'!$G$41,3,TRUE))","v":" "}]
[null,null,null,null,null,null,null,null,null,null,null,null," "," "," "," ",{"$f":"IF(I18301=\"\",\"\",IF(I18301<='Main page'!$F$49,\"Core staff\",\"Senior staff\"))","v":""},{"$f":"IF(D18301=\"\",\" \",'Main page'!$F$21-(D18301))","v":" "},{"$f":"IF(D18301=\"\",\" \",VLOOKUP(R18301,'Main page'!$E$29:'Main page'!$G$41,3,TRUE))","v":" "}]
[null,null,null,null,null,null,null,null,null,null,null,null," "," "," "," ",{"$f":"IF(I18303=\"\",\"\",IF(I18303<='Main page'!$F$49,\"Core staff\",\"Senior staff\"))","v":""},{"$f":"IF(D18303=\"\",\" \",'Main page'!$F$21-(D18303))","v":" "},{"$f":"IF(D18303=\"\",\" \",VLOOKUP(R18303,'Main page'!$E$29:'Main page'!$G$41,3,TRUE))","v":" "}]
[null,null,null,null,null,null,null,null,null,null,null,null," "," "," "," ",{"$f":"IF(I18315=\"\",\"\",IF(I18315<='Main page'!$F$49,\"Core staff\",\"Senior staff\"))","v":""},{"$f":"IF(D18315=\"\",\" \",'Main page'!$F$21-(D18315))","v":" "},{"$f":"IF(D18315=\"\",\" \",VLOOKUP(R18315,'Main page'!$E$29:'Main page'!$G$41,3,TRUE))","v":" "}]
[null,null,null,null,null,null,null,null,null,null,null,null," "," "," "," ",{"$f":"IF(I18322=\"\",\"\",IF(I18322<='Main page'!$F$49,\"Core staff\",\"Senior staff\"))","v":""},{"$f":"IF(D18322=\"\",\" \",'Main page'!$F$21-(D18322))","v":" "},{"$f":"IF(D18322=\"\",\" \",VLOOKUP(R18322,'Main page'!$E$29:'Main page'!$G$41,3,TRUE))","v":" "}]
[null,null,null,null,null,null,null,null,null,null,null,null," "," "," "," ",{"$f":"IF(I18334=\"\",\"\",IF(I18334<='Main page'!$F$49,\"Core staff\",\"Senior staff\"))","v":""},{"$f":"IF(D18334=\"\",\" \",'Main page'!$F$21-(D18334))","v":" "},{"$f":"IF(D18334=\"\",\" \",VLOOKUP(R18334,'Main page'!$E$29:'Main page'!$G$41,3,TRUE))","v":" "}]
[null,null,null,null,null,null,null,null,null,null,null,null," "," "," "," ",{"$f":"IF(I18342=\"\",\"\",IF(I18342<='Main page'!$F$49,\"Core staff\",\"Senior staff\"))","v":""},{"$f":"IF(D18342=\"\",\" \",'Main page'!$F$21-(D18342))","v":" "},{"$f":"IF(D18342=\"\",\" \",VLOOKUP(R18342,'Main page'!$E$29:'Main page'!$G$41,3,TRUE))","v":" "}]
[null,null,null,null,null,null,null,null,null,null,null,null," "," "," "," ",{"$f":"IF(I18352=\"\",\"\",IF(I18352<='Main page'!$F$49,\"Core staff\",\"Senior staff\"))","v":""},{"$f":"IF(D18352=\"\",\" \",'Main page'!$F$21-(D18352))","v":" "},{"$f":"IF(D18352=\"\",\" \",VLOOKUP(R18352,'Main page'!$E$29:'Main page'!$G$41,3,TRUE))","v":" "}]
[null,null,null,null,null,null,null,null,null,null,null,null," "," "," "," ",{"$f":"IF(I18355=\"\",\"\",IF(I18355<='Main page'!$F$49,\"Core staff\",\"Senior staff\"))","v":""},{"$f":"IF(D18355=\"\",\" \",'Main page'!$F$21-(D18355))","v":" "},{"$f":"IF(D18355=\"\",\" \",VLOOKUP(R18355,'Main page'!$E$29:'Main page'!$G$41,3,TRUE))","v":" "}]
[null,null,null,null,null,null,null,null,null,null,null,null," "," "," "," ",{"$f":"IF(I18371=\"\",\"\",IF(I18371<='Main page'!$F$49,\"Core staff\",\"Senior staff\"))","v":""},{"$f":"IF(D18371=\"\",\" \",'Main page'!$F$21-(D18371))","v":" "},{"$f":"IF(D18371=\"\",\" \",VLOOKUP(R18371,'Main page'!$E$29:'Main page'!$G$41,3,TRUE))","v":" "}]
[null,null,null,null,null,null,null,null,null,null,null,null," "," "," "," ",{"$f":"IF(I18373=\"\",\"\",IF(I18373<='Main page'!$F$49,\"Core staff\",\"Senior staff\"))","v":""},{"$f":"IF(D18373=\"\",\" \",'Main page'!$F$21-(D18373))","v":" "},{"$f":"IF(D18373=\"\",\" \",VLOOKUP(R18373,'Main page'!$E$29:'Main page'!$G$41,3,TRUE))","v":" "}]
[null,null,null,null,null,null,null,null,null,null,null,null," "," "," "," ",{"$f":"IF(I18389=\"\",\"\",IF(I18389<='Main page'!$F$49,\"Core staff\",\"Senior staff\"))","v":""},{"$f":"IF(D18389=\"\",\" \",'Main page'!$F$21-(D18389))","v":" "},{"$f":"IF(D18389=\"\",\" \",VLOOKUP(R18389,'Main page'!$E$29:'Main page'!$G$41,3,TRUE))","v":" "}]
[null,null,null,null,null,null,null,null,null,null,null,null," "," "," "," ",{"$f":"IF(I18392=\"\",\"\",IF(I18392<='Main page'!$F$49,\"Core staff\",\"Senior staff\"))","v":""},{"$f":"IF(D18392=\"\",\" \",'Main page'!$F$21-(D18392))","v":" "},{"$f":"IF(D18392=\"\",\" \",VLOOKUP(R18392,'Main page'!$E$29:'Main page'!$G$41,3,TRUE))","v":" "}]
[null,null,null,null,null,null,null,null,null,null,null,null," "," "," "," ",{"$f":"IF(I18404=\"\",\"\",IF(I18404<='Main page'!$F$49,\"Core staff\",\"Senior staff\"))","v":""},{"$f":"IF(D18404=\"\",\" \",'Main page'!$F$21-(D18404))","v":" "},{"$f":"IF(D18404=\"\",\" \",VLOOKUP(R18404,'Main page'!$E$29:'Main page'!$G$41,3,TRUE))","v":" "}]
[null,null,null,null,null,null,null,null,null,null,null,null," "," "," "," ",{"$f":"IF(I18412=\"\",\"\",IF(I18412<='Main page'!$F$49,\"Core staff\",\"Senior staff\"))","v":""},{"$f":"IF(D18412=\"\",\" \",'Main page'!$F$21-(D18412))","v":" "},{"$f":"IF(D18412=\"\",\" \",VLOOKUP(R18412,'Main page'!$E$29:'Main page'!$G$41,3,TRUE))","v":" "}]
[null,null,null,null,null,null,null,null,null,null,null,null," "," "," "," ",{"$f":"IF(I18422=\"\",\"\",IF(I18422<='Main page'!$F$49,\"Core staff\",\"Senior staff\"))","v":""},{"$f":"IF(D18422=\"\",\" \",'Main page'!$F$21-(D18422))","v":" "},{"$f":"IF(D18422=\"\",\" \",VLOOKUP(R18422,'Main page'!$E$29:'Main page'!$G$41,3,TRUE))","v":" "}]
[null,null,null,null,null,null,null,null,null,null,null,null," "," "," "," ",{"$f":"IF(I18425=\"\",\"\",IF(I18425<='Main page'!$F$49,\"Core staff\",\"Senior staff\"))","v":""},{"$f":"IF(D18425=\"\",\" \",'Main page'!$F$21-(D18425))","v":" "},{"$f":"IF(D18425=\"\",\" \",VLOOKUP(R18425,'Main page'!$E$29:'Main page'!$G$41,3,TRUE))","v":" "}]
[null,null,null,null,null,null,null,null,null,null,null,null," "," "," "," ",{"$f":"IF(I18441=\"\",\"\",IF(I18441<='Main page'!$F$49,\"Core staff\",\"Senior staff\"))","v":""},{"$f":"IF(D18441=\"\",\" \",'Main page'!$F$21-(D18441))","v":" "},{"$f":"IF(D18441=\"\",\" \",VLOOKUP(R18441,'Main page'!$E$29:'Main page'!$G$41,3,TRUE))","v":" "}]
[null,null,null,null,null,null,null,null,null,null,null,null," "," "," "," ",{"$f":"IF(I18443=\"\",\"\",IF(I18443<='Main page'!$F$49,\"Core staff\",\"Senior staff\"))","v":""},{"$f":"IF(D18443=\"\",\" \",'Main page'!$F$21-(D18443))","v":" "},{"$f":"IF(D18443=\"\",\" \",VLOOKUP(R18443,'Main page'!$E$29:'Main page'!$G$41,3,TRUE))","v":" "}]
[null,null,null,null,null,null,null,null,null,null,null,null," "," "," "," ",{"$f":"IF(I18459=\"\",\"\",IF(I18459<='Main page'!$F$49,\"Core staff\",\"Senior staff\"))","v":""},{"$f":"IF(D18459=\"\",\" \",'Main page'!$F$21-(D18459))","v":" "},{"$f":"IF(D18459=\"\",\" \",VLOOKUP(R18459,'Main page'!$E$29:'Main page'!$G$41,3,TRUE))","v":" "}]
[null,null,null,null,null,null,null,null,null,null,null,null," "," "," "," ",{"$f":"IF(I18462=\"\",\"\",IF(I18462<='Main page'!$F$49,\"Core staff\",\"Senior staff\"))","v":""},{"$f":"IF(D18462=\"\",\" \",'Main page'!$F$21-(D18462))","v":" "},{"$f":"IF(D18462=\"\",\" \",VLOOKUP(R18462,'Main page'!$E$29:'Main page'!$G$41,3,TRUE))","v":" "}]
[null,null,null,null,null,null,null,null,null,null,null,null," "," "," "," ",{"$f":"IF(I18474=\"\",\"\",IF(I18474<='Main page'!$F$49,\"Core staff\",\"Senior staff\"))","v":""},{"$f":"IF(D18474=\"\",\" \",'Main page'!$F$21-(D18474))","v":" "},{"$f":"IF(D18474=\"\",\" \",VLOOKUP(R18474,'Main page'!$E$29:'Main page'!$G$41,3,TRUE))","v":" "}]
[null,null,null,null,null,null,null,null,null,null,null,null," "," "," "," ",{"$f":"IF(I18482=\"\",\"\",IF(I18482<='Main page'!$F$49,\"Core staff\",\"Senior staff\"))","v":""},{"$f":"IF(D18482=\"\",\" \",'Main page'!$F$21-(D18482))","v":" "},{"$f":"IF(D18482=\"\",\" \",VLOOKUP(R18482,'Main page'!$E$29:'Main page'!$G$41,3,TRUE))","v":" "}]
[null,null,null,null,null,null,null,null,null,null,null,null," "," "," "," ",{"$f":"IF(I18492=\"\",\"\",IF(I18492<='Main page'!$F$49,\"Core staff\",\"Senior staff\"))","v":""},{"$f":"IF(D18492=\"\",\" \",'Main page'!$F$21-(D18492))","v":" "},{"$f":"IF(D18492=\"\",\" \",VLOOKUP(R18492,'Main page'!$E$29:'Main page'!$G$41,3,TRUE))","v":" "}]
[null,null,null,null,null,null,null,null,null,null,null,null," "," "," "," ",{"$f":"IF(I18499=\"\",\"\",IF(I18499<='Main page'!$F$49,\"Core staff\",\"Senior staff\"))","v":""},{"$f":"IF(D18499=\"\",\" \",'Main page'!$F$21-(D18499))","v":" "},{"$f":"IF(D18499=\"\",\" \",VLOOKUP(R18499,'Main page'!$E$29:'Main page'!$G$41,3,TRUE))","v":" "}]
[null,null,null,null,null,null,null,null,null,null,null,null," "," "," "," ",{"$f":"IF(I18511=\"\",\"\",IF(I18511<='Main page'!$F$49,\"Core staff\",\"Senior staff\"))","v":""},{"$f":"IF(D18511=\"\",\" \",'Main page'!$F$21-(D18511))","v":" "},{"$f":"IF(D18511=\"\",\" \",VLOOKUP(R18511,'Main page'!$E$29:'Main page'!$G$41,3,TRUE))","v":" "}]
[null,null,null,null,null,null,null,null,null,null,null,null," "," "," "," ",{"$f":"IF(I18513=\"\",\"\",IF(I18513<='Main page'!$F$49,\"Core staff\",\"Senior staff\"))","v":""},{"$f":"IF(D18513=\"\",\" \",'Main page'!$F$21-(D18513))","v":" "},{"$f":"IF(D18513=\"\",\" \",VLOOKUP(R18513,'Main page'!$E$29:'Main page'!$G$41,3,TRUE))","v":" "}]
[null,null,null,null,null,null,null,null,null,null,null,null," "," "," "," ",{"$f":"IF(I18529=\"\",\"\",IF(I18529<='Main page'!$F$49,\"Core staff\",\"Senior staff\"))","v":""},{"$f":"IF(D18529=\"\",\" \",'Main page'!$F$21-(D18529))","v":" "},{"$f":"IF(D18529=\"\",\" \",VLOOKUP(R18529,'Main page'!$E$29:'Main page'!$G$41,3,TRUE))","v":" "}]
[null,null,null,null,null,null,null,null,null,null,null,null," "," "," "," ",{"$f":"IF(I18532=\"\",\"\",IF(I18532<='Main page'!$F$49,\"Core staff\",\"Senior staff\"))","v":""},{"$f":"IF(D18532=\"\",\" \",'Main page'!$F$21-(D18532))","v":" "},{"$f":"IF(D18532=\"\",\" \",VLOOKUP(R18532,'Main page'!$E$29:'Main page'!$G$41,3,TRUE))","v":" "}]
[null,null,null,null,null,null,null,null,null,null,null,null," "," "," "," ",{"$f":"IF(I18544=\"\",\"\",IF(I18544<='Main page'!$F$49,\"Core staff\",\"Senior staff\"))","v":""},{"$f":"IF(D18544=\"\",\" \",'Main page'!$F$21-(D18544))","v":" "},{"$f":"IF(D18544=\"\",\" \",VLOOKUP(R18544,'Main page'!$E$29:'Main page'!$G$41,3,TRUE))","v":" "}]
[null,null,null,null,null,null,null,null,null,null,null,null," "," "," "," ",{"$f":"IF(I18552=\"\",\"\",IF(I18552<='Main page'!$F$49,\"Core staff\",\"Senior staff\"))","v":""},{"$f":"IF(D18552=\"\",\" \",'Main page'!$F$21-(D18552))","v":" "},{"$f":"IF(D18552=\"\",\" \",VLOOKUP(R18552,'Main page'!$E$29:'Main page'!$G$41,3,TRUE))","v":" "}]
[null,null,null,null,null,null,null,null,null,null,null,null," "," "," "," ",{"$f":"IF(I18562=\"\",\"\",IF(I18562<='Main page'!$F$49,\"Core staff\",\"Senior staff\"))","v":""},{"$f":"IF(D18562=\"\",\" \",'Main page'!$F$21-(D18562))","v":" "},{"$f":"IF(D18562=\"\",\" \",VLOOKUP(R18562,'Main page'!$E$29:'Main page'!$G$41,3,TRUE))","v":" "}]
[null,null,null,null,null,null,null,null,null,null,null,null," "," "," "," ",{"$f":"IF(I18569=\"\",\"\",IF(I18569<='Main page'!$F$49,\"Core staff\",\"Senior staff\"))","v":""},{"$f":"IF(D18569=\"\",\" \",'Main page'!$F$21-(D18569))","v":" "},{"$f":"IF(D18569=\"\",\" \",VLOOKUP(R18569,'Main page'!$E$29:'Main page'!$G$41,3,TRUE))","v":" "}]
[null,null,null,null,null,null,null,null,null,null,null,null," "," "," "," ",{"$f":"IF(I18581=\"\",\"\",IF(I18581<='Main page'!$F$49,\"Core staff\",\"Senior staff\"))","v":""},{"$f":"IF(D18581=\"\",\" \",'Main page'!$F$21-(D18581))","v":" "},{"$f":"IF(D18581=\"\",\" \",VLOOKUP(R18581,'Main page'!$E$29:'Main page'!$G$41,3,TRUE))","v":" "}]
[null,null,null,null,null,null,null,null,null,null,null,null," "," "," "," ",{"$f":"IF(I18583=\"\",\"\",IF(I18583<='Main page'!$F$49,\"Core staff\",\"Senior staff\"))","v":""},{"$f":"IF(D18583=\"\",\" \",'Main page'!$F$21-(D18583))","v":" "},{"$f":"IF(D18583=\"\",\" \",VLOOKUP(R18583,'Main page'!$E$29:'Main page'!$G$41,3,TRUE))","v":" "}]
[null,null,null,null,null,null,null,null,null,null,null,null," "," "," "," ",{"$f":"IF(I18599=\"\",\"\",IF(I18599<='Main page'!$F$49,\"Core staff\",\"Senior staff\"))","v":""},{"$f":"IF(D18599=\"\",\" \",'Main page'!$F$21-(D18599))","v":" "},{"$f":"IF(D18599=\"\",\" \",VLOOKUP(R18599,'Main page'!$E$29:'Main page'!$G$41,3,TRUE))","v":" "}]
[null,null,null,null,null,null,null,null,null,null,null,null," "," "," "," ",{"$f":"IF(I18602=\"\",\"\",IF(I18602<='Main page'!$F$49,\"Core staff\",\"Senior staff\"))","v":""},{"$f":"IF(D18602=\"\",\" \",'Main page'!$F$21-(D18602))","v":" "},{"$f":"IF(D18602=\"\",\" \",VLOOKUP(R18602,'Main page'!$E$29:'Main page'!$G$41,3,TRUE))","v":" "}]
[null,null,null,null,null,null,null,null,null,null,null,null," "," "," "," ",{"$f":"IF(I18614=\"\",\"\",IF(I18614<='Main page'!$F$49,\"Core staff\",\"Senior staff\"))","v":""},{"$f":"IF(D18614=\"\",\" \",'Main page'!$F$21-(D18614))","v":" "},{"$f":"IF(D18614=\"\",\" \",VLOOKUP(R18614,'Main page'!$E$29:'Main page'!$G$41,3,TRUE))","v":" "}]
[null,null,null,null,null,null,null,null,null,null,null,null," "," "," "," ",{"$f":"IF(I18622=\"\",\"\",IF(I18622<='Main page'!$F$49,\"Core staff\",\"Senior staff\"))","v":""},{"$f":"IF(D18622=\"\",\" \",'Main page'!$F$21-(D18622))","v":" "},{"$f":"IF(D18622=\"\",\" \",VLOOKUP(R18622,'Main page'!$E$29:'Main page'!$G$41,3,TRUE))","v":" "}]
[null,null,null,null,null,null,null,null,null,null,null,null," "," "," "," ",{"$f":"IF(I18632=\"\",\"\",IF(I18632<='Main page'!$F$49,\"Core staff\",\"Senior staff\"))","v":""},{"$f":"IF(D18632=\"\",\" \",'Main page'!$F$21-(D18632))","v":" "},{"$f":"IF(D18632=\"\",\" \",VLOOKUP(R18632,'Main page'!$E$29:'Main page'!$G$41,3,TRUE))","v":" "}]
[null,null,null,null,null,null,null,null,null,null,null,null," "," "," "," ",{"$f":"IF(I18639=\"\",\"\",IF(I18639<='Main page'!$F$49,\"Core staff\",\"Senior staff\"))","v":""},{"$f":"IF(D18639=\"\",\" \",'Main page'!$F$21-(D18639))","v":" "},{"$f":"IF(D18639=\"\",\" \",VLOOKUP(R18639,'Main page'!$E$29:'Main page'!$G$41,3,TRUE))","v":" "}]
[null,null,null,null,null,null,null,null,null,null,null,null," "," "," "," ",{"$f":"IF(I18651=\"\",\"\",IF(I18651<='Main page'!$F$49,\"Core staff\",\"Senior staff\"))","v":""},{"$f":"IF(D18651=\"\",\" \",'Main page'!$F$21-(D18651))","v":" "},{"$f":"IF(D18651=\"\",\" \",VLOOKUP(R18651,'Main page'!$E$29:'Main page'!$G$41,3,TRUE))","v":" "}]
[null,null,null,null,null,null,null,null,null,null,null,null," "," "," "," ",{"$f":"IF(I18653=\"\",\"\",IF(I18653<='Main page'!$F$49,\"Core staff\",\"Senior staff\"))","v":""},{"$f":"IF(D18653=\"\",\" \",'Main page'!$F$21-(D18653))","v":" "},{"$f":"IF(D18653=\"\",\" \",VLOOKUP(R18653,'Main page'!$E$29:'Main page'!$G$41,3,TRUE))","v":" "}]
[null,null,null,null,null,null,null,null,null,null,null,null," "," "," "," ",{"$f":"IF(I18669=\"\",\"\",IF(I18669<='Main page'!$F$49,\"Core staff\",\"Senior staff\"))","v":""},{"$f":"IF(D18669=\"\",\" \",'Main page'!$F$21-(D18669))","v":" "},{"$f":"IF(D18669=\"\",\" \",VLOOKUP(R18669,'Main page'!$E$29:'Main page'!$G$41,3,TRUE))","v":" "}]
[null,null,null,null,null,null,null,null,null,null,null,null," "," "," "," ",{"$f":"IF(I18672=\"\",\"\",IF(I18672<='Main page'!$F$49,\"Core staff\",\"Senior staff\"))","v":""},{"$f":"IF(D18672=\"\",\" \",'Main page'!$F$21-(D18672))","v":" "},{"$f":"IF(D18672=\"\",\" \",VLOOKUP(R18672,'Main page'!$E$29:'Main page'!$G$41,3,TRUE))","v":" "}]
[null,null,null,null,null,null,null,null,null,null,null,null," "," "," "," ",{"$f":"IF(I18679=\"\",\"\",IF(I18679<='Main page'!$F$49,\"Core staff\",\"Senior staff\"))","v":""},{"$f":"IF(D18679=\"\",\" \",'Main page'!$F$21-(D18679))","v":" "},{"$f":"IF(D18679=\"\",\" \",VLOOKUP(R18679,'Main page'!$E$29:'Main page'!$G$41,3,TRUE))","v":" "}]
[null,null,null,null,null,null,null,null,null,null,null,null," "," "," "," ",{"$f":"IF(I18692=\"\",\"\",IF(I18692<='Main page'!$F$49,\"Core staff\",\"Senior staff\"))","v":""},{"$f":"IF(D18692=\"\",\" \",'Main page'!$F$21-(D18692))","v":" "},{"$f":"IF(D18692=\"\",\" \",VLOOKUP(R18692,'Main page'!$E$29:'Main page'!$G$41,3,TRUE))","v":" "}]
[null,null,null,null,null,null,null,null,null,null,null,null," "," "," "," ",{"$f":"IF(I18702=\"\",\"\",IF(I18702<='Main page'!$F$49,\"Core staff\",\"Senior staff\"))","v":""},{"$f":"IF(D18702=\"\",\" \",'Main page'!$F$21-(D18702))","v":" "},{"$f":"IF(D18702=\"\",\" \",VLOOKUP(R18702,'Main page'!$E$29:'Main page'!$G$41,3,TRUE))","v":" "}]
[null,null,null,null,null,null,null,null,null,null,null,null," "," "," "," ",{"$f":"IF(I18709=\"\",\"\",IF(I18709<='Main page'!$F$49,\"Core staff\",\"Senior staff\"))","v":""},{"$f":"IF(D18709=\"\",\" \",'Main page'!$F$21-(D18709))","v":" "},{"$f":"IF(D18709=\"\",\" \",VLOOKUP(R18709,'Main page'!$E$29:'Main page'!$G$41,3,TRUE))","v":" "}]
[null,null,null,null,null,null,null,null,null,null,null,null," "," "," "," ",{"$f":"IF(I18721=\"\",\"\",IF(I18721<='Main page'!$F$49,\"Core staff\",\"Senior staff\"))","v":""},{"$f":"IF(D18721=\"\",\" \",'Main page'!$F$21-(D18721))","v":" "},{"$f":"IF(D18721=\"\",\" \",VLOOKUP(R18721,'Main page'!$E$29:'Main page'!$G$41,3,TRUE))","v":" "}]
[null,null,null,null,null,null,null,null,null,null,null,null," "," "," "," ",{"$f":"IF(I18723=\"\",\"\",IF(I18723<='Main page'!$F$49,\"Core staff\",\"Senior staff\"))","v":""},{"$f":"IF(D18723=\"\",\" \",'Main page'!$F$21-(D18723))","v":" "},{"$f":"IF(D18723=\"\",\" \",VLOOKUP(R18723,'Main page'!$E$29:'Main page'!$G$41,3,TRUE))","v":" "}]
[null,null,null,null,null,null,null,null,null,null,null,null," "," "," "," ",{"$f":"IF(I18739=\"\",\"\",IF(I18739<='Main page'!$F$49,\"Core staff\",\"Senior staff\"))","v":""},{"$f":"IF(D18739=\"\",\" \",'Main page'!$F$21-(D18739))","v":" "},{"$f":"IF(D18739=\"\",\" \",VLOOKUP(R18739,'Main page'!$E$29:'Main page'!$G$41,3,TRUE))","v":" "}]
[null,null,null,null,null,null,null,null,null,null,null,null," "," "," "," ",{"$f":"IF(I18742=\"\",\"\",IF(I18742<='Main page'!$F$49,\"Core staff\",\"Senior staff\"))","v":""},{"$f":"IF(D18742=\"\",\" \",'Main page'!$F$21-(D18742))","v":" "},{"$f":"IF(D18742=\"\",\" \",VLOOKUP(R18742,'Main page'!$E$29:'Main page'!$G$41,3,TRUE))","v":" "}]
[null,null,null,null,null,null,null,null,null,null,null,null," "," "," "," ",{"$f":"IF(I18749=\"\",\"\",IF(I18749<='Main page'!$F$49,\"Core staff\",\"Senior staff\"))","v":""},{"$f":"IF(D18749=\"\",\" \",'Main page'!$F$21-(D18749))","v":" "},{"$f":"IF(D18749=\"\",\" \",VLOOKUP(R18749,'Main page'!$E$29:'Main page'!$G$41,3,TRUE))","v":" "}]
[null,null,null,null,null,null,null,null,null,null,null,null," "," "," "," ",{"$f":"IF(I18762=\"\",\"\",IF(I18762<='Main page'!$F$49,\"Core staff\",\"Senior staff\"))","v":""},{"$f":"IF(D18762=\"\",\" \",'Main page'!$F$21-(D18762))","v":" "},{"$f":"IF(D18762=\"\",\" \",VLOOKUP(R18762,'Main page'!$E$29:'Main page'!$G$41,3,TRUE))","v":" "}]
[null,null,null,null,null,null,null,null,null,null,null,null," "," "," "," ",{"$f":"IF(I18772=\"\",\"\",IF(I18772<='Main page'!$F$49,\"Core staff\",\"Senior staff\"))","v":""},{"$f":"IF(D18772=\"\",\" \",'Main page'!$F$21-(D18772))","v":" "},{"$f":"IF(D18772=\"\",\" \",VLOOKUP(R18772,'Main page'!$E$29:'Main page'!$G$41,3,TRUE))","v":" "}]
[null,null,null,null,null,null,null,null,null,null,null,null," "," "," "," ",{"$f":"IF(I18779=\"\",\"\",IF(I18779<='Main page'!$F$49,\"Core staff\",\"Senior staff\"))","v":""},{"$f":"IF(D18779=\"\",\" \",'Main page'!$F$21-(D18779))","v":" "},{"$f":"IF(D18779=\"\",\" \",VLOOKUP(R18779,'Main page'!$E$29:'Main page'!$G$41,3,TRUE))","v":" "}]
[null,null,null,null,null,null,null,null,null,null,null,null," "," "," "," ",{"$f":"IF(I18791=\"\",\"\",IF(I18791<='Main page'!$F$49,\"Core staff\",\"Senior staff\"))","v":""},{"$f":"IF(D18791=\"\",\" \",'Main page'!$F$21-(D18791))","v":" "},{"$f":"IF(D18791=\"\",\" \",VLOOKUP(R18791,'Main page'!$E$29:'Main page'!$G$41,3,TRUE))","v":" "}]
[null,null,null,null,null,null,null,null,null,null,null,null," "," "," "," ",{"$f":"IF(I18793=\"\",\"\",IF(I18793<='Main page'!$F$49,\"Core staff\",\"Senior staff\"))","v":""},{"$f":"IF(D18793=\"\",\" \",'Main page'!$F$21-(D18793))","v":" "},{"$f":"IF(D18793=\"\",\" \",VLOOKUP(R18793,'Main page'!$E$29:'Main page'!$G$41,3,TRUE))","v":" "}]
[null,null,null,null,null,null,null,null,null,null,null,null," "," "," "," ",{"$f":"IF(I18809=\"\",\"\",IF(I18809<='Main page'!$F$49,\"Core staff\",\"Senior staff\"))","v":""},{"$f":"IF(D18809=\"\",\" \",'Main page'!$F$21-(D18809))","v":" "},{"$f":"IF(D18809=\"\",\" \",VLOOKUP(R18809,'Main page'!$E$29:'Main page'!$G$41,3,TRUE))","v":" "}]
[null,null,null,null,null,null,null,null,null,null,null,null," "," "," "," ",{"$f":"IF(I18812=\"\",\"\",IF(I18812<='Main page'!$F$49,\"Core staff\",\"Senior staff\"))","v":""},{"$f":"IF(D18812=\"\",\" \",'Main page'!$F$21-(D18812))","v":" "},{"$f":"IF(D18812=\"\",\" \",VLOOKUP(R18812,'Main page'!$E$29:'Main page'!$G$41,3,TRUE))","v":" "}]
[null,null,null,null,null,null,null,null,null,null,null,null," "," "," "," ",{"$f":"IF(I18819=\"\",\"\",IF(I18819<='Main page'!$F$49,\"Core staff\",\"Senior staff\"))","v":""},{"$f":"IF(D18819=\"\",\" \",'Main page'!$F$21-(D18819))","v":" "},{"$f":"IF(D18819=\"\",\" \",VLOOKUP(R18819,'Main page'!$E$29:'Main page'!$G$41,3,TRUE))","v":" "}]
[null,null,null,null,null,null,null,null,null,null,null,null," "," "," "," ",{"$f":"IF(I18832=\"\",\"\",IF(I18832<='Main page'!$F$49,\"Core staff\",\"Senior staff\"))","v":""},{"$f":"IF(D18832=\"\",\" \",'Main page'!$F$21-(D18832))","v":" "},{"$f":"IF(D18832=\"\",\" \",VLOOKUP(R18832,'Main page'!$E$29:'Main page'!$G$41,3,TRUE))","v":" "}]
[null,null,null,null,null,null,null,null,null,null,null,null," "," "," "," ",{"$f":"IF(I18842=\"\",\"\",IF(I18842<='Main page'!$F$49,\"Core staff\",\"Senior staff\"))","v":""},{"$f":"IF(D18842=\"\",\" \",'Main page'!$F$21-(D18842))","v":" "},{"$f":"IF(D18842=\"\",\" \",VLOOKUP(R18842,'Main page'!$E$29:'Main page'!$G$41,3,TRUE))","v":" "}]
[null,null,null,null,null,null,null,null,null,null,null,null," "," "," "," ",{"$f":"IF(I18849=\"\",\"\",IF(I18849<='Main page'!$F$49,\"Core staff\",\"Senior staff\"))","v":""},{"$f":"IF(D18849=\"\",\" \",'Main page'!$F$21-(D18849))","v":" "},{"$f":"IF(D18849=\"\",\" \",VLOOKUP(R18849,'Main page'!$E$29:'Main page'!$G$41,3,TRUE))","v":" "}]
[null,null,null,null,null,null,null,null,null,null,null,null," "," "," "," ",{"$f":"IF(I18861=\"\",\"\",IF(I18861<='Main page'!$F$49,\"Core staff\",\"Senior staff\"))","v":""},{"$f":"IF(D18861=\"\",\" \",'Main page'!$F$21-(D18861))","v":" "},{"$f":"IF(D18861=\"\",\" \",VLOOKUP(R18861,'Main page'!$E$29:'Main page'!$G$41,3,TRUE))","v":" "}]
[null,null,null,null,null,null,null,null,null,null,null,null," "," "," "," ",{"$f":"IF(I18863=\"\",\"\",IF(I18863<='Main page'!$F$49,\"Core staff\",\"Senior staff\"))","v":""},{"$f":"IF(D18863=\"\",\" \",'Main page'!$F$21-(D18863))","v":" "},{"$f":"IF(D18863=\"\",\" \",VLOOKUP(R18863,'Main page'!$E$29:'Main page'!$G$41,3,TRUE))","v":" "}]
[null,null,null,null,null,null,null,null,null,null,null,null," "," "," "," ",{"$f":"IF(I18879=\"\",\"\",IF(I18879<='Main page'!$F$49,\"Core staff\",\"Senior staff\"))","v":""},{"$f":"IF(D18879=\"\",\" \",'Main page'!$F$21-(D18879))","v":" "},{"$f":"IF(D18879=\"\",\" \",VLOOKUP(R18879,'Main page'!$E$29:'Main page'!$G$41,3,TRUE))","v":" "}]
[null,null,null,null,null,null,null,null,null,null,null,null," "," "," "," ",{"$f":"IF(I18882=\"\",\"\",IF(I18882<='Main page'!$F$49,\"Core staff\",\"Senior staff\"))","v":""},{"$f":"IF(D18882=\"\",\" \",'Main page'!$F$21-(D18882))","v":" "},{"$f":"IF(D18882=\"\",\" \",VLOOKUP(R18882,'Main page'!$E$29:'Main page'!$G$41,3,TRUE))","v":" "}]
[null,null,null,null,null,null,null,null,null,null,null,null," "," "," "," ",{"$f":"IF(I18889=\"\",\"\",IF(I18889<='Main page'!$F$49,\"Core staff\",\"Senior staff\"))","v":""},{"$f":"IF(D18889=\"\",\" \",'Main page'!$F$21-(D18889))","v":" "},{"$f":"IF(D18889=\"\",\" \",VLOOKUP(R18889,'Main page'!$E$29:'Main page'!$G$41,3,TRUE))","v":" "}]
[null,null,null,null,null,null,null,null,null,null,null,null," "," "," "," ",{"$f":"IF(I18902=\"\",\"\",IF(I18902<='Main page'!$F$49,\"Core staff\",\"Senior staff\"))","v":""},{"$f":"IF(D18902=\"\",\" \",'Main page'!$F$21-(D18902))","v":" "},{"$f":"IF(D18902=\"\",\" \",VLOOKUP(R18902,'Main page'!$E$29:'Main page'!$G$41,3,TRUE))","v":" "}]
[null,null,null,null,null,null,null,null,null,null,null,null," "," "," "," ",{"$f":"IF(I18912=\"\",\"\",IF(I18912<='Main page'!$F$49,\"Core staff\",\"Senior staff\"))","v":""},{"$f":"IF(D18912=\"\",\" \",'Main page'!$F$21-(D18912))","v":" "},{"$f":"IF(D18912=\"\",\" \",VLOOKUP(R18912,'Main page'!$E$29:'Main page'!$G$41,3,TRUE))","v":" "}]
[null,null,null,null,null,null,null,null,null,null,null,null," "," "," "," ",{"$f":"IF(I18919=\"\",\"\",IF(I18919<='Main page'!$F$49,\"Core staff\",\"Senior staff\"))","v":""},{"$f":"IF(D18919=\"\",\" \",'Main page'!$F$21-(D18919))","v":" "},{"$f":"IF(D18919=\"\",\" \",VLOOKUP(R18919,'Main page'!$E$29:'Main page'!$G$41,3,TRUE))","v":" "}]
[null,null,null,null,null,null,null,null,null,null,null,null," "," "," "," ",{"$f":"IF(I18931=\"\",\"\",IF(I18931<='Main page'!$F$49,\"Core staff\",\"Senior staff\"))","v":""},{"$f":"IF(D18931=\"\",\" \",'Main page'!$F$21-(D18931))","v":" "},{"$f":"IF(D18931=\"\",\" \",VLOOKUP(R18931,'Main page'!$E$29:'Main page'!$G$41,3,TRUE))","v":" "}]
[null,null,null,null,null,null,null,null,null,null,null,null," "," "," "," ",{"$f":"IF(I18933=\"\",\"\",IF(I18933<='Main page'!$F$49,\"Core staff\",\"Senior staff\"))","v":""},{"$f":"IF(D18933=\"\",\" \",'Main page'!$F$21-(D18933))","v":" "},{"$f":"IF(D18933=\"\",\" \",VLOOKUP(R18933,'Main page'!$E$29:'Main page'!$G$41,3,TRUE))","v":" "}]
[null,null,null,null,null,null,null,null,null,null,null,null," "," "," "," ",{"$f":"IF(I18949=\"\",\"\",IF(I18949<='Main page'!$F$49,\"Core staff\",\"Senior staff\"))","v":""},{"$f":"IF(D18949=\"\",\" \",'Main page'!$F$21-(D18949))","v":" "},{"$f":"IF(D18949=\"\",\" \",VLOOKUP(R18949,'Main page'!$E$29:'Main page'!$G$41,3,TRUE))","v":" "}]
[null,null,null,null,null,null,null,null,null,null,null,null," "," "," "," ",{"$f":"IF(I18952=\"\",\"\",IF(I18952<='Main page'!$F$49,\"Core staff\",\"Senior staff\"))","v":""},{"$f":"IF(D18952=\"\",\" \",'Main page'!$F$21-(D18952))","v":" "},{"$f":"IF(D18952=\"\",\" \",VLOOKUP(R18952,'Main page'!$E$29:'Main page'!$G$41,3,TRUE))","v":" "}]
[null,null,null,null,null,null,null,null,null,null,null,null," "," "," "," ",{"$f":"IF(I18959=\"\",\"\",IF(I18959<='Main page'!$F$49,\"Core staff\",\"Senior staff\"))","v":""},{"$f":"IF(D18959=\"\",\" \",'Main page'!$F$21-(D18959))","v":" "},{"$f":"IF(D18959=\"\",\" \",VLOOKUP(R18959,'Main page'!$E$29:'Main page'!$G$41,3,TRUE))","v":" "}]
[null,null,null,null,null,null,null,null,null,null,null,null," "," "," "," ",{"$f":"IF(I18972=\"\",\"\",IF(I18972<='Main page'!$F$49,\"Core staff\",\"Senior staff\"))","v":""},{"$f":"IF(D18972=\"\",\" \",'Main page'!$F$21-(D18972))","v":" "},{"$f":"IF(D18972=\"\",\" \",VLOOKUP(R18972,'Main page'!$E$29:'Main page'!$G$41,3,TRUE))","v":" "}]
[null,null,null,null,null,null,null,null,null,null,null,null," "," "," "," ",{"$f":"IF(I18977=\"\",\"\",IF(I18977<='Main page'!$F$49,\"Core staff\",\"Senior staff\"))","v":""},{"$f":"IF(D18977=\"\",\" \",'Main page'!$F$21-(D18977))","v":" "},{"$f":"IF(D18977=\"\",\" \",VLOOKUP(R18977,'Main page'!$E$29:'Main page'!$G$41,3,TRUE))","v":" "}]
[null,null,null,null,null,null,null,null,null,null,null,null," "," "," "," ",{"$f":"IF(I18989=\"\",\"\",IF(I18989<='Main page'!$F$49,\"Core staff\",\"Senior staff\"))","v":""},{"$f":"IF(D18989=\"\",\" \",'Main page'!$F$21-(D18989))","v":" "},{"$f":"IF(D18989=\"\",\" \",VLOOKUP(R18989,'Main page'!$E$29:'Main page'!$G$41,3,TRUE))","v":" "}]
[null,null,null,null,null,null,null,null,null,null,null,null," "," "," "," ",{"$f":"IF(I19001=\"\",\"\",IF(I19001<='Main page'!$F$49,\"Core staff\",\"Senior staff\"))","v":""},{"$f":"IF(D19001=\"\",\" \",'Main page'!$F$21-(D19001))","v":" "},{"$f":"IF(D19001=\"\",\" \",VLOOKUP(R19001,'Main page'!$E$29:'Main page'!$G$41,3,TRUE))","v":" "}]
[null,null,null,null,null,null,null,null,null,null,null,null," "," "," "," ",{"$f":"IF(I19003=\"\",\"\",IF(I19003<='Main page'!$F$49,\"Core staff\",\"Senior staff\"))","v":""},{"$f":"IF(D19003=\"\",\" \",'Main page'!$F$21-(D19003))","v":" "},{"$f":"IF(D19003=\"\",\" \",VLOOKUP(R19003,'Main page'!$E$29:'Main page'!$G$41,3,TRUE))","v":" "}]
[null,null,null,null,null,null,null,null,null,null,null,null," "," "," "," ",{"$f":"IF(I19019=\"\",\"\",IF(I19019<='Main page'!$F$49,\"Core staff\",\"Senior staff\"))","v":""},{"$f":"IF(D19019=\"\",\" \",'Main page'!$F$21-(D19019))","v":" "},{"$f":"IF(D19019=\"\",\" \",VLOOKUP(R19019,'Main page'!$E$29:'Main page'!$G$41,3,TRUE))","v":" "}]
[null,null,null,null,null,null,null,null,null,null,null,null," "," "," "," ",{"$f":"IF(I19022=\"\",\"\",IF(I19022<='Main page'!$F$49,\"Core staff\",\"Senior staff\"))","v":""},{"$f":"IF(D19022=\"\",\" \",'Main page'!$F$21-(D19022))","v":" "},{"$f":"IF(D19022=\"\",\" \",VLOOKUP(R19022,'Main page'!$E$29:'Main page'!$G$41,3,TRUE))","v":" "}]
[null,null,null,null,null,null,null,null,null,null,null,null," "," "," "," ",{"$f":"IF(I19029=\"\",\"\",IF(I19029<='Main page'!$F$49,\"Core staff\",\"Senior staff\"))","v":""},{"$f":"IF(D19029=\"\",\" \",'Main page'!$F$21-(D19029))","v":" "},{"$f":"IF(D19029=\"\",\" \",VLOOKUP(R19029,'Main page'!$E$29:'Main page'!$G$41,3,TRUE))","v":" "}]
[null,null,null,null,null,null,null,null,null,null,null,null," "," "," "," ",{"$f":"IF(I19042=\"\",\"\",IF(I19042<='Main page'!$F$49,\"Core staff\",\"Senior staff\"))","v":""},{"$f":"IF(D19042=\"\",\" \",'Main page'!$F$21-(D19042))","v":" "},{"$f":"IF(D19042=\"\",\" \",VLOOKUP(R19042,'Main page'!$E$29:'Main page'!$G$41,3,TRUE))","v":" "}]
[null,null,null,null,null,null,null,null,null,null,null,null," "," "," "," ",{"$f":"IF(I19047=\"\",\"\",IF(I19047<='Main page'!$F$49,\"Core staff\",\"Senior staff\"))","v":""},{"$f":"IF(D19047=\"\",\" \",'Main page'!$F$21-(D19047))","v":" "},{"$f":"IF(D19047=\"\",\" \",VLOOKUP(R19047,'Main page'!$E$29:'Main page'!$G$41,3,TRUE))","v":" "}]
[null,null,null,null,null,null,null,null,null,null,null,null," "," "," "," ",{"$f":"IF(I19059=\"\",\"\",IF(I19059<='Main page'!$F$49,\"Core staff\",\"Senior staff\"))","v":""},{"$f":"IF(D19059=\"\",\" \",'Main page'!$F$21-(D19059))","v":" "},{"$f":"IF(D19059=\"\",\" \",VLOOKUP(R19059,'Main page'!$E$29:'Main page'!$G$41,3,TRUE))","v":" "}]
[null,null,null,null,null,null,null,null,null,null,null,null," "," "," "," ",{"$f":"IF(I19071=\"\",\"\",IF(I19071<='Main page'!$F$49,\"Core staff\",\"Senior staff\"))","v":""},{"$f":"IF(D19071=\"\",\" \",'Main page'!$F$21-(D19071))","v":" "},{"$f":"IF(D19071=\"\",\" \",VLOOKUP(R19071,'Main page'!$E$29:'Main page'!$G$41,3,TRUE))","v":" "}]
[null,null,null,null,null,null,null,null,null,null,null,null," "," "," "," ",{"$f":"IF(I19073=\"\",\"\",IF(I19073<='Main page'!$F$49,\"Core staff\",\"Senior staff\"))","v":""},{"$f":"IF(D19073=\"\",\" \",'Main page'!$F$21-(D19073))","v":" "},{"$f":"IF(D19073=\"\",\" \",VLOOKUP(R19073,'Main page'!$E$29:'Main page'!$G$41,3,TRUE))","v":" "}]
[null,null,null,null,null,null,null,null,null,null,null,null," "," "," "," ",{"$f":"IF(I19089=\"\",\"\",IF(I19089<='Main page'!$F$49,\"Core staff\",\"Senior staff\"))","v":""},{"$f":"IF(D19089=\"\",\" \",'Main page'!$F$21-(D19089))","v":" "},{"$f":"IF(D19089=\"\",\" \",VLOOKUP(R19089,'Main page'!$E$29:'Main page'!$G$41,3,TRUE))","v":" "}]
[null,null,null,null,null,null,null,null,null,null,null,null," "," "," "," ",{"$f":"IF(I19092=\"\",\"\",IF(I19092<='Main page'!$F$49,\"Core staff\",\"Senior staff\"))","v":""},{"$f":"IF(D19092=\"\",\" \",'Main page'!$F$21-(D19092))","v":" "},{"$f":"IF(D19092=\"\",\" \",VLOOKUP(R19092,'Main page'!$E$29:'Main page'!$G$41,3,TRUE))","v":" "}]
[null,null,null,null,null,null,null,null,null,null,null,null," "," "," "," ",{"$f":"IF(I19099=\"\",\"\",IF(I19099<='Main page'!$F$49,\"Core staff\",\"Senior staff\"))","v":""},{"$f":"IF(D19099=\"\",\" \",'Main page'!$F$21-(D19099))","v":" "},{"$f":"IF(D19099=\"\",\" \",VLOOKUP(R19099,'Main page'!$E$29:'Main page'!$G$41,3,TRUE))","v":" "}]
[null,null,null,null,null,null,null,null,null,null,null,null," "," "," "," ",{"$f":"IF(I19112=\"\",\"\",IF(I19112<='Main page'!$F$49,\"Core staff\",\"Senior staff\"))","v":""},{"$f":"IF(D19112=\"\",\" \",'Main page'!$F$21-(D19112))","v":" "},{"$f":"IF(D19112=\"\",\" \",VLOOKUP(R19112,'Main page'!$E$29:'Main page'!$G$41,3,TRUE))","v":" "}]
[null,null,null,null,null,null,null,null,null,null,null,null," "," "," "," ",{"$f":"IF(I19117=\"\",\"\",IF(I19117<='Main page'!$F$49,\"Core staff\",\"Senior staff\"))","v":""},{"$f":"IF(D19117=\"\",\" \",'Main page'!$F$21-(D19117))","v":" "},{"$f":"IF(D19117=\"\",\" \",VLOOKUP(R19117,'Main page'!$E$29:'Main page'!$G$41,3,TRUE))","v":" "}]
[null,null,null,null,null,null,null,null,null,null,null,null," "," "," "," ",{"$f":"IF(I19129=\"\",\"\",IF(I19129<='Main page'!$F$49,\"Core staff\",\"Senior staff\"))","v":""},{"$f":"IF(D19129=\"\",\" \",'Main page'!$F$21-(D19129))","v":" "},{"$f":"IF(D19129=\"\",\" \",VLOOKUP(R19129,'Main page'!$E$29:'Main page'!$G$41,3,TRUE))","v":" "}]
[null,null,null,null,null,null,null,null,null,null,null,null," "," "," "," ",{"$f":"IF(I19141=\"\",\"\",IF(I19141<='Main page'!$F$49,\"Core staff\",\"Senior staff\"))","v":""},{"$f":"IF(D19141=\"\",\" \",'Main page'!$F$21-(D19141))","v":" "},{"$f":"IF(D19141=\"\",\" \",VLOOKUP(R19141,'Main page'!$E$29:'Main page'!$G$41,3,TRUE))","v":" "}]
[null,null,null,null,null,null,null,null,null,null,null,null," "," "," "," ",{"$f":"IF(I19143=\"\",\"\",IF(I19143<='Main page'!$F$49,\"Core staff\",\"Senior staff\"))","v":""},{"$f":"IF(D19143=\"\",\" \",'Main page'!$F$21-(D19143))","v":" "},{"$f":"IF(D19143=\"\",\" \",VLOOKUP(R19143,'Main page'!$E$29:'Main page'!$G$41,3,TRUE))","v":" "}]
[null,null,null,null,null,null,null,null,null,null,null,null," "," "," "," ",{"$f":"IF(I19159=\"\",\"\",IF(I19159<='Main page'!$F$49,\"Core staff\",\"Senior staff\"))","v":""},{"$f":"IF(D19159=\"\",\" \",'Main page'!$F$21-(D19159))","v":" "},{"$f":"IF(D19159=\"\",\" \",VLOOKUP(R19159,'Main page'!$E$29:'Main page'!$G$41,3,TRUE))","v":" "}]
[null,null,null,null,null,null,null,null,null,null,null,null," "," "," "," ",{"$f":"IF(I19166=\"\",\"\",IF(I19166<='Main page'!$F$49,\"Core staff\",\"Senior staff\"))","v":""},{"$f":"IF(D19166=\"\",\" \",'Main page'!$F$21-(D19166))","v":" "},{"$f":"IF(D19166=\"\",\" \",VLOOKUP(R19166,'Main page'!$E$29:'Main page'!$G$41,3,TRUE))","v":" "}]
[null,null,null,null,null,null,null,null,null,null,null,null," "," "," "," ",{"$f":"IF(I19169=\"\",\"\",IF(I19169<='Main page'!$F$49,\"Core staff\",\"Senior staff\"))","v":""},{"$f":"IF(D19169=\"\",\" \",'Main page'!$F$21-(D19169))","v":" "},{"$f":"IF(D19169=\"\",\" \",VLOOKUP(R19169,'Main page'!$E$29:'Main page'!$G$41,3,TRUE))","v":" "}]
[null,null,null,null,null,null,null,null,null,null,null,null," "," "," "," ",{"$f":"IF(I19182=\"\",\"\",IF(I19182<='Main page'!$F$49,\"Core staff\",\"Senior staff\"))","v":""},{"$f":"IF(D19182=\"\",\" \",'Main page'!$F$21-(D19182))","v":" "},{"$f":"IF(D19182=\"\",\" \",VLOOKUP(R19182,'Main page'!$E$29:'Main page'!$G$41,3,TRUE))","v":" "}]
[null,null,null,null,null,null,null,null,null,null,null,null," "," "," "," ",{"$f":"IF(I19187=\"\",\"\",IF(I19187<='Main page'!$F$49,\"Core staff\",\"Senior staff\"))","v":""},{"$f":"IF(D19187=\"\",\" \",'Main page'!$F$21-(D19187))","v":" "},{"$f":"IF(D19187=\"\",\" \",VLOOKUP(R19187,'Main page'!$E$29:'Main page'!$G$41,3,TRUE))","v":" "}]
[null,null,null,null,null,null,null,null,null,null,null,null," "," "," "," ",{"$f":"IF(I19199=\"\",\"\",IF(I19199<='Main page'!$F$49,\"Core staff\",\"Senior staff\"))","v":""},{"$f":"IF(D19199=\"\",\" \",'Main page'!$F$21-(D19199))","v":" "},{"$f":"IF(D19199=\"\",\" \",VLOOKUP(R19199,'Main page'!$E$29:'Main page'!$G$41,3,TRUE))","v":" "}]
[null,null,null,null,null,null,null,null,null,null,null,null," "," "," "," ",{"$f":"IF(I19211=\"\",\"\",IF(I19211<='Main page'!$F$49,\"Core staff\",\"Senior staff\"))","v":""},{"$f":"IF(D19211=\"\",\" \",'Main page'!$F$21-(D19211))","v":" "},{"$f":"IF(D19211=\"\",\" \",VLOOKUP(R19211,'Main page'!$E$29:'Main page'!$G$41,3,TRUE))","v":" "}]
[null,null,null,null,null,null,null,null,null,null,null,null," "," "," "," ",{"$f":"IF(I19213=\"\",\"\",IF(I19213<='Main page'!$F$49,\"Core staff\",\"Senior staff\"))","v":""},{"$f":"IF(D19213=\"\",\" \",'Main page'!$F$21-(D19213))","v":" "},{"$f":"IF(D19213=\"\",\" \",VLOOKUP(R19213,'Main page'!$E$29:'Main page'!$G$41,3,TRUE))","v":" "}]
[null,null,null,null,null,null,null,null,null,null,null,null," "," "," "," ",{"$f":"IF(I19229=\"\",\"\",IF(I19229<='Main page'!$F$49,\"Core staff\",\"Senior staff\"))","v":""},{"$f":"IF(D19229=\"\",\" \",'Main page'!$F$21-(D19229))","v":" "},{"$f":"IF(D19229=\"\",\" \",VLOOKUP(R19229,'Main page'!$E$29:'Main page'!$G$41,3,TRUE))","v":" "}]
[null,null,null,null,null,null,null,null,null,null,null,null," "," "," "," ",{"$f":"IF(I19236=\"\",\"\",IF(I19236<='Main page'!$F$49,\"Core staff\",\"Senior staff\"))","v":""},{"$f":"IF(D19236=\"\",\" \",'Main page'!$F$21-(D19236))","v":" "},{"$f":"IF(D19236=\"\",\" \",VLOOKUP(R19236,'Main page'!$E$29:'Main page'!$G$41,3,TRUE))","v":" "}]
[null,null,null,null,null,null,null,null,null,null,null,null," "," "," "," ",{"$f":"IF(I19239=\"\",\"\",IF(I19239<='Main page'!$F$49,\"Core staff\",\"Senior staff\"))","v":""},{"$f":"IF(D19239=\"\",\" \",'Main page'!$F$21-(D19239))","v":" "},{"$f":"IF(D19239=\"\",\" \",VLOOKUP(R19239,'Main page'!$E$29:'Main page'!$G$41,3,TRUE))","v":" "}]
[null,null,null,null,null,null,null,null,null,null,null,null," "," "," "," ",{"$f":"IF(I19252=\"\",\"\",IF(I19252<='Main page'!$F$49,\"Core staff\",\"Senior staff\"))","v":""},{"$f":"IF(D19252=\"\",\" \",'Main page'!$F$21-(D19252))","v":" "},{"$f":"IF(D19252=\"\",\" \",VLOOKUP(R19252,'Main page'!$E$29:'Main page'!$G$41,3,TRUE))","v":" "}]
[null,null,null,null,null,null,null,null,null,null,null,null," "," "," "," ",{"$f":"IF(I19257=\"\",\"\",IF(I19257<='Main page'!$F$49,\"Core staff\",\"Senior staff\"))","v":""},{"$f":"IF(D19257=\"\",\" \",'Main page'!$F$21-(D19257))","v":" "},{"$f":"IF(D19257=\"\",\" \",VLOOKUP(R19257,'Main page'!$E$29:'Main page'!$G$41,3,TRUE))","v":" "}]
[null,null,null,null,null,null,null,null,null,null,null,null," "," "," "," ",{"$f":"IF(I19269=\"\",\"\",IF(I19269<='Main page'!$F$49,\"Core staff\",\"Senior staff\"))","v":""},{"$f":"IF(D19269=\"\",\" \",'Main page'!$F$21-(D19269))","v":" "},{"$f":"IF(D19269=\"\",\" \",VLOOKUP(R19269,'Main page'!$E$29:'Main page'!$G$41,3,TRUE))","v":" "}]
[null,null,null,null,null,null,null,null,null,null,null,null," "," "," "," ",{"$f":"IF(I19276=\"\",\"\",IF(I19276<='Main page'!$F$49,\"Core staff\",\"Senior staff\"))","v":""},{"$f":"IF(D19276=\"\",\" \",'Main page'!$F$21-(D19276))","v":" "},{"$f":"IF(D19276=\"\",\" \",VLOOKUP(R19276,'Main page'!$E$29:'Main page'!$G$41,3,TRUE))","v":" "}]
[null,null,null,null,null,null,null,null,null,null,null,null," "," "," "," ",{"$f":"IF(I19283=\"\",\"\",IF(I19283<='Main page'!$F$49,\"Core staff\",\"Senior staff\"))","v":""},{"$f":"IF(D19283=\"\",\" \",'Main page'!$F$21-(D19283))","v":" "},{"$f":"IF(D19283=\"\",\" \",VLOOKUP(R19283,'Main page'!$E$29:'Main page'!$G$41,3,TRUE))","v":" "}]
[null,null,null,null,null,null,null,null,null,null,null,null," "," "," "," ",{"$f":"IF(I19299=\"\",\"\",IF(I19299<='Main page'!$F$49,\"Core staff\",\"Senior staff\"))","v":""},{"$f":"IF(D19299=\"\",\" \",'Main page'!$F$21-(D19299))","v":" "},{"$f":"IF(D19299=\"\",\" \",VLOOKUP(R19299,'Main page'!$E$29:'Main page'!$G$41,3,TRUE))","v":" "}]
[null,null,null,null,null,null,null,null,null,null,null,null," "," "," "," ",{"$f":"IF(I19306=\"\",\"\",IF(I19306<='Main page'!$F$49,\"Core staff\",\"Senior staff\"))","v":""},{"$f":"IF(D19306=\"\",\" \",'Main page'!$F$21-(D19306))","v":" "},{"$f":"IF(D19306=\"\",\" \",VLOOKUP(R19306,'Main page'!$E$29:'Main page'!$G$41,3,TRUE))","v":" "}]
[null,null,null,null,null,null,null,null,null,null,null,null," "," "," "," ",{"$f":"IF(I19309=\"\",\"\",IF(I19309<='Main page'!$F$49,\"Core staff\",\"Senior staff\"))","v":""},{"$f":"IF(D19309=\"\",\" \",'Main page'!$F$21-(D19309))","v":" "},{"$f":"IF(D19309=\"\",\" \",VLOOKUP(R19309,'Main page'!$E$29:'Main page'!$G$41,3,TRUE))","v":" "}]
[null,null,null,null,null,null,null,null,null,null,null,null," "," "," "," ",{"$f":"IF(I19322=\"\",\"\",IF(I19322<='Main page'!$F$49,\"Core staff\",\"Senior staff\"))","v":""},{"$f":"IF(D19322=\"\",\" \",'Main page'!$F$21-(D19322))","v":" "},{"$f":"IF(D19322=\"\",\" \",VLOOKUP(R19322,'Main page'!$E$29:'Main page'!$G$41,3,TRUE))","v":" "}]
[null,null,null,null,null,null,null,null,null,null,null,null," "," "," "," ",{"$f":"IF(I19327=\"\",\"\",IF(I19327<='Main page'!$F$49,\"Core staff\",\"Senior staff\"))","v":""},{"$f":"IF(D19327=\"\",\" \",'Main page'!$F$21-(D19327))","v":" "},{"$f":"IF(D19327=\"\",\" \",VLOOKUP(R19327,'Main page'!$E$29:'Main page'!$G$41,3,TRUE))","v":" "}]
[null,null,null,null,null,null,null,null,null,null,null,null," "," "," "," ",{"$f":"IF(I19339=\"\",\"\",IF(I19339<='Main page'!$F$49,\"Core staff\",\"Senior staff\"))","v":""},{"$f":"IF(D19339=\"\",\" \",'Main page'!$F$21-(D19339))","v":" "},{"$f":"IF(D19339=\"\",\" \",VLOOKUP(R19339,'Main page'!$E$29:'Main page'!$G$41,3,TRUE))","v":" "}]
[null,null,null,null,null,null,null,null,null,null,null,null," "," "," "," ",{"$f":"IF(I19346=\"\",\"\",IF(I19346<='Main page'!$F$49,\"Core staff\",\"Senior staff\"))","v":""},{"$f":"IF(D19346=\"\",\" \",'Main page'!$F$21-(D19346))","v":" "},{"$f":"IF(D19346=\"\",\" \",VLOOKUP(R19346,'Main page'!$E$29:'Main page'!$G$41,3,TRUE))","v":" "}]
[null,null,null,null,null,null,null,null,null,null,null,null,{"$f":"IFERROR(J19353/G19353,\" \")","v":" "},{"$f":"IFERROR((M19353/$U$4)/H19353,\" \")","v":" "},{"$f":"IFERROR((N19353*75)*26.083,\" \")","v":" "},{"$f":"IF(G19353=0,\" \",IF(G19353=1,\"Full time\",\"Part time\"))","v":" "},{"$f":"IF(I19353=\"\",\"\",IF(I19353<='Main page'!$F$49,\"Core staff\",\"Senior staff\"))","v":""},{"$f":"IF(D19353=\"\",\" \",'Main page'!$F$21-(D19353))","v":" "},{"$f":"IF(D19353=\"\",\" \",VLOOKUP(R19353,'Main page'!$E$29:'Main page'!$G$41,3,TRUE))","v":" "}]
[null,null,null,null,null,null,null,null,null,null,null,null," "," "," "," ",{"$f":"IF(I19369=\"\",\"\",IF(I19369<='Main page'!$F$49,\"Core staff\",\"Senior staff\"))","v":""},{"$f":"IF(D19369=\"\",\" \",'Main page'!$F$21-(D19369))","v":" "},{"$f":"IF(D19369=\"\",\" \",VLOOKUP(R19369,'Main page'!$E$29:'Main page'!$G$41,3,TRUE))","v":" "}]
[null,null,null,null,null,null,null,null,null,null,null,null," "," "," "," ",{"$f":"IF(I19376=\"\",\"\",IF(I19376<='Main page'!$F$49,\"Core staff\",\"Senior staff\"))","v":""},{"$f":"IF(D19376=\"\",\" \",'Main page'!$F$21-(D19376))","v":" "},{"$f":"IF(D19376=\"\",\" \",VLOOKUP(R19376,'Main page'!$E$29:'Main page'!$G$41,3,TRUE))","v":" "}]
[null,null,null,null,null,null,null,null,null,null,null,null," "," "," "," ",{"$f":"IF(I19379=\"\",\"\",IF(I19379<='Main page'!$F$49,\"Core staff\",\"Senior staff\"))","v":""},{"$f":"IF(D19379=\"\",\" \",'Main page'!$F$21-(D19379))","v":" "},{"$f":"IF(D19379=\"\",\" \",VLOOKUP(R19379,'Main page'!$E$29:'Main page'!$G$41,3,TRUE))","v":" "}]
[null,null,null,null,null,null,null,null,null,null,null,null," "," "," "," ",{"$f":"IF(I19392=\"\",\"\",IF(I19392<='Main page'!$F$49,\"Core staff\",\"Senior staff\"))","v":""},{"$f":"IF(D19392=\"\",\" \",'Main page'!$F$21-(D19392))","v":" "},{"$f":"IF(D19392=\"\",\" \",VLOOKUP(R19392,'Main page'!$E$29:'Main page'!$G$41,3,TRUE))","v":" "}]
[null,null,null,null,null,null,null,null,null,null,null,null," "," "," "," ",{"$f":"IF(I19397=\"\",\"\",IF(I19397<='Main page'!$F$49,\"Core staff\",\"Senior staff\"))","v":""},{"$f":"IF(D19397=\"\",\" \",'Main page'!$F$21-(D19397))","v":" "},{"$f":"IF(D19397=\"\",\" \",VLOOKUP(R19397,'Main page'!$E$29:'Main page'!$G$41,3,TRUE))","v":" "}]
[null,null,null,null,null,null,null,null,null,null,null,null," "," "," "," ",{"$f":"IF(I19409=\"\",\"\",IF(I19409<='Main page'!$F$49,\"Core staff\",\"Senior staff\"))","v":""},{"$f":"IF(D19409=\"\",\" \",'Main page'!$F$21-(D19409))","v":" "},{"$f":"IF(D19409=\"\",\" \",VLOOKUP(R19409,'Main page'!$E$29:'Main page'!$G$41,3,TRUE))","v":" "}]
[null,null,null,null,null,null,null,null,null,null,null,null," "," "," "," ",{"$f":"IF(I19416=\"\",\"\",IF(I19416<='Main page'!$F$49,\"Core staff\",\"Senior staff\"))","v":""},{"$f":"IF(D19416=\"\",\" \",'Main page'!$F$21-(D19416))","v":" "},{"$f":"IF(D19416=\"\",\" \",VLOOKUP(R19416,'Main page'!$E$29:'Main page'!$G$41,3,TRUE))","v":" "}]
[null,null,null,null,null,null,null,null,null,null,null,null," "," "," "," ",{"$f":"IF(I19423=\"\",\"\",IF(I19423<='Main page'!$F$49,\"Core staff\",\"Senior staff\"))","v":""},{"$f":"IF(D19423=\"\",\" \",'Main page'!$F$21-(D19423))","v":" "},{"$f":"IF(D19423=\"\",\" \",VLOOKUP(R19423,'Main page'!$E$29:'Main page'!$G$41,3,TRUE))","v":" "}]
[null,null,null,null,null,null,null,null,null,null,null,null," "," "," "," ",{"$f":"IF(I19439=\"\",\"\",IF(I19439<='Main page'!$F$49,\"Core staff\",\"Senior staff\"))","v":""},{"$f":"IF(D19439=\"\",\" \",'Main page'!$F$21-(D19439))","v":" "},{"$f":"IF(D19439=\"\",\" \",VLOOKUP(R19439,'Main page'!$E$29:'Main page'!$G$41,3,TRUE))","v":" "}]
[null,null,null,null,null,null,null,null,null,null,null,null," "," "," "," ",{"$f":"IF(I19446=\"\",\"\",IF(I19446<='Main page'!$F$49,\"Core staff\",\"Senior staff\"))","v":""},{"$f":"IF(D19446=\"\",\" \",'Main page'!$F$21-(D19446))","v":" "},{"$f":"IF(D19446=\"\",\" \",VLOOKUP(R19446,'Main page'!$E$29:'Main page'!$G$41,3,TRUE))","v":" "}]
[null,null,null,null,null,null,null,null,null,null,null,null," "," "," "," ",{"$f":"IF(I19449=\"\",\"\",IF(I19449<='Main page'!$F$49,\"Core staff\",\"Senior staff\"))","v":""},{"$f":"IF(D19449=\"\",\" \",'Main page'!$F$21-(D19449))","v":" "},{"$f":"IF(D19449=\"\",\" \",VLOOKUP(R19449,'Main page'!$E$29:'Main page'!$G$41,3,TRUE))","v":" "}]
[null,null,null,null,null,null,null,null,null,null,null,null," "," "," "," ",{"$f":"IF(I19462=\"\",\"\",IF(I19462<='Main page'!$F$49,\"Core staff\",\"Senior staff\"))","v":""},{"$f":"IF(D19462=\"\",\" \",'Main page'!$F$21-(D19462))","v":" "},{"$f":"IF(D19462=\"\",\" \",VLOOKUP(R19462,'Main page'!$E$29:'Main page'!$G$41,3,TRUE))","v":" "}]
[null,null,null,null,null,null,null,null,null,null,null,null," "," "," "," ",{"$f":"IF(I19467=\"\",\"\",IF(I19467<='Main page'!$F$49,\"Core staff\",\"Senior staff\"))","v":""},{"$f":"IF(D19467=\"\",\" \",'Main page'!$F$21-(D19467))","v":" "},{"$f":"IF(D19467=\"\",\" \",VLOOKUP(R19467,'Main page'!$E$29:'Main page'!$G$41,3,TRUE))","v":" "}]
[null,null,null,null,null,null,null,null,null,null,null,null," "," "," "," ",{"$f":"IF(I19479=\"\",\"\",IF(I19479<='Main page'!$F$49,\"Core staff\",\"Senior staff\"))","v":""},{"$f":"IF(D19479=\"\",\" \",'Main page'!$F$21-(D19479))","v":" "},{"$f":"IF(D19479=\"\",\" \",VLOOKUP(R19479,'Main page'!$E$29:'Main page'!$G$41,3,TRUE))","v":" "}]
[null,null,null,null,null,null,null,null,null,null,null,null," "," "," "," ",{"$f":"IF(I19486=\"\",\"\",IF(I19486<='Main page'!$F$49,\"Core staff\",\"Senior staff\"))","v":""},{"$f":"IF(D19486=\"\",\" \",'Main page'!$F$21-(D19486))","v":" "},{"$f":"IF(D19486=\"\",\" \",VLOOKUP(R19486,'Main page'!$E$29:'Main page'!$G$41,3,TRUE))","v":" "}]
[null,null,null,null,null,null,null,null,null,null,null,null," "," "," "," ",{"$f":"IF(I19498=\"\",\"\",IF(I19498<='Main page'!$F$49,\"Core staff\",\"Senior staff\"))","v":""},{"$f":"IF(D19498=\"\",\" \",'Main page'!$F$21-(D19498))","v":" "},{"$f":"IF(D19498=\"\",\" \",VLOOKUP(R19498,'Main page'!$E$29:'Main page'!$G$41,3,TRUE))","v":" "}]
[null,null,null,null,null,null,null,null,null,null,null,null," "," "," "," ",{"$f":"IF(I19502=\"\",\"\",IF(I19502<='Main page'!$F$49,\"Core staff\",\"Senior staff\"))","v":""},{"$f":"IF(D19502=\"\",\" \",'Main page'!$F$21-(D19502))","v":" "},{"$f":"IF(D19502=\"\",\" \",VLOOKUP(R19502,'Main page'!$E$29:'Main page'!$G$41,3,TRUE))","v":" "}]
[null,null,null,null,null,null,null,null,null,null,null,null," "," "," "," ",{"$f":"IF(I19503=\"\",\"\",IF(I19503<='Main page'!$F$49,\"Core staff\",\"Senior staff\"))","v":""},{"$f":"IF(D19503=\"\",\" \",'Main page'!$F$21-(D19503))","v":" "},{"$f":"IF(D19503=\"\",\" \",VLOOKUP(R19503,'Main page'!$E$29:'Main page'!$G$41,3,TRUE))","v":" "}]
[null,null,null,null,null,null,null,null,null,null,null,null," "," "," "," ",{"$f":"IF(I19504=\"\",\"\",IF(I19504<='Main page'!$F$49,\"Core staff\",\"Senior staff\"))","v":""},{"$f":"IF(D19504=\"\",\" \",'Main page'!$F$21-(D19504))","v":" "},{"$f":"IF(D19504=\"\",\" \",VLOOKUP(R19504,'Main page'!$E$29:'Main page'!$G$41,3,TRUE))","v":" "}]
[null,null,null,null,null,null,null,null,null,null,null,null," "," "," "," ",{"$f":"IF(I19505=\"\",\"\",IF(I19505<='Main page'!$F$49,\"Core staff\",\"Senior staff\"))","v":""},{"$f":"IF(D19505=\"\",\" \",'Main page'!$F$21-(D19505))","v":" "},{"$f":"IF(D19505=\"\",\" \",VLOOKUP(R19505,'Main page'!$E$29:'Main page'!$G$41,3,TRUE))","v":" "}]
[null,null,null,null,null,null,null,null,null,null,null,null," "," "," "," ",{"$f":"IF(I19506=\"\",\"\",IF(I19506<='Main page'!$F$49,\"Core staff\",\"Senior staff\"))","v":""},{"$f":"IF(D19506=\"\",\" \",'Main page'!$F$21-(D19506))","v":" "},{"$f":"IF(D19506=\"\",\" \",VLOOKUP(R19506,'Main page'!$E$29:'Main page'!$G$41,3,TRUE))","v":" "}]
[null,null,null,null,null,null,null,null,null,null,null,null," "," "," "," ",{"$f":"IF(I19507=\"\",\"\",IF(I19507<='Main page'!$F$49,\"Core staff\",\"Senior staff\"))","v":""},{"$f":"IF(D19507=\"\",\" \",'Main page'!$F$21-(D19507))","v":" "},{"$f":"IF(D19507=\"\",\" \",VLOOKUP(R19507,'Main page'!$E$29:'Main page'!$G$41,3,TRUE))","v":" "}]
[null,null,null,null,null,null,null,null,null,null,null,null," "," "," "," ",{"$f":"IF(I19508=\"\",\"\",IF(I19508<='Main page'!$F$49,\"Core staff\",\"Senior staff\"))","v":""},{"$f":"IF(D19508=\"\",\" \",'Main page'!$F$21-(D19508))","v":" "},{"$f":"IF(D19508=\"\",\" \",VLOOKUP(R19508,'Main page'!$E$29:'Main page'!$G$41,3,TRUE))","v":" "}]
[null,null,null,null,null,null,null,null,null,null,null,null," "," "," "," ",{"$f":"IF(I19509=\"\",\"\",IF(I19509<='Main page'!$F$49,\"Core staff\",\"Senior staff\"))","v":""},{"$f":"IF(D19509=\"\",\" \",'Main page'!$F$21-(D19509))","v":" "},{"$f":"IF(D19509=\"\",\" \",VLOOKUP(R19509,'Main page'!$E$29:'Main page'!$G$41,3,TRUE))","v":" "}]
[null,null,null,null,null,null,null,null,null,null,null,null," "," "," "," ",{"$f":"IF(I19510=\"\",\"\",IF(I19510<='Main page'!$F$49,\"Core staff\",\"Senior staff\"))","v":""},{"$f":"IF(D19510=\"\",\" \",'Main page'!$F$21-(D19510))","v":" "},{"$f":"IF(D19510=\"\",\" \",VLOOKUP(R19510,'Main page'!$E$29:'Main page'!$G$41,3,TRUE))","v":" "}]
[null,null,null,null,null,null,null,null,null,null,null,null," "," "," "," ",{"$f":"IF(I19511=\"\",\"\",IF(I19511<='Main page'!$F$49,\"Core staff\",\"Senior staff\"))","v":""},{"$f":"IF(D19511=\"\",\" \",'Main page'!$F$21-(D19511))","v":" "},{"$f":"IF(D19511=\"\",\" \",VLOOKUP(R19511,'Main page'!$E$29:'Main page'!$G$41,3,TRUE))","v":" "}]
[null,null,null,null,null,null,null,null,null,null,null,null," "," "," "," ",{"$f":"IF(I19512=\"\",\"\",IF(I19512<='Main page'!$F$49,\"Core staff\",\"Senior staff\"))","v":""},{"$f":"IF(D19512=\"\",\" \",'Main page'!$F$21-(D19512))","v":" "},{"$f":"IF(D19512=\"\",\" \",VLOOKUP(R19512,'Main page'!$E$29:'Main page'!$G$41,3,TRUE))","v":" "}]
[null,null,null,null,null,null,null,null,null,null,null,null," "," "," "," ",{"$f":"IF(I19513=\"\",\"\",IF(I19513<='Main page'!$F$49,\"Core staff\",\"Senior staff\"))","v":""},{"$f":"IF(D19513=\"\",\" \",'Main page'!$F$21-(D19513))","v":" "},{"$f":"IF(D19513=\"\",\" \",VLOOKUP(R19513,'Main page'!$E$29:'Main page'!$G$41,3,TRUE))","v":" "}]
[null,null,null,null,null,null,null,null,null,null,null,null," "," "," "," ",{"$f":"IF(I19514=\"\",\"\",IF(I19514<='Main page'!$F$49,\"Core staff\",\"Senior staff\"))","v":""},{"$f":"IF(D19514=\"\",\" \",'Main page'!$F$21-(D19514))","v":" "},{"$f":"IF(D19514=\"\",\" \",VLOOKUP(R19514,'Main page'!$E$29:'Main page'!$G$41,3,TRUE))","v":" "}]
[null,null,null,null,null,null,null,null,null,null,null,null," "," "," "," ",{"$f":"IF(I19515=\"\",\"\",IF(I19515<='Main page'!$F$49,\"Core staff\",\"Senior staff\"))","v":""},{"$f":"IF(D19515=\"\",\" \",'Main page'!$F$21-(D19515))","v":" "},{"$f":"IF(D19515=\"\",\" \",VLOOKUP(R19515,'Main page'!$E$29:'Main page'!$G$41,3,TRUE))","v":" "}]
[null,null,null,null,null,null,null,null,null,null,null,null," "," "," "," ",{"$f":"IF(I19516=\"\",\"\",IF(I19516<='Main page'!$F$49,\"Core staff\",\"Senior staff\"))","v":""},{"$f":"IF(D19516=\"\",\" \",'Main page'!$F$21-(D19516))","v":" "},{"$f":"IF(D19516=\"\",\" \",VLOOKUP(R19516,'Main page'!$E$29:'Main page'!$G$41,3,TRUE))","v":" "}]
[null,null,null,null,null,null,null,null,null,null,null,null," "," "," "," ",{"$f":"IF(I19517=\"\",\"\",IF(I19517<='Main page'!$F$49,\"Core staff\",\"Senior staff\"))","v":""},{"$f":"IF(D19517=\"\",\" \",'Main page'!$F$21-(D19517))","v":" "},{"$f":"IF(D19517=\"\",\" \",VLOOKUP(R19517,'Main page'!$E$29:'Main page'!$G$41,3,TRUE))","v":" "}]
[null,null,null,null,null,null,null,null,null,null,null,null," "," "," "," ",{"$f":"IF(I19518=\"\",\"\",IF(I19518<='Main page'!$F$49,\"Core staff\",\"Senior staff\"))","v":""},{"$f":"IF(D19518=\"\",\" \",'Main page'!$F$21-(D19518))","v":" "},{"$f":"IF(D19518=\"\",\" \",VLOOKUP(R19518,'Main page'!$E$29:'Main page'!$G$41,3,TRUE))","v":" "}]
[null,null,null,null,null,null,null,null,null,null,null,null," "," "," "," ",{"$f":"IF(I19519=\"\",\"\",IF(I19519<='Main page'!$F$49,\"Core staff\",\"Senior staff\"))","v":""},{"$f":"IF(D19519=\"\",\" \",'Main page'!$F$21-(D19519))","v":" "},{"$f":"IF(D19519=\"\",\" \",VLOOKUP(R19519,'Main page'!$E$29:'Main page'!$G$41,3,TRUE))","v":" "}]
[null,null,null,null,null,null,null,null,null,null,null,null," "," "," "," ",{"$f":"IF(I19520=\"\",\"\",IF(I19520<='Main page'!$F$49,\"Core staff\",\"Senior staff\"))","v":""},{"$f":"IF(D19520=\"\",\" \",'Main page'!$F$21-(D19520))","v":" "},{"$f":"IF(D19520=\"\",\" \",VLOOKUP(R19520,'Main page'!$E$29:'Main page'!$G$41,3,TRUE))","v":" "}]
[null,null,null,null,null,null,null,null,null,null,null,null," "," "," "," ",{"$f":"IF(I19521=\"\",\"\",IF(I19521<='Main page'!$F$49,\"Core staff\",\"Senior staff\"))","v":""},{"$f":"IF(D19521=\"\",\" \",'Main page'!$F$21-(D19521))","v":" "},{"$f":"IF(D19521=\"\",\" \",VLOOKUP(R19521,'Main page'!$E$29:'Main page'!$G$41,3,TRUE))","v":" "}]
[null,null,null,null,null,null,null,null,null,null,null,null," "," "," "," ",{"$f":"IF(I19522=\"\",\"\",IF(I19522<='Main page'!$F$49,\"Core staff\",\"Senior staff\"))","v":""},{"$f":"IF(D19522=\"\",\" \",'Main page'!$F$21-(D19522))","v":" "},{"$f":"IF(D19522=\"\",\" \",VLOOKUP(R19522,'Main page'!$E$29:'Main page'!$G$41,3,TRUE))","v":" "}]
[null,null,null,null,null,null,null,null,null,null,null,null," "," "," "," ",{"$f":"IF(I19523=\"\",\"\",IF(I19523<='Main page'!$F$49,\"Core staff\",\"Senior staff\"))","v":""},{"$f":"IF(D19523=\"\",\" \",'Main page'!$F$21-(D19523))","v":" "},{"$f":"IF(D19523=\"\",\" \",VLOOKUP(R19523,'Main page'!$E$29:'Main page'!$G$41,3,TRUE))","v":" "}]
[null,null,null,null,null,null,null,null,null,null,null,null," "," "," "," ",{"$f":"IF(I19524=\"\",\"\",IF(I19524<='Main page'!$F$49,\"Core staff\",\"Senior staff\"))","v":""},{"$f":"IF(D19524=\"\",\" \",'Main page'!$F$21-(D19524))","v":" "},{"$f":"IF(D19524=\"\",\" \",VLOOKUP(R19524,'Main page'!$E$29:'Main page'!$G$41,3,TRUE))","v":" "}]
[null,null,null,null,null,null,null,null,null,null,null,null," "," "," "," ",{"$f":"IF(I19525=\"\",\"\",IF(I19525<='Main page'!$F$49,\"Core staff\",\"Senior staff\"))","v":""},{"$f":"IF(D19525=\"\",\" \",'Main page'!$F$21-(D19525))","v":" "},{"$f":"IF(D19525=\"\",\" \",VLOOKUP(R19525,'Main page'!$E$29:'Main page'!$G$41,3,TRUE))","v":" "}]
[null,null,null,null,null,null,null,null,null,null,null,null," "," "," "," ",{"$f":"IF(I19526=\"\",\"\",IF(I19526<='Main page'!$F$49,\"Core staff\",\"Senior staff\"))","v":""},{"$f":"IF(D19526=\"\",\" \",'Main page'!$F$21-(D19526))","v":" "},{"$f":"IF(D19526=\"\",\" \",VLOOKUP(R19526,'Main page'!$E$29:'Main page'!$G$41,3,TRUE))","v":" "}]
[null,null,null,null,null,null,null,null,null,null,null,null," "," "," "," ",{"$f":"IF(I19527=\"\",\"\",IF(I19527<='Main page'!$F$49,\"Core staff\",\"Senior staff\"))","v":""},{"$f":"IF(D19527=\"\",\" \",'Main page'!$F$21-(D19527))","v":" "},{"$f":"IF(D19527=\"\",\" \",VLOOKUP(R19527,'Main page'!$E$29:'Main page'!$G$41,3,TRUE))","v":" "}]
[null,null,null,null,null,null,null,null,null,null,null,null," "," "," "," ",{"$f":"IF(I19528=\"\",\"\",IF(I19528<='Main page'!$F$49,\"Core staff\",\"Senior staff\"))","v":""},{"$f":"IF(D19528=\"\",\" \",'Main page'!$F$21-(D19528))","v":" "},{"$f":"IF(D19528=\"\",\" \",VLOOKUP(R19528,'Main page'!$E$29:'Main page'!$G$41,3,TRUE))","v":" "}]
[null,null,null,null,null,null,null,null,null,null,null,null," "," "," "," ",{"$f":"IF(I19529=\"\",\"\",IF(I19529<='Main page'!$F$49,\"Core staff\",\"Senior staff\"))","v":""},{"$f":"IF(D19529=\"\",\" \",'Main page'!$F$21-(D19529))","v":" "},{"$f":"IF(D19529=\"\",\" \",VLOOKUP(R19529,'Main page'!$E$29:'Main page'!$G$41,3,TRUE))","v":" "}]
[null,null,null,null,null,null,null,null,null,null,null,null," "," "," "," ",{"$f":"IF(I19530=\"\",\"\",IF(I19530<='Main page'!$F$49,\"Core staff\",\"Senior staff\"))","v":""},{"$f":"IF(D19530=\"\",\" \",'Main page'!$F$21-(D19530))","v":" "},{"$f":"IF(D19530=\"\",\" \",VLOOKUP(R19530,'Main page'!$E$29:'Main page'!$G$41,3,TRUE))","v":" "}]
[null,null,null,null,null,null,null,null,null,null,null,null," "," "," "," ",{"$f":"IF(I19531=\"\",\"\",IF(I19531<='Main page'!$F$49,\"Core staff\",\"Senior staff\"))","v":""},{"$f":"IF(D19531=\"\",\" \",'Main page'!$F$21-(D19531))","v":" "},{"$f":"IF(D19531=\"\",\" \",VLOOKUP(R19531,'Main page'!$E$29:'Main page'!$G$41,3,TRUE))","v":" "}]
[null,null,null,null,null,null,null,null,null,null,null,null," "," "," "," ",{"$f":"IF(I19532=\"\",\"\",IF(I19532<='Main page'!$F$49,\"Core staff\",\"Senior staff\"))","v":""},{"$f":"IF(D19532=\"\",\" \",'Main page'!$F$21-(D19532))","v":" "},{"$f":"IF(D19532=\"\",\" \",VLOOKUP(R19532,'Main page'!$E$29:'Main page'!$G$41,3,TRUE))","v":" "}]
[null,null,null,null,null,null,null,null,null,null,null,null," "," "," "," ",{"$f":"IF(I19533=\"\",\"\",IF(I19533<='Main page'!$F$49,\"Core staff\",\"Senior staff\"))","v":""},{"$f":"IF(D19533=\"\",\" \",'Main page'!$F$21-(D19533))","v":" "},{"$f":"IF(D19533=\"\",\" \",VLOOKUP(R19533,'Main page'!$E$29:'Main page'!$G$41,3,TRUE))","v":" "}]
[null,null,null,null,null,null,null,null,null,null,null,null," "," "," "," ",{"$f":"IF(I19534=\"\",\"\",IF(I19534<='Main page'!$F$49,\"Core staff\",\"Senior staff\"))","v":""},{"$f":"IF(D19534=\"\",\" \",'Main page'!$F$21-(D19534))","v":" "},{"$f":"IF(D19534=\"\",\" \",VLOOKUP(R19534,'Main page'!$E$29:'Main page'!$G$41,3,TRUE))","v":" "}]
[null,null,null,null,null,null,null,null,null,null,null,null," "," "," "," ",{"$f":"IF(I19535=\"\",\"\",IF(I19535<='Main page'!$F$49,\"Core staff\",\"Senior staff\"))","v":""},{"$f":"IF(D19535=\"\",\" \",'Main page'!$F$21-(D19535))","v":" "},{"$f":"IF(D19535=\"\",\" \",VLOOKUP(R19535,'Main page'!$E$29:'Main page'!$G$41,3,TRUE))","v":" "}]
[null,null,null,null,null,null,null,null,null,null,null,null," "," "," "," ",{"$f":"IF(I19536=\"\",\"\",IF(I19536<='Main page'!$F$49,\"Core staff\",\"Senior staff\"))","v":""},{"$f":"IF(D19536=\"\",\" \",'Main page'!$F$21-(D19536))","v":" "},{"$f":"IF(D19536=\"\",\" \",VLOOKUP(R19536,'Main page'!$E$29:'Main page'!$G$41,3,TRUE))","v":" "}]
[null,null,null,null,null,null,null,null,null,null,null,null," "," "," "," ",{"$f":"IF(I19537=\"\",\"\",IF(I19537<='Main page'!$F$49,\"Core staff\",\"Senior staff\"))","v":""},{"$f":"IF(D19537=\"\",\" \",'Main page'!$F$21-(D19537))","v":" "},{"$f":"IF(D19537=\"\",\" \",VLOOKUP(R19537,'Main page'!$E$29:'Main page'!$G$41,3,TRUE))","v":" "}]
[null,null,null,null,null,null,null,null,null,null,null,null," "," "," "," ",{"$f":"IF(I19538=\"\",\"\",IF(I19538<='Main page'!$F$49,\"Core staff\",\"Senior staff\"))","v":""},{"$f":"IF(D19538=\"\",\" \",'Main page'!$F$21-(D19538))","v":" "},{"$f":"IF(D19538=\"\",\" \",VLOOKUP(R19538,'Main page'!$E$29:'Main page'!$G$41,3,TRUE))","v":" "}]
[null,null,null,null,null,null,null,null,null,null,null,null," "," "," "," ",{"$f":"IF(I19539=\"\",\"\",IF(I19539<='Main page'!$F$49,\"Core staff\",\"Senior staff\"))","v":""},{"$f":"IF(D19539=\"\",\" \",'Main page'!$F$21-(D19539))","v":" "},{"$f":"IF(D19539=\"\",\" \",VLOOKUP(R19539,'Main page'!$E$29:'Main page'!$G$41,3,TRUE))","v":" "}]
[null,null,null,null,null,null,null,null,null,null,null,null," "," "," "," ",{"$f":"IF(I19540=\"\",\"\",IF(I19540<='Main page'!$F$49,\"Core staff\",\"Senior staff\"))","v":""},{"$f":"IF(D19540=\"\",\" \",'Main page'!$F$21-(D19540))","v":" "},{"$f":"IF(D19540=\"\",\" \",VLOOKUP(R19540,'Main page'!$E$29:'Main page'!$G$41,3,TRUE))","v":" "}]
[null,null,null,null,null,null,null,null,null,null,null,null," "," "," "," ",{"$f":"IF(I19541=\"\",\"\",IF(I19541<='Main page'!$F$49,\"Core staff\",\"Senior staff\"))","v":""},{"$f":"IF(D19541=\"\",\" \",'Main page'!$F$21-(D19541))","v":" "},{"$f":"IF(D19541=\"\",\" \",VLOOKUP(R19541,'Main page'!$E$29:'Main page'!$G$41,3,TRUE))","v":" "}]
[null,null,null,null,null,null,null,null,null,null,null,null," "," "," "," ",{"$f":"IF(I19542=\"\",\"\",IF(I19542<='Main page'!$F$49,\"Core staff\",\"Senior staff\"))","v":""},{"$f":"IF(D19542=\"\",\" \",'Main page'!$F$21-(D19542))","v":" "},{"$f":"IF(D19542=\"\",\" \",VLOOKUP(R19542,'Main page'!$E$29:'Main page'!$G$41,3,TRUE))","v":" "}]
[null,null,null,null,null,null,null,null,null,null,null,null," "," "," "," ",{"$f":"IF(I19543=\"\",\"\",IF(I19543<='Main page'!$F$49,\"Core staff\",\"Senior staff\"))","v":""},{"$f":"IF(D19543=\"\",\" \",'Main page'!$F$21-(D19543))","v":" "},{"$f":"IF(D19543=\"\",\" \",VLOOKUP(R19543,'Main page'!$E$29:'Main page'!$G$41,3,TRUE))","v":" "}]
[null,null,null,null,null,null,null,null,null,null,null,null," "," "," "," ",{"$f":"IF(I19544=\"\",\"\",IF(I19544<='Main page'!$F$49,\"Core staff\",\"Senior staff\"))","v":""},{"$f":"IF(D19544=\"\",\" \",'Main page'!$F$21-(D19544))","v":" "},{"$f":"IF(D19544=\"\",\" \",VLOOKUP(R19544,'Main page'!$E$29:'Main page'!$G$41,3,TRUE))","v":" "}]
[null,null,null,null,null,null,null,null,null,null,null,null,{"$f":"IFERROR(J19545/G19545,\" \")","v":" "},{"$f":"IFERROR((M19545/$U$4)/H19545,\" \")","v":" "},{"$f":"IFERROR((N19545*75)*26.083,\" \")","v":" "},{"$f":"IF(G19545=0,\" \",IF(G19545=1,\"Full time\",\"Part time\"))","v":" "},{"$f":"IF(I19545=\"\",\"\",IF(I19545<='Main page'!$F$49,\"Core staff\",\"Senior staff\"))","v":""},{"$f":"IF(D19545=\"\",\" \",'Main page'!$F$21-(D19545))","v":" "},{"$f":"IF(D19545=\"\",\" \",VLOOKUP(R19545,'Main page'!$E$29:'Main page'!$G$41,3,TRUE))","v":" "}]
[null,null,null,null,null,null,null,null,null,null,null,null," "," "," "," ",{"$f":"IF(I19546=\"\",\"\",IF(I19546<='Main page'!$F$49,\"Core staff\",\"Senior staff\"))","v":""},{"$f":"IF(D19546=\"\",\" \",'Main page'!$F$21-(D19546))","v":" "},{"$f":"IF(D19546=\"\",\" \",VLOOKUP(R19546,'Main page'!$E$29:'Main page'!$G$41,3,TRUE))","v":" "}]
[null,null,null,null,null,null,null,null,null,null,null,null," "," "," "," ",{"$f":"IF(I19547=\"\",\"\",IF(I19547<='Main page'!$F$49,\"Core staff\",\"Senior staff\"))","v":""},{"$f":"IF(D19547=\"\",\" \",'Main page'!$F$21-(D19547))","v":" "},{"$f":"IF(D19547=\"\",\" \",VLOOKUP(R19547,'Main page'!$E$29:'Main page'!$G$41,3,TRUE))","v":" "}]
[null,null,null,null,null,null,null,null,null,null,null,null," "," "," "," ",{"$f":"IF(I19548=\"\",\"\",IF(I19548<='Main page'!$F$49,\"Core staff\",\"Senior staff\"))","v":""},{"$f":"IF(D19548=\"\",\" \",'Main page'!$F$21-(D19548))","v":" "},{"$f":"IF(D19548=\"\",\" \",VLOOKUP(R19548,'Main page'!$E$29:'Main page'!$G$41,3,TRUE))","v":" "}]
[null,null,null,null,null,null,null,null,null,null,null,null," "," "," "," ",{"$f":"IF(I19549=\"\",\"\",IF(I19549<='Main page'!$F$49,\"Core staff\",\"Senior staff\"))","v":""},{"$f":"IF(D19549=\"\",\" \",'Main page'!$F$21-(D19549))","v":" "},{"$f":"IF(D19549=\"\",\" \",VLOOKUP(R19549,'Main page'!$E$29:'Main page'!$G$41,3,TRUE))","v":" "}]
[null,null,null,null,null,null,null,null,null,null,null,null," "," "," "," ",{"$f":"IF(I19550=\"\",\"\",IF(I19550<='Main page'!$F$49,\"Core staff\",\"Senior staff\"))","v":""},{"$f":"IF(D19550=\"\",\" \",'Main page'!$F$21-(D19550))","v":" "},{"$f":"IF(D19550=\"\",\" \",VLOOKUP(R19550,'Main page'!$E$29:'Main page'!$G$41,3,TRUE))","v":" "}]
[null,null,null,null,null,null,null,null,null,null,null,null," "," "," "," ",{"$f":"IF(I19551=\"\",\"\",IF(I19551<='Main page'!$F$49,\"Core staff\",\"Senior staff\"))","v":""},{"$f":"IF(D19551=\"\",\" \",'Main page'!$F$21-(D19551))","v":" "},{"$f":"IF(D19551=\"\",\" \",VLOOKUP(R19551,'Main page'!$E$29:'Main page'!$G$41,3,TRUE))","v":" "}]
[null,null,null,null,null,null,null,null,null,null,null,null," "," "," "," ",{"$f":"IF(I19552=\"\",\"\",IF(I19552<='Main page'!$F$49,\"Core staff\",\"Senior staff\"))","v":""},{"$f":"IF(D19552=\"\",\" \",'Main page'!$F$21-(D19552))","v":" "},{"$f":"IF(D19552=\"\",\" \",VLOOKUP(R19552,'Main page'!$E$29:'Main page'!$G$41,3,TRUE))","v":" "}]
[null,null,null,null,null,null,null,null,null,null,null,null," "," "," "," ",{"$f":"IF(I19553=\"\",\"\",IF(I19553<='Main page'!$F$49,\"Core staff\",\"Senior staff\"))","v":""},{"$f":"IF(D19553=\"\",\" \",'Main page'!$F$21-(D19553))","v":" "},{"$f":"IF(D19553=\"\",\" \",VLOOKUP(R19553,'Main page'!$E$29:'Main page'!$G$41,3,TRUE))","v":" "}]
[null,null,null,null,null,null,null,null,null,null,null,null," "," "," "," ",{"$f":"IF(I19554=\"\",\"\",IF(I19554<='Main page'!$F$49,\"Core staff\",\"Senior staff\"))","v":""},{"$f":"IF(D19554=\"\",\" \",'Main page'!$F$21-(D19554))","v":" "},{"$f":"IF(D19554=\"\",\" \",VLOOKUP(R19554,'Main page'!$E$29:'Main page'!$G$41,3,TRUE))","v":" "}]
[null,null,null,null,null,null,null,null,null,null,null,null," "," "," "," ",{"$f":"IF(I19555=\"\",\"\",IF(I19555<='Main page'!$F$49,\"Core staff\",\"Senior staff\"))","v":""},{"$f":"IF(D19555=\"\",\" \",'Main page'!$F$21-(D19555))","v":" "},{"$f":"IF(D19555=\"\",\" \",VLOOKUP(R19555,'Main page'!$E$29:'Main page'!$G$41,3,TRUE))","v":" "}]
[null,null,null,null,null,null,null,null,null,null,null,null," "," "," "," ",{"$f":"IF(I19556=\"\",\"\",IF(I19556<='Main page'!$F$49,\"Core staff\",\"Senior staff\"))","v":""},{"$f":"IF(D19556=\"\",\" \",'Main page'!$F$21-(D19556))","v":" "},{"$f":"IF(D19556=\"\",\" \",VLOOKUP(R19556,'Main page'!$E$29:'Main page'!$G$41,3,TRUE))","v":" "}]
[null,null,null,null,null,null,null,null,null,null,null,null," "," "," "," ",{"$f":"IF(I19557=\"\",\"\",IF(I19557<='Main page'!$F$49,\"Core staff\",\"Senior staff\"))","v":""},{"$f":"IF(D19557=\"\",\" \",'Main page'!$F$21-(D19557))","v":" "},{"$f":"IF(D19557=\"\",\" \",VLOOKUP(R19557,'Main page'!$E$29:'Main page'!$G$41,3,TRUE))","v":" "}]
[null,null,null,null,null,null,null,null,null,null,null,null," "," "," "," ",{"$f":"IF(I19558=\"\",\"\",IF(I19558<='Main page'!$F$49,\"Core staff\",\"Senior staff\"))","v":""},{"$f":"IF(D19558=\"\",\" \",'Main page'!$F$21-(D19558))","v":" "},{"$f":"IF(D19558=\"\",\" \",VLOOKUP(R19558,'Main page'!$E$29:'Main page'!$G$41,3,TRUE))","v":" "}]
[null,null,null,null,null,null,null,null,null,null,null,null," "," "," "," ",{"$f":"IF(I19559=\"\",\"\",IF(I19559<='Main page'!$F$49,\"Core staff\",\"Senior staff\"))","v":""},{"$f":"IF(D19559=\"\",\" \",'Main page'!$F$21-(D19559))","v":" "},{"$f":"IF(D19559=\"\",\" \",VLOOKUP(R19559,'Main page'!$E$29:'Main page'!$G$41,3,TRUE))","v":" "}]
[null,null,null,null,null,null,null,null,null,null,null,null," "," "," "," ",{"$f":"IF(I19560=\"\",\"\",IF(I19560<='Main page'!$F$49,\"Core staff\",\"Senior staff\"))","v":""},{"$f":"IF(D19560=\"\",\" \",'Main page'!$F$21-(D19560))","v":" "},{"$f":"IF(D19560=\"\",\" \",VLOOKUP(R19560,'Main page'!$E$29:'Main page'!$G$41,3,TRUE))","v":" "}]
[null,null,null,null,null,null,null,null,null,null,null,null," "," "," "," ",{"$f":"IF(I19561=\"\",\"\",IF(I19561<='Main page'!$F$49,\"Core staff\",\"Senior staff\"))","v":""},{"$f":"IF(D19561=\"\",\" \",'Main page'!$F$21-(D19561))","v":" "},{"$f":"IF(D19561=\"\",\" \",VLOOKUP(R19561,'Main page'!$E$29:'Main page'!$G$41,3,TRUE))","v":" "}]
[null,null,null,null,null,null,null,null,null,null,null,null," "," "," "," ",{"$f":"IF(I19562=\"\",\"\",IF(I19562<='Main page'!$F$49,\"Core staff\",\"Senior staff\"))","v":""},{"$f":"IF(D19562=\"\",\" \",'Main page'!$F$21-(D19562))","v":" "},{"$f":"IF(D19562=\"\",\" \",VLOOKUP(R19562,'Main page'!$E$29:'Main page'!$G$41,3,TRUE))","v":" "}]
[null,null,null,null,null,null,null,null,null,null,null,null," "," "," "," ",{"$f":"IF(I19563=\"\",\"\",IF(I19563<='Main page'!$F$49,\"Core staff\",\"Senior staff\"))","v":""},{"$f":"IF(D19563=\"\",\" \",'Main page'!$F$21-(D19563))","v":" "},{"$f":"IF(D19563=\"\",\" \",VLOOKUP(R19563,'Main page'!$E$29:'Main page'!$G$41,3,TRUE))","v":" "}]
[null,null,null,null,null,null,null,null,null,null,null,null," "," "," "," ",{"$f":"IF(I19564=\"\",\"\",IF(I19564<='Main page'!$F$49,\"Core staff\",\"Senior staff\"))","v":""},{"$f":"IF(D19564=\"\",\" \",'Main page'!$F$21-(D19564))","v":" "},{"$f":"IF(D19564=\"\",\" \",VLOOKUP(R19564,'Main page'!$E$29:'Main page'!$G$41,3,TRUE))","v":" "}]
[null,null,null,null,null,null,null,null,null,null,null,null," "," "," "," ",{"$f":"IF(I19565=\"\",\"\",IF(I19565<='Main page'!$F$49,\"Core staff\",\"Senior staff\"))","v":""},{"$f":"IF(D19565=\"\",\" \",'Main page'!$F$21-(D19565))","v":" "},{"$f":"IF(D19565=\"\",\" \",VLOOKUP(R19565,'Main page'!$E$29:'Main page'!$G$41,3,TRUE))","v":" "}]
[null,null,null,null,null,null,null,null,null,null,null,null," "," "," "," ",{"$f":"IF(I19566=\"\",\"\",IF(I19566<='Main page'!$F$49,\"Core staff\",\"Senior staff\"))","v":""},{"$f":"IF(D19566=\"\",\" \",'Main page'!$F$21-(D19566))","v":" "},{"$f":"IF(D19566=\"\",\" \",VLOOKUP(R19566,'Main page'!$E$29:'Main page'!$G$41,3,TRUE))","v":" "}]
[null,null,null,null,null,null,null,null,null,null,null,null," "," "," "," ",{"$f":"IF(I19567=\"\",\"\",IF(I19567<='Main page'!$F$49,\"Core staff\",\"Senior staff\"))","v":""},{"$f":"IF(D19567=\"\",\" \",'Main page'!$F$21-(D19567))","v":" "},{"$f":"IF(D19567=\"\",\" \",VLOOKUP(R19567,'Main page'!$E$29:'Main page'!$G$41,3,TRUE))","v":" "}]
[null,null,null,null,null,null,null,null,null,null,null,null," "," "," "," ",{"$f":"IF(I19568=\"\",\"\",IF(I19568<='Main page'!$F$49,\"Core staff\",\"Senior staff\"))","v":""},{"$f":"IF(D19568=\"\",\" \",'Main page'!$F$21-(D19568))","v":" "},{"$f":"IF(D19568=\"\",\" \",VLOOKUP(R19568,'Main page'!$E$29:'Main page'!$G$41,3,TRUE))","v":" "}]
[null,null,null,null,null,null,null,null,null,null,null,null," "," "," "," ",{"$f":"IF(I19569=\"\",\"\",IF(I19569<='Main page'!$F$49,\"Core staff\",\"Senior staff\"))","v":""},{"$f":"IF(D19569=\"\",\" \",'Main page'!$F$21-(D19569))","v":" "},{"$f":"IF(D19569=\"\",\" \",VLOOKUP(R19569,'Main page'!$E$29:'Main page'!$G$41,3,TRUE))","v":" "}]
[null,null,null,null,null,null,null,null,null,null,null,null," "," "," "," ",{"$f":"IF(I19570=\"\",\"\",IF(I19570<='Main page'!$F$49,\"Core staff\",\"Senior staff\"))","v":""},{"$f":"IF(D19570=\"\",\" \",'Main page'!$F$21-(D19570))","v":" "},{"$f":"IF(D19570=\"\",\" \",VLOOKUP(R19570,'Main page'!$E$29:'Main page'!$G$41,3,TRUE))","v":" "}]
[null,null,null,null,null,null,null,null,null,null,null,null," "," "," "," ",{"$f":"IF(I19571=\"\",\"\",IF(I19571<='Main page'!$F$49,\"Core staff\",\"Senior staff\"))","v":""},{"$f":"IF(D19571=\"\",\" \",'Main page'!$F$21-(D19571))","v":" "},{"$f":"IF(D19571=\"\",\" \",VLOOKUP(R19571,'Main page'!$E$29:'Main page'!$G$41,3,TRUE))","v":" "}]
[null,null,null,null,null,null,null,null,null,null,null,null," "," "," "," ",{"$f":"IF(I19572=\"\",\"\",IF(I19572<='Main page'!$F$49,\"Core staff\",\"Senior staff\"))","v":""},{"$f":"IF(D19572=\"\",\" \",'Main page'!$F$21-(D19572))","v":" "},{"$f":"IF(D19572=\"\",\" \",VLOOKUP(R19572,'Main page'!$E$29:'Main page'!$G$41,3,TRUE))","v":" "}]
[null,null,null,null,null,null,null,null,null,null,null,null," "," "," "," ",{"$f":"IF(I19573=\"\",\"\",IF(I19573<='Main page'!$F$49,\"Core staff\",\"Senior staff\"))","v":""},{"$f":"IF(D19573=\"\",\" \",'Main page'!$F$21-(D19573))","v":" "},{"$f":"IF(D19573=\"\",\" \",VLOOKUP(R19573,'Main page'!$E$29:'Main page'!$G$41,3,TRUE))","v":" "}]
[null,null,null,null,null,null,null,null,null,null,null,null," "," "," "," ",{"$f":"IF(I19574=\"\",\"\",IF(I19574<='Main page'!$F$49,\"Core staff\",\"Senior staff\"))","v":""},{"$f":"IF(D19574=\"\",\" \",'Main page'!$F$21-(D19574))","v":" "},{"$f":"IF(D19574=\"\",\" \",VLOOKUP(R19574,'Main page'!$E$29:'Main page'!$G$41,3,TRUE))","v":" "}]
[null,null,null,null,null,null,null,null,null,null,null,null," "," "," "," ",{"$f":"IF(I19575=\"\",\"\",IF(I19575<='Main page'!$F$49,\"Core staff\",\"Senior staff\"))","v":""},{"$f":"IF(D19575=\"\",\" \",'Main page'!$F$21-(D19575))","v":" "},{"$f":"IF(D19575=\"\",\" \",VLOOKUP(R19575,'Main page'!$E$29:'Main page'!$G$41,3,TRUE))","v":" "}]
[null,null,null,null,null,null,null,null,null,null,null,null," "," "," "," ",{"$f":"IF(I19576=\"\",\"\",IF(I19576<='Main page'!$F$49,\"Core staff\",\"Senior staff\"))","v":""},{"$f":"IF(D19576=\"\",\" \",'Main page'!$F$21-(D19576))","v":" "},{"$f":"IF(D19576=\"\",\" \",VLOOKUP(R19576,'Main page'!$E$29:'Main page'!$G$41,3,TRUE))","v":" "}]
[null,null,null,null,null,null,null,null,null,null,null,null," "," "," "," ",{"$f":"IF(I19577=\"\",\"\",IF(I19577<='Main page'!$F$49,\"Core staff\",\"Senior staff\"))","v":""},{"$f":"IF(D19577=\"\",\" \",'Main page'!$F$21-(D19577))","v":" "},{"$f":"IF(D19577=\"\",\" \",VLOOKUP(R19577,'Main page'!$E$29:'Main page'!$G$41,3,TRUE))","v":" "}]
[null,null,null,null,null,null,null,null,null,null,null,null," "," "," "," ",{"$f":"IF(I19578=\"\",\"\",IF(I19578<='Main page'!$F$49,\"Core staff\",\"Senior staff\"))","v":""},{"$f":"IF(D19578=\"\",\" \",'Main page'!$F$21-(D19578))","v":" "},{"$f":"IF(D19578=\"\",\" \",VLOOKUP(R19578,'Main page'!$E$29:'Main page'!$G$41,3,TRUE))","v":" "}]
[null,null,null,null,null,null,null,null,null,null,null,null," "," "," "," ",{"$f":"IF(I19579=\"\",\"\",IF(I19579<='Main page'!$F$49,\"Core staff\",\"Senior staff\"))","v":""},{"$f":"IF(D19579=\"\",\" \",'Main page'!$F$21-(D19579))","v":" "},{"$f":"IF(D19579=\"\",\" \",VLOOKUP(R19579,'Main page'!$E$29:'Main page'!$G$41,3,TRUE))","v":" "}]
[null,null,null,null,null,null,null,null,null,null,null,null," "," "," "," ",{"$f":"IF(I19580=\"\",\"\",IF(I19580<='Main page'!$F$49,\"Core staff\",\"Senior staff\"))","v":""},{"$f":"IF(D19580=\"\",\" \",'Main page'!$F$21-(D19580))","v":" "},{"$f":"IF(D19580=\"\",\" \",VLOOKUP(R19580,'Main page'!$E$29:'Main page'!$G$41,3,TRUE))","v":" "}]
[null,null,null,null,null,null,null,null,null,null,null,null," "," "," "," ",{"$f":"IF(I19581=\"\",\"\",IF(I19581<='Main page'!$F$49,\"Core staff\",\"Senior staff\"))","v":""},{"$f":"IF(D19581=\"\",\" \",'Main page'!$F$21-(D19581))","v":" "},{"$f":"IF(D19581=\"\",\" \",VLOOKUP(R19581,'Main page'!$E$29:'Main page'!$G$41,3,TRUE))","v":" "}]
[null,null,null,null,null,null,null,null,null,null,null,null," "," "," "," ",{"$f":"IF(I19582=\"\",\"\",IF(I19582<='Main page'!$F$49,\"Core staff\",\"Senior staff\"))","v":""},{"$f":"IF(D19582=\"\",\" \",'Main page'!$F$21-(D19582))","v":" "},{"$f":"IF(D19582=\"\",\" \",VLOOKUP(R19582,'Main page'!$E$29:'Main page'!$G$41,3,TRUE))","v":" "}]
[null,null,null,null,null,null,null,null,null,null,null,null," "," "," "," ",{"$f":"IF(I19583=\"\",\"\",IF(I19583<='Main page'!$F$49,\"Core staff\",\"Senior staff\"))","v":""},{"$f":"IF(D19583=\"\",\" \",'Main page'!$F$21-(D19583))","v":" "},{"$f":"IF(D19583=\"\",\" \",VLOOKUP(R19583,'Main page'!$E$29:'Main page'!$G$41,3,TRUE))","v":" "}]
[null,null,null,null,null,null,null,null,null,null,null,null," "," "," "," ",{"$f":"IF(I19584=\"\",\"\",IF(I19584<='Main page'!$F$49,\"Core staff\",\"Senior staff\"))","v":""},{"$f":"IF(D19584=\"\",\" \",'Main page'!$F$21-(D19584))","v":" "},{"$f":"IF(D19584=\"\",\" \",VLOOKUP(R19584,'Main page'!$E$29:'Main page'!$G$41,3,TRUE))","v":" "}]
[null,null,null,null,null,null,null,null,null,null,null,null," "," "," "," ",{"$f":"IF(I19585=\"\",\"\",IF(I19585<='Main page'!$F$49,\"Core staff\",\"Senior staff\"))","v":""},{"$f":"IF(D19585=\"\",\" \",'Main page'!$F$21-(D19585))","v":" "},{"$f":"IF(D19585=\"\",\" \",VLOOKUP(R19585,'Main page'!$E$29:'Main page'!$G$41,3,TRUE))","v":" "}]
[null,null,null,null,null,null,null,null,null,null,null,null," "," "," "," ",{"$f":"IF(I19586=\"\",\"\",IF(I19586<='Main page'!$F$49,\"Core staff\",\"Senior staff\"))","v":""},{"$f":"IF(D19586=\"\",\" \",'Main page'!$F$21-(D19586))","v":" "},{"$f":"IF(D19586=\"\",\" \",VLOOKUP(R19586,'Main page'!$E$29:'Main page'!$G$41,3,TRUE))","v":" "}]
[null,null,null,null,null,null,null,null,null,null,null,null," "," "," "," ",{"$f":"IF(I19587=\"\",\"\",IF(I19587<='Main page'!$F$49,\"Core staff\",\"Senior staff\"))","v":""},{"$f":"IF(D19587=\"\",\" \",'Main page'!$F$21-(D19587))","v":" "},{"$f":"IF(D19587=\"\",\" \",VLOOKUP(R19587,'Main page'!$E$29:'Main page'!$G$41,3,TRUE))","v":" "}]
[null,null,null,null,null,null,null,null,null,null,null,null," "," "," "," ",{"$f":"IF(I19588=\"\",\"\",IF(I19588<='Main page'!$F$49,\"Core staff\",\"Senior staff\"))","v":""},{"$f":"IF(D19588=\"\",\" \",'Main page'!$F$21-(D19588))","v":" "},{"$f":"IF(D19588=\"\",\" \",VLOOKUP(R19588,'Main page'!$E$29:'Main page'!$G$41,3,TRUE))","v":" "}]
[null,null,null,null,null,null,null,null,null,null,null,null," "," "," "," ",{"$f":"IF(I19589=\"\",\"\",IF(I19589<='Main page'!$F$49,\"Core staff\",\"Senior staff\"))","v":""},{"$f":"IF(D19589=\"\",\" \",'Main page'!$F$21-(D19589))","v":" "},{"$f":"IF(D19589=\"\",\" \",VLOOKUP(R19589,'Main page'!$E$29:'Main page'!$G$41,3,TRUE))","v":" "}]
[null,null,null,null,null,null,null,null,null,null,null,null," "," "," "," ",{"$f":"IF(I19590=\"\",\"\",IF(I19590<='Main page'!$F$49,\"Core staff\",\"Senior staff\"))","v":""},{"$f":"IF(D19590=\"\",\" \",'Main page'!$F$21-(D19590))","v":" "},{"$f":"IF(D19590=\"\",\" \",VLOOKUP(R19590,'Main page'!$E$29:'Main page'!$G$41,3,TRUE))","v":" "}]
[null,null,null,null,null,null,null,null,null,null,null,null," "," "," "," ",{"$f":"IF(I19591=\"\",\"\",IF(I19591<='Main page'!$F$49,\"Core staff\",\"Senior staff\"))","v":""},{"$f":"IF(D19591=\"\",\" \",'Main page'!$F$21-(D19591))","v":" "},{"$f":"IF(D19591=\"\",\" \",VLOOKUP(R19591,'Main page'!$E$29:'Main page'!$G$41,3,TRUE))","v":" "}]
[null,null,null,null,null,null,null,null,null,null,null,null," "," "," "," ",{"$f":"IF(I19592=\"\",\"\",IF(I19592<='Main page'!$F$49,\"Core staff\",\"Senior staff\"))","v":""},{"$f":"IF(D19592=\"\",\" \",'Main page'!$F$21-(D19592))","v":" "},{"$f":"IF(D19592=\"\",\" \",VLOOKUP(R19592,'Main page'!$E$29:'Main page'!$G$41,3,TRUE))","v":" "}]
[null,null,null,null,null,null,null,null,null,null,null,null," "," "," "," ",{"$f":"IF(I19593=\"\",\"\",IF(I19593<='Main page'!$F$49,\"Core staff\",\"Senior staff\"))","v":""},{"$f":"IF(D19593=\"\",\" \",'Main page'!$F$21-(D19593))","v":" "},{"$f":"IF(D19593=\"\",\" \",VLOOKUP(R19593,'Main page'!$E$29:'Main page'!$G$41,3,TRUE))","v":" "}]
[null,null,null,null,null,null,null,null,null,null,null,null," "," "," "," ",{"$f":"IF(I19594=\"\",\"\",IF(I19594<='Main page'!$F$49,\"Core staff\",\"Senior staff\"))","v":""},{"$f":"IF(D19594=\"\",\" \",'Main page'!$F$21-(D19594))","v":" "},{"$f":"IF(D19594=\"\",\" \",VLOOKUP(R19594,'Main page'!$E$29:'Main page'!$G$41,3,TRUE))","v":" "}]
[null,null,null,null,null,null,null,null,null,null,null,null," "," "," "," ",{"$f":"IF(I19595=\"\",\"\",IF(I19595<='Main page'!$F$49,\"Core staff\",\"Senior staff\"))","v":""},{"$f":"IF(D19595=\"\",\" \",'Main page'!$F$21-(D19595))","v":" "},{"$f":"IF(D19595=\"\",\" \",VLOOKUP(R19595,'Main page'!$E$29:'Main page'!$G$41,3,TRUE))","v":" "}]
[null,null,null,null,null,null,null,null,null,null,null,null," "," "," "," ",{"$f":"IF(I19596=\"\",\"\",IF(I19596<='Main page'!$F$49,\"Core staff\",\"Senior staff\"))","v":""},{"$f":"IF(D19596=\"\",\" \",'Main page'!$F$21-(D19596))","v":" "},{"$f":"IF(D19596=\"\",\" \",VLOOKUP(R19596,'Main page'!$E$29:'Main page'!$G$41,3,TRUE))","v":" "}]
[null,null,null,null,null,null,null,null,null,null,null,null," "," "," "," ",{"$f":"IF(I19597=\"\",\"\",IF(I19597<='Main page'!$F$49,\"Core staff\",\"Senior staff\"))","v":""},{"$f":"IF(D19597=\"\",\" \",'Main page'!$F$21-(D19597))","v":" "},{"$f":"IF(D19597=\"\",\" \",VLOOKUP(R19597,'Main page'!$E$29:'Main page'!$G$41,3,TRUE))","v":" "}]
[null,null,null,null,null,null,null,null,null,null,null,null," "," "," "," ",{"$f":"IF(I19598=\"\",\"\",IF(I19598<='Main page'!$F$49,\"Core staff\",\"Senior staff\"))","v":""},{"$f":"IF(D19598=\"\",\" \",'Main page'!$F$21-(D19598))","v":" "},{"$f":"IF(D19598=\"\",\" \",VLOOKUP(R19598,'Main page'!$E$29:'Main page'!$G$41,3,TRUE))","v":" "}]
[null,null,null,null,null,null,null,null,null,null,null,null," "," "," "," ",{"$f":"IF(I19599=\"\",\"\",IF(I19599<='Main page'!$F$49,\"Core staff\",\"Senior staff\"))","v":""},{"$f":"IF(D19599=\"\",\" \",'Main page'!$F$21-(D19599))","v":" "},{"$f":"IF(D19599=\"\",\" \",VLOOKUP(R19599,'Main page'!$E$29:'Main page'!$G$41,3,TRUE))","v":" "}]
[null,null,null,null,null,null,null,null,null,null,null,null," "," "," "," ",{"$f":"IF(I19600=\"\",\"\",IF(I19600<='Main page'!$F$49,\"Core staff\",\"Senior staff\"))","v":""},{"$f":"IF(D19600=\"\",\" \",'Main page'!$F$21-(D19600))","v":" "},{"$f":"IF(D19600=\"\",\" \",VLOOKUP(R19600,'Main page'!$E$29:'Main page'!$G$41,3,TRUE))","v":" "}]
[null,null,null,null,null,null,null,null,null,null,null,null," "," "," "," ",{"$f":"IF(I19601=\"\",\"\",IF(I19601<='Main page'!$F$49,\"Core staff\",\"Senior staff\"))","v":""},{"$f":"IF(D19601=\"\",\" \",'Main page'!$F$21-(D19601))","v":" "},{"$f":"IF(D19601=\"\",\" \",VLOOKUP(R19601,'Main page'!$E$29:'Main page'!$G$41,3,TRUE))","v":" "}]
[null,null,null,null,null,null,null,null,null,null,null,null," "," "," "," ",{"$f":"IF(I19602=\"\",\"\",IF(I19602<='Main page'!$F$49,\"Core staff\",\"Senior staff\"))","v":""},{"$f":"IF(D19602=\"\",\" \",'Main page'!$F$21-(D19602))","v":" "},{"$f":"IF(D19602=\"\",\" \",VLOOKUP(R19602,'Main page'!$E$29:'Main page'!$G$41,3,TRUE))","v":" "}]
[null,null,null,null,null,null,null,null,null,null,null,null," "," "," "," ",{"$f":"IF(I19603=\"\",\"\",IF(I19603<='Main page'!$F$49,\"Core staff\",\"Senior staff\"))","v":""},{"$f":"IF(D19603=\"\",\" \",'Main page'!$F$21-(D19603))","v":" "},{"$f":"IF(D19603=\"\",\" \",VLOOKUP(R19603,'Main page'!$E$29:'Main page'!$G$41,3,TRUE))","v":" "}]
[null,null,null,null,null,null,null,null,null,null,null,null," "," "," "," ",{"$f":"IF(I19604=\"\",\"\",IF(I19604<='Main page'!$F$49,\"Core staff\",\"Senior staff\"))","v":""},{"$f":"IF(D19604=\"\",\" \",'Main page'!$F$21-(D19604))","v":" "},{"$f":"IF(D19604=\"\",\" \",VLOOKUP(R19604,'Main page'!$E$29:'Main page'!$G$41,3,TRUE))","v":" "}]
[null,null,null,null,null,null,null,null,null,null,null,null," "," "," "," ",{"$f":"IF(I19605=\"\",\"\",IF(I19605<='Main page'!$F$49,\"Core staff\",\"Senior staff\"))","v":""},{"$f":"IF(D19605=\"\",\" \",'Main page'!$F$21-(D19605))","v":" "},{"$f":"IF(D19605=\"\",\" \",VLOOKUP(R19605,'Main page'!$E$29:'Main page'!$G$41,3,TRUE))","v":" "}]
[null,null,null,null,null,null,null,null,null,null,null,null," "," "," "," ",{"$f":"IF(I19606=\"\",\"\",IF(I19606<='Main page'!$F$49,\"Core staff\",\"Senior staff\"))","v":""},{"$f":"IF(D19606=\"\",\" \",'Main page'!$F$21-(D19606))","v":" "},{"$f":"IF(D19606=\"\",\" \",VLOOKUP(R19606,'Main page'!$E$29:'Main page'!$G$41,3,TRUE))","v":" "}]
[null,null,null,null,null,null,null,null,null,null,null,null," "," "," "," ",{"$f":"IF(I19607=\"\",\"\",IF(I19607<='Main page'!$F$49,\"Core staff\",\"Senior staff\"))","v":""},{"$f":"IF(D19607=\"\",\" \",'Main page'!$F$21-(D19607))","v":" "},{"$f":"IF(D19607=\"\",\" \",VLOOKUP(R19607,'Main page'!$E$29:'Main page'!$G$41,3,TRUE))","v":" "}]
[null,null,null,null,null,null,null,null,null,null,null,null," "," "," "," ",{"$f":"IF(I19608=\"\",\"\",IF(I19608<='Main page'!$F$49,\"Core staff\",\"Senior staff\"))","v":""},{"$f":"IF(D19608=\"\",\" \",'Main page'!$F$21-(D19608))","v":" "},{"$f":"IF(D19608=\"\",\" \",VLOOKUP(R19608,'Main page'!$E$29:'Main page'!$G$41,3,TRUE))","v":" "}]
[null,null,null,null,null,null,null,null,null,null,null,null,{"$f":"IFERROR(J19609/G19609,\" \")","v":" "},{"$f":"IFERROR((M19609/$U$4)/H19609,\" \")","v":" "},{"$f":"IFERROR((N19609*75)*26.083,\" \")","v":" "},{"$f":"IF(G19609=0,\" \",IF(G19609=1,\"Full time\",\"Part time\"))","v":" "},{"$f":"IF(I19609=\"\",\"\",IF(I19609<='Main page'!$F$49,\"Core staff\",\"Senior staff\"))","v":""},{"$f":"IF(D19609=\"\",\" \",'Main page'!$F$21-(D19609))","v":" "},{"$f":"IF(D19609=\"\",\" \",VLOOKUP(R19609,'Main page'!$E$29:'Main page'!$G$41,3,TRUE))","v":" "}]
[null,null,null,null,null,null,null,null,null,null,null,null," "," "," "," ",{"$f":"IF(I19610=\"\",\"\",IF(I19610<='Main page'!$F$49,\"Core staff\",\"Senior staff\"))","v":""},{"$f":"IF(D19610=\"\",\" \",'Main page'!$F$21-(D19610))","v":" "},{"$f":"IF(D19610=\"\",\" \",VLOOKUP(R19610,'Main page'!$E$29:'Main page'!$G$41,3,TRUE))","v":" "}]
[null,null,null,null,null,null,null,null,null,null,null,null," "," "," "," ",{"$f":"IF(I19611=\"\",\"\",IF(I19611<='Main page'!$F$49,\"Core staff\",\"Senior staff\"))","v":""},{"$f":"IF(D19611=\"\",\" \",'Main page'!$F$21-(D19611))","v":" "},{"$f":"IF(D19611=\"\",\" \",VLOOKUP(R19611,'Main page'!$E$29:'Main page'!$G$41,3,TRUE))","v":" "}]
[null,null,null,null,null,null,null,null,null,null,null,null," "," "," "," ",{"$f":"IF(I19612=\"\",\"\",IF(I19612<='Main page'!$F$49,\"Core staff\",\"Senior staff\"))","v":""},{"$f":"IF(D19612=\"\",\" \",'Main page'!$F$21-(D19612))","v":" "},{"$f":"IF(D19612=\"\",\" \",VLOOKUP(R19612,'Main page'!$E$29:'Main page'!$G$41,3,TRUE))","v":" "}]
[null,null,null,null,null,null,null,null,null,null,null,null," "," "," "," ",{"$f":"IF(I19613=\"\",\"\",IF(I19613<='Main page'!$F$49,\"Core staff\",\"Senior staff\"))","v":""},{"$f":"IF(D19613=\"\",\" \",'Main page'!$F$21-(D19613))","v":" "},{"$f":"IF(D19613=\"\",\" \",VLOOKUP(R19613,'Main page'!$E$29:'Main page'!$G$41,3,TRUE))","v":" "}]
[null,null,null,null,null,null,null,null,null,null,null,null," "," "," "," ",{"$f":"IF(I19614=\"\",\"\",IF(I19614<='Main page'!$F$49,\"Core staff\",\"Senior staff\"))","v":""},{"$f":"IF(D19614=\"\",\" \",'Main page'!$F$21-(D19614))","v":" "},{"$f":"IF(D19614=\"\",\" \",VLOOKUP(R19614,'Main page'!$E$29:'Main page'!$G$41,3,TRUE))","v":" "}]
[null,null,null,null,null,null,null,null,null,null,null,null," "," "," "," ",{"$f":"IF(I19615=\"\",\"\",IF(I19615<='Main page'!$F$49,\"Core staff\",\"Senior staff\"))","v":""},{"$f":"IF(D19615=\"\",\" \",'Main page'!$F$21-(D19615))","v":" "},{"$f":"IF(D19615=\"\",\" \",VLOOKUP(R19615,'Main page'!$E$29:'Main page'!$G$41,3,TRUE))","v":" "}]
[null,null,null,null,null,null,null,null,null,null,null,null," "," "," "," ",{"$f":"IF(I19616=\"\",\"\",IF(I19616<='Main page'!$F$49,\"Core staff\",\"Senior staff\"))","v":""},{"$f":"IF(D19616=\"\",\" \",'Main page'!$F$21-(D19616))","v":" "},{"$f":"IF(D19616=\"\",\" \",VLOOKUP(R19616,'Main page'!$E$29:'Main page'!$G$41,3,TRUE))","v":" "}]
[null,null,null,null,null,null,null,null,null,null,null,null," "," "," "," ",{"$f":"IF(I19617=\"\",\"\",IF(I19617<='Main page'!$F$49,\"Core staff\",\"Senior staff\"))","v":""},{"$f":"IF(D19617=\"\",\" \",'Main page'!$F$21-(D19617))","v":" "},{"$f":"IF(D19617=\"\",\" \",VLOOKUP(R19617,'Main page'!$E$29:'Main page'!$G$41,3,TRUE))","v":" "}]
[null,null,null,null,null,null,null,null,null,null,null,null," "," "," "," ",{"$f":"IF(I19618=\"\",\"\",IF(I19618<='Main page'!$F$49,\"Core staff\",\"Senior staff\"))","v":""},{"$f":"IF(D19618=\"\",\" \",'Main page'!$F$21-(D19618))","v":" "},{"$f":"IF(D19618=\"\",\" \",VLOOKUP(R19618,'Main page'!$E$29:'Main page'!$G$41,3,TRUE))","v":" "}]
[null,null,null,null,null,null,null,null,null,null,null,null," "," "," "," ",{"$f":"IF(I19619=\"\",\"\",IF(I19619<='Main page'!$F$49,\"Core staff\",\"Senior staff\"))","v":""},{"$f":"IF(D19619=\"\",\" \",'Main page'!$F$21-(D19619))","v":" "},{"$f":"IF(D19619=\"\",\" \",VLOOKUP(R19619,'Main page'!$E$29:'Main page'!$G$41,3,TRUE))","v":" "}]
[null,null,null,null,null,null,null,null,null,null,null,null," "," "," "," ",{"$f":"IF(I19620=\"\",\"\",IF(I19620<='Main page'!$F$49,\"Core staff\",\"Senior staff\"))","v":""},{"$f":"IF(D19620=\"\",\" \",'Main page'!$F$21-(D19620))","v":" "},{"$f":"IF(D19620=\"\",\" \",VLOOKUP(R19620,'Main page'!$E$29:'Main page'!$G$41,3,TRUE))","v":" "}]
[null,null,null,null,null,null,null,null,null,null,null,null," "," "," "," ",{"$f":"IF(I19621=\"\",\"\",IF(I19621<='Main page'!$F$49,\"Core staff\",\"Senior staff\"))","v":""},{"$f":"IF(D19621=\"\",\" \",'Main page'!$F$21-(D19621))","v":" "},{"$f":"IF(D19621=\"\",\" \",VLOOKUP(R19621,'Main page'!$E$29:'Main page'!$G$41,3,TRUE))","v":" "}]
[null,null,null,null,null,null,null,null,null,null,null,null," "," "," "," ",{"$f":"IF(I19622=\"\",\"\",IF(I19622<='Main page'!$F$49,\"Core staff\",\"Senior staff\"))","v":""},{"$f":"IF(D19622=\"\",\" \",'Main page'!$F$21-(D19622))","v":" "},{"$f":"IF(D19622=\"\",\" \",VLOOKUP(R19622,'Main page'!$E$29:'Main page'!$G$41,3,TRUE))","v":" "}]
[null,null,null,null,null,null,null,null,null,null,null,null," "," "," "," ",{"$f":"IF(I19623=\"\",\"\",IF(I19623<='Main page'!$F$49,\"Core staff\",\"Senior staff\"))","v":""},{"$f":"IF(D19623=\"\",\" \",'Main page'!$F$21-(D19623))","v":" "},{"$f":"IF(D19623=\"\",\" \",VLOOKUP(R19623,'Main page'!$E$29:'Main page'!$G$41,3,TRUE))","v":" "}]
[null,null,null,null,null,null,null,null,null,null,null,null," "," "," "," ",{"$f":"IF(I19624=\"\",\"\",IF(I19624<='Main page'!$F$49,\"Core staff\",\"Senior staff\"))","v":""},{"$f":"IF(D19624=\"\",\" \",'Main page'!$F$21-(D19624))","v":" "},{"$f":"IF(D19624=\"\",\" \",VLOOKUP(R19624,'Main page'!$E$29:'Main page'!$G$41,3,TRUE))","v":" "}]
[null,null,null,null,null,null,null,null,null,null,null,null," "," "," "," ",{"$f":"IF(I19625=\"\",\"\",IF(I19625<='Main page'!$F$49,\"Core staff\",\"Senior staff\"))","v":""},{"$f":"IF(D19625=\"\",\" \",'Main page'!$F$21-(D19625))","v":" "},{"$f":"IF(D19625=\"\",\" \",VLOOKUP(R19625,'Main page'!$E$29:'Main page'!$G$41,3,TRUE))","v":" "}]
[null,null,null,null,null,null,null,null,null,null,null,null," "," "," "," ",{"$f":"IF(I19626=\"\",\"\",IF(I19626<='Main page'!$F$49,\"Core staff\",\"Senior staff\"))","v":""},{"$f":"IF(D19626=\"\",\" \",'Main page'!$F$21-(D19626))","v":" "},{"$f":"IF(D19626=\"\",\" \",VLOOKUP(R19626,'Main page'!$E$29:'Main page'!$G$41,3,TRUE))","v":" "}]
[null,null,null,null,null,null,null,null,null,null,null,null," "," "," "," ",{"$f":"IF(I19627=\"\",\"\",IF(I19627<='Main page'!$F$49,\"Core staff\",\"Senior staff\"))","v":""},{"$f":"IF(D19627=\"\",\" \",'Main page'!$F$21-(D19627))","v":" "},{"$f":"IF(D19627=\"\",\" \",VLOOKUP(R19627,'Main page'!$E$29:'Main page'!$G$41,3,TRUE))","v":" "}]
[null,null,null,null,null,null,null,null,null,null,null,null," "," "," "," ",{"$f":"IF(I19628=\"\",\"\",IF(I19628<='Main page'!$F$49,\"Core staff\",\"Senior staff\"))","v":""},{"$f":"IF(D19628=\"\",\" \",'Main page'!$F$21-(D19628))","v":" "},{"$f":"IF(D19628=\"\",\" \",VLOOKUP(R19628,'Main page'!$E$29:'Main page'!$G$41,3,TRUE))","v":" "}]
[null,null,null,null,null,null,null,null,null,null,null,null," "," "," "," ",{"$f":"IF(I19629=\"\",\"\",IF(I19629<='Main page'!$F$49,\"Core staff\",\"Senior staff\"))","v":""},{"$f":"IF(D19629=\"\",\" \",'Main page'!$F$21-(D19629))","v":" "},{"$f":"IF(D19629=\"\",\" \",VLOOKUP(R19629,'Main page'!$E$29:'Main page'!$G$41,3,TRUE))","v":" "}]
[null,null,null,null,null,null,null,null,null,null,null,null," "," "," "," ",{"$f":"IF(I19630=\"\",\"\",IF(I19630<='Main page'!$F$49,\"Core staff\",\"Senior staff\"))","v":""},{"$f":"IF(D19630=\"\",\" \",'Main page'!$F$21-(D19630))","v":" "},{"$f":"IF(D19630=\"\",\" \",VLOOKUP(R19630,'Main page'!$E$29:'Main page'!$G$41,3,TRUE))","v":" "}]
[null,null,null,null,null,null,null,null,null,null,null,null," "," "," "," ",{"$f":"IF(I19631=\"\",\"\",IF(I19631<='Main page'!$F$49,\"Core staff\",\"Senior staff\"))","v":""},{"$f":"IF(D19631=\"\",\" \",'Main page'!$F$21-(D19631))","v":" "},{"$f":"IF(D19631=\"\",\" \",VLOOKUP(R19631,'Main page'!$E$29:'Main page'!$G$41,3,TRUE))","v":" "}]
[null,null,null,null,null,null,null,null,null,null,null,null," "," "," "," ",{"$f":"IF(I19632=\"\",\"\",IF(I19632<='Main page'!$F$49,\"Core staff\",\"Senior staff\"))","v":""},{"$f":"IF(D19632=\"\",\" \",'Main page'!$F$21-(D19632))","v":" "},{"$f":"IF(D19632=\"\",\" \",VLOOKUP(R19632,'Main page'!$E$29:'Main page'!$G$41,3,TRUE))","v":" "}]
[null,null,null,null,null,null,null,null,null,null,null,null," "," "," "," ",{"$f":"IF(I19633=\"\",\"\",IF(I19633<='Main page'!$F$49,\"Core staff\",\"Senior staff\"))","v":""},{"$f":"IF(D19633=\"\",\" \",'Main page'!$F$21-(D19633))","v":" "},{"$f":"IF(D19633=\"\",\" \",VLOOKUP(R19633,'Main page'!$E$29:'Main page'!$G$41,3,TRUE))","v":" "}]
[null,null,null,null,null,null,null,null,null,null,null,null," "," "," "," ",{"$f":"IF(I19634=\"\",\"\",IF(I19634<='Main page'!$F$49,\"Core staff\",\"Senior staff\"))","v":""},{"$f":"IF(D19634=\"\",\" \",'Main page'!$F$21-(D19634))","v":" "},{"$f":"IF(D19634=\"\",\" \",VLOOKUP(R19634,'Main page'!$E$29:'Main page'!$G$41,3,TRUE))","v":" "}]
[null,null,null,null,null,null,null,null,null,null,null,null," "," "," "," ",{"$f":"IF(I19635=\"\",\"\",IF(I19635<='Main page'!$F$49,\"Core staff\",\"Senior staff\"))","v":""},{"$f":"IF(D19635=\"\",\" \",'Main page'!$F$21-(D19635))","v":" "},{"$f":"IF(D19635=\"\",\" \",VLOOKUP(R19635,'Main page'!$E$29:'Main page'!$G$41,3,TRUE))","v":" "}]
[null,null,null,null,null,null,null,null,null,null,null,null," "," "," "," ",{"$f":"IF(I19636=\"\",\"\",IF(I19636<='Main page'!$F$49,\"Core staff\",\"Senior staff\"))","v":""},{"$f":"IF(D19636=\"\",\" \",'Main page'!$F$21-(D19636))","v":" "},{"$f":"IF(D19636=\"\",\" \",VLOOKUP(R19636,'Main page'!$E$29:'Main page'!$G$41,3,TRUE))","v":" "}]
[null,null,null,null,null,null,null,null,null,null,null,null," "," "," "," ",{"$f":"IF(I19637=\"\",\"\",IF(I19637<='Main page'!$F$49,\"Core staff\",\"Senior staff\"))","v":""},{"$f":"IF(D19637=\"\",\" \",'Main page'!$F$21-(D19637))","v":" "},{"$f":"IF(D19637=\"\",\" \",VLOOKUP(R19637,'Main page'!$E$29:'Main page'!$G$41,3,TRUE))","v":" "}]
[null,null,null,null,null,null,null,null,null,null,null,null," "," "," "," ",{"$f":"IF(I19638=\"\",\"\",IF(I19638<='Main page'!$F$49,\"Core staff\",\"Senior staff\"))","v":""},{"$f":"IF(D19638=\"\",\" \",'Main page'!$F$21-(D19638))","v":" "},{"$f":"IF(D19638=\"\",\" \",VLOOKUP(R19638,'Main page'!$E$29:'Main page'!$G$41,3,TRUE))","v":" "}]
[null,null,null,null,null,null,null,null,null,null,null,null," "," "," "," ",{"$f":"IF(I19639=\"\",\"\",IF(I19639<='Main page'!$F$49,\"Core staff\",\"Senior staff\"))","v":""},{"$f":"IF(D19639=\"\",\" \",'Main page'!$F$21-(D19639))","v":" "},{"$f":"IF(D19639=\"\",\" \",VLOOKUP(R19639,'Main page'!$E$29:'Main page'!$G$41,3,TRUE))","v":" "}]
[null,null,null,null,null,null,null,null,null,null,null,null," "," "," "," ",{"$f":"IF(I19640=\"\",\"\",IF(I19640<='Main page'!$F$49,\"Core staff\",\"Senior staff\"))","v":""},{"$f":"IF(D19640=\"\",\" \",'Main page'!$F$21-(D19640))","v":" "},{"$f":"IF(D19640=\"\",\" \",VLOOKUP(R19640,'Main page'!$E$29:'Main page'!$G$41,3,TRUE))","v":" "}]
[null,null,null,null,null,null,null,null,null,null,null,null," "," "," "," ",{"$f":"IF(I19641=\"\",\"\",IF(I19641<='Main page'!$F$49,\"Core staff\",\"Senior staff\"))","v":""},{"$f":"IF(D19641=\"\",\" \",'Main page'!$F$21-(D19641))","v":" "},{"$f":"IF(D19641=\"\",\" \",VLOOKUP(R19641,'Main page'!$E$29:'Main page'!$G$41,3,TRUE))","v":" "}]
[null,null,null,null,null,null,null,null,null,null,null,null," "," "," "," ",{"$f":"IF(I19642=\"\",\"\",IF(I19642<='Main page'!$F$49,\"Core staff\",\"Senior staff\"))","v":""},{"$f":"IF(D19642=\"\",\" \",'Main page'!$F$21-(D19642))","v":" "},{"$f":"IF(D19642=\"\",\" \",VLOOKUP(R19642,'Main page'!$E$29:'Main page'!$G$41,3,TRUE))","v":" "}]
[null,null,null,null,null,null,null,null,null,null,null,null," "," "," "," ",{"$f":"IF(I19643=\"\",\"\",IF(I19643<='Main page'!$F$49,\"Core staff\",\"Senior staff\"))","v":""},{"$f":"IF(D19643=\"\",\" \",'Main page'!$F$21-(D19643))","v":" "},{"$f":"IF(D19643=\"\",\" \",VLOOKUP(R19643,'Main page'!$E$29:'Main page'!$G$41,3,TRUE))","v":" "}]
[null,null,null,null,null,null,null,null,null,null,null,null," "," "," "," ",{"$f":"IF(I19644=\"\",\"\",IF(I19644<='Main page'!$F$49,\"Core staff\",\"Senior staff\"))","v":""},{"$f":"IF(D19644=\"\",\" \",'Main page'!$F$21-(D19644))","v":" "},{"$f":"IF(D19644=\"\",\" \",VLOOKUP(R19644,'Main page'!$E$29:'Main page'!$G$41,3,TRUE))","v":" "}]
[null,null,null,null,null,null,null,null,null,null,null,null," "," "," "," ",{"$f":"IF(I19645=\"\",\"\",IF(I19645<='Main page'!$F$49,\"Core staff\",\"Senior staff\"))","v":""},{"$f":"IF(D19645=\"\",\" \",'Main page'!$F$21-(D19645))","v":" "},{"$f":"IF(D19645=\"\",\" \",VLOOKUP(R19645,'Main page'!$E$29:'Main page'!$G$41,3,TRUE))","v":" "}]
[null,null,null,null,null,null,null,null,null,null,null,null," "," "," "," ",{"$f":"IF(I19646=\"\",\"\",IF(I19646<='Main page'!$F$49,\"Core staff\",\"Senior staff\"))","v":""},{"$f":"IF(D19646=\"\",\" \",'Main page'!$F$21-(D19646))","v":" "},{"$f":"IF(D19646=\"\",\" \",VLOOKUP(R19646,'Main page'!$E$29:'Main page'!$G$41,3,TRUE))","v":" "}]
[null,null,null,null,null,null,null,null,null,null,null,null," "," "," "," ",{"$f":"IF(I19647=\"\",\"\",IF(I19647<='Main page'!$F$49,\"Core staff\",\"Senior staff\"))","v":""},{"$f":"IF(D19647=\"\",\" \",'Main page'!$F$21-(D19647))","v":" "},{"$f":"IF(D19647=\"\",\" \",VLOOKUP(R19647,'Main page'!$E$29:'Main page'!$G$41,3,TRUE))","v":" "}]
[null,null,null,null,null,null,null,null,null,null,null,null," "," "," "," ",{"$f":"IF(I19648=\"\",\"\",IF(I19648<='Main page'!$F$49,\"Core staff\",\"Senior staff\"))","v":""},{"$f":"IF(D19648=\"\",\" \",'Main page'!$F$21-(D19648))","v":" "},{"$f":"IF(D19648=\"\",\" \",VLOOKUP(R19648,'Main page'!$E$29:'Main page'!$G$41,3,TRUE))","v":" "}]
[null,null,null,null,null,null,null,null,null,null,null,null," "," "," "," ",{"$f":"IF(I19649=\"\",\"\",IF(I19649<='Main page'!$F$49,\"Core staff\",\"Senior staff\"))","v":""},{"$f":"IF(D19649=\"\",\" \",'Main page'!$F$21-(D19649))","v":" "},{"$f":"IF(D19649=\"\",\" \",VLOOKUP(R19649,'Main page'!$E$29:'Main page'!$G$41,3,TRUE))","v":" "}]
[null,null,null,null,null,null,null,null,null,null,null,null," "," "," "," ",{"$f":"IF(I19650=\"\",\"\",IF(I19650<='Main page'!$F$49,\"Core staff\",\"Senior staff\"))","v":""},{"$f":"IF(D19650=\"\",\" \",'Main page'!$F$21-(D19650))","v":" "},{"$f":"IF(D19650=\"\",\" \",VLOOKUP(R19650,'Main page'!$E$29:'Main page'!$G$41,3,TRUE))","v":" "}]
[null,null,null,null,null,null,null,null,null,null,null,null," "," "," "," ",{"$f":"IF(I19651=\"\",\"\",IF(I19651<='Main page'!$F$49,\"Core staff\",\"Senior staff\"))","v":""},{"$f":"IF(D19651=\"\",\" \",'Main page'!$F$21-(D19651))","v":" "},{"$f":"IF(D19651=\"\",\" \",VLOOKUP(R19651,'Main page'!$E$29:'Main page'!$G$41,3,TRUE))","v":" "}]
[null,null,null,null,null,null,null,null,null,null,null,null," "," "," "," ",{"$f":"IF(I19652=\"\",\"\",IF(I19652<='Main page'!$F$49,\"Core staff\",\"Senior staff\"))","v":""},{"$f":"IF(D19652=\"\",\" \",'Main page'!$F$21-(D19652))","v":" "},{"$f":"IF(D19652=\"\",\" \",VLOOKUP(R19652,'Main page'!$E$29:'Main page'!$G$41,3,TRUE))","v":" "}]
[null,null,null,null,null,null,null,null,null,null,null,null," "," "," "," ",{"$f":"IF(I19653=\"\",\"\",IF(I19653<='Main page'!$F$49,\"Core staff\",\"Senior staff\"))","v":""},{"$f":"IF(D19653=\"\",\" \",'Main page'!$F$21-(D19653))","v":" "},{"$f":"IF(D19653=\"\",\" \",VLOOKUP(R19653,'Main page'!$E$29:'Main page'!$G$41,3,TRUE))","v":" "}]
[null,null,null,null,null,null,null,null,null,null,null,null," "," "," "," ",{"$f":"IF(I19654=\"\",\"\",IF(I19654<='Main page'!$F$49,\"Core staff\",\"Senior staff\"))","v":""},{"$f":"IF(D19654=\"\",\" \",'Main page'!$F$21-(D19654))","v":" "},{"$f":"IF(D19654=\"\",\" \",VLOOKUP(R19654,'Main page'!$E$29:'Main page'!$G$41,3,TRUE))","v":" "}]
[null,null,null,null,null,null,null,null,null,null,null,null," "," "," "," ",{"$f":"IF(I19655=\"\",\"\",IF(I19655<='Main page'!$F$49,\"Core staff\",\"Senior staff\"))","v":""},{"$f":"IF(D19655=\"\",\" \",'Main page'!$F$21-(D19655))","v":" "},{"$f":"IF(D19655=\"\",\" \",VLOOKUP(R19655,'Main page'!$E$29:'Main page'!$G$41,3,TRUE))","v":" "}]
[null,null,null,null,null,null,null,null,null,null,null,null," "," "," "," ",{"$f":"IF(I19656=\"\",\"\",IF(I19656<='Main page'!$F$49,\"Core staff\",\"Senior staff\"))","v":""},{"$f":"IF(D19656=\"\",\" \",'Main page'!$F$21-(D19656))","v":" "},{"$f":"IF(D19656=\"\",\" \",VLOOKUP(R19656,'Main page'!$E$29:'Main page'!$G$41,3,TRUE))","v":" "}]
[null,null,null,null,null,null,null,null,null,null,null,null," "," "," "," ",{"$f":"IF(I19657=\"\",\"\",IF(I19657<='Main page'!$F$49,\"Core staff\",\"Senior staff\"))","v":""},{"$f":"IF(D19657=\"\",\" \",'Main page'!$F$21-(D19657))","v":" "},{"$f":"IF(D19657=\"\",\" \",VLOOKUP(R19657,'Main page'!$E$29:'Main page'!$G$41,3,TRUE))","v":" "}]
[null,null,null,null,null,null,null,null,null,null,null,null," "," "," "," ",{"$f":"IF(I19658=\"\",\"\",IF(I19658<='Main page'!$F$49,\"Core staff\",\"Senior staff\"))","v":""},{"$f":"IF(D19658=\"\",\" \",'Main page'!$F$21-(D19658))","v":" "},{"$f":"IF(D19658=\"\",\" \",VLOOKUP(R19658,'Main page'!$E$29:'Main page'!$G$41,3,TRUE))","v":" "}]
[null,null,null,null,null,null,null,null,null,null,null,null," "," "," "," ",{"$f":"IF(I19659=\"\",\"\",IF(I19659<='Main page'!$F$49,\"Core staff\",\"Senior staff\"))","v":""},{"$f":"IF(D19659=\"\",\" \",'Main page'!$F$21-(D19659))","v":" "},{"$f":"IF(D19659=\"\",\" \",VLOOKUP(R19659,'Main page'!$E$29:'Main page'!$G$41,3,TRUE))","v":" "}]
[null,null,null,null,null,null,null,null,null,null,null,null," "," "," "," ",{"$f":"IF(I19660=\"\",\"\",IF(I19660<='Main page'!$F$49,\"Core staff\",\"Senior staff\"))","v":""},{"$f":"IF(D19660=\"\",\" \",'Main page'!$F$21-(D19660))","v":" "},{"$f":"IF(D19660=\"\",\" \",VLOOKUP(R19660,'Main page'!$E$29:'Main page'!$G$41,3,TRUE))","v":" "}]
[null,null,null,null,null,null,null,null,null,null,null,null," "," "," "," ",{"$f":"IF(I19661=\"\",\"\",IF(I19661<='Main page'!$F$49,\"Core staff\",\"Senior staff\"))","v":""},{"$f":"IF(D19661=\"\",\" \",'Main page'!$F$21-(D19661))","v":" "},{"$f":"IF(D19661=\"\",\" \",VLOOKUP(R19661,'Main page'!$E$29:'Main page'!$G$41,3,TRUE))","v":" "}]
[null,null,null,null,null,null,null,null,null,null,null,null," "," "," "," ",{"$f":"IF(I19662=\"\",\"\",IF(I19662<='Main page'!$F$49,\"Core staff\",\"Senior staff\"))","v":""},{"$f":"IF(D19662=\"\",\" \",'Main page'!$F$21-(D19662))","v":" "},{"$f":"IF(D19662=\"\",\" \",VLOOKUP(R19662,'Main page'!$E$29:'Main page'!$G$41,3,TRUE))","v":" "}]
[null,null,null,null,null,null,null,null,null,null,null,null," "," "," "," ",{"$f":"IF(I19663=\"\",\"\",IF(I19663<='Main page'!$F$49,\"Core staff\",\"Senior staff\"))","v":""},{"$f":"IF(D19663=\"\",\" \",'Main page'!$F$21-(D19663))","v":" "},{"$f":"IF(D19663=\"\",\" \",VLOOKUP(R19663,'Main page'!$E$29:'Main page'!$G$41,3,TRUE))","v":" "}]
[null,null,null,null,null,null,null,null,null,null,null,null," "," "," "," ",{"$f":"IF(I19664=\"\",\"\",IF(I19664<='Main page'!$F$49,\"Core staff\",\"Senior staff\"))","v":""},{"$f":"IF(D19664=\"\",\" \",'Main page'!$F$21-(D19664))","v":" "},{"$f":"IF(D19664=\"\",\" \",VLOOKUP(R19664,'Main page'!$E$29:'Main page'!$G$41,3,TRUE))","v":" "}]
[null,null,null,null,null,null,null,null,null,null,null,null," "," "," "," ",{"$f":"IF(I19665=\"\",\"\",IF(I19665<='Main page'!$F$49,\"Core staff\",\"Senior staff\"))","v":""},{"$f":"IF(D19665=\"\",\" \",'Main page'!$F$21-(D19665))","v":" "},{"$f":"IF(D19665=\"\",\" \",VLOOKUP(R19665,'Main page'!$E$29:'Main page'!$G$41,3,TRUE))","v":" "}]
[null,null,null,null,null,null,null,null,null,null,null,null," "," "," "," ",{"$f":"IF(I19666=\"\",\"\",IF(I19666<='Main page'!$F$49,\"Core staff\",\"Senior staff\"))","v":""},{"$f":"IF(D19666=\"\",\" \",'Main page'!$F$21-(D19666))","v":" "},{"$f":"IF(D19666=\"\",\" \",VLOOKUP(R19666,'Main page'!$E$29:'Main page'!$G$41,3,TRUE))","v":" "}]
[null,null,null,null,null,null,null,null,null,null,null,null," "," "," "," ",{"$f":"IF(I19667=\"\",\"\",IF(I19667<='Main page'!$F$49,\"Core staff\",\"Senior staff\"))","v":""},{"$f":"IF(D19667=\"\",\" \",'Main page'!$F$21-(D19667))","v":" "},{"$f":"IF(D19667=\"\",\" \",VLOOKUP(R19667,'Main page'!$E$29:'Main page'!$G$41,3,TRUE))","v":" "}]
[null,null,null,null,null,null,null,null,null,null,null,null," "," "," "," ",{"$f":"IF(I19668=\"\",\"\",IF(I19668<='Main page'!$F$49,\"Core staff\",\"Senior staff\"))","v":""},{"$f":"IF(D19668=\"\",\" \",'Main page'!$F$21-(D19668))","v":" "},{"$f":"IF(D19668=\"\",\" \",VLOOKUP(R19668,'Main page'!$E$29:'Main page'!$G$41,3,TRUE))","v":" "}]
[null,null,null,null,null,null,null,null,null,null,null,null," "," "," "," ",{"$f":"IF(I19669=\"\",\"\",IF(I19669<='Main page'!$F$49,\"Core staff\",\"Senior staff\"))","v":""},{"$f":"IF(D19669=\"\",\" \",'Main page'!$F$21-(D19669))","v":" "},{"$f":"IF(D19669=\"\",\" \",VLOOKUP(R19669,'Main page'!$E$29:'Main page'!$G$41,3,TRUE))","v":" "}]
[null,null,null,null,null,null,null,null,null,null,null,null," "," "," "," ",{"$f":"IF(I19670=\"\",\"\",IF(I19670<='Main page'!$F$49,\"Core staff\",\"Senior staff\"))","v":""},{"$f":"IF(D19670=\"\",\" \",'Main page'!$F$21-(D19670))","v":" "},{"$f":"IF(D19670=\"\",\" \",VLOOKUP(R19670,'Main page'!$E$29:'Main page'!$G$41,3,TRUE))","v":" "}]
[null,null,null,null,null,null,null,null,null,null,null,null," "," "," "," ",{"$f":"IF(I19671=\"\",\"\",IF(I19671<='Main page'!$F$49,\"Core staff\",\"Senior staff\"))","v":""},{"$f":"IF(D19671=\"\",\" \",'Main page'!$F$21-(D19671))","v":" "},{"$f":"IF(D19671=\"\",\" \",VLOOKUP(R19671,'Main page'!$E$29:'Main page'!$G$41,3,TRUE))","v":" "}]
[null,null,null,null,null,null,null,null,null,null,null,null," "," "," "," ",{"$f":"IF(I19672=\"\",\"\",IF(I19672<='Main page'!$F$49,\"Core staff\",\"Senior staff\"))","v":""},{"$f":"IF(D19672=\"\",\" \",'Main page'!$F$21-(D19672))","v":" "},{"$f":"IF(D19672=\"\",\" \",VLOOKUP(R19672,'Main page'!$E$29:'Main page'!$G$41,3,TRUE))","v":" "}]
[null,null,null,null,null,null,null,null,null,null,null,null,{"$f":"IFERROR(J19673/G19673,\" \")","v":" "},{"$f":"IFERROR((M19673/$U$4)/H19673,\" \")","v":" "},{"$f":"IFERROR((N19673*75)*26.083,\" \")","v":" "},{"$f":"IF(G19673=0,\" \",IF(G19673=1,\"Full time\",\"Part time\"))","v":" "},{"$f":"IF(I19673=\"\",\"\",IF(I19673<='Main page'!$F$49,\"Core staff\",\"Senior staff\"))","v":""},{"$f":"IF(D19673=\"\",\" \",'Main page'!$F$21-(D19673))","v":" "},{"$f":"IF(D19673=\"\",\" \",VLOOKUP(R19673,'Main page'!$E$29:'Main page'!$G$41,3,TRUE))","v":" "}]
[null,null,null,null,null,null,null,null,null,null,null,null," "," "," "," ",{"$f":"IF(I19674=\"\",\"\",IF(I19674<='Main page'!$F$49,\"Core staff\",\"Senior staff\"))","v":""},{"$f":"IF(D19674=\"\",\" \",'Main page'!$F$21-(D19674))","v":" "},{"$f":"IF(D19674=\"\",\" \",VLOOKUP(R19674,'Main page'!$E$29:'Main page'!$G$41,3,TRUE))","v":" "}]
[null,null,null,null,null,null,null,null,null,null,null,null," "," "," "," ",{"$f":"IF(I19675=\"\",\"\",IF(I19675<='Main page'!$F$49,\"Core staff\",\"Senior staff\"))","v":""},{"$f":"IF(D19675=\"\",\" \",'Main page'!$F$21-(D19675))","v":" "},{"$f":"IF(D19675=\"\",\" \",VLOOKUP(R19675,'Main page'!$E$29:'Main page'!$G$41,3,TRUE))","v":" "}]
[null,null,null,null,null,null,null,null,null,null,null,null," "," "," "," ",{"$f":"IF(I19676=\"\",\"\",IF(I19676<='Main page'!$F$49,\"Core staff\",\"Senior staff\"))","v":""},{"$f":"IF(D19676=\"\",\" \",'Main page'!$F$21-(D19676))","v":" "},{"$f":"IF(D19676=\"\",\" \",VLOOKUP(R19676,'Main page'!$E$29:'Main page'!$G$41,3,TRUE))","v":" "}]
[null,null,null,null,null,null,null,null,null,null,null,null," "," "," "," ",{"$f":"IF(I19677=\"\",\"\",IF(I19677<='Main page'!$F$49,\"Core staff\",\"Senior staff\"))","v":""},{"$f":"IF(D19677=\"\",\" \",'Main page'!$F$21-(D19677))","v":" "},{"$f":"IF(D19677=\"\",\" \",VLOOKUP(R19677,'Main page'!$E$29:'Main page'!$G$41,3,TRUE))","v":" "}]
[null,null,null,null,null,null,null,null,null,null,null,null," "," "," "," ",{"$f":"IF(I19678=\"\",\"\",IF(I19678<='Main page'!$F$49,\"Core staff\",\"Senior staff\"))","v":""},{"$f":"IF(D19678=\"\",\" \",'Main page'!$F$21-(D19678))","v":" "},{"$f":"IF(D19678=\"\",\" \",VLOOKUP(R19678,'Main page'!$E$29:'Main page'!$G$41,3,TRUE))","v":" "}]
[null,null,null,null,null,null,null,null,null,null,null,null," "," "," "," ",{"$f":"IF(I19679=\"\",\"\",IF(I19679<='Main page'!$F$49,\"Core staff\",\"Senior staff\"))","v":""},{"$f":"IF(D19679=\"\",\" \",'Main page'!$F$21-(D19679))","v":" "},{"$f":"IF(D19679=\"\",\" \",VLOOKUP(R19679,'Main page'!$E$29:'Main page'!$G$41,3,TRUE))","v":" "}]
[null,null,null,null,null,null,null,null,null,null,null,null," "," "," "," ",{"$f":"IF(I19680=\"\",\"\",IF(I19680<='Main page'!$F$49,\"Core staff\",\"Senior staff\"))","v":""},{"$f":"IF(D19680=\"\",\" \",'Main page'!$F$21-(D19680))","v":" "},{"$f":"IF(D19680=\"\",\" \",VLOOKUP(R19680,'Main page'!$E$29:'Main page'!$G$41,3,TRUE))","v":" "}]
[null,null,null,null,null,null,null,null,null,null,null,null," "," "," "," ",{"$f":"IF(I19681=\"\",\"\",IF(I19681<='Main page'!$F$49,\"Core staff\",\"Senior staff\"))","v":""},{"$f":"IF(D19681=\"\",\" \",'Main page'!$F$21-(D19681))","v":" "},{"$f":"IF(D19681=\"\",\" \",VLOOKUP(R19681,'Main page'!$E$29:'Main page'!$G$41,3,TRUE))","v":" "}]
[null,null,null,null,null,null,null,null,null,null,null,null," "," "," "," ",{"$f":"IF(I19682=\"\",\"\",IF(I19682<='Main page'!$F$49,\"Core staff\",\"Senior staff\"))","v":""},{"$f":"IF(D19682=\"\",\" \",'Main page'!$F$21-(D19682))","v":" "},{"$f":"IF(D19682=\"\",\" \",VLOOKUP(R19682,'Main page'!$E$29:'Main page'!$G$41,3,TRUE))","v":" "}]
[null,null,null,null,null,null,null,null,null,null,null,null," "," "," "," ",{"$f":"IF(I19683=\"\",\"\",IF(I19683<='Main page'!$F$49,\"Core staff\",\"Senior staff\"))","v":""},{"$f":"IF(D19683=\"\",\" \",'Main page'!$F$21-(D19683))","v":" "},{"$f":"IF(D19683=\"\",\" \",VLOOKUP(R19683,'Main page'!$E$29:'Main page'!$G$41,3,TRUE))","v":" "}]
[null,null,null,null,null,null,null,null,null,null,null,null," "," "," "," ",{"$f":"IF(I19684=\"\",\"\",IF(I19684<='Main page'!$F$49,\"Core staff\",\"Senior staff\"))","v":""},{"$f":"IF(D19684=\"\",\" \",'Main page'!$F$21-(D19684))","v":" "},{"$f":"IF(D19684=\"\",\" \",VLOOKUP(R19684,'Main page'!$E$29:'Main page'!$G$41,3,TRUE))","v":" "}]
[null,null,null,null,null,null,null,null,null,null,null,null," "," "," "," ",{"$f":"IF(I19685=\"\",\"\",IF(I19685<='Main page'!$F$49,\"Core staff\",\"Senior staff\"))","v":""},{"$f":"IF(D19685=\"\",\" \",'Main page'!$F$21-(D19685))","v":" "},{"$f":"IF(D19685=\"\",\" \",VLOOKUP(R19685,'Main page'!$E$29:'Main page'!$G$41,3,TRUE))","v":" "}]
[null,null,null,null,null,null,null,null,null,null,null,null," "," "," "," ",{"$f":"IF(I19686=\"\",\"\",IF(I19686<='Main page'!$F$49,\"Core staff\",\"Senior staff\"))","v":""},{"$f":"IF(D19686=\"\",\" \",'Main page'!$F$21-(D19686))","v":" "},{"$f":"IF(D19686=\"\",\" \",VLOOKUP(R19686,'Main page'!$E$29:'Main page'!$G$41,3,TRUE))","v":" "}]
[null,null,null,null,null,null,null,null,null,null,null,null," "," "," "," ",{"$f":"IF(I19687=\"\",\"\",IF(I19687<='Main page'!$F$49,\"Core staff\",\"Senior staff\"))","v":""},{"$f":"IF(D19687=\"\",\" \",'Main page'!$F$21-(D19687))","v":" "},{"$f":"IF(D19687=\"\",\" \",VLOOKUP(R19687,'Main page'!$E$29:'Main page'!$G$41,3,TRUE))","v":" "}]
[null,null,null,null,null,null,null,null,null,null,null,null," "," "," "," ",{"$f":"IF(I19688=\"\",\"\",IF(I19688<='Main page'!$F$49,\"Core staff\",\"Senior staff\"))","v":""},{"$f":"IF(D19688=\"\",\" \",'Main page'!$F$21-(D19688))","v":" "},{"$f":"IF(D19688=\"\",\" \",VLOOKUP(R19688,'Main page'!$E$29:'Main page'!$G$41,3,TRUE))","v":" "}]
[null,null,null,null,null,null,null,null,null,null,null,null," "," "," "," ",{"$f":"IF(I19689=\"\",\"\",IF(I19689<='Main page'!$F$49,\"Core staff\",\"Senior staff\"))","v":""},{"$f":"IF(D19689=\"\",\" \",'Main page'!$F$21-(D19689))","v":" "},{"$f":"IF(D19689=\"\",\" \",VLOOKUP(R19689,'Main page'!$E$29:'Main page'!$G$41,3,TRUE))","v":" "}]
[null,null,null,null,null,null,null,null,null,null,null,null," "," "," "," ",{"$f":"IF(I19690=\"\",\"\",IF(I19690<='Main page'!$F$49,\"Core staff\",\"Senior staff\"))","v":""},{"$f":"IF(D19690=\"\",\" \",'Main page'!$F$21-(D19690))","v":" "},{"$f":"IF(D19690=\"\",\" \",VLOOKUP(R19690,'Main page'!$E$29:'Main page'!$G$41,3,TRUE))","v":" "}]
[null,null,null,null,null,null,null,null,null,null,null,null," "," "," "," ",{"$f":"IF(I19691=\"\",\"\",IF(I19691<='Main page'!$F$49,\"Core staff\",\"Senior staff\"))","v":""},{"$f":"IF(D19691=\"\",\" \",'Main page'!$F$21-(D19691))","v":" "},{"$f":"IF(D19691=\"\",\" \",VLOOKUP(R19691,'Main page'!$E$29:'Main page'!$G$41,3,TRUE))","v":" "}]
[null,null,null,null,null,null,null,null,null,null,null,null," "," "," "," ",{"$f":"IF(I19692=\"\",\"\",IF(I19692<='Main page'!$F$49,\"Core staff\",\"Senior staff\"))","v":""},{"$f":"IF(D19692=\"\",\" \",'Main page'!$F$21-(D19692))","v":" "},{"$f":"IF(D19692=\"\",\" \",VLOOKUP(R19692,'Main page'!$E$29:'Main page'!$G$41,3,TRUE))","v":" "}]
[null,null,null,null,null,null,null,null,null,null,null,null," "," "," "," ",{"$f":"IF(I19693=\"\",\"\",IF(I19693<='Main page'!$F$49,\"Core staff\",\"Senior staff\"))","v":""},{"$f":"IF(D19693=\"\",\" \",'Main page'!$F$21-(D19693))","v":" "},{"$f":"IF(D19693=\"\",\" \",VLOOKUP(R19693,'Main page'!$E$29:'Main page'!$G$41,3,TRUE))","v":" "}]
[null,null,null,null,null,null,null,null,null,null,null,null," "," "," "," ",{"$f":"IF(I19694=\"\",\"\",IF(I19694<='Main page'!$F$49,\"Core staff\",\"Senior staff\"))","v":""},{"$f":"IF(D19694=\"\",\" \",'Main page'!$F$21-(D19694))","v":" "},{"$f":"IF(D19694=\"\",\" \",VLOOKUP(R19694,'Main page'!$E$29:'Main page'!$G$41,3,TRUE))","v":" "}]
[null,null,null,null,null,null,null,null,null,null,null,null," "," "," "," ",{"$f":"IF(I19695=\"\",\"\",IF(I19695<='Main page'!$F$49,\"Core staff\",\"Senior staff\"))","v":""},{"$f":"IF(D19695=\"\",\" \",'Main page'!$F$21-(D19695))","v":" "},{"$f":"IF(D19695=\"\",\" \",VLOOKUP(R19695,'Main page'!$E$29:'Main page'!$G$41,3,TRUE))","v":" "}]
[null,null,null,null,null,null,null,null,null,null,null,null," "," "," "," ",{"$f":"IF(I19696=\"\",\"\",IF(I19696<='Main page'!$F$49,\"Core staff\",\"Senior staff\"))","v":""},{"$f":"IF(D19696=\"\",\" \",'Main page'!$F$21-(D19696))","v":" "},{"$f":"IF(D19696=\"\",\" \",VLOOKUP(R19696,'Main page'!$E$29:'Main page'!$G$41,3,TRUE))","v":" "}]
[null,null,null,null,null,null,null,null,null,null,null,null," "," "," "," ",{"$f":"IF(I19697=\"\",\"\",IF(I19697<='Main page'!$F$49,\"Core staff\",\"Senior staff\"))","v":""},{"$f":"IF(D19697=\"\",\" \",'Main page'!$F$21-(D19697))","v":" "},{"$f":"IF(D19697=\"\",\" \",VLOOKUP(R19697,'Main page'!$E$29:'Main page'!$G$41,3,TRUE))","v":" "}]
[null,null,null,null,null,null,null,null,null,null,null,null," "," "," "," ",{"$f":"IF(I19698=\"\",\"\",IF(I19698<='Main page'!$F$49,\"Core staff\",\"Senior staff\"))","v":""},{"$f":"IF(D19698=\"\",\" \",'Main page'!$F$21-(D19698))","v":" "},{"$f":"IF(D19698=\"\",\" \",VLOOKUP(R19698,'Main page'!$E$29:'Main page'!$G$41,3,TRUE))","v":" "}]
[null,null,null,null,null,null,null,null,null,null,null,null," "," "," "," ",{"$f":"IF(I19699=\"\",\"\",IF(I19699<='Main page'!$F$49,\"Core staff\",\"Senior staff\"))","v":""},{"$f":"IF(D19699=\"\",\" \",'Main page'!$F$21-(D19699))","v":" "},{"$f":"IF(D19699=\"\",\" \",VLOOKUP(R19699,'Main page'!$E$29:'Main page'!$G$41,3,TRUE))","v":" "}]
[null,null,null,null,null,null,null,null,null,null,null,null," "," "," "," ",{"$f":"IF(I19700=\"\",\"\",IF(I19700<='Main page'!$F$49,\"Core staff\",\"Senior staff\"))","v":""},{"$f":"IF(D19700=\"\",\" \",'Main page'!$F$21-(D19700))","v":" "},{"$f":"IF(D19700=\"\",\" \",VLOOKUP(R19700,'Main page'!$E$29:'Main page'!$G$41,3,TRUE))","v":" "}]
[null,null,null,null,null,null,null,null,null,null,null,null," "," "," "," ",{"$f":"IF(I19701=\"\",\"\",IF(I19701<='Main page'!$F$49,\"Core staff\",\"Senior staff\"))","v":""},{"$f":"IF(D19701=\"\",\" \",'Main page'!$F$21-(D19701))","v":" "},{"$f":"IF(D19701=\"\",\" \",VLOOKUP(R19701,'Main page'!$E$29:'Main page'!$G$41,3,TRUE))","v":" "}]
[null,null,null,null,null,null,null,null,null,null,null,null," "," "," "," ",{"$f":"IF(I19702=\"\",\"\",IF(I19702<='Main page'!$F$49,\"Core staff\",\"Senior staff\"))","v":""},{"$f":"IF(D19702=\"\",\" \",'Main page'!$F$21-(D19702))","v":" "},{"$f":"IF(D19702=\"\",\" \",VLOOKUP(R19702,'Main page'!$E$29:'Main page'!$G$41,3,TRUE))","v":" "}]
[null,null,null,null,null,null,null,null,null,null,null,null," "," "," "," ",{"$f":"IF(I19703=\"\",\"\",IF(I19703<='Main page'!$F$49,\"Core staff\",\"Senior staff\"))","v":""},{"$f":"IF(D19703=\"\",\" \",'Main page'!$F$21-(D19703))","v":" "},{"$f":"IF(D19703=\"\",\" \",VLOOKUP(R19703,'Main page'!$E$29:'Main page'!$G$41,3,TRUE))","v":" "}]
[null,null,null,null,null,null,null,null,null,null,null,null," "," "," "," ",{"$f":"IF(I19704=\"\",\"\",IF(I19704<='Main page'!$F$49,\"Core staff\",\"Senior staff\"))","v":""},{"$f":"IF(D19704=\"\",\" \",'Main page'!$F$21-(D19704))","v":" "},{"$f":"IF(D19704=\"\",\" \",VLOOKUP(R19704,'Main page'!$E$29:'Main page'!$G$41,3,TRUE))","v":" "}]
[null,null,null,null,null,null,null,null,null,null,null,null," "," "," "," ",{"$f":"IF(I19705=\"\",\"\",IF(I19705<='Main page'!$F$49,\"Core staff\",\"Senior staff\"))","v":""},{"$f":"IF(D19705=\"\",\" \",'Main page'!$F$21-(D19705))","v":" "},{"$f":"IF(D19705=\"\",\" \",VLOOKUP(R19705,'Main page'!$E$29:'Main page'!$G$41,3,TRUE))","v":" "}]
[null,null,null,null,null,null,null,null,null,null,null,null," "," "," "," ",{"$f":"IF(I19706=\"\",\"\",IF(I19706<='Main page'!$F$49,\"Core staff\",\"Senior staff\"))","v":""},{"$f":"IF(D19706=\"\",\" \",'Main page'!$F$21-(D19706))","v":" "},{"$f":"IF(D19706=\"\",\" \",VLOOKUP(R19706,'Main page'!$E$29:'Main page'!$G$41,3,TRUE))","v":" "}]
[null,null,null,null,null,null,null,null,null,null,null,null," "," "," "," ",{"$f":"IF(I19707=\"\",\"\",IF(I19707<='Main page'!$F$49,\"Core staff\",\"Senior staff\"))","v":""},{"$f":"IF(D19707=\"\",\" \",'Main page'!$F$21-(D19707))","v":" "},{"$f":"IF(D19707=\"\",\" \",VLOOKUP(R19707,'Main page'!$E$29:'Main page'!$G$41,3,TRUE))","v":" "}]
[null,null,null,null,null,null,null,null,null,null,null,null," "," "," "," ",{"$f":"IF(I19708=\"\",\"\",IF(I19708<='Main page'!$F$49,\"Core staff\",\"Senior staff\"))","v":""},{"$f":"IF(D19708=\"\",\" \",'Main page'!$F$21-(D19708))","v":" "},{"$f":"IF(D19708=\"\",\" \",VLOOKUP(R19708,'Main page'!$E$29:'Main page'!$G$41,3,TRUE))","v":" "}]
[null,null,null,null,null,null,null,null,null,null,null,null," "," "," "," ",{"$f":"IF(I19709=\"\",\"\",IF(I19709<='Main page'!$F$49,\"Core staff\",\"Senior staff\"))","v":""},{"$f":"IF(D19709=\"\",\" \",'Main page'!$F$21-(D19709))","v":" "},{"$f":"IF(D19709=\"\",\" \",VLOOKUP(R19709,'Main page'!$E$29:'Main page'!$G$41,3,TRUE))","v":" "}]
[null,null,null,null,null,null,null,null,null,null,null,null," "," "," "," ",{"$f":"IF(I19710=\"\",\"\",IF(I19710<='Main page'!$F$49,\"Core staff\",\"Senior staff\"))","v":""},{"$f":"IF(D19710=\"\",\" \",'Main page'!$F$21-(D19710))","v":" "},{"$f":"IF(D19710=\"\",\" \",VLOOKUP(R19710,'Main page'!$E$29:'Main page'!$G$41,3,TRUE))","v":" "}]
[null,null,null,null,null,null,null,null,null,null,null,null," "," "," "," ",{"$f":"IF(I19711=\"\",\"\",IF(I19711<='Main page'!$F$49,\"Core staff\",\"Senior staff\"))","v":""},{"$f":"IF(D19711=\"\",\" \",'Main page'!$F$21-(D19711))","v":" "},{"$f":"IF(D19711=\"\",\" \",VLOOKUP(R19711,'Main page'!$E$29:'Main page'!$G$41,3,TRUE))","v":" "}]
[null,null,null,null,null,null,null,null,null,null,null,null," "," "," "," ",{"$f":"IF(I19712=\"\",\"\",IF(I19712<='Main page'!$F$49,\"Core staff\",\"Senior staff\"))","v":""},{"$f":"IF(D19712=\"\",\" \",'Main page'!$F$21-(D19712))","v":" "},{"$f":"IF(D19712=\"\",\" \",VLOOKUP(R19712,'Main page'!$E$29:'Main page'!$G$41,3,TRUE))","v":" "}]
[null,null,null,null,null,null,null,null,null,null,null,null," "," "," "," ",{"$f":"IF(I19713=\"\",\"\",IF(I19713<='Main page'!$F$49,\"Core staff\",\"Senior staff\"))","v":""},{"$f":"IF(D19713=\"\",\" \",'Main page'!$F$21-(D19713))","v":" "},{"$f":"IF(D19713=\"\",\" \",VLOOKUP(R19713,'Main page'!$E$29:'Main page'!$G$41,3,TRUE))","v":" "}]
[null,null,null,null,null,null,null,null,null,null,null,null," "," "," "," ",{"$f":"IF(I19714=\"\",\"\",IF(I19714<='Main page'!$F$49,\"Core staff\",\"Senior staff\"))","v":""},{"$f":"IF(D19714=\"\",\" \",'Main page'!$F$21-(D19714))","v":" "},{"$f":"IF(D19714=\"\",\" \",VLOOKUP(R19714,'Main page'!$E$29:'Main page'!$G$41,3,TRUE))","v":" "}]
[null,null,null,null,null,null,null,null,null,null,null,null," "," "," "," ",{"$f":"IF(I19715=\"\",\"\",IF(I19715<='Main page'!$F$49,\"Core staff\",\"Senior staff\"))","v":""},{"$f":"IF(D19715=\"\",\" \",'Main page'!$F$21-(D19715))","v":" "},{"$f":"IF(D19715=\"\",\" \",VLOOKUP(R19715,'Main page'!$E$29:'Main page'!$G$41,3,TRUE))","v":" "}]
[null,null,null,null,null,null,null,null,null,null,null,null," "," "," "," ",{"$f":"IF(I19716=\"\",\"\",IF(I19716<='Main page'!$F$49,\"Core staff\",\"Senior staff\"))","v":""},{"$f":"IF(D19716=\"\",\" \",'Main page'!$F$21-(D19716))","v":" "},{"$f":"IF(D19716=\"\",\" \",VLOOKUP(R19716,'Main page'!$E$29:'Main page'!$G$41,3,TRUE))","v":" "}]
[null,null,null,null,null,null,null,null,null,null,null,null," "," "," "," ",{"$f":"IF(I19717=\"\",\"\",IF(I19717<='Main page'!$F$49,\"Core staff\",\"Senior staff\"))","v":""},{"$f":"IF(D19717=\"\",\" \",'Main page'!$F$21-(D19717))","v":" "},{"$f":"IF(D19717=\"\",\" \",VLOOKUP(R19717,'Main page'!$E$29:'Main page'!$G$41,3,TRUE))","v":" "}]
[null,null,null,null,null,null,null,null,null,null,null,null," "," "," "," ",{"$f":"IF(I19718=\"\",\"\",IF(I19718<='Main page'!$F$49,\"Core staff\",\"Senior staff\"))","v":""},{"$f":"IF(D19718=\"\",\" \",'Main page'!$F$21-(D19718))","v":" "},{"$f":"IF(D19718=\"\",\" \",VLOOKUP(R19718,'Main page'!$E$29:'Main page'!$G$41,3,TRUE))","v":" "}]
[null,null,null,null,null,null,null,null,null,null,null,null," "," "," "," ",{"$f":"IF(I19719=\"\",\"\",IF(I19719<='Main page'!$F$49,\"Core staff\",\"Senior staff\"))","v":""},{"$f":"IF(D19719=\"\",\" \",'Main page'!$F$21-(D19719))","v":" "},{"$f":"IF(D19719=\"\",\" \",VLOOKUP(R19719,'Main page'!$E$29:'Main page'!$G$41,3,TRUE))","v":" "}]
[null,null,null,null,null,null,null,null,null,null,null,null," "," "," "," ",{"$f":"IF(I19720=\"\",\"\",IF(I19720<='Main page'!$F$49,\"Core staff\",\"Senior staff\"))","v":""},{"$f":"IF(D19720=\"\",\" \",'Main page'!$F$21-(D19720))","v":" "},{"$f":"IF(D19720=\"\",\" \",VLOOKUP(R19720,'Main page'!$E$29:'Main page'!$G$41,3,TRUE))","v":" "}]
[null,null,null,null,null,null,null,null,null,null,null,null," "," "," "," ",{"$f":"IF(I19721=\"\",\"\",IF(I19721<='Main page'!$F$49,\"Core staff\",\"Senior staff\"))","v":""},{"$f":"IF(D19721=\"\",\" \",'Main page'!$F$21-(D19721))","v":" "},{"$f":"IF(D19721=\"\",\" \",VLOOKUP(R19721,'Main page'!$E$29:'Main page'!$G$41,3,TRUE))","v":" "}]
[null,null,null,null,null,null,null,null,null,null,null,null," "," "," "," ",{"$f":"IF(I19722=\"\",\"\",IF(I19722<='Main page'!$F$49,\"Core staff\",\"Senior staff\"))","v":""},{"$f":"IF(D19722=\"\",\" \",'Main page'!$F$21-(D19722))","v":" "},{"$f":"IF(D19722=\"\",\" \",VLOOKUP(R19722,'Main page'!$E$29:'Main page'!$G$41,3,TRUE))","v":" "}]
[null,null,null,null,null,null,null,null,null,null,null,null," "," "," "," ",{"$f":"IF(I19723=\"\",\"\",IF(I19723<='Main page'!$F$49,\"Core staff\",\"Senior staff\"))","v":""},{"$f":"IF(D19723=\"\",\" \",'Main page'!$F$21-(D19723))","v":" "},{"$f":"IF(D19723=\"\",\" \",VLOOKUP(R19723,'Main page'!$E$29:'Main page'!$G$41,3,TRUE))","v":" "}]
[null,null,null,null,null,null,null,null,null,null,null,null," "," "," "," ",{"$f":"IF(I19724=\"\",\"\",IF(I19724<='Main page'!$F$49,\"Core staff\",\"Senior staff\"))","v":""},{"$f":"IF(D19724=\"\",\" \",'Main page'!$F$21-(D19724))","v":" "},{"$f":"IF(D19724=\"\",\" \",VLOOKUP(R19724,'Main page'!$E$29:'Main page'!$G$41,3,TRUE))","v":" "}]
[null,null,null,null,null,null,null,null,null,null,null,null," "," "," "," ",{"$f":"IF(I19725=\"\",\"\",IF(I19725<='Main page'!$F$49,\"Core staff\",\"Senior staff\"))","v":""},{"$f":"IF(D19725=\"\",\" \",'Main page'!$F$21-(D19725))","v":" "},{"$f":"IF(D19725=\"\",\" \",VLOOKUP(R19725,'Main page'!$E$29:'Main page'!$G$41,3,TRUE))","v":" "}]
[null,null,null,null,null,null,null,null,null,null,null,null," "," "," "," ",{"$f":"IF(I19726=\"\",\"\",IF(I19726<='Main page'!$F$49,\"Core staff\",\"Senior staff\"))","v":""},{"$f":"IF(D19726=\"\",\" \",'Main page'!$F$21-(D19726))","v":" "},{"$f":"IF(D19726=\"\",\" \",VLOOKUP(R19726,'Main page'!$E$29:'Main page'!$G$41,3,TRUE))","v":" "}]
[null,null,null,null,null,null,null,null,null,null,null,null," "," "," "," ",{"$f":"IF(I19727=\"\",\"\",IF(I19727<='Main page'!$F$49,\"Core staff\",\"Senior staff\"))","v":""},{"$f":"IF(D19727=\"\",\" \",'Main page'!$F$21-(D19727))","v":" "},{"$f":"IF(D19727=\"\",\" \",VLOOKUP(R19727,'Main page'!$E$29:'Main page'!$G$41,3,TRUE))","v":" "}]
[null,null,null,null,null,null,null,null,null,null,null,null," "," "," "," ",{"$f":"IF(I19728=\"\",\"\",IF(I19728<='Main page'!$F$49,\"Core staff\",\"Senior staff\"))","v":""},{"$f":"IF(D19728=\"\",\" \",'Main page'!$F$21-(D19728))","v":" "},{"$f":"IF(D19728=\"\",\" \",VLOOKUP(R19728,'Main page'!$E$29:'Main page'!$G$41,3,TRUE))","v":" "}]
[null,null,null,null,null,null,null,null,null,null,null,null," "," "," "," ",{"$f":"IF(I19729=\"\",\"\",IF(I19729<='Main page'!$F$49,\"Core staff\",\"Senior staff\"))","v":""},{"$f":"IF(D19729=\"\",\" \",'Main page'!$F$21-(D19729))","v":" "},{"$f":"IF(D19729=\"\",\" \",VLOOKUP(R19729,'Main page'!$E$29:'Main page'!$G$41,3,TRUE))","v":" "}]
[null,null,null,null,null,null,null,null,null,null,null,null," "," "," "," ",{"$f":"IF(I19730=\"\",\"\",IF(I19730<='Main page'!$F$49,\"Core staff\",\"Senior staff\"))","v":""},{"$f":"IF(D19730=\"\",\" \",'Main page'!$F$21-(D19730))","v":" "},{"$f":"IF(D19730=\"\",\" \",VLOOKUP(R19730,'Main page'!$E$29:'Main page'!$G$41,3,TRUE))","v":" "}]
[null,null,null,null,null,null,null,null,null,null,null,null," "," "," "," ",{"$f":"IF(I19731=\"\",\"\",IF(I19731<='Main page'!$F$49,\"Core staff\",\"Senior staff\"))","v":""},{"$f":"IF(D19731=\"\",\" \",'Main page'!$F$21-(D19731))","v":" "},{"$f":"IF(D19731=\"\",\" \",VLOOKUP(R19731,'Main page'!$E$29:'Main page'!$G$41,3,TRUE))","v":" "}]
[null,null,null,null,null,null,null,null,null,null,null,null," "," "," "," ",{"$f":"IF(I19732=\"\",\"\",IF(I19732<='Main page'!$F$49,\"Core staff\",\"Senior staff\"))","v":""},{"$f":"IF(D19732=\"\",\" \",'Main page'!$F$21-(D19732))","v":" "},{"$f":"IF(D19732=\"\",\" \",VLOOKUP(R19732,'Main page'!$E$29:'Main page'!$G$41,3,TRUE))","v":" "}]
[null,null,null,null,null,null,null,null,null,null,null,null," "," "," "," ",{"$f":"IF(I19733=\"\",\"\",IF(I19733<='Main page'!$F$49,\"Core staff\",\"Senior staff\"))","v":""},{"$f":"IF(D19733=\"\",\" \",'Main page'!$F$21-(D19733))","v":" "},{"$f":"IF(D19733=\"\",\" \",VLOOKUP(R19733,'Main page'!$E$29:'Main page'!$G$41,3,TRUE))","v":" "}]
[null,null,null,null,null,null,null,null,null,null,null,null," "," "," "," ",{"$f":"IF(I19734=\"\",\"\",IF(I19734<='Main page'!$F$49,\"Core staff\",\"Senior staff\"))","v":""},{"$f":"IF(D19734=\"\",\" \",'Main page'!$F$21-(D19734))","v":" "},{"$f":"IF(D19734=\"\",\" \",VLOOKUP(R19734,'Main page'!$E$29:'Main page'!$G$41,3,TRUE))","v":" "}]
[null,null,null,null,null,null,null,null,null,null,null,null," "," "," "," ",{"$f":"IF(I19735=\"\",\"\",IF(I19735<='Main page'!$F$49,\"Core staff\",\"Senior staff\"))","v":""},{"$f":"IF(D19735=\"\",\" \",'Main page'!$F$21-(D19735))","v":" "},{"$f":"IF(D19735=\"\",\" \",VLOOKUP(R19735,'Main page'!$E$29:'Main page'!$G$41,3,TRUE))","v":" "}]
[null,null,null,null,null,null,null,null,null,null,null,null," "," "," "," ",{"$f":"IF(I19736=\"\",\"\",IF(I19736<='Main page'!$F$49,\"Core staff\",\"Senior staff\"))","v":""},{"$f":"IF(D19736=\"\",\" \",'Main page'!$F$21-(D19736))","v":" "},{"$f":"IF(D19736=\"\",\" \",VLOOKUP(R19736,'Main page'!$E$29:'Main page'!$G$41,3,TRUE))","v":" "}]
[null,null,null,null,null,null,null,null,null,null,null,null,{"$f":"IFERROR(J19737/G19737,\" \")","v":" "},{"$f":"IFERROR((M19737/$U$4)/H19737,\" \")","v":" "},{"$f":"IFERROR((N19737*75)*26.083,\" \")","v":" "},{"$f":"IF(G19737=0,\" \",IF(G19737=1,\"Full time\",\"Part time\"))","v":" "},{"$f":"IF(I19737=\"\",\"\",IF(I19737<='Main page'!$F$49,\"Core staff\",\"Senior staff\"))","v":""},{"$f":"IF(D19737=\"\",\" \",'Main page'!$F$21-(D19737))","v":" "},{"$f":"IF(D19737=\"\",\" \",VLOOKUP(R19737,'Main page'!$E$29:'Main page'!$G$41,3,TRUE))","v":" "}]
[null,null,null,null,null,null,null,null,null,null,null,null," "," "," "," ",{"$f":"IF(I19738=\"\",\"\",IF(I19738<='Main page'!$F$49,\"Core staff\",\"Senior staff\"))","v":""},{"$f":"IF(D19738=\"\",\" \",'Main page'!$F$21-(D19738))","v":" "},{"$f":"IF(D19738=\"\",\" \",VLOOKUP(R19738,'Main page'!$E$29:'Main page'!$G$41,3,TRUE))","v":" "}]
[null,null,null,null,null,null,null,null,null,null,null,null," "," "," "," ",{"$f":"IF(I19739=\"\",\"\",IF(I19739<='Main page'!$F$49,\"Core staff\",\"Senior staff\"))","v":""},{"$f":"IF(D19739=\"\",\" \",'Main page'!$F$21-(D19739))","v":" "},{"$f":"IF(D19739=\"\",\" \",VLOOKUP(R19739,'Main page'!$E$29:'Main page'!$G$41,3,TRUE))","v":" "}]
[null,null,null,null,null,null,null,null,null,null,null,null," "," "," "," ",{"$f":"IF(I19740=\"\",\"\",IF(I19740<='Main page'!$F$49,\"Core staff\",\"Senior staff\"))","v":""},{"$f":"IF(D19740=\"\",\" \",'Main page'!$F$21-(D19740))","v":" "},{"$f":"IF(D19740=\"\",\" \",VLOOKUP(R19740,'Main page'!$E$29:'Main page'!$G$41,3,TRUE))","v":" "}]
[null,null,null,null,null,null,null,null,null,null,null,null," "," "," "," ",{"$f":"IF(I19741=\"\",\"\",IF(I19741<='Main page'!$F$49,\"Core staff\",\"Senior staff\"))","v":""},{"$f":"IF(D19741=\"\",\" \",'Main page'!$F$21-(D19741))","v":" "},{"$f":"IF(D19741=\"\",\" \",VLOOKUP(R19741,'Main page'!$E$29:'Main page'!$G$41,3,TRUE))","v":" "}]
[null,null,null,null,null,null,null,null,null,null,null,null," "," "," "," ",{"$f":"IF(I19742=\"\",\"\",IF(I19742<='Main page'!$F$49,\"Core staff\",\"Senior staff\"))","v":""},{"$f":"IF(D19742=\"\",\" \",'Main page'!$F$21-(D19742))","v":" "},{"$f":"IF(D19742=\"\",\" \",VLOOKUP(R19742,'Main page'!$E$29:'Main page'!$G$41,3,TRUE))","v":" "}]
[null,null,null,null,null,null,null,null,null,null,null,null," "," "," "," ",{"$f":"IF(I19743=\"\",\"\",IF(I19743<='Main page'!$F$49,\"Core staff\",\"Senior staff\"))","v":""},{"$f":"IF(D19743=\"\",\" \",'Main page'!$F$21-(D19743))","v":" "},{"$f":"IF(D19743=\"\",\" \",VLOOKUP(R19743,'Main page'!$E$29:'Main page'!$G$41,3,TRUE))","v":" "}]
[null,null,null,null,null,null,null,null,null,null,null,null," "," "," "," ",{"$f":"IF(I19744=\"\",\"\",IF(I19744<='Main page'!$F$49,\"Core staff\",\"Senior staff\"))","v":""},{"$f":"IF(D19744=\"\",\" \",'Main page'!$F$21-(D19744))","v":" "},{"$f":"IF(D19744=\"\",\" \",VLOOKUP(R19744,'Main page'!$E$29:'Main page'!$G$41,3,TRUE))","v":" "}]
[null,null,null,null,null,null,null,null,null,null,null,null," "," "," "," ",{"$f":"IF(I19745=\"\",\"\",IF(I19745<='Main page'!$F$49,\"Core staff\",\"Senior staff\"))","v":""},{"$f":"IF(D19745=\"\",\" \",'Main page'!$F$21-(D19745))","v":" "},{"$f":"IF(D19745=\"\",\" \",VLOOKUP(R19745,'Main page'!$E$29:'Main page'!$G$41,3,TRUE))","v":" "}]
[null,null,null,null,null,null,null,null,null,null,null,null," "," "," "," ",{"$f":"IF(I19746=\"\",\"\",IF(I19746<='Main page'!$F$49,\"Core staff\",\"Senior staff\"))","v":""},{"$f":"IF(D19746=\"\",\" \",'Main page'!$F$21-(D19746))","v":" "},{"$f":"IF(D19746=\"\",\" \",VLOOKUP(R19746,'Main page'!$E$29:'Main page'!$G$41,3,TRUE))","v":" "}]
[null,null,null,null,null,null,null,null,null,null,null,null," "," "," "," ",{"$f":"IF(I19747=\"\",\"\",IF(I19747<='Main page'!$F$49,\"Core staff\",\"Senior staff\"))","v":""},{"$f":"IF(D19747=\"\",\" \",'Main page'!$F$21-(D19747))","v":" "},{"$f":"IF(D19747=\"\",\" \",VLOOKUP(R19747,'Main page'!$E$29:'Main page'!$G$41,3,TRUE))","v":" "}]
[null,null,null,null,null,null,null,null,null,null,null,null," "," "," "," ",{"$f":"IF(I19748=\"\",\"\",IF(I19748<='Main page'!$F$49,\"Core staff\",\"Senior staff\"))","v":""},{"$f":"IF(D19748=\"\",\" \",'Main page'!$F$21-(D19748))","v":" "},{"$f":"IF(D19748=\"\",\" \",VLOOKUP(R19748,'Main page'!$E$29:'Main page'!$G$41,3,TRUE))","v":" "}]
[null,null,null,null,null,null,null,null,null,null,null,null," "," "," "," ",{"$f":"IF(I19749=\"\",\"\",IF(I19749<='Main page'!$F$49,\"Core staff\",\"Senior staff\"))","v":""},{"$f":"IF(D19749=\"\",\" \",'Main page'!$F$21-(D19749))","v":" "},{"$f":"IF(D19749=\"\",\" \",VLOOKUP(R19749,'Main page'!$E$29:'Main page'!$G$41,3,TRUE))","v":" "}]
[null,null,null,null,null,null,null,null,null,null,null,null," "," "," "," ",{"$f":"IF(I19750=\"\",\"\",IF(I19750<='Main page'!$F$49,\"Core staff\",\"Senior staff\"))","v":""},{"$f":"IF(D19750=\"\",\" \",'Main page'!$F$21-(D19750))","v":" "},{"$f":"IF(D19750=\"\",\" \",VLOOKUP(R19750,'Main page'!$E$29:'Main page'!$G$41,3,TRUE))","v":" "}]
[null,null,null,null,null,null,null,null,null,null,null,null," "," "," "," ",{"$f":"IF(I19751=\"\",\"\",IF(I19751<='Main page'!$F$49,\"Core staff\",\"Senior staff\"))","v":""},{"$f":"IF(D19751=\"\",\" \",'Main page'!$F$21-(D19751))","v":" "},{"$f":"IF(D19751=\"\",\" \",VLOOKUP(R19751,'Main page'!$E$29:'Main page'!$G$41,3,TRUE))","v":" "}]
[null,null,null,null,null,null,null,null,null,null,null,null," "," "," "," ",{"$f":"IF(I19752=\"\",\"\",IF(I19752<='Main page'!$F$49,\"Core staff\",\"Senior staff\"))","v":""},{"$f":"IF(D19752=\"\",\" \",'Main page'!$F$21-(D19752))","v":" "},{"$f":"IF(D19752=\"\",\" \",VLOOKUP(R19752,'Main page'!$E$29:'Main page'!$G$41,3,TRUE))","v":" "}]
[null,null,null,null,null,null,null,null,null,null,null,null," "," "," "," ",{"$f":"IF(I19753=\"\",\"\",IF(I19753<='Main page'!$F$49,\"Core staff\",\"Senior staff\"))","v":""},{"$f":"IF(D19753=\"\",\" \",'Main page'!$F$21-(D19753))","v":" "},{"$f":"IF(D19753=\"\",\" \",VLOOKUP(R19753,'Main page'!$E$29:'Main page'!$G$41,3,TRUE))","v":" "}]
[null,null,null,null,null,null,null,null,null,null,null,null," "," "," "," ",{"$f":"IF(I19754=\"\",\"\",IF(I19754<='Main page'!$F$49,\"Core staff\",\"Senior staff\"))","v":""},{"$f":"IF(D19754=\"\",\" \",'Main page'!$F$21-(D19754))","v":" "},{"$f":"IF(D19754=\"\",\" \",VLOOKUP(R19754,'Main page'!$E$29:'Main page'!$G$41,3,TRUE))","v":" "}]
[null,null,null,null,null,null,null,null,null,null,null,null," "," "," "," ",{"$f":"IF(I19755=\"\",\"\",IF(I19755<='Main page'!$F$49,\"Core staff\",\"Senior staff\"))","v":""},{"$f":"IF(D19755=\"\",\" \",'Main page'!$F$21-(D19755))","v":" "},{"$f":"IF(D19755=\"\",\" \",VLOOKUP(R19755,'Main page'!$E$29:'Main page'!$G$41,3,TRUE))","v":" "}]
[null,null,null,null,null,null,null,null,null,null,null,null," "," "," "," ",{"$f":"IF(I19756=\"\",\"\",IF(I19756<='Main page'!$F$49,\"Core staff\",\"Senior staff\"))","v":""},{"$f":"IF(D19756=\"\",\" \",'Main page'!$F$21-(D19756))","v":" "},{"$f":"IF(D19756=\"\",\" \",VLOOKUP(R19756,'Main page'!$E$29:'Main page'!$G$41,3,TRUE))","v":" "}]
[null,null,null,null,null,null,null,null,null,null,null,null," "," "," "," ",{"$f":"IF(I19757=\"\",\"\",IF(I19757<='Main page'!$F$49,\"Core staff\",\"Senior staff\"))","v":""},{"$f":"IF(D19757=\"\",\" \",'Main page'!$F$21-(D19757))","v":" "},{"$f":"IF(D19757=\"\",\" \",VLOOKUP(R19757,'Main page'!$E$29:'Main page'!$G$41,3,TRUE))","v":" "}]
[null,null,null,null,null,null,null,null,null,null,null,null," "," "," "," ",{"$f":"IF(I19758=\"\",\"\",IF(I19758<='Main page'!$F$49,\"Core staff\",\"Senior staff\"))","v":""},{"$f":"IF(D19758=\"\",\" \",'Main page'!$F$21-(D19758))","v":" "},{"$f":"IF(D19758=\"\",\" \",VLOOKUP(R19758,'Main page'!$E$29:'Main page'!$G$41,3,TRUE))","v":" "}]
[null,null,null,null,null,null,null,null,null,null,null,null," "," "," "," ",{"$f":"IF(I19759=\"\",\"\",IF(I19759<='Main page'!$F$49,\"Core staff\",\"Senior staff\"))","v":""},{"$f":"IF(D19759=\"\",\" \",'Main page'!$F$21-(D19759))","v":" "},{"$f":"IF(D19759=\"\",\" \",VLOOKUP(R19759,'Main page'!$E$29:'Main page'!$G$41,3,TRUE))","v":" "}]
[null,null,null,null,null,null,null,null,null,null,null,null," "," "," "," ",{"$f":"IF(I19760=\"\",\"\",IF(I19760<='Main page'!$F$49,\"Core staff\",\"Senior staff\"))","v":""},{"$f":"IF(D19760=\"\",\" \",'Main page'!$F$21-(D19760))","v":" "},{"$f":"IF(D19760=\"\",\" \",VLOOKUP(R19760,'Main page'!$E$29:'Main page'!$G$41,3,TRUE))","v":" "}]
[null,null,null,null,null,null,null,null,null,null,null,null," "," "," "," ",{"$f":"IF(I19761=\"\",\"\",IF(I19761<='Main page'!$F$49,\"Core staff\",\"Senior staff\"))","v":""},{"$f":"IF(D19761=\"\",\" \",'Main page'!$F$21-(D19761))","v":" "},{"$f":"IF(D19761=\"\",\" \",VLOOKUP(R19761,'Main page'!$E$29:'Main page'!$G$41,3,TRUE))","v":" "}]
[null,null,null,null,null,null,null,null,null,null,null,null," "," "," "," ",{"$f":"IF(I19762=\"\",\"\",IF(I19762<='Main page'!$F$49,\"Core staff\",\"Senior staff\"))","v":""},{"$f":"IF(D19762=\"\",\" \",'Main page'!$F$21-(D19762))","v":" "},{"$f":"IF(D19762=\"\",\" \",VLOOKUP(R19762,'Main page'!$E$29:'Main page'!$G$41,3,TRUE))","v":" "}]
[null,null,null,null,null,null,null,null,null,null,null,null," "," "," "," ",{"$f":"IF(I19763=\"\",\"\",IF(I19763<='Main page'!$F$49,\"Core staff\",\"Senior staff\"))","v":""},{"$f":"IF(D19763=\"\",\" \",'Main page'!$F$21-(D19763))","v":" "},{"$f":"IF(D19763=\"\",\" \",VLOOKUP(R19763,'Main page'!$E$29:'Main page'!$G$41,3,TRUE))","v":" "}]
[null,null,null,null,null,null,null,null,null,null,null,null," "," "," "," ",{"$f":"IF(I19764=\"\",\"\",IF(I19764<='Main page'!$F$49,\"Core staff\",\"Senior staff\"))","v":""},{"$f":"IF(D19764=\"\",\" \",'Main page'!$F$21-(D19764))","v":" "},{"$f":"IF(D19764=\"\",\" \",VLOOKUP(R19764,'Main page'!$E$29:'Main page'!$G$41,3,TRUE))","v":" "}]
[null,null,null,null,null,null,null,null,null,null,null,null," "," "," "," ",{"$f":"IF(I19765=\"\",\"\",IF(I19765<='Main page'!$F$49,\"Core staff\",\"Senior staff\"))","v":""},{"$f":"IF(D19765=\"\",\" \",'Main page'!$F$21-(D19765))","v":" "},{"$f":"IF(D19765=\"\",\" \",VLOOKUP(R19765,'Main page'!$E$29:'Main page'!$G$41,3,TRUE))","v":" "}]
[null,null,null,null,null,null,null,null,null,null,null,null," "," "," "," ",{"$f":"IF(I19766=\"\",\"\",IF(I19766<='Main page'!$F$49,\"Core staff\",\"Senior staff\"))","v":""},{"$f":"IF(D19766=\"\",\" \",'Main page'!$F$21-(D19766))","v":" "},{"$f":"IF(D19766=\"\",\" \",VLOOKUP(R19766,'Main page'!$E$29:'Main page'!$G$41,3,TRUE))","v":" "}]
[null,null,null,null,null,null,null,null,null,null,null,null," "," "," "," ",{"$f":"IF(I19767=\"\",\"\",IF(I19767<='Main page'!$F$49,\"Core staff\",\"Senior staff\"))","v":""},{"$f":"IF(D19767=\"\",\" \",'Main page'!$F$21-(D19767))","v":" "},{"$f":"IF(D19767=\"\",\" \",VLOOKUP(R19767,'Main page'!$E$29:'Main page'!$G$41,3,TRUE))","v":" "}]
[null,null,null,null,null,null,null,null,null,null,null,null," "," "," "," ",{"$f":"IF(I19768=\"\",\"\",IF(I19768<='Main page'!$F$49,\"Core staff\",\"Senior staff\"))","v":""},{"$f":"IF(D19768=\"\",\" \",'Main page'!$F$21-(D19768))","v":" "},{"$f":"IF(D19768=\"\",\" \",VLOOKUP(R19768,'Main page'!$E$29:'Main page'!$G$41,3,TRUE))","v":" "}]
[null,null,null,null,null,null,null,null,null,null,null,null," "," "," "," ",{"$f":"IF(I19769=\"\",\"\",IF(I19769<='Main page'!$F$49,\"Core staff\",\"Senior staff\"))","v":""},{"$f":"IF(D19769=\"\",\" \",'Main page'!$F$21-(D19769))","v":" "},{"$f":"IF(D19769=\"\",\" \",VLOOKUP(R19769,'Main page'!$E$29:'Main page'!$G$41,3,TRUE))","v":" "}]
[null,null,null,null,null,null,null,null,null,null,null,null," "," "," "," ",{"$f":"IF(I19770=\"\",\"\",IF(I19770<='Main page'!$F$49,\"Core staff\",\"Senior staff\"))","v":""},{"$f":"IF(D19770=\"\",\" \",'Main page'!$F$21-(D19770))","v":" "},{"$f":"IF(D19770=\"\",\" \",VLOOKUP(R19770,'Main page'!$E$29:'Main page'!$G$41,3,TRUE))","v":" "}]
[null,null,null,null,null,null,null,null,null,null,null,null," "," "," "," ",{"$f":"IF(I19771=\"\",\"\",IF(I19771<='Main page'!$F$49,\"Core staff\",\"Senior staff\"))","v":""},{"$f":"IF(D19771=\"\",\" \",'Main page'!$F$21-(D19771))","v":" "},{"$f":"IF(D19771=\"\",\" \",VLOOKUP(R19771,'Main page'!$E$29:'Main page'!$G$41,3,TRUE))","v":" "}]
[null,null,null,null,null,null,null,null,null,null,null,null," "," "," "," ",{"$f":"IF(I19772=\"\",\"\",IF(I19772<='Main page'!$F$49,\"Core staff\",\"Senior staff\"))","v":""},{"$f":"IF(D19772=\"\",\" \",'Main page'!$F$21-(D19772))","v":" "},{"$f":"IF(D19772=\"\",\" \",VLOOKUP(R19772,'Main page'!$E$29:'Main page'!$G$41,3,TRUE))","v":" "}]
[null,null,null,null,null,null,null,null,null,null,null,null," "," "," "," ",{"$f":"IF(I19773=\"\",\"\",IF(I19773<='Main page'!$F$49,\"Core staff\",\"Senior staff\"))","v":""},{"$f":"IF(D19773=\"\",\" \",'Main page'!$F$21-(D19773))","v":" "},{"$f":"IF(D19773=\"\",\" \",VLOOKUP(R19773,'Main page'!$E$29:'Main page'!$G$41,3,TRUE))","v":" "}]
[null,null,null,null,null,null,null,null,null,null,null,null," "," "," "," ",{"$f":"IF(I19774=\"\",\"\",IF(I19774<='Main page'!$F$49,\"Core staff\",\"Senior staff\"))","v":""},{"$f":"IF(D19774=\"\",\" \",'Main page'!$F$21-(D19774))","v":" "},{"$f":"IF(D19774=\"\",\" \",VLOOKUP(R19774,'Main page'!$E$29:'Main page'!$G$41,3,TRUE))","v":" "}]
[null,null,null,null,null,null,null,null,null,null,null,null," "," "," "," ",{"$f":"IF(I19775=\"\",\"\",IF(I19775<='Main page'!$F$49,\"Core staff\",\"Senior staff\"))","v":""},{"$f":"IF(D19775=\"\",\" \",'Main page'!$F$21-(D19775))","v":" "},{"$f":"IF(D19775=\"\",\" \",VLOOKUP(R19775,'Main page'!$E$29:'Main page'!$G$41,3,TRUE))","v":" "}]
[null,null,null,null,null,null,null,null,null,null,null,null," "," "," "," ",{"$f":"IF(I19776=\"\",\"\",IF(I19776<='Main page'!$F$49,\"Core staff\",\"Senior staff\"))","v":""},{"$f":"IF(D19776=\"\",\" \",'Main page'!$F$21-(D19776))","v":" "},{"$f":"IF(D19776=\"\",\" \",VLOOKUP(R19776,'Main page'!$E$29:'Main page'!$G$41,3,TRUE))","v":" "}]
[null,null,null,null,null,null,null,null,null,null,null,null," "," "," "," ",{"$f":"IF(I19777=\"\",\"\",IF(I19777<='Main page'!$F$49,\"Core staff\",\"Senior staff\"))","v":""},{"$f":"IF(D19777=\"\",\" \",'Main page'!$F$21-(D19777))","v":" "},{"$f":"IF(D19777=\"\",\" \",VLOOKUP(R19777,'Main page'!$E$29:'Main page'!$G$41,3,TRUE))","v":" "}]
[null,null,null,null,null,null,null,null,null,null,null,null," "," "," "," ",{"$f":"IF(I19778=\"\",\"\",IF(I19778<='Main page'!$F$49,\"Core staff\",\"Senior staff\"))","v":""},{"$f":"IF(D19778=\"\",\" \",'Main page'!$F$21-(D19778))","v":" "},{"$f":"IF(D19778=\"\",\" \",VLOOKUP(R19778,'Main page'!$E$29:'Main page'!$G$41,3,TRUE))","v":" "}]
[null,null,null,null,null,null,null,null,null,null,null,null," "," "," "," ",{"$f":"IF(I19779=\"\",\"\",IF(I19779<='Main page'!$F$49,\"Core staff\",\"Senior staff\"))","v":""},{"$f":"IF(D19779=\"\",\" \",'Main page'!$F$21-(D19779))","v":" "},{"$f":"IF(D19779=\"\",\" \",VLOOKUP(R19779,'Main page'!$E$29:'Main page'!$G$41,3,TRUE))","v":" "}]
[null,null,null,null,null,null,null,null,null,null,null,null," "," "," "," ",{"$f":"IF(I19780=\"\",\"\",IF(I19780<='Main page'!$F$49,\"Core staff\",\"Senior staff\"))","v":""},{"$f":"IF(D19780=\"\",\" \",'Main page'!$F$21-(D19780))","v":" "},{"$f":"IF(D19780=\"\",\" \",VLOOKUP(R19780,'Main page'!$E$29:'Main page'!$G$41,3,TRUE))","v":" "}]
[null,null,null,null,null,null,null,null,null,null,null,null," "," "," "," ",{"$f":"IF(I19781=\"\",\"\",IF(I19781<='Main page'!$F$49,\"Core staff\",\"Senior staff\"))","v":""},{"$f":"IF(D19781=\"\",\" \",'Main page'!$F$21-(D19781))","v":" "},{"$f":"IF(D19781=\"\",\" \",VLOOKUP(R19781,'Main page'!$E$29:'Main page'!$G$41,3,TRUE))","v":" "}]
[null,null,null,null,null,null,null,null,null,null,null,null," "," "," "," ",{"$f":"IF(I19782=\"\",\"\",IF(I19782<='Main page'!$F$49,\"Core staff\",\"Senior staff\"))","v":""},{"$f":"IF(D19782=\"\",\" \",'Main page'!$F$21-(D19782))","v":" "},{"$f":"IF(D19782=\"\",\" \",VLOOKUP(R19782,'Main page'!$E$29:'Main page'!$G$41,3,TRUE))","v":" "}]
[null,null,null,null,null,null,null,null,null,null,null,null," "," "," "," ",{"$f":"IF(I19783=\"\",\"\",IF(I19783<='Main page'!$F$49,\"Core staff\",\"Senior staff\"))","v":""},{"$f":"IF(D19783=\"\",\" \",'Main page'!$F$21-(D19783))","v":" "},{"$f":"IF(D19783=\"\",\" \",VLOOKUP(R19783,'Main page'!$E$29:'Main page'!$G$41,3,TRUE))","v":" "}]
[null,null,null,null,null,null,null,null,null,null,null,null," "," "," "," ",{"$f":"IF(I19784=\"\",\"\",IF(I19784<='Main page'!$F$49,\"Core staff\",\"Senior staff\"))","v":""},{"$f":"IF(D19784=\"\",\" \",'Main page'!$F$21-(D19784))","v":" "},{"$f":"IF(D19784=\"\",\" \",VLOOKUP(R19784,'Main page'!$E$29:'Main page'!$G$41,3,TRUE))","v":" "}]
[null,null,null,null,null,null,null,null,null,null,null,null," "," "," "," ",{"$f":"IF(I19785=\"\",\"\",IF(I19785<='Main page'!$F$49,\"Core staff\",\"Senior staff\"))","v":""},{"$f":"IF(D19785=\"\",\" \",'Main page'!$F$21-(D19785))","v":" "},{"$f":"IF(D19785=\"\",\" \",VLOOKUP(R19785,'Main page'!$E$29:'Main page'!$G$41,3,TRUE))","v":" "}]
[null,null,null,null,null,null,null,null,null,null,null,null," "," "," "," ",{"$f":"IF(I19786=\"\",\"\",IF(I19786<='Main page'!$F$49,\"Core staff\",\"Senior staff\"))","v":""},{"$f":"IF(D19786=\"\",\" \",'Main page'!$F$21-(D19786))","v":" "},{"$f":"IF(D19786=\"\",\" \",VLOOKUP(R19786,'Main page'!$E$29:'Main page'!$G$41,3,TRUE))","v":" "}]
[null,null,null,null,null,null,null,null,null,null,null,null," "," "," "," ",{"$f":"IF(I19787=\"\",\"\",IF(I19787<='Main page'!$F$49,\"Core staff\",\"Senior staff\"))","v":""},{"$f":"IF(D19787=\"\",\" \",'Main page'!$F$21-(D19787))","v":" "},{"$f":"IF(D19787=\"\",\" \",VLOOKUP(R19787,'Main page'!$E$29:'Main page'!$G$41,3,TRUE))","v":" "}]
[null,null,null,null,null,null,null,null,null,null,null,null," "," "," "," ",{"$f":"IF(I19788=\"\",\"\",IF(I19788<='Main page'!$F$49,\"Core staff\",\"Senior staff\"))","v":""},{"$f":"IF(D19788=\"\",\" \",'Main page'!$F$21-(D19788))","v":" "},{"$f":"IF(D19788=\"\",\" \",VLOOKUP(R19788,'Main page'!$E$29:'Main page'!$G$41,3,TRUE))","v":" "}]
[null,null,null,null,null,null,null,null,null,null,null,null," "," "," "," ",{"$f":"IF(I19789=\"\",\"\",IF(I19789<='Main page'!$F$49,\"Core staff\",\"Senior staff\"))","v":""},{"$f":"IF(D19789=\"\",\" \",'Main page'!$F$21-(D19789))","v":" "},{"$f":"IF(D19789=\"\",\" \",VLOOKUP(R19789,'Main page'!$E$29:'Main page'!$G$41,3,TRUE))","v":" "}]
[null,null,null,null,null,null,null,null,null,null,null,null," "," "," "," ",{"$f":"IF(I19790=\"\",\"\",IF(I19790<='Main page'!$F$49,\"Core staff\",\"Senior staff\"))","v":""},{"$f":"IF(D19790=\"\",\" \",'Main page'!$F$21-(D19790))","v":" "},{"$f":"IF(D19790=\"\",\" \",VLOOKUP(R19790,'Main page'!$E$29:'Main page'!$G$41,3,TRUE))","v":" "}]
[null,null,null,null,null,null,null,null,null,null,null,null," "," "," "," ",{"$f":"IF(I19791=\"\",\"\",IF(I19791<='Main page'!$F$49,\"Core staff\",\"Senior staff\"))","v":""},{"$f":"IF(D19791=\"\",\" \",'Main page'!$F$21-(D19791))","v":" "},{"$f":"IF(D19791=\"\",\" \",VLOOKUP(R19791,'Main page'!$E$29:'Main page'!$G$41,3,TRUE))","v":" "}]
[null,null,null,null,null,null,null,null,null,null,null,null," "," "," "," ",{"$f":"IF(I19792=\"\",\"\",IF(I19792<='Main page'!$F$49,\"Core staff\",\"Senior staff\"))","v":""},{"$f":"IF(D19792=\"\",\" \",'Main page'!$F$21-(D19792))","v":" "},{"$f":"IF(D19792=\"\",\" \",VLOOKUP(R19792,'Main page'!$E$29:'Main page'!$G$41,3,TRUE))","v":" "}]
[null,null,null,null,null,null,null,null,null,null,null,null," "," "," "," ",{"$f":"IF(I19793=\"\",\"\",IF(I19793<='Main page'!$F$49,\"Core staff\",\"Senior staff\"))","v":""},{"$f":"IF(D19793=\"\",\" \",'Main page'!$F$21-(D19793))","v":" "},{"$f":"IF(D19793=\"\",\" \",VLOOKUP(R19793,'Main page'!$E$29:'Main page'!$G$41,3,TRUE))","v":" "}]
[null,null,null,null,null,null,null,null,null,null,null,null," "," "," "," ",{"$f":"IF(I19794=\"\",\"\",IF(I19794<='Main page'!$F$49,\"Core staff\",\"Senior staff\"))","v":""},{"$f":"IF(D19794=\"\",\" \",'Main page'!$F$21-(D19794))","v":" "},{"$f":"IF(D19794=\"\",\" \",VLOOKUP(R19794,'Main page'!$E$29:'Main page'!$G$41,3,TRUE))","v":" "}]
[null,null,null,null,null,null,null,null,null,null,null,null," "," "," "," ",{"$f":"IF(I19795=\"\",\"\",IF(I19795<='Main page'!$F$49,\"Core staff\",\"Senior staff\"))","v":""},{"$f":"IF(D19795=\"\",\" \",'Main page'!$F$21-(D19795))","v":" "},{"$f":"IF(D19795=\"\",\" \",VLOOKUP(R19795,'Main page'!$E$29:'Main page'!$G$41,3,TRUE))","v":" "}]
[null,null,null,null,null,null,null,null,null,null,null,null," "," "," "," ",{"$f":"IF(I19796=\"\",\"\",IF(I19796<='Main page'!$F$49,\"Core staff\",\"Senior staff\"))","v":""},{"$f":"IF(D19796=\"\",\" \",'Main page'!$F$21-(D19796))","v":" "},{"$f":"IF(D19796=\"\",\" \",VLOOKUP(R19796,'Main page'!$E$29:'Main page'!$G$41,3,TRUE))","v":" "}]
[null,null,null,null,null,null,null,null,null,null,null,null," "," "," "," ",{"$f":"IF(I19797=\"\",\"\",IF(I19797<='Main page'!$F$49,\"Core staff\",\"Senior staff\"))","v":""},{"$f":"IF(D19797=\"\",\" \",'Main page'!$F$21-(D19797))","v":" "},{"$f":"IF(D19797=\"\",\" \",VLOOKUP(R19797,'Main page'!$E$29:'Main page'!$G$41,3,TRUE))","v":" "}]
[null,null,null,null,null,null,null,null,null,null,null,null," "," "," "," ",{"$f":"IF(I19798=\"\",\"\",IF(I19798<='Main page'!$F$49,\"Core staff\",\"Senior staff\"))","v":""},{"$f":"IF(D19798=\"\",\" \",'Main page'!$F$21-(D19798))","v":" "},{"$f":"IF(D19798=\"\",\" \",VLOOKUP(R19798,'Main page'!$E$29:'Main page'!$G$41,3,TRUE))","v":" "}]
[null,null,null,null,null,null,null,null,null,null,null,null," "," "," "," ",{"$f":"IF(I19799=\"\",\"\",IF(I19799<='Main page'!$F$49,\"Core staff\",\"Senior staff\"))","v":""},{"$f":"IF(D19799=\"\",\" \",'Main page'!$F$21-(D19799))","v":" "},{"$f":"IF(D19799=\"\",\" \",VLOOKUP(R19799,'Main page'!$E$29:'Main page'!$G$41,3,TRUE))","v":" "}]
[null,null,null,null,null,null,null,null,null,null,null,null," "," "," "," ",{"$f":"IF(I19800=\"\",\"\",IF(I19800<='Main page'!$F$49,\"Core staff\",\"Senior staff\"))","v":""},{"$f":"IF(D19800=\"\",\" \",'Main page'!$F$21-(D19800))","v":" "},{"$f":"IF(D19800=\"\",\" \",VLOOKUP(R19800,'Main page'!$E$29:'Main page'!$G$41,3,TRUE))","v":" "}]
[null,null,null,null,null,null,null,null,null,null,null,null,{"$f":"IFERROR(J19801/G19801,\" \")","v":" "},{"$f":"IFERROR((M19801/$U$4)/H19801,\" \")","v":" "},{"$f":"IFERROR((N19801*75)*26.083,\" \")","v":" "},{"$f":"IF(G19801=0,\" \",IF(G19801=1,\"Full time\",\"Part time\"))","v":" "},{"$f":"IF(I19801=\"\",\"\",IF(I19801<='Main page'!$F$49,\"Core staff\",\"Senior staff\"))","v":""},{"$f":"IF(D19801=\"\",\" \",'Main page'!$F$21-(D19801))","v":" "},{"$f":"IF(D19801=\"\",\" \",VLOOKUP(R19801,'Main page'!$E$29:'Main page'!$G$41,3,TRUE))","v":" "}]
[null,null,null,null,null,null,null,null,null,null,null,null," "," "," "," ",{"$f":"IF(I19802=\"\",\"\",IF(I19802<='Main page'!$F$49,\"Core staff\",\"Senior staff\"))","v":""},{"$f":"IF(D19802=\"\",\" \",'Main page'!$F$21-(D19802))","v":" "},{"$f":"IF(D19802=\"\",\" \",VLOOKUP(R19802,'Main page'!$E$29:'Main page'!$G$41,3,TRUE))","v":" "}]
[null,null,null,null,null,null,null,null,null,null,null,null," "," "," "," ",{"$f":"IF(I19803=\"\",\"\",IF(I19803<='Main page'!$F$49,\"Core staff\",\"Senior staff\"))","v":""},{"$f":"IF(D19803=\"\",\" \",'Main page'!$F$21-(D19803))","v":" "},{"$f":"IF(D19803=\"\",\" \",VLOOKUP(R19803,'Main page'!$E$29:'Main page'!$G$41,3,TRUE))","v":" "}]
[null,null,null,null,null,null,null,null,null,null,null,null," "," "," "," ",{"$f":"IF(I19804=\"\",\"\",IF(I19804<='Main page'!$F$49,\"Core staff\",\"Senior staff\"))","v":""},{"$f":"IF(D19804=\"\",\" \",'Main page'!$F$21-(D19804))","v":" "},{"$f":"IF(D19804=\"\",\" \",VLOOKUP(R19804,'Main page'!$E$29:'Main page'!$G$41,3,TRUE))","v":" "}]
[null,null,null,null,null,null,null,null,null,null,null,null," "," "," "," ",{"$f":"IF(I19805=\"\",\"\",IF(I19805<='Main page'!$F$49,\"Core staff\",\"Senior staff\"))","v":""},{"$f":"IF(D19805=\"\",\" \",'Main page'!$F$21-(D19805))","v":" "},{"$f":"IF(D19805=\"\",\" \",VLOOKUP(R19805,'Main page'!$E$29:'Main page'!$G$41,3,TRUE))","v":" "}]
[null,null,null,null,null,null,null,null,null,null,null,null," "," "," "," ",{"$f":"IF(I19806=\"\",\"\",IF(I19806<='Main page'!$F$49,\"Core staff\",\"Senior staff\"))","v":""},{"$f":"IF(D19806=\"\",\" \",'Main page'!$F$21-(D19806))","v":" "},{"$f":"IF(D19806=\"\",\" \",VLOOKUP(R19806,'Main page'!$E$29:'Main page'!$G$41,3,TRUE))","v":" "}]
[null,null,null,null,null,null,null,null,null,null,null,null," "," "," "," ",{"$f":"IF(I19807=\"\",\"\",IF(I19807<='Main page'!$F$49,\"Core staff\",\"Senior staff\"))","v":""},{"$f":"IF(D19807=\"\",\" \",'Main page'!$F$21-(D19807))","v":" "},{"$f":"IF(D19807=\"\",\" \",VLOOKUP(R19807,'Main page'!$E$29:'Main page'!$G$41,3,TRUE))","v":" "}]
[null,null,null,null,null,null,null,null,null,null,null,null," "," "," "," ",{"$f":"IF(I19808=\"\",\"\",IF(I19808<='Main page'!$F$49,\"Core staff\",\"Senior staff\"))","v":""},{"$f":"IF(D19808=\"\",\" \",'Main page'!$F$21-(D19808))","v":" "},{"$f":"IF(D19808=\"\",\" \",VLOOKUP(R19808,'Main page'!$E$29:'Main page'!$G$41,3,TRUE))","v":" "}]
[null,null,null,null,null,null,null,null,null,null,null,null," "," "," "," ",{"$f":"IF(I19809=\"\",\"\",IF(I19809<='Main page'!$F$49,\"Core staff\",\"Senior staff\"))","v":""},{"$f":"IF(D19809=\"\",\" \",'Main page'!$F$21-(D19809))","v":" "},{"$f":"IF(D19809=\"\",\" \",VLOOKUP(R19809,'Main page'!$E$29:'Main page'!$G$41,3,TRUE))","v":" "}]
[null,null,null,null,null,null,null,null,null,null,null,null," "," "," "," ",{"$f":"IF(I19810=\"\",\"\",IF(I19810<='Main page'!$F$49,\"Core staff\",\"Senior staff\"))","v":""},{"$f":"IF(D19810=\"\",\" \",'Main page'!$F$21-(D19810))","v":" "},{"$f":"IF(D19810=\"\",\" \",VLOOKUP(R19810,'Main page'!$E$29:'Main page'!$G$41,3,TRUE))","v":" "}]
[null,null,null,null,null,null,null,null,null,null,null,null," "," "," "," ",{"$f":"IF(I19811=\"\",\"\",IF(I19811<='Main page'!$F$49,\"Core staff\",\"Senior staff\"))","v":""},{"$f":"IF(D19811=\"\",\" \",'Main page'!$F$21-(D19811))","v":" "},{"$f":"IF(D19811=\"\",\" \",VLOOKUP(R19811,'Main page'!$E$29:'Main page'!$G$41,3,TRUE))","v":" "}]
[null,null,null,null,null,null,null,null,null,null,null,null," "," "," "," ",{"$f":"IF(I19812=\"\",\"\",IF(I19812<='Main page'!$F$49,\"Core staff\",\"Senior staff\"))","v":""},{"$f":"IF(D19812=\"\",\" \",'Main page'!$F$21-(D19812))","v":" "},{"$f":"IF(D19812=\"\",\" \",VLOOKUP(R19812,'Main page'!$E$29:'Main page'!$G$41,3,TRUE))","v":" "}]
[null,null,null,null,null,null,null,null,null,null,null,null," "," "," "," ",{"$f":"IF(I19813=\"\",\"\",IF(I19813<='Main page'!$F$49,\"Core staff\",\"Senior staff\"))","v":""},{"$f":"IF(D19813=\"\",\" \",'Main page'!$F$21-(D19813))","v":" "},{"$f":"IF(D19813=\"\",\" \",VLOOKUP(R19813,'Main page'!$E$29:'Main page'!$G$41,3,TRUE))","v":" "}]
[null,null,null,null,null,null,null,null,null,null,null,null," "," "," "," ",{"$f":"IF(I19814=\"\",\"\",IF(I19814<='Main page'!$F$49,\"Core staff\",\"Senior staff\"))","v":""},{"$f":"IF(D19814=\"\",\" \",'Main page'!$F$21-(D19814))","v":" "},{"$f":"IF(D19814=\"\",\" \",VLOOKUP(R19814,'Main page'!$E$29:'Main page'!$G$41,3,TRUE))","v":" "}]
[null,null,null,null,null,null,null,null,null,null,null,null," "," "," "," ",{"$f":"IF(I19815=\"\",\"\",IF(I19815<='Main page'!$F$49,\"Core staff\",\"Senior staff\"))","v":""},{"$f":"IF(D19815=\"\",\" \",'Main page'!$F$21-(D19815))","v":" "},{"$f":"IF(D19815=\"\",\" \",VLOOKUP(R19815,'Main page'!$E$29:'Main page'!$G$41,3,TRUE))","v":" "}]
[null,null,null,null,null,null,null,null,null,null,null,null," "," "," "," ",{"$f":"IF(I19816=\"\",\"\",IF(I19816<='Main page'!$F$49,\"Core staff\",\"Senior staff\"))","v":""},{"$f":"IF(D19816=\"\",\" \",'Main page'!$F$21-(D19816))","v":" "},{"$f":"IF(D19816=\"\",\" \",VLOOKUP(R19816,'Main page'!$E$29:'Main page'!$G$41,3,TRUE))","v":" "}]
[null,null,null,null,null,null,null,null,null,null,null,null," "," "," "," ",{"$f":"IF(I19817=\"\",\"\",IF(I19817<='Main page'!$F$49,\"Core staff\",\"Senior staff\"))","v":""},{"$f":"IF(D19817=\"\",\" \",'Main page'!$F$21-(D19817))","v":" "},{"$f":"IF(D19817=\"\",\" \",VLOOKUP(R19817,'Main page'!$E$29:'Main page'!$G$41,3,TRUE))","v":" "}]
[null,null,null,null,null,null,null,null,null,null,null,null," "," "," "," ",{"$f":"IF(I19818=\"\",\"\",IF(I19818<='Main page'!$F$49,\"Core staff\",\"Senior staff\"))","v":""},{"$f":"IF(D19818=\"\",\" \",'Main page'!$F$21-(D19818))","v":" "},{"$f":"IF(D19818=\"\",\" \",VLOOKUP(R19818,'Main page'!$E$29:'Main page'!$G$41,3,TRUE))","v":" "}]
[null,null,null,null,null,null,null,null,null,null,null,null," "," "," "," ",{"$f":"IF(I19819=\"\",\"\",IF(I19819<='Main page'!$F$49,\"Core staff\",\"Senior staff\"))","v":""},{"$f":"IF(D19819=\"\",\" \",'Main page'!$F$21-(D19819))","v":" "},{"$f":"IF(D19819=\"\",\" \",VLOOKUP(R19819,'Main page'!$E$29:'Main page'!$G$41,3,TRUE))","v":" "}]
[null,null,null,null,null,null,null,null,null,null,null,null," "," "," "," ",{"$f":"IF(I19820=\"\",\"\",IF(I19820<='Main page'!$F$49,\"Core staff\",\"Senior staff\"))","v":""},{"$f":"IF(D19820=\"\",\" \",'Main page'!$F$21-(D19820))","v":" "},{"$f":"IF(D19820=\"\",\" \",VLOOKUP(R19820,'Main page'!$E$29:'Main page'!$G$41,3,TRUE))","v":" "}]
[null,null,null,null,null,null,null,null,null,null,null,null," "," "," "," ",{"$f":"IF(I19821=\"\",\"\",IF(I19821<='Main page'!$F$49,\"Core staff\",\"Senior staff\"))","v":""},{"$f":"IF(D19821=\"\",\" \",'Main page'!$F$21-(D19821))","v":" "},{"$f":"IF(D19821=\"\",\" \",VLOOKUP(R19821,'Main page'!$E$29:'Main page'!$G$41,3,TRUE))","v":" "}]
[null,null,null,null,null,null,null,null,null,null,null,null," "," "," "," ",{"$f":"IF(I19822=\"\",\"\",IF(I19822<='Main page'!$F$49,\"Core staff\",\"Senior staff\"))","v":""},{"$f":"IF(D19822=\"\",\" \",'Main page'!$F$21-(D19822))","v":" "},{"$f":"IF(D19822=\"\",\" \",VLOOKUP(R19822,'Main page'!$E$29:'Main page'!$G$41,3,TRUE))","v":" "}]
[null,null,null,null,null,null,null,null,null,null,null,null," "," "," "," ",{"$f":"IF(I19823=\"\",\"\",IF(I19823<='Main page'!$F$49,\"Core staff\",\"Senior staff\"))","v":""},{"$f":"IF(D19823=\"\",\" \",'Main page'!$F$21-(D19823))","v":" "},{"$f":"IF(D19823=\"\",\" \",VLOOKUP(R19823,'Main page'!$E$29:'Main page'!$G$41,3,TRUE))","v":" "}]
[null,null,null,null,null,null,null,null,null,null,null,null," "," "," "," ",{"$f":"IF(I19824=\"\",\"\",IF(I19824<='Main page'!$F$49,\"Core staff\",\"Senior staff\"))","v":""},{"$f":"IF(D19824=\"\",\" \",'Main page'!$F$21-(D19824))","v":" "},{"$f":"IF(D19824=\"\",\" \",VLOOKUP(R19824,'Main page'!$E$29:'Main page'!$G$41,3,TRUE))","v":" "}]
[null,null,null,null,null,null,null,null,null,null,null,null," "," "," "," ",{"$f":"IF(I19825=\"\",\"\",IF(I19825<='Main page'!$F$49,\"Core staff\",\"Senior staff\"))","v":""},{"$f":"IF(D19825=\"\",\" \",'Main page'!$F$21-(D19825))","v":" "},{"$f":"IF(D19825=\"\",\" \",VLOOKUP(R19825,'Main page'!$E$29:'Main page'!$G$41,3,TRUE))","v":" "}]
[null,null,null,null,null,null,null,null,null,null,null,null," "," "," "," ",{"$f":"IF(I19826=\"\",\"\",IF(I19826<='Main page'!$F$49,\"Core staff\",\"Senior staff\"))","v":""},{"$f":"IF(D19826=\"\",\" \",'Main page'!$F$21-(D19826))","v":" "},{"$f":"IF(D19826=\"\",\" \",VLOOKUP(R19826,'Main page'!$E$29:'Main page'!$G$41,3,TRUE))","v":" "}]
[null,null,null,null,null,null,null,null,null,null,null,null," "," "," "," ",{"$f":"IF(I19827=\"\",\"\",IF(I19827<='Main page'!$F$49,\"Core staff\",\"Senior staff\"))","v":""},{"$f":"IF(D19827=\"\",\" \",'Main page'!$F$21-(D19827))","v":" "},{"$f":"IF(D19827=\"\",\" \",VLOOKUP(R19827,'Main page'!$E$29:'Main page'!$G$41,3,TRUE))","v":" "}]
[null,null,null,null,null,null,null,null,null,null,null,null," "," "," "," ",{"$f":"IF(I19828=\"\",\"\",IF(I19828<='Main page'!$F$49,\"Core staff\",\"Senior staff\"))","v":""},{"$f":"IF(D19828=\"\",\" \",'Main page'!$F$21-(D19828))","v":" "},{"$f":"IF(D19828=\"\",\" \",VLOOKUP(R19828,'Main page'!$E$29:'Main page'!$G$41,3,TRUE))","v":" "}]
[null,null,null,null,null,null,null,null,null,null,null,null," "," "," "," ",{"$f":"IF(I19829=\"\",\"\",IF(I19829<='Main page'!$F$49,\"Core staff\",\"Senior staff\"))","v":""},{"$f":"IF(D19829=\"\",\" \",'Main page'!$F$21-(D19829))","v":" "},{"$f":"IF(D19829=\"\",\" \",VLOOKUP(R19829,'Main page'!$E$29:'Main page'!$G$41,3,TRUE))","v":" "}]
[null,null,null,null,null,null,null,null,null,null,null,null," "," "," "," ",{"$f":"IF(I19830=\"\",\"\",IF(I19830<='Main page'!$F$49,\"Core staff\",\"Senior staff\"))","v":""},{"$f":"IF(D19830=\"\",\" \",'Main page'!$F$21-(D19830))","v":" "},{"$f":"IF(D19830=\"\",\" \",VLOOKUP(R19830,'Main page'!$E$29:'Main page'!$G$41,3,TRUE))","v":" "}]
[null,null,null,null,null,null,null,null,null,null,null,null," "," "," "," ",{"$f":"IF(I19831=\"\",\"\",IF(I19831<='Main page'!$F$49,\"Core staff\",\"Senior staff\"))","v":""},{"$f":"IF(D19831=\"\",\" \",'Main page'!$F$21-(D19831))","v":" "},{"$f":"IF(D19831=\"\",\" \",VLOOKUP(R19831,'Main page'!$E$29:'Main page'!$G$41,3,TRUE))","v":" "}]
[null,null,null,null,null,null,null,null,null,null,null,null," "," "," "," ",{"$f":"IF(I19832=\"\",\"\",IF(I19832<='Main page'!$F$49,\"Core staff\",\"Senior staff\"))","v":""},{"$f":"IF(D19832=\"\",\" \",'Main page'!$F$21-(D19832))","v":" "},{"$f":"IF(D19832=\"\",\" \",VLOOKUP(R19832,'Main page'!$E$29:'Main page'!$G$41,3,TRUE))","v":" "}]
[null,null,null,null,null,null,null,null,null,null,null,null," "," "," "," ",{"$f":"IF(I19833=\"\",\"\",IF(I19833<='Main page'!$F$49,\"Core staff\",\"Senior staff\"))","v":""},{"$f":"IF(D19833=\"\",\" \",'Main page'!$F$21-(D19833))","v":" "},{"$f":"IF(D19833=\"\",\" \",VLOOKUP(R19833,'Main page'!$E$29:'Main page'!$G$41,3,TRUE))","v":" "}]
[null,null,null,null,null,null,null,null,null,null,null,null," "," "," "," ",{"$f":"IF(I19834=\"\",\"\",IF(I19834<='Main page'!$F$49,\"Core staff\",\"Senior staff\"))","v":""},{"$f":"IF(D19834=\"\",\" \",'Main page'!$F$21-(D19834))","v":" "},{"$f":"IF(D19834=\"\",\" \",VLOOKUP(R19834,'Main page'!$E$29:'Main page'!$G$41,3,TRUE))","v":" "}]
[null,null,null,null,null,null,null,null,null,null,null,null," "," "," "," ",{"$f":"IF(I19835=\"\",\"\",IF(I19835<='Main page'!$F$49,\"Core staff\",\"Senior staff\"))","v":""},{"$f":"IF(D19835=\"\",\" \",'Main page'!$F$21-(D19835))","v":" "},{"$f":"IF(D19835=\"\",\" \",VLOOKUP(R19835,'Main page'!$E$29:'Main page'!$G$41,3,TRUE))","v":" "}]
[null,null,null,null,null,null,null,null,null,null,null,null," "," "," "," ",{"$f":"IF(I19836=\"\",\"\",IF(I19836<='Main page'!$F$49,\"Core staff\",\"Senior staff\"))","v":""},{"$f":"IF(D19836=\"\",\" \",'Main page'!$F$21-(D19836))","v":" "},{"$f":"IF(D19836=\"\",\" \",VLOOKUP(R19836,'Main page'!$E$29:'Main page'!$G$41,3,TRUE))","v":" "}]
[null,null,null,null,null,null,null,null,null,null,null,null," "," "," "," ",{"$f":"IF(I19837=\"\",\"\",IF(I19837<='Main page'!$F$49,\"Core staff\",\"Senior staff\"))","v":""},{"$f":"IF(D19837=\"\",\" \",'Main page'!$F$21-(D19837))","v":" "},{"$f":"IF(D19837=\"\",\" \",VLOOKUP(R19837,'Main page'!$E$29:'Main page'!$G$41,3,TRUE))","v":" "}]
[null,null,null,null,null,null,null,null,null,null,null,null," "," "," "," ",{"$f":"IF(I19838=\"\",\"\",IF(I19838<='Main page'!$F$49,\"Core staff\",\"Senior staff\"))","v":""},{"$f":"IF(D19838=\"\",\" \",'Main page'!$F$21-(D19838))","v":" "},{"$f":"IF(D19838=\"\",\" \",VLOOKUP(R19838,'Main page'!$E$29:'Main page'!$G$41,3,TRUE))","v":" "}]
[null,null,null,null,null,null,null,null,null,null,null,null," "," "," "," ",{"$f":"IF(I19839=\"\",\"\",IF(I19839<='Main page'!$F$49,\"Core staff\",\"Senior staff\"))","v":""},{"$f":"IF(D19839=\"\",\" \",'Main page'!$F$21-(D19839))","v":" "},{"$f":"IF(D19839=\"\",\" \",VLOOKUP(R19839,'Main page'!$E$29:'Main page'!$G$41,3,TRUE))","v":" "}]
[null,null,null,null,null,null,null,null,null,null,null,null," "," "," "," ",{"$f":"IF(I19840=\"\",\"\",IF(I19840<='Main page'!$F$49,\"Core staff\",\"Senior staff\"))","v":""},{"$f":"IF(D19840=\"\",\" \",'Main page'!$F$21-(D19840))","v":" "},{"$f":"IF(D19840=\"\",\" \",VLOOKUP(R19840,'Main page'!$E$29:'Main page'!$G$41,3,TRUE))","v":" "}]
[null,null,null,null,null,null,null,null,null,null,null,null," "," "," "," ",{"$f":"IF(I19841=\"\",\"\",IF(I19841<='Main page'!$F$49,\"Core staff\",\"Senior staff\"))","v":""},{"$f":"IF(D19841=\"\",\" \",'Main page'!$F$21-(D19841))","v":" "},{"$f":"IF(D19841=\"\",\" \",VLOOKUP(R19841,'Main page'!$E$29:'Main page'!$G$41,3,TRUE))","v":" "}]
[null,null,null,null,null,null,null,null,null,null,null,null," "," "," "," ",{"$f":"IF(I19842=\"\",\"\",IF(I19842<='Main page'!$F$49,\"Core staff\",\"Senior staff\"))","v":""},{"$f":"IF(D19842=\"\",\" \",'Main page'!$F$21-(D19842))","v":" "},{"$f":"IF(D19842=\"\",\" \",VLOOKUP(R19842,'Main page'!$E$29:'Main page'!$G$41,3,TRUE))","v":" "}]
[null,null,null,null,null,null,null,null,null,null,null,null," "," "," "," ",{"$f":"IF(I19843=\"\",\"\",IF(I19843<='Main page'!$F$49,\"Core staff\",\"Senior staff\"))","v":""},{"$f":"IF(D19843=\"\",\" \",'Main page'!$F$21-(D19843))","v":" "},{"$f":"IF(D19843=\"\",\" \",VLOOKUP(R19843,'Main page'!$E$29:'Main page'!$G$41,3,TRUE))","v":" "}]
[null,null,null,null,null,null,null,null,null,null,null,null," "," "," "," ",{"$f":"IF(I19844=\"\",\"\",IF(I19844<='Main page'!$F$49,\"Core staff\",\"Senior staff\"))","v":""},{"$f":"IF(D19844=\"\",\" \",'Main page'!$F$21-(D19844))","v":" "},{"$f":"IF(D19844=\"\",\" \",VLOOKUP(R19844,'Main page'!$E$29:'Main page'!$G$41,3,TRUE))","v":" "}]
[null,null,null,null,null,null,null,null,null,null,null,null," "," "," "," ",{"$f":"IF(I19845=\"\",\"\",IF(I19845<='Main page'!$F$49,\"Core staff\",\"Senior staff\"))","v":""},{"$f":"IF(D19845=\"\",\" \",'Main page'!$F$21-(D19845))","v":" "},{"$f":"IF(D19845=\"\",\" \",VLOOKUP(R19845,'Main page'!$E$29:'Main page'!$G$41,3,TRUE))","v":" "}]
[null,null,null,null,null,null,null,null,null,null,null,null," "," "," "," ",{"$f":"IF(I19846=\"\",\"\",IF(I19846<='Main page'!$F$49,\"Core staff\",\"Senior staff\"))","v":""},{"$f":"IF(D19846=\"\",\" \",'Main page'!$F$21-(D19846))","v":" "},{"$f":"IF(D19846=\"\",\" \",VLOOKUP(R19846,'Main page'!$E$29:'Main page'!$G$41,3,TRUE))","v":" "}]
[null,null,null,null,null,null,null,null,null,null,null,null," "," "," "," ",{"$f":"IF(I19847=\"\",\"\",IF(I19847<='Main page'!$F$49,\"Core staff\",\"Senior staff\"))","v":""},{"$f":"IF(D19847=\"\",\" \",'Main page'!$F$21-(D19847))","v":" "},{"$f":"IF(D19847=\"\",\" \",VLOOKUP(R19847,'Main page'!$E$29:'Main page'!$G$41,3,TRUE))","v":" "}]
[null,null,null,null,null,null,null,null,null,null,null,null," "," "," "," ",{"$f":"IF(I19848=\"\",\"\",IF(I19848<='Main page'!$F$49,\"Core staff\",\"Senior staff\"))","v":""},{"$f":"IF(D19848=\"\",\" \",'Main page'!$F$21-(D19848))","v":" "},{"$f":"IF(D19848=\"\",\" \",VLOOKUP(R19848,'Main page'!$E$29:'Main page'!$G$41,3,TRUE))","v":" "}]
[null,null,null,null,null,null,null,null,null,null,null,null," "," "," "," ",{"$f":"IF(I19849=\"\",\"\",IF(I19849<='Main page'!$F$49,\"Core staff\",\"Senior staff\"))","v":""},{"$f":"IF(D19849=\"\",\" \",'Main page'!$F$21-(D19849))","v":" "},{"$f":"IF(D19849=\"\",\" \",VLOOKUP(R19849,'Main page'!$E$29:'Main page'!$G$41,3,TRUE))","v":" "}]
[null,null,null,null,null,null,null,null,null,null,null,null," "," "," "," ",{"$f":"IF(I19850=\"\",\"\",IF(I19850<='Main page'!$F$49,\"Core staff\",\"Senior staff\"))","v":""},{"$f":"IF(D19850=\"\",\" \",'Main page'!$F$21-(D19850))","v":" "},{"$f":"IF(D19850=\"\",\" \",VLOOKUP(R19850,'Main page'!$E$29:'Main page'!$G$41,3,TRUE))","v":" "}]
[null,null,null,null,null,null,null,null,null,null,null,null," "," "," "," ",{"$f":"IF(I19851=\"\",\"\",IF(I19851<='Main page'!$F$49,\"Core staff\",\"Senior staff\"))","v":""},{"$f":"IF(D19851=\"\",\" \",'Main page'!$F$21-(D19851))","v":" "},{"$f":"IF(D19851=\"\",\" \",VLOOKUP(R19851,'Main page'!$E$29:'Main page'!$G$41,3,TRUE))","v":" "}]
[null,null,null,null,null,null,null,null,null,null,null,null," "," "," "," ",{"$f":"IF(I19852=\"\",\"\",IF(I19852<='Main page'!$F$49,\"Core staff\",\"Senior staff\"))","v":""},{"$f":"IF(D19852=\"\",\" \",'Main page'!$F$21-(D19852))","v":" "},{"$f":"IF(D19852=\"\",\" \",VLOOKUP(R19852,'Main page'!$E$29:'Main page'!$G$41,3,TRUE))","v":" "}]
[null,null,null,null,null,null,null,null,null,null,null,null," "," "," "," ",{"$f":"IF(I19853=\"\",\"\",IF(I19853<='Main page'!$F$49,\"Core staff\",\"Senior staff\"))","v":""},{"$f":"IF(D19853=\"\",\" \",'Main page'!$F$21-(D19853))","v":" "},{"$f":"IF(D19853=\"\",\" \",VLOOKUP(R19853,'Main page'!$E$29:'Main page'!$G$41,3,TRUE))","v":" "}]
[null,null,null,null,null,null,null,null,null,null,null,null," "," "," "," ",{"$f":"IF(I19854=\"\",\"\",IF(I19854<='Main page'!$F$49,\"Core staff\",\"Senior staff\"))","v":""},{"$f":"IF(D19854=\"\",\" \",'Main page'!$F$21-(D19854))","v":" "},{"$f":"IF(D19854=\"\",\" \",VLOOKUP(R19854,'Main page'!$E$29:'Main page'!$G$41,3,TRUE))","v":" "}]
[null,null,null,null,null,null,null,null,null,null,null,null," "," "," "," ",{"$f":"IF(I19855=\"\",\"\",IF(I19855<='Main page'!$F$49,\"Core staff\",\"Senior staff\"))","v":""},{"$f":"IF(D19855=\"\",\" \",'Main page'!$F$21-(D19855))","v":" "},{"$f":"IF(D19855=\"\",\" \",VLOOKUP(R19855,'Main page'!$E$29:'Main page'!$G$41,3,TRUE))","v":" "}]
[null,null,null,null,null,null,null,null,null,null,null,null," "," "," "," ",{"$f":"IF(I19856=\"\",\"\",IF(I19856<='Main page'!$F$49,\"Core staff\",\"Senior staff\"))","v":""},{"$f":"IF(D19856=\"\",\" \",'Main page'!$F$21-(D19856))","v":" "},{"$f":"IF(D19856=\"\",\" \",VLOOKUP(R19856,'Main page'!$E$29:'Main page'!$G$41,3,TRUE))","v":" "}]
[null,null,null,null,null,null,null,null,null,null,null,null," "," "," "," ",{"$f":"IF(I19857=\"\",\"\",IF(I19857<='Main page'!$F$49,\"Core staff\",\"Senior staff\"))","v":""},{"$f":"IF(D19857=\"\",\" \",'Main page'!$F$21-(D19857))","v":" "},{"$f":"IF(D19857=\"\",\" \",VLOOKUP(R19857,'Main page'!$E$29:'Main page'!$G$41,3,TRUE))","v":" "}]
[null,null,null,null,null,null,null,null,null,null,null,null," "," "," "," ",{"$f":"IF(I19858=\"\",\"\",IF(I19858<='Main page'!$F$49,\"Core staff\",\"Senior staff\"))","v":""},{"$f":"IF(D19858=\"\",\" \",'Main page'!$F$21-(D19858))","v":" "},{"$f":"IF(D19858=\"\",\" \",VLOOKUP(R19858,'Main page'!$E$29:'Main page'!$G$41,3,TRUE))","v":" "}]
[null,null,null,null,null,null,null,null,null,null,null,null," "," "," "," ",{"$f":"IF(I19859=\"\",\"\",IF(I19859<='Main page'!$F$49,\"Core staff\",\"Senior staff\"))","v":""},{"$f":"IF(D19859=\"\",\" \",'Main page'!$F$21-(D19859))","v":" "},{"$f":"IF(D19859=\"\",\" \",VLOOKUP(R19859,'Main page'!$E$29:'Main page'!$G$41,3,TRUE))","v":" "}]
[null,null,null,null,null,null,null,null,null,null,null,null," "," "," "," ",{"$f":"IF(I19860=\"\",\"\",IF(I19860<='Main page'!$F$49,\"Core staff\",\"Senior staff\"))","v":""},{"$f":"IF(D19860=\"\",\" \",'Main page'!$F$21-(D19860))","v":" "},{"$f":"IF(D19860=\"\",\" \",VLOOKUP(R19860,'Main page'!$E$29:'Main page'!$G$41,3,TRUE))","v":" "}]
[null,null,null,null,null,null,null,null,null,null,null,null," "," "," "," ",{"$f":"IF(I19861=\"\",\"\",IF(I19861<='Main page'!$F$49,\"Core staff\",\"Senior staff\"))","v":""},{"$f":"IF(D19861=\"\",\" \",'Main page'!$F$21-(D19861))","v":" "},{"$f":"IF(D19861=\"\",\" \",VLOOKUP(R19861,'Main page'!$E$29:'Main page'!$G$41,3,TRUE))","v":" "}]
[null,null,null,null,null,null,null,null,null,null,null,null," "," "," "," ",{"$f":"IF(I19862=\"\",\"\",IF(I19862<='Main page'!$F$49,\"Core staff\",\"Senior staff\"))","v":""},{"$f":"IF(D19862=\"\",\" \",'Main page'!$F$21-(D19862))","v":" "},{"$f":"IF(D19862=\"\",\" \",VLOOKUP(R19862,'Main page'!$E$29:'Main page'!$G$41,3,TRUE))","v":" "}]
[null,null,null,null,null,null,null,null,null,null,null,null," "," "," "," ",{"$f":"IF(I19863=\"\",\"\",IF(I19863<='Main page'!$F$49,\"Core staff\",\"Senior staff\"))","v":""},{"$f":"IF(D19863=\"\",\" \",'Main page'!$F$21-(D19863))","v":" "},{"$f":"IF(D19863=\"\",\" \",VLOOKUP(R19863,'Main page'!$E$29:'Main page'!$G$41,3,TRUE))","v":" "}]
[null,null,null,null,null,null,null,null,null,null,null,null," "," "," "," ",{"$f":"IF(I19864=\"\",\"\",IF(I19864<='Main page'!$F$49,\"Core staff\",\"Senior staff\"))","v":""},{"$f":"IF(D19864=\"\",\" \",'Main page'!$F$21-(D19864))","v":" "},{"$f":"IF(D19864=\"\",\" \",VLOOKUP(R19864,'Main page'!$E$29:'Main page'!$G$41,3,TRUE))","v":" "}]
[null,null,null,null,null,null,null,null,null,null,null,null,{"$f":"IFERROR(J19865/G19865,\" \")","v":" "},{"$f":"IFERROR((M19865/$U$4)/H19865,\" \")","v":" "},{"$f":"IFERROR((N19865*75)*26.083,\" \")","v":" "},{"$f":"IF(G19865=0,\" \",IF(G19865=1,\"Full time\",\"Part time\"))","v":" "},{"$f":"IF(I19865=\"\",\"\",IF(I19865<='Main page'!$F$49,\"Core staff\",\"Senior staff\"))","v":""},{"$f":"IF(D19865=\"\",\" \",'Main page'!$F$21-(D19865))","v":" "},{"$f":"IF(D19865=\"\",\" \",VLOOKUP(R19865,'Main page'!$E$29:'Main page'!$G$41,3,TRUE))","v":" "}]
[null,null,null,null,null,null,null,null,null,null,null,null," "," "," "," ",{"$f":"IF(I19866=\"\",\"\",IF(I19866<='Main page'!$F$49,\"Core staff\",\"Senior staff\"))","v":""},{"$f":"IF(D19866=\"\",\" \",'Main page'!$F$21-(D19866))","v":" "},{"$f":"IF(D19866=\"\",\" \",VLOOKUP(R19866,'Main page'!$E$29:'Main page'!$G$41,3,TRUE))","v":" "}]
[null,null,null,null,null,null,null,null,null,null,null,null," "," "," "," ",{"$f":"IF(I19867=\"\",\"\",IF(I19867<='Main page'!$F$49,\"Core staff\",\"Senior staff\"))","v":""},{"$f":"IF(D19867=\"\",\" \",'Main page'!$F$21-(D19867))","v":" "},{"$f":"IF(D19867=\"\",\" \",VLOOKUP(R19867,'Main page'!$E$29:'Main page'!$G$41,3,TRUE))","v":" "}]
[null,null,null,null,null,null,null,null,null,null,null,null," "," "," "," ",{"$f":"IF(I19868=\"\",\"\",IF(I19868<='Main page'!$F$49,\"Core staff\",\"Senior staff\"))","v":""},{"$f":"IF(D19868=\"\",\" \",'Main page'!$F$21-(D19868))","v":" "},{"$f":"IF(D19868=\"\",\" \",VLOOKUP(R19868,'Main page'!$E$29:'Main page'!$G$41,3,TRUE))","v":" "}]
[null,null,null,null,null,null,null,null,null,null,null,null," "," "," "," ",{"$f":"IF(I19869=\"\",\"\",IF(I19869<='Main page'!$F$49,\"Core staff\",\"Senior staff\"))","v":""},{"$f":"IF(D19869=\"\",\" \",'Main page'!$F$21-(D19869))","v":" "},{"$f":"IF(D19869=\"\",\" \",VLOOKUP(R19869,'Main page'!$E$29:'Main page'!$G$41,3,TRUE))","v":" "}]
[null,null,null,null,null,null,null,null,null,null,null,null," "," "," "," ",{"$f":"IF(I19870=\"\",\"\",IF(I19870<='Main page'!$F$49,\"Core staff\",\"Senior staff\"))","v":""},{"$f":"IF(D19870=\"\",\" \",'Main page'!$F$21-(D19870))","v":" "},{"$f":"IF(D19870=\"\",\" \",VLOOKUP(R19870,'Main page'!$E$29:'Main page'!$G$41,3,TRUE))","v":" "}]
[null,null,null,null,null,null,null,null,null,null,null,null," "," "," "," ",{"$f":"IF(I19871=\"\",\"\",IF(I19871<='Main page'!$F$49,\"Core staff\",\"Senior staff\"))","v":""},{"$f":"IF(D19871=\"\",\" \",'Main page'!$F$21-(D19871))","v":" "},{"$f":"IF(D19871=\"\",\" \",VLOOKUP(R19871,'Main page'!$E$29:'Main page'!$G$41,3,TRUE))","v":" "}]
[null,null,null,null,null,null,null,null,null,null,null,null," "," "," "," ",{"$f":"IF(I19872=\"\",\"\",IF(I19872<='Main page'!$F$49,\"Core staff\",\"Senior staff\"))","v":""},{"$f":"IF(D19872=\"\",\" \",'Main page'!$F$21-(D19872))","v":" "},{"$f":"IF(D19872=\"\",\" \",VLOOKUP(R19872,'Main page'!$E$29:'Main page'!$G$41,3,TRUE))","v":" "}]
[null,null,null,null,null,null,null,null,null,null,null,null," "," "," "," ",{"$f":"IF(I19873=\"\",\"\",IF(I19873<='Main page'!$F$49,\"Core staff\",\"Senior staff\"))","v":""},{"$f":"IF(D19873=\"\",\" \",'Main page'!$F$21-(D19873))","v":" "},{"$f":"IF(D19873=\"\",\" \",VLOOKUP(R19873,'Main page'!$E$29:'Main page'!$G$41,3,TRUE))","v":" "}]
[null,null,null,null,null,null,null,null,null,null,null,null," "," "," "," ",{"$f":"IF(I19874=\"\",\"\",IF(I19874<='Main page'!$F$49,\"Core staff\",\"Senior staff\"))","v":""},{"$f":"IF(D19874=\"\",\" \",'Main page'!$F$21-(D19874))","v":" "},{"$f":"IF(D19874=\"\",\" \",VLOOKUP(R19874,'Main page'!$E$29:'Main page'!$G$41,3,TRUE))","v":" "}]
[null,null,null,null,null,null,null,null,null,null,null,null," "," "," "," ",{"$f":"IF(I19875=\"\",\"\",IF(I19875<='Main page'!$F$49,\"Core staff\",\"Senior staff\"))","v":""},{"$f":"IF(D19875=\"\",\" \",'Main page'!$F$21-(D19875))","v":" "},{"$f":"IF(D19875=\"\",\" \",VLOOKUP(R19875,'Main page'!$E$29:'Main page'!$G$41,3,TRUE))","v":" "}]
[null,null,null,null,null,null,null,null,null,null,null,null," "," "," "," ",{"$f":"IF(I19876=\"\",\"\",IF(I19876<='Main page'!$F$49,\"Core staff\",\"Senior staff\"))","v":""},{"$f":"IF(D19876=\"\",\" \",'Main page'!$F$21-(D19876))","v":" "},{"$f":"IF(D19876=\"\",\" \",VLOOKUP(R19876,'Main page'!$E$29:'Main page'!$G$41,3,TRUE))","v":" "}]
[null,null,null,null,null,null,null,null,null,null,null,null," "," "," "," ",{"$f":"IF(I19877=\"\",\"\",IF(I19877<='Main page'!$F$49,\"Core staff\",\"Senior staff\"))","v":""},{"$f":"IF(D19877=\"\",\" \",'Main page'!$F$21-(D19877))","v":" "},{"$f":"IF(D19877=\"\",\" \",VLOOKUP(R19877,'Main page'!$E$29:'Main page'!$G$41,3,TRUE))","v":" "}]
[null,null,null,null,null,null,null,null,null,null,null,null," "," "," "," ",{"$f":"IF(I19878=\"\",\"\",IF(I19878<='Main page'!$F$49,\"Core staff\",\"Senior staff\"))","v":""},{"$f":"IF(D19878=\"\",\" \",'Main page'!$F$21-(D19878))","v":" "},{"$f":"IF(D19878=\"\",\" \",VLOOKUP(R19878,'Main page'!$E$29:'Main page'!$G$41,3,TRUE))","v":" "}]
[null,null,null,null,null,null,null,null,null,null,null,null," "," "," "," ",{"$f":"IF(I19879=\"\",\"\",IF(I19879<='Main page'!$F$49,\"Core staff\",\"Senior staff\"))","v":""},{"$f":"IF(D19879=\"\",\" \",'Main page'!$F$21-(D19879))","v":" "},{"$f":"IF(D19879=\"\",\" \",VLOOKUP(R19879,'Main page'!$E$29:'Main page'!$G$41,3,TRUE))","v":" "}]
[null,null,null,null,null,null,null,null,null,null,null,null," "," "," "," ",{"$f":"IF(I19880=\"\",\"\",IF(I19880<='Main page'!$F$49,\"Core staff\",\"Senior staff\"))","v":""},{"$f":"IF(D19880=\"\",\" \",'Main page'!$F$21-(D19880))","v":" "},{"$f":"IF(D19880=\"\",\" \",VLOOKUP(R19880,'Main page'!$E$29:'Main page'!$G$41,3,TRUE))","v":" "}]
[null,null,null,null,null,null,null,null,null,null,null,null," "," "," "," ",{"$f":"IF(I19881=\"\",\"\",IF(I19881<='Main page'!$F$49,\"Core staff\",\"Senior staff\"))","v":""},{"$f":"IF(D19881=\"\",\" \",'Main page'!$F$21-(D19881))","v":" "},{"$f":"IF(D19881=\"\",\" \",VLOOKUP(R19881,'Main page'!$E$29:'Main page'!$G$41,3,TRUE))","v":" "}]
[null,null,null,null,null,null,null,null,null,null,null,null," "," "," "," ",{"$f":"IF(I19882=\"\",\"\",IF(I19882<='Main page'!$F$49,\"Core staff\",\"Senior staff\"))","v":""},{"$f":"IF(D19882=\"\",\" \",'Main page'!$F$21-(D19882))","v":" "},{"$f":"IF(D19882=\"\",\" \",VLOOKUP(R19882,'Main page'!$E$29:'Main page'!$G$41,3,TRUE))","v":" "}]
[null,null,null,null,null,null,null,null,null,null,null,null," "," "," "," ",{"$f":"IF(I19883=\"\",\"\",IF(I19883<='Main page'!$F$49,\"Core staff\",\"Senior staff\"))","v":""},{"$f":"IF(D19883=\"\",\" \",'Main page'!$F$21-(D19883))","v":" "},{"$f":"IF(D19883=\"\",\" \",VLOOKUP(R19883,'Main page'!$E$29:'Main page'!$G$41,3,TRUE))","v":" "}]
[null,null,null,null,null,null,null,null,null,null,null,null," "," "," "," ",{"$f":"IF(I19884=\"\",\"\",IF(I19884<='Main page'!$F$49,\"Core staff\",\"Senior staff\"))","v":""},{"$f":"IF(D19884=\"\",\" \",'Main page'!$F$21-(D19884))","v":" "},{"$f":"IF(D19884=\"\",\" \",VLOOKUP(R19884,'Main page'!$E$29:'Main page'!$G$41,3,TRUE))","v":" "}]
[null,null,null,null,null,null,null,null,null,null,null,null," "," "," "," ",{"$f":"IF(I19885=\"\",\"\",IF(I19885<='Main page'!$F$49,\"Core staff\",\"Senior staff\"))","v":""},{"$f":"IF(D19885=\"\",\" \",'Main page'!$F$21-(D19885))","v":" "},{"$f":"IF(D19885=\"\",\" \",VLOOKUP(R19885,'Main page'!$E$29:'Main page'!$G$41,3,TRUE))","v":" "}]
[null,null,null,null,null,null,null,null,null,null,null,null," "," "," "," ",{"$f":"IF(I19886=\"\",\"\",IF(I19886<='Main page'!$F$49,\"Core staff\",\"Senior staff\"))","v":""},{"$f":"IF(D19886=\"\",\" \",'Main page'!$F$21-(D19886))","v":" "},{"$f":"IF(D19886=\"\",\" \",VLOOKUP(R19886,'Main page'!$E$29:'Main page'!$G$41,3,TRUE))","v":" "}]
[null,null,null,null,null,null,null,null,null,null,null,null," "," "," "," ",{"$f":"IF(I19887=\"\",\"\",IF(I19887<='Main page'!$F$49,\"Core staff\",\"Senior staff\"))","v":""},{"$f":"IF(D19887=\"\",\" \",'Main page'!$F$21-(D19887))","v":" "},{"$f":"IF(D19887=\"\",\" \",VLOOKUP(R19887,'Main page'!$E$29:'Main page'!$G$41,3,TRUE))","v":" "}]
[null,null,null,null,null,null,null,null,null,null,null,null," "," "," "," ",{"$f":"IF(I19888=\"\",\"\",IF(I19888<='Main page'!$F$49,\"Core staff\",\"Senior staff\"))","v":""},{"$f":"IF(D19888=\"\",\" \",'Main page'!$F$21-(D19888))","v":" "},{"$f":"IF(D19888=\"\",\" \",VLOOKUP(R19888,'Main page'!$E$29:'Main page'!$G$41,3,TRUE))","v":" "}]
[null,null,null,null,null,null,null,null,null,null,null,null," "," "," "," ",{"$f":"IF(I19889=\"\",\"\",IF(I19889<='Main page'!$F$49,\"Core staff\",\"Senior staff\"))","v":""},{"$f":"IF(D19889=\"\",\" \",'Main page'!$F$21-(D19889))","v":" "},{"$f":"IF(D19889=\"\",\" \",VLOOKUP(R19889,'Main page'!$E$29:'Main page'!$G$41,3,TRUE))","v":" "}]
[null,null,null,null,null,null,null,null,null,null,null,null," "," "," "," ",{"$f":"IF(I19890=\"\",\"\",IF(I19890<='Main page'!$F$49,\"Core staff\",\"Senior staff\"))","v":""},{"$f":"IF(D19890=\"\",\" \",'Main page'!$F$21-(D19890))","v":" "},{"$f":"IF(D19890=\"\",\" \",VLOOKUP(R19890,'Main page'!$E$29:'Main page'!$G$41,3,TRUE))","v":" "}]
[null,null,null,null,null,null,null,null,null,null,null,null," "," "," "," ",{"$f":"IF(I19891=\"\",\"\",IF(I19891<='Main page'!$F$49,\"Core staff\",\"Senior staff\"))","v":""},{"$f":"IF(D19891=\"\",\" \",'Main page'!$F$21-(D19891))","v":" "},{"$f":"IF(D19891=\"\",\" \",VLOOKUP(R19891,'Main page'!$E$29:'Main page'!$G$41,3,TRUE))","v":" "}]
[null,null,null,null,null,null,null,null,null,null,null,null," "," "," "," ",{"$f":"IF(I19892=\"\",\"\",IF(I19892<='Main page'!$F$49,\"Core staff\",\"Senior staff\"))","v":""},{"$f":"IF(D19892=\"\",\" \",'Main page'!$F$21-(D19892))","v":" "},{"$f":"IF(D19892=\"\",\" \",VLOOKUP(R19892,'Main page'!$E$29:'Main page'!$G$41,3,TRUE))","v":" "}]
[null,null,null,null,null,null,null,null,null,null,null,null," "," "," "," ",{"$f":"IF(I19893=\"\",\"\",IF(I19893<='Main page'!$F$49,\"Core staff\",\"Senior staff\"))","v":""},{"$f":"IF(D19893=\"\",\" \",'Main page'!$F$21-(D19893))","v":" "},{"$f":"IF(D19893=\"\",\" \",VLOOKUP(R19893,'Main page'!$E$29:'Main page'!$G$41,3,TRUE))","v":" "}]
[null,null,null,null,null,null,null,null,null,null,null,null," "," "," "," ",{"$f":"IF(I19894=\"\",\"\",IF(I19894<='Main page'!$F$49,\"Core staff\",\"Senior staff\"))","v":""},{"$f":"IF(D19894=\"\",\" \",'Main page'!$F$21-(D19894))","v":" "},{"$f":"IF(D19894=\"\",\" \",VLOOKUP(R19894,'Main page'!$E$29:'Main page'!$G$41,3,TRUE))","v":" "}]
[null,null,null,null,null,null,null,null,null,null,null,null," "," "," "," ",{"$f":"IF(I19895=\"\",\"\",IF(I19895<='Main page'!$F$49,\"Core staff\",\"Senior staff\"))","v":""},{"$f":"IF(D19895=\"\",\" \",'Main page'!$F$21-(D19895))","v":" "},{"$f":"IF(D19895=\"\",\" \",VLOOKUP(R19895,'Main page'!$E$29:'Main page'!$G$41,3,TRUE))","v":" "}]
[null,null,null,null,null,null,null,null,null,null,null,null," "," "," "," ",{"$f":"IF(I19896=\"\",\"\",IF(I19896<='Main page'!$F$49,\"Core staff\",\"Senior staff\"))","v":""},{"$f":"IF(D19896=\"\",\" \",'Main page'!$F$21-(D19896))","v":" "},{"$f":"IF(D19896=\"\",\" \",VLOOKUP(R19896,'Main page'!$E$29:'Main page'!$G$41,3,TRUE))","v":" "}]
[null,null,null,null,null,null,null,null,null,null,null,null," "," "," "," ",{"$f":"IF(I19897=\"\",\"\",IF(I19897<='Main page'!$F$49,\"Core staff\",\"Senior staff\"))","v":""},{"$f":"IF(D19897=\"\",\" \",'Main page'!$F$21-(D19897))","v":" "},{"$f":"IF(D19897=\"\",\" \",VLOOKUP(R19897,'Main page'!$E$29:'Main page'!$G$41,3,TRUE))","v":" "}]
[null,null,null,null,null,null,null,null,null,null,null,null," "," "," "," ",{"$f":"IF(I19898=\"\",\"\",IF(I19898<='Main page'!$F$49,\"Core staff\",\"Senior staff\"))","v":""},{"$f":"IF(D19898=\"\",\" \",'Main page'!$F$21-(D19898))","v":" "},{"$f":"IF(D19898=\"\",\" \",VLOOKUP(R19898,'Main page'!$E$29:'Main page'!$G$41,3,TRUE))","v":" "}]
[null,null,null,null,null,null,null,null,null,null,null,null," "," "," "," ",{"$f":"IF(I19899=\"\",\"\",IF(I19899<='Main page'!$F$49,\"Core staff\",\"Senior staff\"))","v":""},{"$f":"IF(D19899=\"\",\" \",'Main page'!$F$21-(D19899))","v":" "},{"$f":"IF(D19899=\"\",\" \",VLOOKUP(R19899,'Main page'!$E$29:'Main page'!$G$41,3,TRUE))","v":" "}]
[null,null,null,null,null,null,null,null,null,null,null,null," "," "," "," ",{"$f":"IF(I19900=\"\",\"\",IF(I19900<='Main page'!$F$49,\"Core staff\",\"Senior staff\"))","v":""},{"$f":"IF(D19900=\"\",\" \",'Main page'!$F$21-(D19900))","v":" "},{"$f":"IF(D19900=\"\",\" \",VLOOKUP(R19900,'Main page'!$E$29:'Main page'!$G$41,3,TRUE))","v":" "}]
[null,null,null,null,null,null,null,null,null,null,null,null," "," "," "," ",{"$f":"IF(I19901=\"\",\"\",IF(I19901<='Main page'!$F$49,\"Core staff\",\"Senior staff\"))","v":""},{"$f":"IF(D19901=\"\",\" \",'Main page'!$F$21-(D19901))","v":" "},{"$f":"IF(D19901=\"\",\" \",VLOOKUP(R19901,'Main page'!$E$29:'Main page'!$G$41,3,TRUE))","v":" "}]
[null,null,null,null,null,null,null,null,null,null,null,null," "," "," "," ",{"$f":"IF(I19902=\"\",\"\",IF(I19902<='Main page'!$F$49,\"Core staff\",\"Senior staff\"))","v":""},{"$f":"IF(D19902=\"\",\" \",'Main page'!$F$21-(D19902))","v":" "},{"$f":"IF(D19902=\"\",\" \",VLOOKUP(R19902,'Main page'!$E$29:'Main page'!$G$41,3,TRUE))","v":" "}]
[null,null,null,null,null,null,null,null,null,null,null,null," "," "," "," ",{"$f":"IF(I19903=\"\",\"\",IF(I19903<='Main page'!$F$49,\"Core staff\",\"Senior staff\"))","v":""},{"$f":"IF(D19903=\"\",\" \",'Main page'!$F$21-(D19903))","v":" "},{"$f":"IF(D19903=\"\",\" \",VLOOKUP(R19903,'Main page'!$E$29:'Main page'!$G$41,3,TRUE))","v":" "}]
[null,null,null,null,null,null,null,null,null,null,null,null," "," "," "," ",{"$f":"IF(I19904=\"\",\"\",IF(I19904<='Main page'!$F$49,\"Core staff\",\"Senior staff\"))","v":""},{"$f":"IF(D19904=\"\",\" \",'Main page'!$F$21-(D19904))","v":" "},{"$f":"IF(D19904=\"\",\" \",VLOOKUP(R19904,'Main page'!$E$29:'Main page'!$G$41,3,TRUE))","v":" "}]
[null,null,null,null,null,null,null,null,null,null,null,null," "," "," "," ",{"$f":"IF(I19905=\"\",\"\",IF(I19905<='Main page'!$F$49,\"Core staff\",\"Senior staff\"))","v":""},{"$f":"IF(D19905=\"\",\" \",'Main page'!$F$21-(D19905))","v":" "},{"$f":"IF(D19905=\"\",\" \",VLOOKUP(R19905,'Main page'!$E$29:'Main page'!$G$41,3,TRUE))","v":" "}]
[null,null,null,null,null,null,null,null,null,null,null,null," "," "," "," ",{"$f":"IF(I19906=\"\",\"\",IF(I19906<='Main page'!$F$49,\"Core staff\",\"Senior staff\"))","v":""},{"$f":"IF(D19906=\"\",\" \",'Main page'!$F$21-(D19906))","v":" "},{"$f":"IF(D19906=\"\",\" \",VLOOKUP(R19906,'Main page'!$E$29:'Main page'!$G$41,3,TRUE))","v":" "}]
[null,null,null,null,null,null,null,null,null,null,null,null," "," "," "," ",{"$f":"IF(I19907=\"\",\"\",IF(I19907<='Main page'!$F$49,\"Core staff\",\"Senior staff\"))","v":""},{"$f":"IF(D19907=\"\",\" \",'Main page'!$F$21-(D19907))","v":" "},{"$f":"IF(D19907=\"\",\" \",VLOOKUP(R19907,'Main page'!$E$29:'Main page'!$G$41,3,TRUE))","v":" "}]
[null,null,null,null,null,null,null,null,null,null,null,null," "," "," "," ",{"$f":"IF(I19908=\"\",\"\",IF(I19908<='Main page'!$F$49,\"Core staff\",\"Senior staff\"))","v":""},{"$f":"IF(D19908=\"\",\" \",'Main page'!$F$21-(D19908))","v":" "},{"$f":"IF(D19908=\"\",\" \",VLOOKUP(R19908,'Main page'!$E$29:'Main page'!$G$41,3,TRUE))","v":" "}]
[null,null,null,null,null,null,null,null,null,null,null,null," "," "," "," ",{"$f":"IF(I19909=\"\",\"\",IF(I19909<='Main page'!$F$49,\"Core staff\",\"Senior staff\"))","v":""},{"$f":"IF(D19909=\"\",\" \",'Main page'!$F$21-(D19909))","v":" "},{"$f":"IF(D19909=\"\",\" \",VLOOKUP(R19909,'Main page'!$E$29:'Main page'!$G$41,3,TRUE))","v":" "}]
[null,null,null,null,null,null,null,null,null,null,null,null," "," "," "," ",{"$f":"IF(I19910=\"\",\"\",IF(I19910<='Main page'!$F$49,\"Core staff\",\"Senior staff\"))","v":""},{"$f":"IF(D19910=\"\",\" \",'Main page'!$F$21-(D19910))","v":" "},{"$f":"IF(D19910=\"\",\" \",VLOOKUP(R19910,'Main page'!$E$29:'Main page'!$G$41,3,TRUE))","v":" "}]
[null,null,null,null,null,null,null,null,null,null,null,null," "," "," "," ",{"$f":"IF(I19911=\"\",\"\",IF(I19911<='Main page'!$F$49,\"Core staff\",\"Senior staff\"))","v":""},{"$f":"IF(D19911=\"\",\" \",'Main page'!$F$21-(D19911))","v":" "},{"$f":"IF(D19911=\"\",\" \",VLOOKUP(R19911,'Main page'!$E$29:'Main page'!$G$41,3,TRUE))","v":" "}]
[null,null,null,null,null,null,null,null,null,null,null,null," "," "," "," ",{"$f":"IF(I19912=\"\",\"\",IF(I19912<='Main page'!$F$49,\"Core staff\",\"Senior staff\"))","v":""},{"$f":"IF(D19912=\"\",\" \",'Main page'!$F$21-(D19912))","v":" "},{"$f":"IF(D19912=\"\",\" \",VLOOKUP(R19912,'Main page'!$E$29:'Main page'!$G$41,3,TRUE))","v":" "}]
[null,null,null,null,null,null,null,null,null,null,null,null," "," "," "," ",{"$f":"IF(I19913=\"\",\"\",IF(I19913<='Main page'!$F$49,\"Core staff\",\"Senior staff\"))","v":""},{"$f":"IF(D19913=\"\",\" \",'Main page'!$F$21-(D19913))","v":" "},{"$f":"IF(D19913=\"\",\" \",VLOOKUP(R19913,'Main page'!$E$29:'Main page'!$G$41,3,TRUE))","v":" "}]
[null,null,null,null,null,null,null,null,null,null,null,null," "," "," "," ",{"$f":"IF(I19914=\"\",\"\",IF(I19914<='Main page'!$F$49,\"Core staff\",\"Senior staff\"))","v":""},{"$f":"IF(D19914=\"\",\" \",'Main page'!$F$21-(D19914))","v":" "},{"$f":"IF(D19914=\"\",\" \",VLOOKUP(R19914,'Main page'!$E$29:'Main page'!$G$41,3,TRUE))","v":" "}]
[null,null,null,null,null,null,null,null,null,null,null,null," "," "," "," ",{"$f":"IF(I19915=\"\",\"\",IF(I19915<='Main page'!$F$49,\"Core staff\",\"Senior staff\"))","v":""},{"$f":"IF(D19915=\"\",\" \",'Main page'!$F$21-(D19915))","v":" "},{"$f":"IF(D19915=\"\",\" \",VLOOKUP(R19915,'Main page'!$E$29:'Main page'!$G$41,3,TRUE))","v":" "}]
[null,null,null,null,null,null,null,null,null,null,null,null," "," "," "," ",{"$f":"IF(I19916=\"\",\"\",IF(I19916<='Main page'!$F$49,\"Core staff\",\"Senior staff\"))","v":""},{"$f":"IF(D19916=\"\",\" \",'Main page'!$F$21-(D19916))","v":" "},{"$f":"IF(D19916=\"\",\" \",VLOOKUP(R19916,'Main page'!$E$29:'Main page'!$G$41,3,TRUE))","v":" "}]
[null,null,null,null,null,null,null,null,null,null,null,null," "," "," "," ",{"$f":"IF(I19917=\"\",\"\",IF(I19917<='Main page'!$F$49,\"Core staff\",\"Senior staff\"))","v":""},{"$f":"IF(D19917=\"\",\" \",'Main page'!$F$21-(D19917))","v":" "},{"$f":"IF(D19917=\"\",\" \",VLOOKUP(R19917,'Main page'!$E$29:'Main page'!$G$41,3,TRUE))","v":" "}]
[null,null,null,null,null,null,null,null,null,null,null,null," "," "," "," ",{"$f":"IF(I19918=\"\",\"\",IF(I19918<='Main page'!$F$49,\"Core staff\",\"Senior staff\"))","v":""},{"$f":"IF(D19918=\"\",\" \",'Main page'!$F$21-(D19918))","v":" "},{"$f":"IF(D19918=\"\",\" \",VLOOKUP(R19918,'Main page'!$E$29:'Main page'!$G$41,3,TRUE))","v":" "}]
[null,null,null,null,null,null,null,null,null,null,null,null," "," "," "," ",{"$f":"IF(I19919=\"\",\"\",IF(I19919<='Main page'!$F$49,\"Core staff\",\"Senior staff\"))","v":""},{"$f":"IF(D19919=\"\",\" \",'Main page'!$F$21-(D19919))","v":" "},{"$f":"IF(D19919=\"\",\" \",VLOOKUP(R19919,'Main page'!$E$29:'Main page'!$G$41,3,TRUE))","v":" "}]
[null,null,null,null,null,null,null,null,null,null,null,null," "," "," "," ",{"$f":"IF(I19920=\"\",\"\",IF(I19920<='Main page'!$F$49,\"Core staff\",\"Senior staff\"))","v":""},{"$f":"IF(D19920=\"\",\" \",'Main page'!$F$21-(D19920))","v":" "},{"$f":"IF(D19920=\"\",\" \",VLOOKUP(R19920,'Main page'!$E$29:'Main page'!$G$41,3,TRUE))","v":" "}]
[null,null,null,null,null,null,null,null,null,null,null,null," "," "," "," ",{"$f":"IF(I19921=\"\",\"\",IF(I19921<='Main page'!$F$49,\"Core staff\",\"Senior staff\"))","v":""},{"$f":"IF(D19921=\"\",\" \",'Main page'!$F$21-(D19921))","v":" "},{"$f":"IF(D19921=\"\",\" \",VLOOKUP(R19921,'Main page'!$E$29:'Main page'!$G$41,3,TRUE))","v":" "}]
[null,null,null,null,null,null,null,null,null,null,null,null," "," "," "," ",{"$f":"IF(I19922=\"\",\"\",IF(I19922<='Main page'!$F$49,\"Core staff\",\"Senior staff\"))","v":""},{"$f":"IF(D19922=\"\",\" \",'Main page'!$F$21-(D19922))","v":" "},{"$f":"IF(D19922=\"\",\" \",VLOOKUP(R19922,'Main page'!$E$29:'Main page'!$G$41,3,TRUE))","v":" "}]
[null,null,null,null,null,null,null,null,null,null,null,null," "," "," "," ",{"$f":"IF(I19923=\"\",\"\",IF(I19923<='Main page'!$F$49,\"Core staff\",\"Senior staff\"))","v":""},{"$f":"IF(D19923=\"\",\" \",'Main page'!$F$21-(D19923))","v":" "},{"$f":"IF(D19923=\"\",\" \",VLOOKUP(R19923,'Main page'!$E$29:'Main page'!$G$41,3,TRUE))","v":" "}]
[null,null,null,null,null,null,null,null,null,null,null,null," "," "," "," ",{"$f":"IF(I19924=\"\",\"\",IF(I19924<='Main page'!$F$49,\"Core staff\",\"Senior staff\"))","v":""},{"$f":"IF(D19924=\"\",\" \",'Main page'!$F$21-(D19924))","v":" "},{"$f":"IF(D19924=\"\",\" \",VLOOKUP(R19924,'Main page'!$E$29:'Main page'!$G$41,3,TRUE))","v":" "}]
[null,null,null,null,null,null,null,null,null,null,null,null," "," "," "," ",{"$f":"IF(I19925=\"\",\"\",IF(I19925<='Main page'!$F$49,\"Core staff\",\"Senior staff\"))","v":""},{"$f":"IF(D19925=\"\",\" \",'Main page'!$F$21-(D19925))","v":" "},{"$f":"IF(D19925=\"\",\" \",VLOOKUP(R19925,'Main page'!$E$29:'Main page'!$G$41,3,TRUE))","v":" "}]
[null,null,null,null,null,null,null,null,null,null,null,null," "," "," "," ",{"$f":"IF(I19926=\"\",\"\",IF(I19926<='Main page'!$F$49,\"Core staff\",\"Senior staff\"))","v":""},{"$f":"IF(D19926=\"\",\" \",'Main page'!$F$21-(D19926))","v":" "},{"$f":"IF(D19926=\"\",\" \",VLOOKUP(R19926,'Main page'!$E$29:'Main page'!$G$41,3,TRUE))","v":" "}]
[null,null,null,null,null,null,null,null,null,null,null,null," "," "," "," ",{"$f":"IF(I19927=\"\",\"\",IF(I19927<='Main page'!$F$49,\"Core staff\",\"Senior staff\"))","v":""},{"$f":"IF(D19927=\"\",\" \",'Main page'!$F$21-(D19927))","v":" "},{"$f":"IF(D19927=\"\",\" \",VLOOKUP(R19927,'Main page'!$E$29:'Main page'!$G$41,3,TRUE))","v":" "}]
[null,null,null,null,null,null,null,null,null,null,null,null," "," "," "," ",{"$f":"IF(I19928=\"\",\"\",IF(I19928<='Main page'!$F$49,\"Core staff\",\"Senior staff\"))","v":""},{"$f":"IF(D19928=\"\",\" \",'Main page'!$F$21-(D19928))","v":" "},{"$f":"IF(D19928=\"\",\" \",VLOOKUP(R19928,'Main page'!$E$29:'Main page'!$G$41,3,TRUE))","v":" "}]
[null,null,null,null,null,null,null,null,null,null,null,null,{"$f":"IFERROR(J19929/G19929,\" \")","v":" "},{"$f":"IFERROR((M19929/$U$4)/H19929,\" \")","v":" "},{"$f":"IFERROR((N19929*75)*26.083,\" \")","v":" "},{"$f":"IF(G19929=0,\" \",IF(G19929=1,\"Full time\",\"Part time\"))","v":" "},{"$f":"IF(I19929=\"\",\"\",IF(I19929<='Main page'!$F$49,\"Core staff\",\"Senior staff\"))","v":""},{"$f":"IF(D19929=\"\",\" \",'Main page'!$F$21-(D19929))","v":" "},{"$f":"IF(D19929=\"\",\" \",VLOOKUP(R19929,'Main page'!$E$29:'Main page'!$G$41,3,TRUE))","v":" "}]
[null,null,null,null,null,null,null,null,null,null,null,null," "," "," "," ",{"$f":"IF(I19930=\"\",\"\",IF(I19930<='Main page'!$F$49,\"Core staff\",\"Senior staff\"))","v":""},{"$f":"IF(D19930=\"\",\" \",'Main page'!$F$21-(D19930))","v":" "},{"$f":"IF(D19930=\"\",\" \",VLOOKUP(R19930,'Main page'!$E$29:'Main page'!$G$41,3,TRUE))","v":" "}]
[null,null,null,null,null,null,null,null,null,null,null,null," "," "," "," ",{"$f":"IF(I19931=\"\",\"\",IF(I19931<='Main page'!$F$49,\"Core staff\",\"Senior staff\"))","v":""},{"$f":"IF(D19931=\"\",\" \",'Main page'!$F$21-(D19931))","v":" "},{"$f":"IF(D19931=\"\",\" \",VLOOKUP(R19931,'Main page'!$E$29:'Main page'!$G$41,3,TRUE))","v":" "}]
[null,null,null,null,null,null,null,null,null,null,null,null," "," "," "," ",{"$f":"IF(I19932=\"\",\"\",IF(I19932<='Main page'!$F$49,\"Core staff\",\"Senior staff\"))","v":""},{"$f":"IF(D19932=\"\",\" \",'Main page'!$F$21-(D19932))","v":" "},{"$f":"IF(D19932=\"\",\" \",VLOOKUP(R19932,'Main page'!$E$29:'Main page'!$G$41,3,TRUE))","v":" "}]
[null,null,null,null,null,null,null,null,null,null,null,null," "," "," "," ",{"$f":"IF(I19933=\"\",\"\",IF(I19933<='Main page'!$F$49,\"Core staff\",\"Senior staff\"))","v":""},{"$f":"IF(D19933=\"\",\" \",'Main page'!$F$21-(D19933))","v":" "},{"$f":"IF(D19933=\"\",\" \",VLOOKUP(R19933,'Main page'!$E$29:'Main page'!$G$41,3,TRUE))","v":" "}]
[null,null,null,null,null,null,null,null,null,null,null,null," "," "," "," ",{"$f":"IF(I19934=\"\",\"\",IF(I19934<='Main page'!$F$49,\"Core staff\",\"Senior staff\"))","v":""},{"$f":"IF(D19934=\"\",\" \",'Main page'!$F$21-(D19934))","v":" "},{"$f":"IF(D19934=\"\",\" \",VLOOKUP(R19934,'Main page'!$E$29:'Main page'!$G$41,3,TRUE))","v":" "}]
[null,null,null,null,null,null,null,null,null,null,null,null," "," "," "," ",{"$f":"IF(I19935=\"\",\"\",IF(I19935<='Main page'!$F$49,\"Core staff\",\"Senior staff\"))","v":""},{"$f":"IF(D19935=\"\",\" \",'Main page'!$F$21-(D19935))","v":" "},{"$f":"IF(D19935=\"\",\" \",VLOOKUP(R19935,'Main page'!$E$29:'Main page'!$G$41,3,TRUE))","v":" "}]
[null,null,null,null,null,null,null,null,null,null,null,null," "," "," "," ",{"$f":"IF(I19936=\"\",\"\",IF(I19936<='Main page'!$F$49,\"Core staff\",\"Senior staff\"))","v":""},{"$f":"IF(D19936=\"\",\" \",'Main page'!$F$21-(D19936))","v":" "},{"$f":"IF(D19936=\"\",\" \",VLOOKUP(R19936,'Main page'!$E$29:'Main page'!$G$41,3,TRUE))","v":" "}]
[null,null,null,null,null,null,null,null,null,null,null,null," "," "," "," ",{"$f":"IF(I19937=\"\",\"\",IF(I19937<='Main page'!$F$49,\"Core staff\",\"Senior staff\"))","v":""},{"$f":"IF(D19937=\"\",\" \",'Main page'!$F$21-(D19937))","v":" "},{"$f":"IF(D19937=\"\",\" \",VLOOKUP(R19937,'Main page'!$E$29:'Main page'!$G$41,3,TRUE))","v":" "}]
[null,null,null,null,null,null,null,null,null,null,null,null," "," "," "," ",{"$f":"IF(I19938=\"\",\"\",IF(I19938<='Main page'!$F$49,\"Core staff\",\"Senior staff\"))","v":""},{"$f":"IF(D19938=\"\",\" \",'Main page'!$F$21-(D19938))","v":" "},{"$f":"IF(D19938=\"\",\" \",VLOOKUP(R19938,'Main page'!$E$29:'Main page'!$G$41,3,TRUE))","v":" "}]
[null,null,null,null,null,null,null,null,null,null,null,null," "," "," "," ",{"$f":"IF(I19939=\"\",\"\",IF(I19939<='Main page'!$F$49,\"Core staff\",\"Senior staff\"))","v":""},{"$f":"IF(D19939=\"\",\" \",'Main page'!$F$21-(D19939))","v":" "},{"$f":"IF(D19939=\"\",\" \",VLOOKUP(R19939,'Main page'!$E$29:'Main page'!$G$41,3,TRUE))","v":" "}]
[null,null,null,null,null,null,null,null,null,null,null,null," "," "," "," ",{"$f":"IF(I19940=\"\",\"\",IF(I19940<='Main page'!$F$49,\"Core staff\",\"Senior staff\"))","v":""},{"$f":"IF(D19940=\"\",\" \",'Main page'!$F$21-(D19940))","v":" "},{"$f":"IF(D19940=\"\",\" \",VLOOKUP(R19940,'Main page'!$E$29:'Main page'!$G$41,3,TRUE))","v":" "}]
[null,null,null,null,null,null,null,null,null,null,null,null," "," "," "," ",{"$f":"IF(I19941=\"\",\"\",IF(I19941<='Main page'!$F$49,\"Core staff\",\"Senior staff\"))","v":""},{"$f":"IF(D19941=\"\",\" \",'Main page'!$F$21-(D19941))","v":" "},{"$f":"IF(D19941=\"\",\" \",VLOOKUP(R19941,'Main page'!$E$29:'Main page'!$G$41,3,TRUE))","v":" "}]
[null,null,null,null,null,null,null,null,null,null,null,null," "," "," "," ",{"$f":"IF(I19942=\"\",\"\",IF(I19942<='Main page'!$F$49,\"Core staff\",\"Senior staff\"))","v":""},{"$f":"IF(D19942=\"\",\" \",'Main page'!$F$21-(D19942))","v":" "},{"$f":"IF(D19942=\"\",\" \",VLOOKUP(R19942,'Main page'!$E$29:'Main page'!$G$41,3,TRUE))","v":" "}]
[null,null,null,null,null,null,null,null,null,null,null,null," "," "," "," ",{"$f":"IF(I19943=\"\",\"\",IF(I19943<='Main page'!$F$49,\"Core staff\",\"Senior staff\"))","v":""},{"$f":"IF(D19943=\"\",\" \",'Main page'!$F$21-(D19943))","v":" "},{"$f":"IF(D19943=\"\",\" \",VLOOKUP(R19943,'Main page'!$E$29:'Main page'!$G$41,3,TRUE))","v":" "}]
[null,null,null,null,null,null,null,null,null,null,null,null," "," "," "," ",{"$f":"IF(I19944=\"\",\"\",IF(I19944<='Main page'!$F$49,\"Core staff\",\"Senior staff\"))","v":""},{"$f":"IF(D19944=\"\",\" \",'Main page'!$F$21-(D19944))","v":" "},{"$f":"IF(D19944=\"\",\" \",VLOOKUP(R19944,'Main page'!$E$29:'Main page'!$G$41,3,TRUE))","v":" "}]
[null,null,null,null,null,null,null,null,null,null,null,null," "," "," "," ",{"$f":"IF(I19945=\"\",\"\",IF(I19945<='Main page'!$F$49,\"Core staff\",\"Senior staff\"))","v":""},{"$f":"IF(D19945=\"\",\" \",'Main page'!$F$21-(D19945))","v":" "},{"$f":"IF(D19945=\"\",\" \",VLOOKUP(R19945,'Main page'!$E$29:'Main page'!$G$41,3,TRUE))","v":" "}]
[null,null,null,null,null,null,null,null,null,null,null,null," "," "," "," ",{"$f":"IF(I19946=\"\",\"\",IF(I19946<='Main page'!$F$49,\"Core staff\",\"Senior staff\"))","v":""},{"$f":"IF(D19946=\"\",\" \",'Main page'!$F$21-(D19946))","v":" "},{"$f":"IF(D19946=\"\",\" \",VLOOKUP(R19946,'Main page'!$E$29:'Main page'!$G$41,3,TRUE))","v":" "}]
[null,null,null,null,null,null,null,null,null,null,null,null," "," "," "," ",{"$f":"IF(I19947=\"\",\"\",IF(I19947<='Main page'!$F$49,\"Core staff\",\"Senior staff\"))","v":""},{"$f":"IF(D19947=\"\",\" \",'Main page'!$F$21-(D19947))","v":" "},{"$f":"IF(D19947=\"\",\" \",VLOOKUP(R19947,'Main page'!$E$29:'Main page'!$G$41,3,TRUE))","v":" "}]
[null,null,null,null,null,null,null,null,null,null,null,null," "," "," "," ",{"$f":"IF(I19948=\"\",\"\",IF(I19948<='Main page'!$F$49,\"Core staff\",\"Senior staff\"))","v":""},{"$f":"IF(D19948=\"\",\" \",'Main page'!$F$21-(D19948))","v":" "},{"$f":"IF(D19948=\"\",\" \",VLOOKUP(R19948,'Main page'!$E$29:'Main page'!$G$41,3,TRUE))","v":" "}]
[null,null,null,null,null,null,null,null,null,null,null,null," "," "," "," ",{"$f":"IF(I19949=\"\",\"\",IF(I19949<='Main page'!$F$49,\"Core staff\",\"Senior staff\"))","v":""},{"$f":"IF(D19949=\"\",\" \",'Main page'!$F$21-(D19949))","v":" "},{"$f":"IF(D19949=\"\",\" \",VLOOKUP(R19949,'Main page'!$E$29:'Main page'!$G$41,3,TRUE))","v":" "}]
[null,null,null,null,null,null,null,null,null,null,null,null," "," "," "," ",{"$f":"IF(I19950=\"\",\"\",IF(I19950<='Main page'!$F$49,\"Core staff\",\"Senior staff\"))","v":""},{"$f":"IF(D19950=\"\",\" \",'Main page'!$F$21-(D19950))","v":" "},{"$f":"IF(D19950=\"\",\" \",VLOOKUP(R19950,'Main page'!$E$29:'Main page'!$G$41,3,TRUE))","v":" "}]
[null,null,null,null,null,null,null,null,null,null,null,null," "," "," "," ",{"$f":"IF(I19951=\"\",\"\",IF(I19951<='Main page'!$F$49,\"Core staff\",\"Senior staff\"))","v":""},{"$f":"IF(D19951=\"\",\" \",'Main page'!$F$21-(D19951))","v":" "},{"$f":"IF(D19951=\"\",\" \",VLOOKUP(R19951,'Main page'!$E$29:'Main page'!$G$41,3,TRUE))","v":" "}]
[null,null,null,null,null,null,null,null,null,null,null,null," "," "," "," ",{"$f":"IF(I19952=\"\",\"\",IF(I19952<='Main page'!$F$49,\"Core staff\",\"Senior staff\"))","v":""},{"$f":"IF(D19952=\"\",\" \",'Main page'!$F$21-(D19952))","v":" "},{"$f":"IF(D19952=\"\",\" \",VLOOKUP(R19952,'Main page'!$E$29:'Main page'!$G$41,3,TRUE))","v":" "}]
[null,null,null,null,null,null,null,null,null,null,null,null," "," "," "," ",{"$f":"IF(I19953=\"\",\"\",IF(I19953<='Main page'!$F$49,\"Core staff\",\"Senior staff\"))","v":""},{"$f":"IF(D19953=\"\",\" \",'Main page'!$F$21-(D19953))","v":" "},{"$f":"IF(D19953=\"\",\" \",VLOOKUP(R19953,'Main page'!$E$29:'Main page'!$G$41,3,TRUE))","v":" "}]
[null,null,null,null,null,null,null,null,null,null,null,null," "," "," "," ",{"$f":"IF(I19954=\"\",\"\",IF(I19954<='Main page'!$F$49,\"Core staff\",\"Senior staff\"))","v":""},{"$f":"IF(D19954=\"\",\" \",'Main page'!$F$21-(D19954))","v":" "},{"$f":"IF(D19954=\"\",\" \",VLOOKUP(R19954,'Main page'!$E$29:'Main page'!$G$41,3,TRUE))","v":" "}]
[null,null,null,null,null,null,null,null,null,null,null,null," "," "," "," ",{"$f":"IF(I19955=\"\",\"\",IF(I19955<='Main page'!$F$49,\"Core staff\",\"Senior staff\"))","v":""},{"$f":"IF(D19955=\"\",\" \",'Main page'!$F$21-(D19955))","v":" "},{"$f":"IF(D19955=\"\",\" \",VLOOKUP(R19955,'Main page'!$E$29:'Main page'!$G$41,3,TRUE))","v":" "}]
[null,null,null,null,null,null,null,null,null,null,null,null," "," "," "," ",{"$f":"IF(I19956=\"\",\"\",IF(I19956<='Main page'!$F$49,\"Core staff\",\"Senior staff\"))","v":""},{"$f":"IF(D19956=\"\",\" \",'Main page'!$F$21-(D19956))","v":" "},{"$f":"IF(D19956=\"\",\" \",VLOOKUP(R19956,'Main page'!$E$29:'Main page'!$G$41,3,TRUE))","v":" "}]
[null,null,null,null,null,null,null,null,null,null,null,null," "," "," "," ",{"$f":"IF(I19957=\"\",\"\",IF(I19957<='Main page'!$F$49,\"Core staff\",\"Senior staff\"))","v":""},{"$f":"IF(D19957=\"\",\" \",'Main page'!$F$21-(D19957))","v":" "},{"$f":"IF(D19957=\"\",\" \",VLOOKUP(R19957,'Main page'!$E$29:'Main page'!$G$41,3,TRUE))","v":" "}]
[null,null,null,null,null,null,null,null,null,null,null,null," "," "," "," ",{"$f":"IF(I19958=\"\",\"\",IF(I19958<='Main page'!$F$49,\"Core staff\",\"Senior staff\"))","v":""},{"$f":"IF(D19958=\"\",\" \",'Main page'!$F$21-(D19958))","v":" "},{"$f":"IF(D19958=\"\",\" \",VLOOKUP(R19958,'Main page'!$E$29:'Main page'!$G$41,3,TRUE))","v":" "}]
[null,null,null,null,null,null,null,null,null,null,null,null," "," "," "," ",{"$f":"IF(I19959=\"\",\"\",IF(I19959<='Main page'!$F$49,\"Core staff\",\"Senior staff\"))","v":""},{"$f":"IF(D19959=\"\",\" \",'Main page'!$F$21-(D19959))","v":" "},{"$f":"IF(D19959=\"\",\" \",VLOOKUP(R19959,'Main page'!$E$29:'Main page'!$G$41,3,TRUE))","v":" "}]
[null,null,null,null,null,null,null,null,null,null,null,null," "," "," "," ",{"$f":"IF(I19960=\"\",\"\",IF(I19960<='Main page'!$F$49,\"Core staff\",\"Senior staff\"))","v":""},{"$f":"IF(D19960=\"\",\" \",'Main page'!$F$21-(D19960))","v":" "},{"$f":"IF(D19960=\"\",\" \",VLOOKUP(R19960,'Main page'!$E$29:'Main page'!$G$41,3,TRUE))","v":" "}]
[null,null,null,null,null,null,null,null,null,null,null,null," "," "," "," ",{"$f":"IF(I19961=\"\",\"\",IF(I19961<='Main page'!$F$49,\"Core staff\",\"Senior staff\"))","v":""},{"$f":"IF(D19961=\"\",\" \",'Main page'!$F$21-(D19961))","v":" "},{"$f":"IF(D19961=\"\",\" \",VLOOKUP(R19961,'Main page'!$E$29:'Main page'!$G$41,3,TRUE))","v":" "}]
[null,null,null,null,null,null,null,null,null,null,null,null," "," "," "," ",{"$f":"IF(I19962=\"\",\"\",IF(I19962<='Main page'!$F$49,\"Core staff\",\"Senior staff\"))","v":""},{"$f":"IF(D19962=\"\",\" \",'Main page'!$F$21-(D19962))","v":" "},{"$f":"IF(D19962=\"\",\" \",VLOOKUP(R19962,'Main page'!$E$29:'Main page'!$G$41,3,TRUE))","v":" "}]
[null,null,null,null,null,null,null,null,null,null,null,null," "," "," "," ",{"$f":"IF(I19963=\"\",\"\",IF(I19963<='Main page'!$F$49,\"Core staff\",\"Senior staff\"))","v":""},{"$f":"IF(D19963=\"\",\" \",'Main page'!$F$21-(D19963))","v":" "},{"$f":"IF(D19963=\"\",\" \",VLOOKUP(R19963,'Main page'!$E$29:'Main page'!$G$41,3,TRUE))","v":" "}]
[null,null,null,null,null,null,null,null,null,null,null,null," "," "," "," ",{"$f":"IF(I19964=\"\",\"\",IF(I19964<='Main page'!$F$49,\"Core staff\",\"Senior staff\"))","v":""},{"$f":"IF(D19964=\"\",\" \",'Main page'!$F$21-(D19964))","v":" "},{"$f":"IF(D19964=\"\",\" \",VLOOKUP(R19964,'Main page'!$E$29:'Main page'!$G$41,3,TRUE))","v":" "}]
[null,null,null,null,null,null,null,null,null,null,null,null," "," "," "," ",{"$f":"IF(I19965=\"\",\"\",IF(I19965<='Main page'!$F$49,\"Core staff\",\"Senior staff\"))","v":""},{"$f":"IF(D19965=\"\",\" \",'Main page'!$F$21-(D19965))","v":" "},{"$f":"IF(D19965=\"\",\" \",VLOOKUP(R19965,'Main page'!$E$29:'Main page'!$G$41,3,TRUE))","v":" "}]
[null,null,null,null,null,null,null,null,null,null,null,null," "," "," "," ",{"$f":"IF(I19966=\"\",\"\",IF(I19966<='Main page'!$F$49,\"Core staff\",\"Senior staff\"))","v":""},{"$f":"IF(D19966=\"\",\" \",'Main page'!$F$21-(D19966))","v":" "},{"$f":"IF(D19966=\"\",\" \",VLOOKUP(R19966,'Main page'!$E$29:'Main page'!$G$41,3,TRUE))","v":" "}]
[null,null,null,null,null,null,null,null,null,null,null,null," "," "," "," ",{"$f":"IF(I19967=\"\",\"\",IF(I19967<='Main page'!$F$49,\"Core staff\",\"Senior staff\"))","v":""},{"$f":"IF(D19967=\"\",\" \",'Main page'!$F$21-(D19967))","v":" "},{"$f":"IF(D19967=\"\",\" \",VLOOKUP(R19967,'Main page'!$E$29:'Main page'!$G$41,3,TRUE))","v":" "}]
[null,null,null,null,null,null,null,null,null,null,null,null," "," "," "," ",{"$f":"IF(I19968=\"\",\"\",IF(I19968<='Main page'!$F$49,\"Core staff\",\"Senior staff\"))","v":""},{"$f":"IF(D19968=\"\",\" \",'Main page'!$F$21-(D19968))","v":" "},{"$f":"IF(D19968=\"\",\" \",VLOOKUP(R19968,'Main page'!$E$29:'Main page'!$G$41,3,TRUE))","v":" "}]
[null,null,null,null,null,null,null,null,null,null,null,null," "," "," "," ",{"$f":"IF(I19969=\"\",\"\",IF(I19969<='Main page'!$F$49,\"Core staff\",\"Senior staff\"))","v":""},{"$f":"IF(D19969=\"\",\" \",'Main page'!$F$21-(D19969))","v":" "},{"$f":"IF(D19969=\"\",\" \",VLOOKUP(R19969,'Main page'!$E$29:'Main page'!$G$41,3,TRUE))","v":" "}]
[null,null,null,null,null,null,null,null,null,null,null,null," "," "," "," ",{"$f":"IF(I19970=\"\",\"\",IF(I19970<='Main page'!$F$49,\"Core staff\",\"Senior staff\"))","v":""},{"$f":"IF(D19970=\"\",\" \",'Main page'!$F$21-(D19970))","v":" "},{"$f":"IF(D19970=\"\",\" \",VLOOKUP(R19970,'Main page'!$E$29:'Main page'!$G$41,3,TRUE))","v":" "}]
[null,null,null,null,null,null,null,null,null,null,null,null," "," "," "," ",{"$f":"IF(I19971=\"\",\"\",IF(I19971<='Main page'!$F$49,\"Core staff\",\"Senior staff\"))","v":""},{"$f":"IF(D19971=\"\",\" \",'Main page'!$F$21-(D19971))","v":" "},{"$f":"IF(D19971=\"\",\" \",VLOOKUP(R19971,'Main page'!$E$29:'Main page'!$G$41,3,TRUE))","v":" "}]
[null,null,null,null,null,null,null,null,null,null,null,null," "," "," "," ",{"$f":"IF(I19972=\"\",\"\",IF(I19972<='Main page'!$F$49,\"Core staff\",\"Senior staff\"))","v":""},{"$f":"IF(D19972=\"\",\" \",'Main page'!$F$21-(D19972))","v":" "},{"$f":"IF(D19972=\"\",\" \",VLOOKUP(R19972,'Main page'!$E$29:'Main page'!$G$41,3,TRUE))","v":" "}]
[null,null,null,null,null,null,null,null,null,null,null,null," "," "," "," ",{"$f":"IF(I19973=\"\",\"\",IF(I19973<='Main page'!$F$49,\"Core staff\",\"Senior staff\"))","v":""},{"$f":"IF(D19973=\"\",\" \",'Main page'!$F$21-(D19973))","v":" "},{"$f":"IF(D19973=\"\",\" \",VLOOKUP(R19973,'Main page'!$E$29:'Main page'!$G$41,3,TRUE))","v":" "}]
[null,null,null,null,null,null,null,null,null,null,null,null," "," "," "," ",{"$f":"IF(I19974=\"\",\"\",IF(I19974<='Main page'!$F$49,\"Core staff\",\"Senior staff\"))","v":""},{"$f":"IF(D19974=\"\",\" \",'Main page'!$F$21-(D19974))","v":" "},{"$f":"IF(D19974=\"\",\" \",VLOOKUP(R19974,'Main page'!$E$29:'Main page'!$G$41,3,TRUE))","v":" "}]
[null,null,null,null,null,null,null,null,null,null,null,null," "," "," "," ",{"$f":"IF(I19975=\"\",\"\",IF(I19975<='Main page'!$F$49,\"Core staff\",\"Senior staff\"))","v":""},{"$f":"IF(D19975=\"\",\" \",'Main page'!$F$21-(D19975))","v":" "},{"$f":"IF(D19975=\"\",\" \",VLOOKUP(R19975,'Main page'!$E$29:'Main page'!$G$41,3,TRUE))","v":" "}]
[null,null,null,null,null,null,null,null,null,null,null,null," "," "," "," ",{"$f":"IF(I19976=\"\",\"\",IF(I19976<='Main page'!$F$49,\"Core staff\",\"Senior staff\"))","v":""},{"$f":"IF(D19976=\"\",\" \",'Main page'!$F$21-(D19976))","v":" "},{"$f":"IF(D19976=\"\",\" \",VLOOKUP(R19976,'Main page'!$E$29:'Main page'!$G$41,3,TRUE))","v":" "}]
[null,null,null,null,null,null,null,null,null,null,null,null," "," "," "," ",{"$f":"IF(I19977=\"\",\"\",IF(I19977<='Main page'!$F$49,\"Core staff\",\"Senior staff\"))","v":""},{"$f":"IF(D19977=\"\",\" \",'Main page'!$F$21-(D19977))","v":" "},{"$f":"IF(D19977=\"\",\" \",VLOOKUP(R19977,'Main page'!$E$29:'Main page'!$G$41,3,TRUE))","v":" "}]
[null,null,null,null,null,null,null,null,null,null,null,null," "," "," "," ",{"$f":"IF(I19978=\"\",\"\",IF(I19978<='Main page'!$F$49,\"Core staff\",\"Senior staff\"))","v":""},{"$f":"IF(D19978=\"\",\" \",'Main page'!$F$21-(D19978))","v":" "},{"$f":"IF(D19978=\"\",\" \",VLOOKUP(R19978,'Main page'!$E$29:'Main page'!$G$41,3,TRUE))","v":" "}]
[null,null,null,null,null,null,null,null,null,null,null,null," "," "," "," ",{"$f":"IF(I19979=\"\",\"\",IF(I19979<='Main page'!$F$49,\"Core staff\",\"Senior staff\"))","v":""},{"$f":"IF(D19979=\"\",\" \",'Main page'!$F$21-(D19979))","v":" "},{"$f":"IF(D19979=\"\",\" \",VLOOKUP(R19979,'Main page'!$E$29:'Main page'!$G$41,3,TRUE))","v":" "}]
[null,null,null,null,null,null,null,null,null,null,null,null," "," "," "," ",{"$f":"IF(I19980=\"\",\"\",IF(I19980<='Main page'!$F$49,\"Core staff\",\"Senior staff\"))","v":""},{"$f":"IF(D19980=\"\",\" \",'Main page'!$F$21-(D19980))","v":" "},{"$f":"IF(D19980=\"\",\" \",VLOOKUP(R19980,'Main page'!$E$29:'Main page'!$G$41,3,TRUE))","v":" "}]
[null,null,null,null,null,null,null,null,null,null,null,null," "," "," "," ",{"$f":"IF(I19981=\"\",\"\",IF(I19981<='Main page'!$F$49,\"Core staff\",\"Senior staff\"))","v":""},{"$f":"IF(D19981=\"\",\" \",'Main page'!$F$21-(D19981))","v":" "},{"$f":"IF(D19981=\"\",\" \",VLOOKUP(R19981,'Main page'!$E$29:'Main page'!$G$41,3,TRUE))","v":" "}]
[null,null,null,null,null,null,null,null,null,null,null,null," "," "," "," ",{"$f":"IF(I19982=\"\",\"\",IF(I19982<='Main page'!$F$49,\"Core staff\",\"Senior staff\"))","v":""},{"$f":"IF(D19982=\"\",\" \",'Main page'!$F$21-(D19982))","v":" "},{"$f":"IF(D19982=\"\",\" \",VLOOKUP(R19982,'Main page'!$E$29:'Main page'!$G$41,3,TRUE))","v":" "}]
[null,null,null,null,null,null,null,null,null,null,null,null," "," "," "," ",{"$f":"IF(I19983=\"\",\"\",IF(I19983<='Main page'!$F$49,\"Core staff\",\"Senior staff\"))","v":""},{"$f":"IF(D19983=\"\",\" \",'Main page'!$F$21-(D19983))","v":" "},{"$f":"IF(D19983=\"\",\" \",VLOOKUP(R19983,'Main page'!$E$29:'Main page'!$G$41,3,TRUE))","v":" "}]
[null,null,null,null,null,null,null,null,null,null,null,null," "," "," "," ",{"$f":"IF(I19984=\"\",\"\",IF(I19984<='Main page'!$F$49,\"Core staff\",\"Senior staff\"))","v":""},{"$f":"IF(D19984=\"\",\" \",'Main page'!$F$21-(D19984))","v":" "},{"$f":"IF(D19984=\"\",\" \",VLOOKUP(R19984,'Main page'!$E$29:'Main page'!$G$41,3,TRUE))","v":" "}]
[null,null,null,null,null,null,null,null,null,null,null,null," "," "," "," ",{"$f":"IF(I19985=\"\",\"\",IF(I19985<='Main page'!$F$49,\"Core staff\",\"Senior staff\"))","v":""},{"$f":"IF(D19985=\"\",\" \",'Main page'!$F$21-(D19985))","v":" "},{"$f":"IF(D19985=\"\",\" \",VLOOKUP(R19985,'Main page'!$E$29:'Main page'!$G$41,3,TRUE))","v":" "}]
[null,null,null,null,null,null,null,null,null,null,null,null," "," "," "," ",{"$f":"IF(I19986=\"\",\"\",IF(I19986<='Main page'!$F$49,\"Core staff\",\"Senior staff\"))","v":""},{"$f":"IF(D19986=\"\",\" \",'Main page'!$F$21-(D19986))","v":" "},{"$f":"IF(D19986=\"\",\" \",VLOOKUP(R19986,'Main page'!$E$29:'Main page'!$G$41,3,TRUE))","v":" "}]
[null,null,null,null,null,null,null,null,null,null,null,null," "," "," "," ",{"$f":"IF(I19987=\"\",\"\",IF(I19987<='Main page'!$F$49,\"Core staff\",\"Senior staff\"))","v":""},{"$f":"IF(D19987=\"\",\" \",'Main page'!$F$21-(D19987))","v":" "},{"$f":"IF(D19987=\"\",\" \",VLOOKUP(R19987,'Main page'!$E$29:'Main page'!$G$41,3,TRUE))","v":" "}]
[null,null,null,null,null,null,null,null,null,null,null,null," "," "," "," ",{"$f":"IF(I19988=\"\",\"\",IF(I19988<='Main page'!$F$49,\"Core staff\",\"Senior staff\"))","v":""},{"$f":"IF(D19988=\"\",\" \",'Main page'!$F$21-(D19988))","v":" "},{"$f":"IF(D19988=\"\",\" \",VLOOKUP(R19988,'Main page'!$E$29:'Main page'!$G$41,3,TRUE))","v":" "}]
[null,null,null,null,null,null,null,null,null,null,null,null," "," "," "," ",{"$f":"IF(I19989=\"\",\"\",IF(I19989<='Main page'!$F$49,\"Core staff\",\"Senior staff\"))","v":""},{"$f":"IF(D19989=\"\",\" \",'Main page'!$F$21-(D19989))","v":" "},{"$f":"IF(D19989=\"\",\" \",VLOOKUP(R19989,'Main page'!$E$29:'Main page'!$G$41,3,TRUE))","v":" "}]
[null,null,null,null,null,null,null,null,null,null,null,null," "," "," "," ",{"$f":"IF(I19990=\"\",\"\",IF(I19990<='Main page'!$F$49,\"Core staff\",\"Senior staff\"))","v":""},{"$f":"IF(D19990=\"\",\" \",'Main page'!$F$21-(D19990))","v":" "},{"$f":"IF(D19990=\"\",\" \",VLOOKUP(R19990,'Main page'!$E$29:'Main page'!$G$41,3,TRUE))","v":" "}]
[null,null,null,null,null,null,null,null,null,null,null,null," "," "," "," ",{"$f":"IF(I19991=\"\",\"\",IF(I19991<='Main page'!$F$49,\"Core staff\",\"Senior staff\"))","v":""},{"$f":"IF(D19991=\"\",\" \",'Main page'!$F$21-(D19991))","v":" "},{"$f":"IF(D19991=\"\",\" \",VLOOKUP(R19991,'Main page'!$E$29:'Main page'!$G$41,3,TRUE))","v":" "}]
[null,null,null,null,null,null,null,null,null,null,null,null," "," "," "," ",{"$f":"IF(I19992=\"\",\"\",IF(I19992<='Main page'!$F$49,\"Core staff\",\"Senior staff\"))","v":""},{"$f":"IF(D19992=\"\",\" \",'Main page'!$F$21-(D19992))","v":" "},{"$f":"IF(D19992=\"\",\" \",VLOOKUP(R19992,'Main page'!$E$29:'Main page'!$G$41,3,TRUE))","v":" "}]
[null,null,null,null,null,null,null,null,null,null,null,null,{"$f":"IFERROR(J19993/G19993,\" \")","v":" "},{"$f":"IFERROR((M19993/$U$4)/H19993,\" \")","v":" "},{"$f":"IFERROR((N19993*75)*26.083,\" \")","v":" "},{"$f":"IF(G19993=0,\" \",IF(G19993=1,\"Full time\",\"Part time\"))","v":" "},{"$f":"IF(I19993=\"\",\"\",IF(I19993<='Main page'!$F$49,\"Core staff\",\"Senior staff\"))","v":""},{"$f":"IF(D19993=\"\",\" \",'Main page'!$F$21-(D19993))","v":" "},{"$f":"IF(D19993=\"\",\" \",VLOOKUP(R19993,'Main page'!$E$29:'Main page'!$G$41,3,TRUE))","v":" "}]
[null,null,null,null,null,null,null,null,null,null,null,null," "," "," "," ",{"$f":"IF(I19994=\"\",\"\",IF(I19994<='Main page'!$F$49,\"Core staff\",\"Senior staff\"))","v":""},{"$f":"IF(D19994=\"\",\" \",'Main page'!$F$21-(D19994))","v":" "},{"$f":"IF(D19994=\"\",\" \",VLOOKUP(R19994,'Main page'!$E$29:'Main page'!$G$41,3,TRUE))","v":" "}]
[null,null,null,null,null,null,null,null,null,null,null,null," "," "," "," ",{"$f":"IF(I19995=\"\",\"\",IF(I19995<='Main page'!$F$49,\"Core staff\",\"Senior staff\"))","v":""},{"$f":"IF(D19995=\"\",\" \",'Main page'!$F$21-(D19995))","v":" "},{"$f":"IF(D19995=\"\",\" \",VLOOKUP(R19995,'Main page'!$E$29:'Main page'!$G$41,3,TRUE))","v":" "}]
[null,null,null,null,null,null,null,null,null,null,null,null," "," "," "," ",{"$f":"IF(I19996=\"\",\"\",IF(I19996<='Main page'!$F$49,\"Core staff\",\"Senior staff\"))","v":""},{"$f":"IF(D19996=\"\",\" \",'Main page'!$F$21-(D19996))","v":" "},{"$f":"IF(D19996=\"\",\" \",VLOOKUP(R19996,'Main page'!$E$29:'Main page'!$G$41,3,TRUE))","v":" "}]
[null,null,null,null,null,null,null,null,null,null,null,null," "," "," "," ",{"$f":"IF(I19997=\"\",\"\",IF(I19997<='Main page'!$F$49,\"Core staff\",\"Senior staff\"))","v":""},{"$f":"IF(D19997=\"\",\" \",'Main page'!$F$21-(D19997))","v":" "},{"$f":"IF(D19997=\"\",\" \",VLOOKUP(R19997,'Main page'!$E$29:'Main page'!$G$41,3,TRUE))","v":" "}]
[null,null,null,null,null,null,null,null,null,null,null,null," "," "," "," ",{"$f":"IF(I19998=\"\",\"\",IF(I19998<='Main page'!$F$49,\"Core staff\",\"Senior staff\"))","v":""},{"$f":"IF(D19998=\"\",\" \",'Main page'!$F$21-(D19998))","v":" "},{"$f":"IF(D19998=\"\",\" \",VLOOKUP(R19998,'Main page'!$E$29:'Main page'!$G$41,3,TRUE))","v":" "}]
[null,null,null,null,null,null,null,null,null,null,null,null," "," "," "," ",{"$f":"IF(I19999=\"\",\"\",IF(I19999<='Main page'!$F$49,\"Core staff\",\"Senior staff\"))","v":""},{"$f":"IF(D19999=\"\",\" \",'Main page'!$F$21-(D19999))","v":" "},{"$f":"IF(D19999=\"\",\" \",VLOOKUP(R19999,'Main page'!$E$29:'Main page'!$G$41,3,TRUE))","v":" "}]
[null,null,null,null,null,null,null,null,null,null,null,null," "," "," "," ",{"$f":"IF(I20000=\"\",\"\",IF(I20000<='Main page'!$F$49,\"Core staff\",\"Senior staff\"))","v":""},{"$f":"IF(D20000=\"\",\" \",'Main page'!$F$21-(D20000))","v":" "},{"$f":"IF(D20000=\"\",\" \",VLOOKUP(R20000,'Main page'!$E$29:'Main page'!$G$41,3,TRUE))","v":" "}]
[null,null,null,null,null,null,null,null,null,null,null,null," "," "," "," ",{"$f":"IF(I20001=\"\",\"\",IF(I20001<='Main page'!$F$49,\"Core staff\",\"Senior staff\"))","v":""},{"$f":"IF(D20001=\"\",\" \",'Main page'!$F$21-(D20001))","v":" "},{"$f":"IF(D20001=\"\",\" \",VLOOKUP(R20001,'Main page'!$E$29:'Main page'!$G$41,3,TRUE))","v":" "}]

{"sheet":"Index","index":2,"n_rows":33,"n_cols":4,"rows_kept":33,"cut":false,"hidden":false,"merged":[[4,1,5,4],[23,3,23,6],[32,1,36,7],[27,3,27,5],[29,3,29,4],[25,3,25,6],[15,3,15,5],[17,3,17,5],[19,3,19,6],[21,3,21,6],[11,3,11,5],[9,3,9,5],[13,3,13,5]]}
[]
[]
[]
[null,{"$f":"'Main page'!F21","v":2012},"Pay equity audit"]
[null,{"$f":"'Main page'!F55","v":"Example Organisation"}]
[]
[]
[null,"Index"]
[]
[null,1,null,"Return to main page"]
[]
[null,2,null,"Overall gender pay gap"]
[]
[null,3,null,"Gender pay gap by section"]
[]
[null,4,null,"Benefits/allowances"]
[]
[null,5,null,"Gender pay gap by level"]
[]
[null,6,null,"Gender pay gap by age cohort"]
[]
[null,7,null,"Rates of part time work by level"]
[]
[null,8,null,"Rates of part time work by section"]
[]
[null,9,null,"Rates of part time work by age"]
[]
[null,10,null,"Gender pay gap by branch"]
[]
[null,11,null,"Purchased leave"]
[]
[]
[null,"This pay equity audit tool was developed in 2008 by the Pay Equity Unit at the Labour Relations Division of the Department of Commerce. Development of the tool was partly guided by earlier work completed by EOWA and the New Zealand Department of Labour. The Pay Equity Unit gratefully acknowledges their work."]

{"sheet":"Overall gaps","index":3,"n_rows":19,"n_cols":7,"rows_kept":19,"cut":false,"hidden":false,"merged":[[10,5,15,9],[5,4,6,10],[1,1,2,5],[1,6,2,9]]}
[]
[null,"OVERALL GENDER PAY GAP IN ",null,null,null,null,{"$f":"'Main page'!F55","v":"Example Organisation"}]
[]
[]
[]
["Level range","(All)",null,null,"Choose 'Core staff' to ignore senior staff above the level you specified on the main page. Choose (All) to include all staff in your analysis."]
[]
["Gender","Data","Total"]
["F","Average of Salary",69627.217272135793]
[null,"Count of Gender",105]
["M","Average of Salary",73903.80478599864,null,null,"Ensure that you choose the same level range on all pages that you intend to compare, otherwise you will not have the same sample group for your graphs and tables."]
[null,"Count of Gender",95]
["Total Average of Salary",null,71658.596341220647]
["Total Count of Gender",null,200]
[]
[]
[]
[null,"Gender pay gap",{"$f":"1-C9/C11","v":5.7866946448108525E-2}]
[null,"Density of females",{"$f":"C10/C14","v":0.52500000000000002}]

{"sheet":"GPG by section","index":4,"n_rows":17,"n_cols":26,"rows_kept":17,"cut":false,"hidden":false,"merged":[[1,2,2,7],[15,0,15,1],[16,0,16,1]]}
[]
[null,null,"Gender pay gap by section"]
[]
[]
["Level range","(All)"]
[]
[null,null,"Section"]
["Gender","Data","Section 1","Section 2","Section 3","Section 4","Section 5","Section 6","Grand Total"]
["F","Average of Salary",69333.825360210947,58015.802510568617,71245.570234424114,65232.002437050658,77061.525337732804,76437.496573142154,69627.217272135793]
[null,"Count of Gender",29,18,18,8,9,23,105]
["M","Average of Salary",65186.061157003933,98017.48971674261,72264.34499552651,75394.801046584369,80443.353754670752,68024.698897032111,73903.80478599864]
[null,"Count of Gender",23,10,18,10,14,20,95]
["Total Average of Salary",null,67499.237347254006,72302.119369916487,71754.957614975312,70878.001664569412,79120.029591521132,72524.567421463056,71658.596341220647]
["Total Count of Gender",null,52,28,36,18,23,43,200]
[]
["Gender pay gap",null,{"$f":"IF(C8<>0,IF(ISERROR(1-C9/C11),0,(1-C9/C11)),\"\")","v":-6.3629618504129404E-2},{"$f":"IF(D8<>0,IF(ISERROR(1-D9/D11),0,(1-D9/D11)),\"\")","v":0.40810764815313572},1.4097889646207395E-2,0.13479442174340905,4.2039873514617021E-2,-0.12367269260308467,5.7866946448108525E-2,"","","","","","","","","","","","","",{"$f":"IF(W8<>0,IF(ISERROR(1-W9/W11),0,(1-W9/W11)),\"\")","v":""},"","",""]
["Density of females",null,{"$f":"IF(C8<>0,IF(ISERROR(C10/C14),0,(C10/C14)),\"\")","v":0.55769230769230771},{"$f":"IF(D8<>0,IF(ISERROR(D10/D14),0,(D10/D14)),\"\")","v":0.6428571428571429},0.5,0.44444444444444442,0.39130434782608697,0.53488372093023251,0.52500000000000002,"",{"$f":"IF(K8<>0,IF(ISERROR(K10/K14),0,(K10/K14)),\"\")","v":""},"","","","","","","","","","","","","","",""]

{"sheet":"Allowance - benefits","index":5,"n_rows":15,"n_cols":26,"rows_kept":15,"cut":false,"hidden":false,"merged":[[1,1,2,7],[5,3,6,5]]}
[]
[]
[]
[]
[]
["Allowance/ benefit?","Yes",null,"Ensure 'Yes' is selected from the drop down box to the left."]
["Level range","(All)"]
[]
["Count of Gender","Section"]
["Gender","Section 1","Section 2","Section 3","Section 4","Section 6","Grand Total"]
["F",2,1,6,2,6,17]
["M",4,3,4,null,5,16]
["Grand Total",6,4,10,2,11,33]
[]
["Percentage of recipients who are female",{"$f":"IF(B10<>0,IF(ISERROR(B11/B13),0,(B11/B13)),\"\")","v":0.33333333333333331},{"$f":"IF(C10<>0,IF(ISERROR(C11/C13),0,(C11/C13)),\"\")","v":0.25},0.6,1,0.54545454545454541,0.51515151515151514,"","","","","","","","","","","","","","","","","","",""]

{"sheet":"GPG by level","index":6,"n_rows":19,"n_cols":36,"rows_kept":19,"cut":false,"hidden":false,"merged":[[1,2,2,7],[4,3,5,9],[16,0,16,1],[17,0,17,1]]}
[]
[null,null,"Gender pay gap by level"]
[]
[]
[null,null,null,"Remember: if you want to compare staff throughout your report, make sure to select the appropriate level range."]
["Level range","(All)"]
[]
[null,null,"Level"]
["Gender","Data",1,2,3,4,5,6,7,8,9,"Grand Total"]
["F","Average of Salary",46015.276459728339,46736.643842453406,56878.449254212246,60137.314351558358,70174.544542585732,95792.543286187574,92004.140862313929,94981.030704918026,111542.02534426229,69627.217272135778]
[null,"Count of Gender",9,10,21,19,11,13,16,4,2,105]
["M","Average of Salary",38488.673426229507,50681.07643002487,61726.574189592109,67650.205160300742,86738.253372979598,87276.837197331915,95998.409724083118,105294.58533523451,117752.07407814208,73903.804785998669]
[null,"Count of Gender",1,23,13,14,14,12,11,6,1,95]
["Total Average of Salary",null,45262.616156378455,49485.793827730486,58732.144082445724,63324.601361327856,79450.221487606294,91705.004363536878,93631.435583775456,101169.16348310793,113612.0415888889,71658.596341220647]
["Total Count of Gender",null,10,33,34,33,25,25,27,10,3,200]
[]
["Gender pay gap",null,{"$f":"IF(C9<>0,IF(ISERROR(1-C10/C12),0,(1-C10/C12)),\"\")","v":-0.19555371394976562},{"$f":"IF(D9<>0,IF(ISERROR(1-D10/D12),0,(1-D10/D12)),\"\")","v":7.782850849700329E-2},7.8541940793424359E-2,0.11105495971431556,0.19096198258880015,-9.7571204025207026E-2,4.1607656556493455E-2,9.7949525110720859E-2,5.2738338432652188E-2,5.786694644810908E-2,"","",{"$f":"IF(O9<>0,IF(ISERROR(1-O10/O12),0,(1-O10/O12)),\"\")","v":""},"","","","","","","","","","","",{"$f":"IF(AA9<>0,1-AA10/AA12,\"\")","v":""},{"$f":"IF(AB9<>0,1-AB10/AB12,\"\")","v":""},{"$f":"IF(AC9<>0,1-AC10/AC12,\"\")","v":""},{"$f":"IF(AD9<>0,1-AD10/AD12,\"\")","v":""},{"$f":"IF(AE9<>0,1-AE10/AE12,\"\")","v":""},"","","","",""]
["Density of females",null,{"$f":"IF(C9<>0,IF(ISERROR(C11/C15),0,(C11/C15)),\"\")","v":0.9},{"$f":"IF(D9<>0,IF(ISERROR(D11/D15),0,(D11/D15)),\"\")","v":0.30303030303030304},0.61764705882352944,0.5757575757575758,0.44,0.52,0.59259259259259256,0.4,0.66666666666666663,0.52500000000000002,"","",{"$f":"IF(O9<>0,IF(ISERROR(O11/O15),0,(O11/O15)),\"\")","v":""},"","","","","","","","","","","",{"$f":"IF(AA9<>0,AA11/AA15,\"\")","v":""},"","","","","","","","",""]
["Density of males",null,{"$f":"IF(C9<>0,IF(ISERROR(C13/C15),0,(C13/C15)),\"\")","v":0.1},{"$f":"IF(D9<>0,IF(ISERROR(D13/D15),0,(D13/D15)),\"\")","v":0.69696969696969702},0.38235294117647056,0.42424242424242425,0.56000000000000005,0.48,0.40740740740740738,0.6,0.33333333333333331,0.47499999999999998,"","","","","","","","","","","","","",""]

{"sheet":"GPG by Age cohort","index":7,"n_rows":19,"n_cols":36,"rows_kept":19,"cut":false,"hidden":false,"merged":[[1,2,2,7],[16,0,16,1],[17,0,17,1],[18,0,18,1]]}
[]
[null,null,"Gender Pay Gap by age cohort"]
[]
[]
[]
["Level range","(All)"]
[]
[null,null,"Age Bracket"]
["Gender","Data","20-24","25-29","30-34","35-39","40-44","45-49","50-54","55-59","60-64","65-69","70 and over"]
["F","Average of Salary",52939.473037679403,71898.75873087495,77371.759871128146,62671.597323589456,78766.029108813091,60299.358575216138,68334.802636802691,72646.461656687185,82368.183361496383,59459.165743265759]
[null,"Count of Gender",5,8,14,16,11,12,10,12,10,7]
["M","Average of Salary",49426.173265573772,98439.161290366756,62161.128175846985,73508.231595766076,69215.370308333324,72900.401530684569,63864.481074204239,78235.401055736846,66341.420239214014,79645.667203813893,78417.292758955111]
[null,"Count of Gender",1,5,5,9,7,9,10,8,10,6,25]
["Total Average of Salary",null,52353.923075661798,82106.605869141029,73368.96205658048,66572.785661573042,75051.884019737627,65699.805556131178,66099.641855503447,74882.037416307052,74354.801800355213,68776.01257121106,78417.292758955111]
["Total Count of Gender",null,6,13,19,25,18,21,20,20,20,13,25]
[]
["Gender pay gap",null,{"$f":"IF(C9<>0,IF(ISERROR(1-C10/C12),0,(1-C10/C12)),\"\")","v":-7.1081767816176589E-2},{"$f":"IF(D9<>0,IF(ISERROR(1-D10/D12),0,(1-D10/D12)),\"\")","v":0.26961223776790799},{"$f":"IF(E9<>0,IF(ISERROR(1-E10/E12),0,(1-E10/E12)),\"\")","v":-0.2446968409622805},{"$f":"IF(F9<>0,IF(ISERROR(1-F10/F12),0,(1-F10/F12)),\"\")","v":0.14742069067542074},-0.1379846522229744,0.1728528607646217,-6.9996991871027259E-2,{"$f":"IF(J9<>0,IF(ISERROR(1-J10/J12),0,(1-J10/J12)),\"\")","v":7.1437473619748726E-2},-0.24158004252084209,0.25345385592527858,1,"","","","","","","","","","","","","",{"$f":"IF(AA9<>0,IF(AA10>0,IF(AA12>0,1-AA10/AA12,\"\"),\"\"),\"\")","v":""},"","","","","","","","",""]
["Density of females",null,{"$f":"IF(C9<>0,IF(ISERROR(C11/C15),0,(C11/C15)),\"\")","v":0.83333333333333337},{"$f":"IF(D9<>0,IF(ISERROR(D11/D15),0,(D11/D15)),\"\")","v":0.61538461538461542},{"$f":"IF(E9<>0,IF(ISERROR(E11/E15),0,(E11/E15)),\"\")","v":0.73684210526315785},{"$f":"IF(F9<>0,IF(ISERROR(F11/F15),0,(F11/F15)),\"\")","v":0.64},0.61111111111111116,0.5714285714285714,0.5,0.6,0.5,0.53846153846153844,0,"","","","","","","","","","","","","",{"$f":"IF(AA9<>0,AA11/AA15,\"\")","v":""},"","","","","","","","",""]
["Density of males",null,{"$f":"IF(C9<>0,IF(ISERROR(C13/C15),0,(C13/C15)),\"\")","v":0.16666666666666666},{"$f":"IF(D9<>0,IF(ISERROR(D13/D15),0,(D13/D15)),\"\")","v":0.38461538461538464},0.26315789473684209,0.36,0.3888888888888889,0.42857142857142855,0.5,0.4,0.5,0.46153846153846156,1,"",{"$f":"IF(O9<>0,IF(ISERROR(O13/O15),0,(O13/O15)),\"\")","v":""},"","","","","","","","","","",""]

{"sheet":"PT by level","index":8,"n_rows":24,"n_cols":30,"rows_kept":24,"cut":false,"hidden":false,"merged":[[23,11,32,12],[1,2,2,9],[20,0,20,1],[19,0,19,1],[18,0,18,1]]}
[]
[null,null,"Rate of part time work by level"]
[]
[]
[]
["Level range","(All)"]
[]
["Count of Gender",null,"Level"]
["Status","Gender",1,2,3,4,5,6,7,8,9,"Grand Total"]
["Full time","F",3,6,12,14,7,4,11,4,2,63]
[null,"M",1,22,11,12,10,11,10,6,1,84]
["Full time Total",null,4,28,23,26,17,15,21,10,3,147]
["Part time","F",6,4,9,5,4,9,5,null,null,42]
[null,"M",null,1,2,2,4,1,1,null,null,11]
["Part time Total",null,6,5,11,7,8,10,6,null,null,53]
["Grand Total",null,10,33,34,33,25,25,27,10,3,200]
[]
[]
["Percentage of employees that work part time",null,{"$f":"IF(C9<>0,IF(ISERROR(C15/C16),0,(C15/C16)),\"\")","v":0.6},0.15151515151515152,{"$f":"IF(E9<>0,IF(ISERROR(E15/E16),0,(E15/E16)),\"\")","v":0.3235294117647059},0.21212121212121213,0.32,0.4,0.22222222222222221,0,0,0.26500000000000001,"","","","","","","","","","","","","","","","","",""]
["Percentage of females that work part time",null,{"$f":"IF(C9<>0,C13/(C10+C13),\"\")","v":0.66666666666666663},0.4,0.42857142857142855,0.26315789473684209,0.36363636363636365,0.69230769230769229,0.3125,0,0,{"$f":"IF(L9<>0,L13/(L10+L13),\"\")","v":0.4},{"$f":"IF(M9<>0,M13/(M10+M13),\"\")","v":""},"","","","","","","","","","","","",""]
["Percentage of males that work part time",null,{"$f":"IF(C9<>0,C14/(C14+C11),\"\")","v":0},4.3478260869565216E-2,0.15384615384615385,0.14285714285714285,0.2857142857142857,8.3333333333333329E-2,9.0909090909090912E-2,0,0,{"$f":"IF(L9<>0,L14/(L14+L11),\"\")","v":0.11578947368421053},{"$f":"IF(M9<>0,M14/(M14+M11),\"\")","v":""},"","","","","","","","","","","","","","","",""]
[]
[]
[null,null,null,null,null,null,null,null,null,null,null,"Extra Tip:                       You might compare the percentage of part-time workers per level to the gender pay gap per level"]

{"sheet":"PT by section","index":9,"n_rows":24,"n_cols":29,"rows_kept":24,"cut":false,"hidden":false,"merged":[[23,10,32,11],[1,2,2,8],[20,0,20,1],[18,0,18,1],[19,0,19,1],[4,3,5,8]]}
[]
[null,null,"Rate of part time work by section"]
[]
[]
[null,null,null,"Remember: if you want to compare staff throughout your report, make sure to select the appropriate level range."]
["Level range","(All)"]
[]
["Count of Gender",null,"Section"]
["Status","Gender","Section 1","Section 2","Section 3","Section 4","Section 5","Section 6","Grand Total"]
["Full time","F",20,9,11,6,4,13,63]
[null,"M",22,7,17,9,11,18,84]
["Full time Total",null,42,16,28,15,15,31,147]
["Part time","F",9,9,7,2,5,10,42]
[null,"M",1,3,1,1,3,2,11]
["Part time Total",null,10,12,8,3,8,12,53]
["Grand Total",null,52,28,36,18,23,43,200]
[]
[]
["Percentage of employees that work part time",null,{"$f":"IF(C9<>0,IF(ISERROR(C15/C16),0,(C15/C16)),\"\")","v":0.19230769230769232},0.42857142857142855,0.22222222222222221,0.16666666666666666,0.34782608695652173,0.27906976744186046,{"$f":"IF(I9<>0,IF(ISERROR(I15/I16),0,(I15/I16)),\"\")","v":0.26500000000000001},"","","","","","","","","","","","","","","","","",{"$f":"IF(AA9<>0,AA15/AA16,\"\")","v":""}]
["Percentage of females that work part time",null,{"$f":"IF(C9<>0,IF(ISERROR(C13/(C13+C10)),0,(C13/(C13+C10))),\"\")","v":0.31034482758620691},0.5,0.3888888888888889,0.25,0.55555555555555558,0.43478260869565216,0.4,"","","","","","","","","","","","","","","","",""]
["Percentage of males that work part time",null,{"$f":"IF(C9<>0,IF(ISERROR(C14/(C14+C11)),0,(C14/(C14+C11))),\"\")","v":4.3478260869565216E-2},{"$f":"IF(D9<>0,IF(ISERROR(D14/(D14+D11)),0,(D14/(D14+D11))),\"\")","v":0.3},5.5555555555555552E-2,0.1,0.21428571428571427,0.1,0.11578947368421053,"","","","","","","","","","","","","","","","","",{"$f":"IF(AA9<>0,AA14/(AA14+AA11),\"\")","v":""},{"$f":"IF(AB9<>0,AB14/(AB14+AB11),\"\")","v":""},{"$f":"IF(AC9<>0,AC14/(AC14+AC11),\"\")","v":""}]
[]
[]
[null,null,null,null,null,null,null,null,null,null,"Extra Tip:                       You might compare the percentage of part-time workers per section to the gender pay gap per section"]

{"sheet":"PT by Age","index":10,"n_rows":21,"n_cols":30,"rows_kept":21,"cut":false,"hidden":false,"merged":[[20,0,20,1],[19,0,19,1],[18,0,18,1],[1,3,2,10]]}
[]
[null,null,null,"Rate of part time work by age"]
[]
[]
[]
["Level range","(All)"]
[]
["Count of Gender",null,"Age Bracket"]
["Status","Gender","20-24","25-29","30-34","35-39","40-44","45-49","50-54","55-59","60-64","65-69","70 and over"]
["Full time","F",4,6,7,13,3,6,6,8,6,4]
[null,"M",1,4,5,7,7,9,10,7,9,4,21]
["Full time Total",null,5,10,12,20,10,15,16,15,15,8,21]
["Part time","F",1,2,6,3,8,6,4,4,4,3]
[null,"M",null,1,null,2,null,null,null,1,1,2,4]
["Part time Total",null,1,3,6,5,8,6,4,5,5,5,4]
["Grand Total",null,6,13,18,25,18,21,20,20,20,13,25]
[]
[]
["Percentage of employees that work part time",null,{"$f":"IF(C9<>0,IF(ISERROR(C15/C16),0,(C15/C16)),\"\")","v":0.16666666666666666},{"$f":"IF(D9<>0,IF(ISERROR(D15/D16),0,(D15/D16)),\"\")","v":0.23076923076923078},{"$f":"IF(E9<>0,IF(ISERROR(E15/E16),0,(E15/E16)),\"\")","v":0.33333333333333331},0.2,0.44444444444444442,0.2857142857142857,0.2,0.25,{"$f":"IF(K9<>0,K15/K16,\"\")","v":0.25},0.38461538461538464,0.16,"","","","","","","","","","","","","",""]
["Percentage of females that work part time",null,{"$f":"IF(C9<>0,IF(ISERROR(C13/(C13+C10)),0,C13/(C13+C10)),\"\")","v":0.2},{"$f":"IF(D9<>0,IF(ISERROR(D13/(D13+D10)),0,D13/(D13+D10)),\"\")","v":0.25},{"$f":"IF(E9<>0,IF(ISERROR(E13/(E13+E10)),0,E13/(E13+E10)),\"\")","v":0.46153846153846156},0.1875,0.72727272727272729,0.5,0.4,0.33333333333333331,{"$f":"IF(K9<>0,IF(ISERROR(K13/(K13+K10)),0,K13/(K13+K10)),\"\")","v":0.4},0.42857142857142855,0,"","","","","","","","","","","","","","","","",""]
["Percentage of males that work part time",null,{"$f":"IF(C9<>0,IF(ISERROR(C14/(C14+C11)),0,C14/(C14+C11)),\"\")","v":0},{"$f":"IF(D9<>0,IF(ISERROR(D14/(D14+D11)),0,D14/(D14+D11)),\"\")","v":0.2},{"$f":"IF(E9<>0,IF(ISERROR(E14/(E14+E11)),0,E14/(E14+E11)),\"\")","v":0},0.22222222222222221,0,0,0,0.125,{"$f":"IF(K9<>0,IF(ISERROR(K14/(K14+K11)),0,K14/(K14+K11)),\"\")","v":0.1},0.33333333333333331,0.16,"","","","","","","","","","","","","",{"$f":"IF(AA9<>0,IF(ISERROR(AA14/(AA14+AA11)),0,AA14/(AA14+AA11)),\"\")","v":""},"",""]

{"sheet":"GPG by Branch","index":11,"n_rows":18,"n_cols":74,"rows_kept":18,"cut":false,"hidden":false,"merged":[[1,2,2,5],[4,3,5,7],[16,0,16,1],[17,0,17,1]]}
[]
[null,null,"GPG by branch"]
[]
[]
["Section","(All)",null,"First: Choose section from the drop down box to the left."]
["Level range","(All)"]
[]
[null,null,"Branch/Unit"]
["Gender","Data","Branch A","Branch B","Branch C","Branch D","Branch E","Branch F","Branch G","Branch H","Branch I","Branch J","Branch K","Branch L","Grand Total"]
["F","Average of Salary",67105.818571413532,70182.589851181372,55124.930107209024,59461.238712248422,74274.551263656991,68216.589205191252,63648.080410025119,76319.456626229512,75404.715211828006,79132.537995113787,87539.285440770487,69300.632301095364,69627.217272135793]
[null,"Count of Gender",8,21,6,12,9,9,7,1,5,4,9,14,105]
["M","Average of Salary",68220.190133301265,61876.102273770492,79867.147682785173,110117.71773938091,73130.653894900955,71181.458871308452,74999.319505100182,75988.023358810708,116899.16281553292,70500.860374435608,75637.73307703239,64761.969962746269,73903.80478599864]
[null,"Count of Gender",12,11,4,6,10,8,6,4,3,11,6,14,95]
["Total Average of Salary",null,67774.441508546181,67327.234746446382,65021.817137439481,76346.731721292599,73672.500016943275,69611.821989246411,68887.113838521283,76054.310012294474,90965.133063217349,72802.641073283114,82778.664495275225,67031.301131920816,71658.596341220647]
["Total Count of Gender",null,20,32,10,18,19,17,13,5,8,15,15,28,200]
[]
["Gender pay gap",null,{"$f":"IF(C9<>0,IF(ISERROR(1-C10/C12),0,(1-C10/C12)),\"\")","v":1.633492313214413E-2},{"$f":"IF(D9<>0,IF(ISERROR(1-D10/D12),0,(1-D10/D12)),\"\")","v":-0.13424387238644853},0.30979217730232234,0.46002114888562062,-1.5641831541667539E-2,4.1652274526678301E-2,0.15135122785084931,-4.3616513862163586E-3,0.35495932224239468,-0.12243364938859846,-0.15734940590587376,-7.0082215549649218E-2,5.7866946448108525E-2,{"$f":"IF(P9<>0,IF(ISERROR(1-P10/P12),0,(1-P10/P12)),\"\")","v":""},"","","","","","","","","","","","","","","","","","","","","","","","","","","","","","","","","","","","","","","","","","","","","","","","","","","","","","","","","",""]
["Density of females",null,{"$f":"IF(C9<>0,IF(ISERROR(C11/C15),0,(C11/C15)),\"\")","v":0.4},{"$f":"IF(D9<>0,IF(ISERROR(D11/D15),0,(D11/D15)),\"\")","v":0.65625},0.6,0.66666666666666663,0.47368421052631576,0.52941176470588236,0.53846153846153844,0.2,0.625,0.26666666666666666,0.6,0.5,0.52500000000000002,{"$f":"IF(P9<>0,IF(ISERROR(P11/P15),0,(P11/P15)),\"\")","v":""},"","","","","","","","","","","","","","","","","","","","","","","","","","","","","","","","","","","","","","","","","","","","","","","","","","","","","","","","","",""]

{"sheet":"Purchased leave","index":12,"n_rows":15,"n_cols":26,"rows_kept":15,"cut":false,"hidden":false,"merged":[[1,1,2,10],[4,3,5,7],[14,9,23,10]]}
[]
[null,"Number of employees who use purchased leave by section"]
[]
[]
["Purchased leave? (Y/N)","Y",null,"Ensure \"Y\" is selected from the drop down box to the left."]
["Level range","(All)"]
[]
["Count of Gender","Section"]
["Gender","Section 1","Section 2","Section 3","Section 4","Section 5","Section 6","Grand Total"]
["F",1,2,null,2,1,1,7]
["M",4,4,1,1,null,2,12]
["Grand Total",5,6,1,3,1,3,19]
[]
["Female/ Purch leave",{"$f":"IF(B9<>0,B10,\"\")","v":1},{"$f":"IF(C9<>0,C10,\"\")","v":2},0,2,1,1,7,"",null,null,null,"","","","","","","","","","","","","",""]
["Male/ Purch leave",{"$f":"IF(B9<>0,B11,\"\")","v":4},{"$f":"IF(C9<>0,C11,\"\")","v":4},1,1,0,2,12,"","Extra Tip:                   You might compare the number of staff using purchased leave in each section, with the total number of staff in each section.",null,null,"","","","","","","","","","","","","",""]

{"sheet":"(Additional variable 1)","index":13,"n_rows":15,"n_cols":3,"rows_kept":15,"cut":false,"hidden":false,"merged":[]}
[]
[]
[]
[]
[]
["Level range","(All)"]
["Section","(All)"]
[]
["Gender","Data","Total"]
["F","Average of Salary",69627.217272135793]
[null,"Count of Gender",105]
["M","Average of Salary",73903.80478599864]
[null,"Count of Gender",95]
["Total Average of Salary",null,71658.596341220647]
["Total Count of Gender",null,200]

{"sheet":"(Additional variable 2)","index":14,"n_rows":15,"n_cols":3,"rows_kept":15,"cut":false,"hidden":false,"merged":[]}
[]
[]
[]
[]
[]
["Level range","(All)"]
["Section","(All)"]
[]
["Gender","Data","Total"]
["F","Average of Salary",69627.217272135793]
[null,"Count of Gender",105]
["M","Average of Salary",73903.80478599864]
[null,"Count of Gender",95]
["Total Average of Salary",null,71658.596341220647]
["Total Count of Gender",null,200]